{"text_format":"1","workbook":"xlsx","n_sheets":44,"sheets":["Required EEDI_EEXI","Assumptions","Dashboard","Measure summary","Incompatibility matrix","EEXI savings","Tooltip","DropDownList","Engine types","CII_calculation","MACC","Cost&CO2_Calc","IMO 4th study AER","IMO 4th study fuel cons.","EE lighting system","Freq. controlled el. motors ","Fixed sails or wings","Kite","Solar panels","Rotor sails","Aux systems optimization","Engine performance opt. (auto)","Engine performance opt. (man.)","Engine de-rating","Exhaust gas boilers on aux","Battery hyb.","Improved auxiliary engine load","Shaft gen. PTO","Shore power","Steam plant operation imp.","Waste heat recovery systems","Autopilot adjustment and use","Combinator optimizing","Efficient DP operation","Speed management","Trim and draft optimization","Weather routing","Air lubrication","Hull performance coating","Hull cleaning","Hull form optimization","Propeller retrofitting","Propulsion imp. devices (PIDs)","Propeller polishing"],"not_rendered":{"charts":3,"images":7,"macros":1,"external_links":3,"defined_names":136,"comments":1,"pivot_tables":0},"unopened":[],"bounds":{"document_bytes":16777216,"sheet_cells":100000,"rows_first":2000,"rows_last":500,"rows_between":2000,"halvings":0,"cell_chars":16384,"cell_head_chars":4096},"cells_cut":0,"cells_raw":0,"read":"whole","date_system":"1900"}

{"sheet":"Required EEDI_EEXI","index":0,"n_rows":28,"n_cols":20,"rows_kept":28,"cut":false,"hidden":true,"merged":[]}
["Required EEDI Calculation",null,null,null,null,null,null,null,"EEXI","EEDI Phase1 (2015-2019)","EEDI Phase2 (2020-2021)","EEDI Phase2 (2020-2024)","EEDI Phase 3 (2022 -)","EEDI Phase 3 (1.01 2025-)"]
["Ship type","a","DWT","b(dwt)","Gross Tonnage","c","DWT/GT","Year of built","Reduction Factor %","Reduction Factor %","Reduction Factor %","Reduction Factor %","Reduction Factor %","Reduction Factor %","Reduction Value","Required EEXI/EEDI","Value to display","Iferror","Displayed value","Unit"]
["Bulk Carrier",961.79,{"$f":"_xlfn.IFS($C$27=\"Bulk Carrier\",$A$26)","v":{"$error":"#N/A"}},{"$f":"IF(C3<=279000,C3,279000)","v":{"$error":"#N/A"}},{"$f":"_xlfn.IFS($C$27=\"Bulk Carrier\",$B$26)","v":{"$error":"#N/A"}},0.47699999999999998,null,{"$f":"$E$26","v":0},{"$f":"_xlfn.IFS(C3>=200000,15,AND(C3>=20000, C3< 200000),20,AND(C3>=10000, C3<20000),20/10000*(C3-10000))","v":{"$error":"#N/A"}},{"$f":"_xlfn.IFS(C3>=20000,10,AND(C3>=10000, C3<20000),10/10000*(C3-10000))","v":{"$error":"#N/A"}},null,{"$f":"_xlfn.IFS(C3>=20000,20,AND(C3>=10000, C3<20000),20/10000*(C3-10000))","v":{"$error":"#N/A"}},null,{"$f":"_xlfn.IFS(C3>=20000,30,AND(C3>=10000, C3<20000),30/10000*(C3-10000))","v":{"$error":"#N/A"}},{"$f":"_xlfn.IFS(AND(A3=$C$27,$F$26=\"EEXI\"),1-I3/100,\nAND(A3=$C$27,$F$26=\"EEDI\",$E$26>2014,$E$26<2020),1-J3/100,\nAND(A3=$C$27,$F$26=\"EEDI\",$E$26>2019,$E$26<2025),1-L3/100,\nAND(A3=$C$27,$F$26=\"EEDI\",$E$26>2024),1-N3/100\n)","v":{"$error":"#N/A"}},{"$f":"O3*B3*(C3^-F3)","v":{"$error":"#N/A"}},{"$f":"_xlfn.IFS($C$27=\"Bulk Carrier\",P3)","v":{"$error":"#N/A"}},{"$f":"IFERROR(Q3,0)","v":0},{"$f":"IF(SUM(R3:R15)=0,\"NA\",SUM(R3:R15))","v":"NA"},"dwt"]
["Gas Carrier",1120,{"$f":"_xlfn.IFS($C$27=\"Gas Carrier\",$A$26)","v":{"$error":"#N/A"}},{"$f":"C4","v":{"$error":"#N/A"}},{"$f":"_xlfn.IFS($C$27=\"Gas Carrier\",$B$26)","v":{"$error":"#N/A"}},0.45600000000000002,null,{"$f":"$E$26","v":0},{"$f":"_xlfn.IFS(C4>=15000,30,AND(C4>=10000, C4<15000),20,AND(C4>=2000,C4<10000),20/8000*(C4-2000))","v":{"$error":"#N/A"}},{"$f":"_xlfn.IFS(C4>=15000,10,AND(C4>=10000, C4<15000),10,AND(C4>=2000,C4<10000),10/8000*(C4-2000))","v":{"$error":"#N/A"}},{"$f":"_xlfn.IFS(C4>=15000,20)","v":{"$error":"#N/A"}},{"$f":"_xlfn.IFS(AND(C4>=10000, C4<15000),20,AND(C4>=2000,C4<10000),20/8000*(C4-2000))","v":{"$error":"#N/A"}},{"$f":"_xlfn.IFS(C4>=15000,30)","v":{"$error":"#N/A"}},{"$f":"_xlfn.IFS(AND(C4>=10000, C4<15000),30,AND(C4>=2000,C4<10000),30/8000*(C4-2000))","v":{"$error":"#N/A"}},{"$f":"_xlfn.IFS(AND(A4=$C$27,$F$26=\"EEXI\"),1-I4/100,\nAND(A4=$C$27,$F$26=\"EEDI\",$E$26>2014,$E$26<2020),1-J4/100,\nAND(A4=$C$27,$F$26=\"EEDI\",$E$26>2019,$E$26<2022,$A$26>=15000),1-K4/100,\nAND(A4=$C$27,$F$26=\"EEDI\",$E$26>2019,$E$26<2025,$A$26<15000),1-L4/100,\nAND(A4=$C$27,$F$26=\"EEDI\",$E$26>2021,$A$26>=15000),1-M4/100,\nAND(A4=$C$27,$F$26=\"EEDI\",$E$26>2024,$A$26<15000),1-N4/100\n)","v":{"$error":"#N/A"}},{"$error":"#N/A"},{"$f":"_xlfn.IFS($C$27=\"Gas Carrier\",P4)","v":{"$error":"#N/A"}},0,null,"dwt"]
["Tanker",1218.8,{"$f":"_xlfn.IFS($C$27=\"Tanker\",$A$26)","v":{"$error":"#N/A"}},{"$f":"C5","v":{"$error":"#N/A"}},{"$f":"_xlfn.IFS($C$27=\"Tanker\",$B$26)","v":{"$error":"#N/A"}},0.48799999999999999,null,0,{"$f":"_xlfn.IFS(C5>=200000,15,AND(C5>=4000, C5<20000),20/16000*(C5-4000),AND(C5>=20000, C5<200000),20)","v":{"$error":"#N/A"}},{"$f":"_xlfn.IFS(AND(C5>=4000, C5<20000),10/16000*(C5-4000),C5>=20000,10)","v":{"$error":"#N/A"}},null,{"$f":"_xlfn.IFS(AND(C5>=4000, C5<20000),20/16000*(C5-4000),C5>=20000,20)","v":{"$error":"#N/A"}},null,{"$f":"_xlfn.IFS(AND(C5>=4000, C5<20000),30/16000*(C5-4000),C5>=20000,30)","v":{"$error":"#N/A"}},{"$f":"_xlfn.IFS(AND(A5=$C$27,$F$26=\"EEXI\"),1-I5/100,\nAND(A5=$C$27,$F$26=\"EEDI\",$E$26>2014,$E$26<2020),1-J5/100,\nAND(A5=$C$27,$F$26=\"EEDI\",$E$26>2019,$E$26<2025),1-L5/100,\nAND(A5=$C$27,$F$26=\"EEDI\",$E$26>2024),1-N5/100\n)","v":{"$error":"#N/A"}},{"$error":"#N/A"},{"$f":"_xlfn.IFS($C$27=\"Tanker\",P5)","v":{"$error":"#N/A"}},0,null,"dwt"]
["Container Ship",174.22,{"$f":"_xlfn.IFS($C$27=\"Container Ship\",$A$26)","v":{"$error":"#N/A"}},{"$f":"C6","v":{"$error":"#N/A"}},{"$f":"_xlfn.IFS($C$27=\"Container Ship\",$B$26)","v":{"$error":"#N/A"}},0.20100000000000001,null,0,{"$f":"_xlfn.IFS(C6>=200000,50,AND(C6>=120000, C6<200000),45,AND(C6>=80000, C6<120000),35,AND(C6>=40000, C6<80000),30,AND(C6>=15000, C6<40000),20,AND(C6>=10000, C6<15000),(20/5000)*(C6-10000))","v":{"$error":"#N/A"}},{"$f":"_xlfn.IFS(C6>=200000,10,AND(C6>=120000, C6<200000),10,AND(C6>=80000, C6<120000),10,AND(C6>=40000, C6<80000),10,AND(C6>=15000, C6<40000),10,AND(C6>=10000, C6<15000),(10/5000)*(C6-10000))","v":{"$error":"#N/A"}},{"$f":"_xlfn.IFS(C6>=200000,20,AND(C6>=120000, C6<200000),20,AND(C6>=80000, C6<120000),20,AND(C6>=40000, C6<80000),20,AND(C6>=15000, C6<40000),20,AND(C6>=10000, C6<15000),(20/5000)*(C6-10000))","v":{"$error":"#N/A"}},null,{"$f":"_xlfn.IFS(C6>=200000,50,AND(C6>=120000, C6<200000),45,AND(C6>=80000, C6<120000),40,AND(C6>=40000, C6<80000),35,AND(C6>=15000, C6<40000),30,AND(C6>=10000, C6<15000),15+(((30-15)/(15000-10000))*(C6-10000)))","v":{"$error":"#N/A"}},null,{"$f":"_xlfn.IFS(AND(A6=$C$27,$F$26=\"EEXI\"),1-I6/100,\nAND(A6=$C$27,$F$26=\"EEDI\",$E$26>2014,$E$26<2020),1-J6/100,\nAND(A6=$C$27,$F$26=\"EEDI\",$E$26>2019,$E$26<2022),1-K6/100,\nAND(A6=$C$27,$F$26=\"EEDI\",$E$26>2021),1-M6/100\n)","v":{"$error":"#N/A"}},{"$error":"#N/A"},{"$f":"_xlfn.IFS($C$27=\"Container Ship\",P6)","v":{"$error":"#N/A"}},0,null,"dwt"]
["General Cargo Ship",107.48,{"$f":"_xlfn.IFS($C$27=\"General Cargo Ship\",$A$26)","v":{"$error":"#N/A"}},{"$error":"#N/A"},{"$f":"_xlfn.IFS($C$27=\"General Cargo Ship\",$B$26)","v":{"$error":"#N/A"}},0.216,null,0,{"$f":"_xlfn.IFS(C7>=15000,30,AND(C7>=3000, C7<15000),30/12000*(C7-3000))","v":{"$error":"#N/A"}},{"$f":"_xlfn.IFS(C7>=15000,10,AND(C7>=3000, C7<15000),10/12000*(C7-3000))","v":{"$error":"#N/A"}},{"$f":"_xlfn.IFS(C7>=15000,15,AND(C7>=3000, C7<15000),15/12000*(C7-3000))","v":{"$error":"#N/A"}},null,{"$f":"_xlfn.IFS(C7>=15000,30,AND(C7>=3000, C7<15000),30/12000*(C7-3000))","v":{"$error":"#N/A"}},null,{"$f":"_xlfn.IFS(AND(A7=$C$27,$F$26=\"EEXI\"),1-I7/100,\nAND(A7=$C$27,$F$26=\"EEDI\",$E$26>2014,$E$26<2020),1-J7/100,\nAND(A7=$C$27,$F$26=\"EEDI\",$E$26>2019,$E$26<2022,$A$26),1-K7/100,\nAND(A7=$C$27,$F$26=\"EEDI\",$E$26>2021),1-M7/100)","v":{"$error":"#N/A"}},{"$error":"#N/A"},{"$f":"_xlfn.IFS($C$27=\"General Cargo Ship\",P7)","v":{"$error":"#N/A"}},0,null,"dwt"]
["Refrigerated Cargo Carrier",227.01,{"$f":"_xlfn.IFS($C$27=\"Refrigerated Cargo Carrier\",$A$26)","v":{"$error":"#N/A"}},{"$error":"#N/A"},{"$f":"_xlfn.IFS($C$27=\"Refrigerated Cargo Carrier\",$B$26)","v":{"$error":"#N/A"}},0.24399999999999999,null,0,{"$f":"_xlfn.IFS(C8>=5000,15,AND(C8>=3000, C8<5000),15/2000*(C8-3000))","v":{"$error":"#N/A"}},{"$f":"_xlfn.IFS(C8>=5000,10,AND(C8>=3000, C8<5000),10/2000*(C8-3000))","v":{"$error":"#N/A"}},null,{"$f":"_xlfn.IFS(C8>=5000,15,AND(C8>=3000, C8<5000),15/2000*(C8-3000))","v":{"$error":"#N/A"}},null,{"$f":"_xlfn.IFS(C8>=5000,30,AND(C8>=3000, C8<5000),30/2000*(C8-3000))","v":{"$error":"#N/A"}},{"$f":"_xlfn.IFS(AND(A8=$C$27,$F$26=\"EEXI\"),1-I8/100,\nAND(A8=$C$27,$F$26=\"EEDI\",$E$26>2014,$E$26<2020),1-J8/100,\nAND(A8=$C$27,$F$26=\"EEDI\",$E$26>2019,$E$26<2025),1-L8/100,\nAND(A8=$C$27,$F$26=\"EEDI\",$E$26>2024),1-N8/100\n)","v":{"$error":"#N/A"}},{"$error":"#N/A"},{"$f":"_xlfn.IFS($C$27=\"Refrigerated Cargo Carrier\",P8)","v":{"$error":"#N/A"}},0,null,"dwt"]
["Combination Carrier",1219,{"$f":"_xlfn.IFS($C$27=\"Combination Carrier\",$A$26)","v":{"$error":"#N/A"}},{"$error":"#N/A"},{"$f":"_xlfn.IFS($C$27=\"Combination Carrier\",$B$26)","v":{"$error":"#N/A"}},0.48799999999999999,null,0,{"$f":"_xlfn.IFS(C9>=20000,20,AND(C9>=4000, C9<20000),20/16000*(C9-4000))","v":{"$error":"#N/A"}},{"$f":"_xlfn.IFS(C9>=20000,10,AND(C9>=4000, C9<20000),10/16000*(C9-4000))","v":{"$error":"#N/A"}},null,{"$f":"_xlfn.IFS(C9>=20000,20,AND(C9>=4000, C9<20000),20/16000*(C9-4000))","v":{"$error":"#N/A"}},null,{"$f":"_xlfn.IFS(C9>=20000,30,AND(C9>=4000, C9<20000),30/16000*(C9-4000))","v":{"$error":"#N/A"}},{"$f":"_xlfn.IFS(AND(A9=$C$27,$F$26=\"EEXI\"),1-I9/100,\nAND(A9=$C$27,$F$26=\"EEDI\",$E$26>2014,$E$26<2020),1-J9/100,\nAND(A9=$C$27,$F$26=\"EEDI\",$E$26>2019,$E$26<2025),1-L9/100,\nAND(A9=$C$27,$F$26=\"EEDI\",$E$26>2024),1-N9/100\n)","v":{"$error":"#N/A"}},{"$error":"#N/A"},{"$f":"_xlfn.IFS($C$27=\"Combination Carrier\",P9)","v":{"$error":"#N/A"}},0,null,"dwt"]
["Ro-ro Cargo ship (vehicle carrier)",{"$f":"_xlfn.IFS(G10<0.3,780.36,G10>=0.3,1812.63)","v":{"$error":"#N/A"}},{"$f":"_xlfn.IFS($C$27=\"Ro-ro Cargo Ship (vehicle carrier)\",$A$26)","v":{"$error":"#N/A"}},{"$error":"#N/A"},{"$f":"_xlfn.IFS($C$27=\"Ro-ro Cargo Ship (vehicle carrier)\",$B$26)","v":{"$error":"#N/A"}},0.47099999999999997,{"$f":"C10/E10","v":{"$error":"#N/A"}},0,{"$f":"_xlfn.IFS(C10>=10000,15,C10<10000,\"N/A\")","v":{"$error":"#N/A"}},{"$f":"_xlfn.IFS(C10>=10000,5,C10<10000,\"N/A\")","v":{"$error":"#N/A"}},null,{"$f":"_xlfn.IFS(C10>=10000,15,C10<10000,\"N/A\")","v":{"$error":"#N/A"}},null,{"$f":"_xlfn.IFS(C10>=10000,30,C10<10000,\"N/A\")","v":{"$error":"#N/A"}},{"$f":"_xlfn.IFS(AND(A10=$C$27,$F$26=\"EEXI\"),1-I10/100,\nAND(A10=$C$27,$F$26=\"EEDI\",$E$26>2014,$E$26<2020),1-J10/100,\nAND(A10=$C$27,$F$26=\"EEDI\",$E$26>2019,$E$26<2025),1-L10/100,\nAND(A10=$C$27,$F$26=\"EEDI\",$E$26>2024),1-N10/100\n)","v":{"$error":"#N/A"}},{"$error":"#N/A"},{"$f":"_xlfn.IFS($C$27=\"Ro-ro Cargo Ship (vehicle carrier)\",P10)","v":{"$error":"#N/A"}},0,null,"dwt"]
["Ro-ro Cargo Ship",1686.17,{"$f":"_xlfn.IFS($C$27=\"Ro-ro Cargo Ship\",$A$26)","v":{"$error":"#N/A"}},{"$f":"_xlfn.IFS(C11>=17000,17000,C11<17000,C11)","v":{"$error":"#N/A"}},{"$f":"_xlfn.IFS($C$27=\"Ro-ro Cargo Ship\",$B$26)","v":{"$error":"#N/A"}},0.498,null,0,{"$f":"_xlfn.IFS(C11>=2000,5,AND(C11>=1000, C11<2000),5/1000*(C11-1000))","v":{"$error":"#N/A"}},{"$f":"_xlfn.IFS(C11>=2000,5,AND(C11>=1000, C11<2000),5/1000*(C11-1000))","v":{"$error":"#N/A"}},null,{"$f":"_xlfn.IFS(C11>=2000,20,AND(C11>=1000, C11<2000),20/1000*(C11-1000))","v":{"$error":"#N/A"}},null,{"$f":"_xlfn.IFS(C11>=2000,30,AND(C11>=1000, C11<2000),30/1000*(C11-1000))","v":{"$error":"#N/A"}},{"$f":"_xlfn.IFS(AND(A11=$C$27,$F$26=\"EEXI\"),1-I11/100,\nAND(A11=$C$27,$F$26=\"EEDI\",$E$26>2014,$E$26<2020),1-J11/100,\nAND(A11=$C$27,$F$26=\"EEDI\",$E$26>2019,$E$26<2025),1-L11/100,\nAND(A11=$C$27,$F$26=\"EEDI\",$E$26>2024),1-N11/100\n)","v":{"$error":"#N/A"}},{"$f":"O11*B11*(D11^-F11)","v":{"$error":"#N/A"}},{"$f":"_xlfn.IFS($C$27=\"Ro-ro Cargo Ship\",P11)","v":{"$error":"#N/A"}},0,null,"dwt"]
["Ro-ro Passenger Ship",902.59,{"$f":"_xlfn.IFS($C$27=\"Ro-ro Passenger Ship\",$A$26)","v":{"$error":"#N/A"}},{"$f":"_xlfn.IFS(C12>=10000,10000,C12<10000,C12)","v":{"$error":"#N/A"}},{"$f":"_xlfn.IFS($C$27=\"Ro-ro Passenger Ship\",$B$26)","v":{"$error":"#N/A"}},0.38100000000000001,null,0,{"$f":"_xlfn.IFS(C12>=1000,5,AND(C12<1000, C12>=250),5/750*(C12-250))","v":{"$error":"#N/A"}},{"$f":"_xlfn.IFS(C12>=1000,5,AND(C12<1000, C12>=250),5/750*(C12-250))","v":{"$error":"#N/A"}},null,{"$f":"_xlfn.IFS(C12>=1000,20,AND(C12<1000, C12>=250),20/750*(C12-250))","v":{"$error":"#N/A"}},null,{"$f":"_xlfn.IFS(C12>=1000,30,AND(C12<1000, C12>=250),30/750*(C12-250))","v":{"$error":"#N/A"}},{"$f":"_xlfn.IFS(AND(A12=$C$27,$F$26=\"EEXI\"),1-I12/100,\nAND(A12=$C$27,$F$26=\"EEDI\",$E$26>2014,$E$26<2020),1-J12/100,\nAND(A12=$C$27,$F$26=\"EEDI\",$E$26>2019,$E$26<2025),1-L12/100,\nAND(A12=$C$27,$F$26=\"EEDI\",$E$26>2024),1-N12/100\n)","v":{"$error":"#N/A"}},{"$f":"O12*B12*(D12^-F12)","v":{"$error":"#N/A"}},{"$f":"_xlfn.IFS($C$27=\"Ro-ro Passenger Ship\",P12)","v":{"$error":"#N/A"}},0,null,"dwt"]
["LNG Carrier",2253.6999999999998,{"$f":"_xlfn.IFS($C$27=\"LNG Carrier\",$A$26)","v":{"$error":"#N/A"}},{"$f":"C13","v":{"$error":"#N/A"}},{"$f":"_xlfn.IFS($C$27=\"LNG Carrier\",$B$26)","v":{"$error":"#N/A"}},0.47399999999999998,null,0,{"$f":"_xlfn.IFS(C13>=10000,30,C13<10000,\"N/A\")","v":{"$error":"#N/A"}},{"$f":"_xlfn.IFS(C13>=10000,10,C13<10000,\"N/A\")","v":{"$error":"#N/A"}},{"$f":"_xlfn.IFS(C13>=10000,20,C13<10000,\"N/A\")","v":{"$error":"#N/A"}},null,{"$f":"_xlfn.IFS(C13>=10000,30,C13<10000,\"N/A\")","v":{"$error":"#N/A"}},null,{"$f":"IF(C13<10000,\"NA\",_xlfn.IFS(AND(A13=$C$27,$F$26=\"EEXI\"),1-I13/100,\nAND(A13=$C$27,$F$26=\"EEDI\",$E$26>2014,$E$26<2020),1-J13/100,\nAND(A13=$C$27,$F$26=\"EEDI\",$E$26>2019,$E$26<2022,$A$26),1-K13/100,\nAND(A13=$C$27,$F$26=\"EEDI\",$E$26>2021),1-M13/100))","v":{"$error":"#N/A"}},{"$f":"IF(O13=\"NA\",O13,O13*B13*(C13^-F13))","v":{"$error":"#N/A"}},{"$f":"_xlfn.IFS($C$27=\"LNG Carrier\",P13)","v":{"$error":"#N/A"}},0,null,"dwt"]
["Cruise Passenger Ship",170.84,{"$f":"_xlfn.IFS($C$27=\"Cruise Passenger Ship\",$A$26)","v":{"$error":"#N/A"}},{"$f":"E14","v":{"$error":"#N/A"}},{"$f":"_xlfn.IFS($C$27=\"Cruise Passenger Ship\",$B$26)","v":{"$error":"#N/A"}},0.214,null,0,{"$f":"_xlfn.IFS(E14>=85000,30,AND(E14>=25000, E14<85000),30/60000*(E14-25000))","v":{"$error":"#N/A"}},{"$f":"_xlfn.IFS(E14>=85000,5,AND(E14>=25000, E14<85000),5/60000*(E14-25000))","v":{"$error":"#N/A"}},{"$f":"_xlfn.IFS(E14>=85000,20,AND(E14>=25000, E14<85000),20/60000*(E14-25000))","v":{"$error":"#N/A"}},null,{"$f":"_xlfn.IFS(E14>=85000,30,AND(E14>=25000, E14<85000),30/60000*(E14-25000))","v":{"$error":"#N/A"}},null,{"$f":"_xlfn.IFS(AND(A14=$C$27,$F$26=\"EEXI\"),1-I14/100,\nAND(A14=$C$27,$F$26=\"EEDI\",$E$26>2014,$E$26<2020),1-J14/100,\nAND(A14=$C$27,$F$26=\"EEDI\",$E$26>2019,$E$26<2022,$A$26),1-K14/100,\nAND(A14=$C$27,$F$26=\"EEDI\",$E$26>2021),1-M14/100)","v":{"$error":"#N/A"}},{"$f":"O14*B14*(E14^-F14)","v":{"$error":"#N/A"}},{"$f":"_xlfn.IFS($C$27=\"Cruise Passenger Ship\",P14)","v":{"$error":"#N/A"}},0,null,"gt"]
["Other Ships",0,{"$f":"_xlfn.IFS($C$27=\"Other Ship\",$A$26)","v":{"$error":"#N/A"}},0,{"$f":"_xlfn.IFS($C$27=\"Other Ship\",$B$26)","v":{"$error":"#N/A"}},0,null,0,"N/A","N/A",null,"N/A",null,"N/A",{"$f":"_xlfn.IFS(AND(A15=$C$27,$F$26=\"EEXI\"),1-I15/100,\nAND(A15=$C$27,$F$26=\"EEDI\",$E$26>2014,$E$26<2020),1-J15/100,\nAND(A15=$C$27,$F$26=\"EEDI\",$E$26>2019,$E$26<2025),1-L15/100,\nAND(A15=$C$27,$F$26=\"EEDI\",$E$26>2024),1-N15/100\n)","v":{"$error":"#N/A"}},"N/A",{"$f":"_xlfn.IFS($C$27=\"Other Ship\",P15)","v":{"$error":"#N/A"}},0,null,"dwt"]
[]
[]
[]
[]
[]
[]
[]
[]
[]
["DWT","GT","Type of Vessel","Retrofit/NB","Year of built","EEXI/EEDI","Phase"]
[{"$f":"Dashboard!E12","v":0},{"$f":"Dashboard!E14","v":0},{"$f":"Dashboard!E10","v":"Select from list"},{"$f":"Dashboard!E18","v":"Select from list"},{"$f":"Dashboard!E20","v":0},{"$f":"_xlfn.IFS(AND(Dashboard!K18=\"\",Dashboard!K20<>\"\"),\"EEDI\",AND(Dashboard!K18<>\"\",Dashboard!K20=\"\"),\"EEXI\",AND(Dashboard!K18=\"\",Dashboard!K20=\"\"),\"NA\")","v":"NA"},null,null,{"$f":"IF(OR(C26=\"Ro-ro Cargo Ship (vehicle carrier)\",C26=\"Ro-ro Cargo Ship\",C26=\"Ro-ro Passenger Ship\",C26=\"Cruise Ship\"),Dashboard!E12,\"Enter the Value\")","v":"Enter the Value"}]
[null,null,{"$f":"IFERROR(_xlfn.IFS(Dashboard!$E$10 =\"Bulk carrier\",\"Bulk Carrier\",Dashboard!$E$10 =\"Chemical Tanker\",\"Tanker\",Dashboard!$E$10 =\"Oil Tanker\",\"Tanker\",Dashboard!$E$10 =\"Container\",\"Container Ship\",Dashboard!$E$10 =\"General cargo\",\"General Cargo Ship\",Dashboard!$E$10 =\"Liquefied gas tanker\",\"LNG Carrier\",Dashboard!$E$10 =\"Other liquids tankers\",\"Gas carrier\",Dashboard!$E$10 =\"Ferry-pax only\",\"Ro-ro Passenger Ship\",Dashboard!$E$10 =\"Ferry-RoPax\",\"Ro-ro Passenger Ship\",Dashboard!$E$10 =\"Ro-Ro\",\"Ro-ro Cargo Ship\",Dashboard!$E$10 =\"Vehicle\",\"Ro-ro Cargo Ship (vehicle carrier)\",Dashboard!$E$10 =\"Cruise\",\"Cruise Passenger Ship\",Dashboard!$E$10 =\"Refrigerated bulk\",\"Refrigerated Cargo Carrier\",Dashboard!$E$10 =\"\",\"\"),\"\")","v":""}]
[null,null,{"$f":"_xlfn.IFS(C26=\"Bulk Carrier\",\"Bulk carrier\",AND(C26=\"Tanker\", C26=\"Chemical Tanker\"),\"Chemical tanker\",C26=\"Tanker\",\"Other liquids tankers\",C26=\"LNG Carrier\",\"Liquefied gas tanker\",C26=\"Container Ship\",\"Container\",C26 = \"General Cargo Ship\",\"General cargo\",C26=\"Ro-ro Passenger Ship\",\"Ferry-RoPax\",C26= \"Gas Carrier\",\"Liquefied gas tanker\",C26= \"Cruise Ship\",\"Cruise\",C26=\"Refrigerated Cargo Carrier\",\"Refrigerated bulk\",C26= \"Ro-ro Cargo Ship\",\"Ro-Ro\",C26= \"Ro-ro Cargo Ship (vehicle carrier)\",\"Vehicle\")","v":{"$error":"#N/A"}}]

{"sheet":"Assumptions","index":1,"n_rows":49,"n_cols":23,"rows_kept":49,"cut":false,"hidden":false,"merged":[]}
[]
[]
[]
[]
[]
[]
[]
[]
[null,null,null,null,null,null,null,null,null,null,null,null,null,null,null,null,null,"Requirements:"]
[]
[]
[]
[]
[]
[]
[]
[]
[]
[null,null,null,null,null,null,null,null,null,null,null,null,null,null,null,null,null,"Model terminology:"]
[]
[null,null,null,null,null,null,null,null,null,null,null,null,null,null,null,null,null,"Input cells:   ",null,null,null,"Not valid"]
[]
[null,null,null,null,null,null,null,null,null,null,null,null,null,null,null,null,null,"Output cells:   "]
[]
[null,null,null,null,null,null,null,null,null,null,null,null,null,null,null,null,null,"Dropdown:"]
[]
[]
[null,null,null,null,null,null,null,null,null,null,null,null,null,null,null,null,null,"Key input assumptions:"]
[]
[null,null,null,null,null,null,null,null,null,null,null,null,null,null,null,null,null,"Standard discount rate: 8%"]
[null,null,null,null,null,null,null,null,null,null,null,null,null,null,null,null,null,"Investment horizon: shortest expected remaining vessel lifetime"]
[null,null,null,null,null,null,null,null,null,null,null,null,null,null,null,null,null,null,null,null,null,"   (user input) and measure lifetime"]
[null,null,null,null,null,null,null,null,null,null,null,null,null,null,null,null,null,"CII annual reduction factors:"]
[]
[]
[]
[]
[]
[]
[]
[]
[]
[]
[]
[]
[]
[]
[]
[null,null,null,"Note: Detailed descriptions of the underlying assumptions for this tool can be found in the user manual which is provided separately. ",null,null,null,null,null,null,null,null,null,null,null,null,null,null,null,null,null,null,"Version 2.0"]

{"sheet":"Dashboard","index":2,"n_rows":63,"n_cols":35,"rows_kept":63,"cut":false,"hidden":false,"merged":[[47,3,47,5],[48,3,48,5],[7,6,9,8],[23,23,23,25],[17,23,21,26],[21,16,21,17],[23,16,23,17],[47,14,47,15],[7,23,15,26],[7,9,9,12],[47,22,48,26],[61,19,61,20],[57,19,57,20],[60,19,60,20],[49,19,49,20],[50,19,50,20],[51,19,51,20],[59,19,59,20],[55,19,55,20],[58,19,58,20],[27,30,29,32],[31,30,35,32],[56,19,56,20],[47,19,47,20],[48,19,48,20],[49,22,49,26],[51,22,59,26],[49,3,49,5],[50,3,50,5],[54,3,54,5],[55,3,55,5],[56,3,56,5],[53,3,53,5],[51,3,51,5],[52,3,52,5],[50,11,50,12],[51,11,51,12],[52,11,52,12],[23,19,23,20],[21,19,21,20],[47,11,47,12],[48,11,48,12],[49,11,49,12],[52,19,52,20],[52,14,52,15],[48,14,48,15],[49,14,49,15],[50,14,50,15],[51,14,51,15],[61,3,61,5],[55,11,55,12],[53,11,53,12],[54,11,54,12],[55,14,55,15],[53,14,53,15],[61,14,61,15],[59,14,59,15],[60,11,60,12],[61,11,61,12],[57,3,57,5],[58,3,58,5],[56,11,56,12],[57,11,57,12],[56,14,56,15],[54,14,54,15],[57,14,57,15],[53,19,53,20],[54,19,54,20],[59,3,59,5],[60,3,60,5],[60,14,60,15],[58,11,58,12],[59,11,59,12],[58,14,58,15]]}
[]
[]
[null,null,"Energy Efficiency Appraisal Tool"]
[]
[]
[null,null,null,"Vessel input data",null,null,"Fuel input data",null,null,"CII and EEXI/EEDI input data",null,null,null,null,{"$f":"IFERROR(\"Output data for \"&'Measure summary'!D47&\"\",\"\")","v":"Output data for Not selected"},null,null,null,null,null,null,null,null,"Instructions"]
[]
[null,null,null,"Required input data *",null,null,"Enter the type, consumption, and price for at least one fuel type. \nIf a second fuel is used, please ensure all details are complete. \nFuel price 1 will be used if fuel price 2 is not provided.",null,null,"Optional - can be left blank and the CII will be calculated from entered fuel consumption and distance sailed.",null,null,null,null,"CO2 emissions baseline year",null,null,null,null,{"$f":"IFERROR('Cost&CO2_Calc'!C12,\"\")","v":0},"MT",null,1,"Fill out all the blue input boxes with a red star. \na) Select a vessel type from the drop down menu\nb) All boxes with a red star are required and must be filled out in order for the tool to work\nc) CII is calculated either by the inserted \"Attained CII\", or by the inputs for distance sailed and CO2 emissions from fuel consumed and fuel type\nd) Attained EEXI/EEDI must be inserted for the cost efficiency and EEXI/EEDI to work"]
[]
[null,null,null,"Vessel type*:","Select from list",{"$f":"IF(OR(E10=\"Liquefied gas tanker\",E10=\"Container\"),1,0)","v":0},null,null,null,null,null,null,null,null,"Potential CO2 emissions reductions:",null,null,null,null,{"$f":"IFERROR(SUM('Cost&CO2_Calc'!L130:L160),\"\")","v":0},"MT"]
[]
[null,null,null,"Vessel size (Deadweight)*:",null,"[Tonnes]","Fuel type 1*:",null,null,"Attained CII (AER/cgDIST):",null,"[gCO2",{"$f":"IF(OR(E10=\"Vehicle\",E10=\"Ferry-pax only\",E10=\"Cruise\",E10=\"Ferry-RoPax\",E10=\"Ro-Ro\"),\"/\"&F14&\" nm]\",\"/\"&F12&\" nm]\")","v":"/[Tonnes] nm]"}]
[]
[null,null,null,"Vessel capacity (Gross Tonnage)*: ",null,null,"Fuel consumption type 1*:",null,"[MT/yr]","Required if cost efficiency of EEXI/EEDI to be displayed",null,null,null,null,"Year of CII rating:",null,null,null,null,{"$f":"E24","v":0}]
[]
[null,null,null,{"$f":"_xlfn.IFS(E10=\"Container\",\"Vessel teu capacity:\",E10=\"Liquefied gas tanker\",\"Vessel cbm capacity:\",OR(E10<>\"Container\",E10<>\"Liquefied gas tanker\"),\"\")","v":""},null,null,"Fuel price 1*:",null,"[$/MT]","Insert either EEXI or EEDI",null,null,null,null,{"$f":"IF(K12<>\"\",\"Attained CII\",\"Calculated CII\")","v":"Calculated CII"},null,"[gCO2",{"$f":"M12&\":\"","v":"/[Tonnes] nm]:"},null,{"$f":"IFERROR(IF(K12<>\"\",K12,\nIF(OR(T8=\"\",K24=\"\"),0,(T8*10^6)/(CII_calculation!P53*K24))),\"\")","v":0},{"$f":"IFERROR(_xlfn.IFS(T16=\"\",\"\",T16>_xlfn.XLOOKUP(T14,CII_calculation!$A$46:$A$67,CII_calculation!$K$46:$K$67),\"E\",\nT16>_xlfn.XLOOKUP(T14,CII_calculation!$A$46:$A$67,CII_calculation!$I$46:$I$67),\"D\",T16>_xlfn.XLOOKUP(T14,CII_calculation!$A$46:$A$67,CII_calculation!$G$46:$G$67),\"C\",\nT16>_xlfn.XLOOKUP(T14,CII_calculation!$A$46:$A$67,CII_calculation!$E$46:$E$67),\"B\",T16<_xlfn.XLOOKUP(T14,CII_calculation!$A$46:$A$67,CII_calculation!$E$46:$E$67),\"A\"),\"\")","v":""}]
[]
[null,null,null,"Newbuild/retrofit*","Select from list",null,"Fuel type 2:",null,null,"Attained EEXI:",null,"[gCO2/ton nm]",null,null,{"$f":"\"CII w/ measures\"","v":"CII w/ measures"},null,"[gCO2",{"$f":"M12&\":\"","v":"/[Tonnes] nm]:"},null,{"$f":"IF(E10=\"Select from list\",\"\",IF(AND(Dashboard!K12=\"\",T8=\"\"),\"NA\",'Measure summary'!B58))","v":""},{"$f":"IFERROR(_xlfn.IFS(T18=\"\",\"\",T18>_xlfn.XLOOKUP(T14,CII_calculation!$A$46:$A$67,CII_calculation!$K$46:$K$67),\"E\",\nT18>_xlfn.XLOOKUP(T14,CII_calculation!$A$46:$A$67,CII_calculation!$I$46:$I$67),\"D\",T18>_xlfn.XLOOKUP(T14,CII_calculation!$A$46:$A$67,CII_calculation!$G$46:$G$67),\"C\",\nT18>_xlfn.XLOOKUP(T14,CII_calculation!$A$46:$A$67,CII_calculation!$E$46:$E$67),\"B\",T18<_xlfn.XLOOKUP(T14,CII_calculation!$A$46:$A$67,CII_calculation!$E$46:$E$67),\"A\"),\"\")","v":""},null,2,"Select measures within each category from the drop down menus. Select/unselect to see the effect of implementation. Note that a measure must only be selected once. There is a limit of number of each measure within the technology group as set in the \"Technology group\""]
[]
[null,null,null,"Year of build*:",null,"[Yr]","Fuel consumption type 2:",null,"[MT/yr]","Attained EEDI:",null,"[gCO2/ton nm]"]
[]
[null,null,null,"Remaining vessel lifetime*: ",null,"[Yr]","Fuel price 2:",null,"[$/MT]","Optional, if no attained CII:",null,null,null,null,{"$f":"IF(K18=\"\",\"EEDI attained\",\"EEXI attained\")","v":"EEDI attained"},null,"[gCO2/ton nm]",null,null,{"$f":"IF(K18=\"\",K20,K18)","v":0}]
[null,null,null,null,null,null,"Calculated EEOI"]
[null,null,null,"Year of operational data*:",null,"[Yr]",null,null,null,"Distance sailed:",null,"nm",null,null,{"$f":"IF(K18=\"\",\"EEDI required\",\"EEXI required\")","v":"EEDI required"},null,"[gCO2/ton nm]",null,null,{"$f":"'Required EEDI_EEXI'!$S$3","v":"NA"},null,null,3,"Press \"clear sheet\" to unselect all measures and clear the input boxes. "]
[]
[]
[]
[null,null,null,"Cost abatement curves and CII trajectory",null,null,null,null,null,null,null,null,null,null,null,null,null,null,null,null,null,null,null,"Select measures from dropdown",null,"Technology group (# of groups are set)","Include?",null,"Incomp","App NB/Ret?",{"$f":"IF(AD43<14,CONCATENATE(\"One or several of the measures selected (yellow) are not applicable for \",E18),\"\")","v":""},null,null,"hjelp1","hjelp2"]
[null,null,null,null,null,null,null,null,null,null,null,null,null,null,null,null,null,null,null,null,null,null,null,"Frequency controlled electric motors ",null,"Energy consumers",null,false,{"$f":"IF(AND(AB29=TRUE,AI29<>\"\",X29<>AI29),\"Error\",\"\")","v":""},{"$f":"IF(AB29,IF($E$18=\"Newbuild\",INDEX(Measures[],MATCH(X29,Measures[Measure],0),21),IF($E$18=\"Retrofit\",INDEX(Measures[],MATCH(X29,Measures[Measure],0),22),\"\")),1)","v":1},null,null,null,{"$f":"_xlfn.TEXTJOIN(\",\",TRUE,IF(INDEX('Incompatibility matrix'!$B$6:$AG$37,MATCH(X29,'Incompatibility matrix'!$A$6:$A$37,0),0)=1,'Incompatibility matrix'!$B$4:$AG$4,\"\"))","v":"Frequency controlled electric motors "},{"$f":"_xlfn.TEXTJOIN(\",\",TRUE,IF(ISNUMBER(MATCH(_xlfn.TEXTSPLIT(AH29,\",\"),_xlfn._xlws.FILTER($X$29:$X$42,$AB$29:$AB$42=TRUE),0)),_xlfn.TEXTSPLIT(AH29,\",\"),\"\"))","v":""}]
[null,null,{"$f":"MACC!B9","v":1},{"$f":"IF(MACC!C9=0,\"\",MACC!C9)","v":""},null,null,null,null,null,null,null,null,null,null,null,null,null,null,null,null,null,null,null,"Kite",null,"Energy recovery",null,false,{"$f":"IF(AND(AB30=TRUE,AI30<>\"\",X30<>AI30),\"Error\",\"\")","v":""},{"$f":"IF(AB30,IF($E$18=\"Newbuild\",INDEX(Measures[],MATCH(X30,Measures[Measure],0),21),IF($E$18=\"Retrofit\",INDEX(Measures[],MATCH(X30,Measures[Measure],0),22),\"\")),1)","v":1},null,null,null,{"$f":"_xlfn.TEXTJOIN(\",\",TRUE,IF(INDEX('Incompatibility matrix'!$B$6:$AG$37,MATCH(X30,'Incompatibility matrix'!$A$6:$A$37,0),0)=1,'Incompatibility matrix'!$B$4:$AG$4,\"\"))","v":"Fixed sails or wings,Kite,Rotor sails,Waste heat recovery systems"},{"$f":"_xlfn.TEXTJOIN(\",\",TRUE,IF(ISNUMBER(MATCH(_xlfn.TEXTSPLIT(AH30,\",\"),_xlfn._xlws.FILTER($X$29:$X$42,$AB$29:$AB$42=TRUE),0)),_xlfn.TEXTSPLIT(AH30,\",\"),\"\"))","v":""}]
[null,null,{"$f":"MACC!B10","v":2},{"$f":"IF(MACC!C10=0,\"\",MACC!C10)","v":""},null,null,null,null,null,null,null,null,null,null,null,null,null,null,null,null,null,null,null,"Exhaust gas boilers on auxiliary engines",null,"Machinery",null,false,"",{"$f":"IF(AB31,IF($E$18=\"Newbuild\",INDEX(Measures[],MATCH(X31,Measures[Measure],0),21),IF($E$18=\"Retrofit\",INDEX(Measures[],MATCH(X31,Measures[Measure],0),22),\"\")),1)","v":1},null,null,null,{"$f":"_xlfn.TEXTJOIN(\",\",TRUE,IF(INDEX('Incompatibility matrix'!$B$6:$AG$37,MATCH(X31,'Incompatibility matrix'!$A$6:$A$37,0),0)=1,'Incompatibility matrix'!$B$4:$AG$4,\"\"))","v":"Exhaust gas boilers on auxiliary engines,Shore power"},{"$f":"_xlfn.TEXTJOIN(\",\",TRUE,IF(ISNUMBER(MATCH(_xlfn.TEXTSPLIT(AH31,\",\"),_xlfn._xlws.FILTER($X$29:$X$42,$AB$29:$AB$42=TRUE),0)),_xlfn.TEXTSPLIT(AH31,\",\"),\"\"))","v":""}]
[null,null,{"$f":"MACC!B11","v":3},{"$f":"IF(MACC!C11=0,\"\",MACC!C11)","v":""},null,null,null,null,null,null,null,null,null,null,null,null,null,null,null,null,null,null,null,"Engine performance optimization (automatic)",null,"Machinery",null,false,"",{"$f":"IF(AB32,IF($E$18=\"Newbuild\",INDEX(Measures[],MATCH(X32,Measures[Measure],0),21),IF($E$18=\"Retrofit\",INDEX(Measures[],MATCH(X32,Measures[Measure],0),22),\"\")),1)","v":1},{"$f":"IF(AC43>0,\"The measures in red are incompatible with each other. Please check the incompatibility matrix and unselect one of the measures before re-calculating.\",\"\")","v":""},null,null,{"$f":"_xlfn.TEXTJOIN(\",\",TRUE,IF(INDEX('Incompatibility matrix'!$B$6:$AG$37,MATCH(X32,'Incompatibility matrix'!$A$6:$A$37,0),0)=1,'Incompatibility matrix'!$B$4:$AG$4,\"\"))","v":"Engine performance optimization (automatic)"},{"$f":"_xlfn.TEXTJOIN(\",\",TRUE,IF(ISNUMBER(MATCH(_xlfn.TEXTSPLIT(AH32,\",\"),_xlfn._xlws.FILTER($X$29:$X$42,$AB$29:$AB$42=TRUE),0)),_xlfn.TEXTSPLIT(AH32,\",\"),\"\"))","v":""}]
[null,null,{"$f":"MACC!B12","v":4},{"$f":"IF(MACC!C12=0,\"\",MACC!C12)","v":""},null,null,null,null,null,null,null,null,null,null,null,null,null,null,null,null,null,null,null,"Engine de-rating",null,"Machinery",null,false,"",{"$f":"IF(AB33,IF($E$18=\"Newbuild\",INDEX(Measures[],MATCH(X33,Measures[Measure],0),21),IF($E$18=\"Retrofit\",INDEX(Measures[],MATCH(X33,Measures[Measure],0),22),\"\")),1)","v":1},null,null,null,{"$f":"_xlfn.TEXTJOIN(\",\",TRUE,IF(INDEX('Incompatibility matrix'!$B$6:$AG$37,MATCH(X33,'Incompatibility matrix'!$A$6:$A$37,0),0)=1,'Incompatibility matrix'!$B$4:$AG$4,\"\"))","v":"Engine de-rating,Shaft generator PTO"},{"$f":"_xlfn.TEXTJOIN(\",\",TRUE,IF(ISNUMBER(MATCH(_xlfn.TEXTSPLIT(AH33,\",\"),_xlfn._xlws.FILTER($X$29:$X$42,$AB$29:$AB$42=TRUE),0)),_xlfn.TEXTSPLIT(AH33,\",\"),\"\"))","v":""}]
[null,null,{"$f":"MACC!B13","v":5},{"$f":"IF(MACC!C13=0,\"\",MACC!C13)","v":""},null,null,null,null,null,null,null,null,null,null,null,null,null,null,null,null,null,null,null,"Hull performance coating",null,"Propulsion and hull",null,false,"",{"$f":"IF(AB34,IF($E$18=\"Newbuild\",INDEX(Measures[],MATCH(X34,Measures[Measure],0),21),IF($E$18=\"Retrofit\",INDEX(Measures[],MATCH(X34,Measures[Measure],0),22),\"\")),1)","v":1},null,null,null,{"$f":"_xlfn.TEXTJOIN(\",\",TRUE,IF(INDEX('Incompatibility matrix'!$B$6:$AG$37,MATCH(X34,'Incompatibility matrix'!$A$6:$A$37,0),0)=1,'Incompatibility matrix'!$B$4:$AG$4,\"\"))","v":"Hull performance coating"},{"$f":"_xlfn.TEXTJOIN(\",\",TRUE,IF(ISNUMBER(MATCH(_xlfn.TEXTSPLIT(AH34,\",\"),_xlfn._xlws.FILTER($X$29:$X$42,$AB$29:$AB$42=TRUE),0)),_xlfn.TEXTSPLIT(AH34,\",\"),\"\"))","v":""}]
[null,null,{"$f":"MACC!B14","v":6},{"$f":"IF(MACC!C14=0,\"\",MACC!C14)","v":""},null,null,null,null,null,null,null,null,null,null,null,null,null,null,null,null,null,null,null,"Air lubrication",null,"Propulsion and hull",null,false,"",{"$f":"IF(AB35,IF($E$18=\"Newbuild\",INDEX(Measures[],MATCH(X35,Measures[Measure],0),21),IF($E$18=\"Retrofit\",INDEX(Measures[],MATCH(X35,Measures[Measure],0),22),\"\")),1)","v":1},null,null,null,{"$f":"_xlfn.TEXTJOIN(\",\",TRUE,IF(INDEX('Incompatibility matrix'!$B$6:$AG$37,MATCH(X35,'Incompatibility matrix'!$A$6:$A$37,0),0)=1,'Incompatibility matrix'!$B$4:$AG$4,\"\"))","v":"Air lubrication"},{"$f":"_xlfn.TEXTJOIN(\",\",TRUE,IF(ISNUMBER(MATCH(_xlfn.TEXTSPLIT(AH35,\",\"),_xlfn._xlws.FILTER($X$29:$X$42,$AB$29:$AB$42=TRUE),0)),_xlfn.TEXTSPLIT(AH35,\",\"),\"\"))","v":""}]
[null,null,{"$f":"MACC!B15","v":7},{"$f":"IF(MACC!C15=0,\"\",MACC!C15)","v":""},null,null,null,null,null,null,null,null,null,null,null,null,null,null,null,null,null,null,null,"Hull cleaning",null,"Propulsion and hull",null,false,"",{"$f":"IF(AB36,IF($E$18=\"Newbuild\",INDEX(Measures[],MATCH(X36,Measures[Measure],0),21),IF($E$18=\"Retrofit\",INDEX(Measures[],MATCH(X36,Measures[Measure],0),22),\"\")),1)","v":1},null,null,null,{"$f":"_xlfn.TEXTJOIN(\",\",TRUE,IF(INDEX('Incompatibility matrix'!$B$6:$AG$37,MATCH(X36,'Incompatibility matrix'!$A$6:$A$37,0),0)=1,'Incompatibility matrix'!$B$4:$AG$4,\"\"))","v":"Hull cleaning"},{"$f":"_xlfn.TEXTJOIN(\",\",TRUE,IF(ISNUMBER(MATCH(_xlfn.TEXTSPLIT(AH36,\",\"),_xlfn._xlws.FILTER($X$29:$X$42,$AB$29:$AB$42=TRUE),0)),_xlfn.TEXTSPLIT(AH36,\",\"),\"\"))","v":""}]
[null,null,{"$f":"MACC!B16","v":8},{"$f":"IF(MACC!C16=0,\"\",MACC!C16)","v":""},null,null,null,null,null,null,null,null,null,null,null,null,null,null,null,null,null,null,null,"Propulsion improving devices (PIDs)",null,"Propulsion and hull",null,false,"",{"$f":"IF(AB37,IF($E$18=\"Newbuild\",INDEX(Measures[],MATCH(X37,Measures[Measure],0),21),IF($E$18=\"Retrofit\",INDEX(Measures[],MATCH(X37,Measures[Measure],0),22),\"\")),1)","v":1},null,null,null,{"$f":"_xlfn.TEXTJOIN(\",\",TRUE,IF(INDEX('Incompatibility matrix'!$B$6:$AG$37,MATCH(X37,'Incompatibility matrix'!$A$6:$A$37,0),0)=1,'Incompatibility matrix'!$B$4:$AG$4,\"\"))","v":"Propulsion improving devices (PIDs)"},{"$f":"_xlfn.TEXTJOIN(\",\",TRUE,IF(ISNUMBER(MATCH(_xlfn.TEXTSPLIT(AH37,\",\"),_xlfn._xlws.FILTER($X$29:$X$42,$AB$29:$AB$42=TRUE),0)),_xlfn.TEXTSPLIT(AH37,\",\"),\"\"))","v":""}]
[null,null,{"$f":"MACC!B17","v":9},{"$f":"IF(MACC!C17=0,\"\",MACC!C17)","v":""},null,null,null,null,null,null,null,null,null,null,null,null,null,null,null,null,null,null,null,"Autopilot adjustment and use",null,"General technical solutions for operation",null,false,"",{"$f":"IF(AB38,IF($E$18=\"Newbuild\",INDEX(Measures[],MATCH(X38,Measures[Measure],0),21),IF($E$18=\"Retrofit\",INDEX(Measures[],MATCH(X38,Measures[Measure],0),22),\"\")),1)","v":1},null,null,null,{"$f":"_xlfn.TEXTJOIN(\",\",TRUE,IF(INDEX('Incompatibility matrix'!$B$6:$AG$37,MATCH(X38,'Incompatibility matrix'!$A$6:$A$37,0),0)=1,'Incompatibility matrix'!$B$4:$AG$4,\"\"))","v":"Autopilot adjustment and use"},{"$f":"_xlfn.TEXTJOIN(\",\",TRUE,IF(ISNUMBER(MATCH(_xlfn.TEXTSPLIT(AH38,\",\"),_xlfn._xlws.FILTER($X$29:$X$42,$AB$29:$AB$42=TRUE),0)),_xlfn.TEXTSPLIT(AH38,\",\"),\"\"))","v":""}]
[null,null,{"$f":"MACC!B18","v":10},{"$f":"IF(MACC!C18=0,\"\",MACC!C18)","v":""},null,null,null,null,null,null,null,null,null,null,null,null,null,null,null,null,null,null,null,"Combinator optimizing",null,"General technical solutions for operation",null,false,"",{"$f":"IF(AB39,IF($E$18=\"Newbuild\",INDEX(Measures[],MATCH(X39,Measures[Measure],0),21),IF($E$18=\"Retrofit\",INDEX(Measures[],MATCH(X39,Measures[Measure],0),22),\"\")),1)","v":1},null,null,null,{"$f":"_xlfn.TEXTJOIN(\",\",TRUE,IF(INDEX('Incompatibility matrix'!$B$6:$AG$37,MATCH(X39,'Incompatibility matrix'!$A$6:$A$37,0),0)=1,'Incompatibility matrix'!$B$4:$AG$4,\"\"))","v":"Combinator optimizing"},{"$f":"_xlfn.TEXTJOIN(\",\",TRUE,IF(ISNUMBER(MATCH(_xlfn.TEXTSPLIT(AH39,\",\"),_xlfn._xlws.FILTER($X$29:$X$42,$AB$29:$AB$42=TRUE),0)),_xlfn.TEXTSPLIT(AH39,\",\"),\"\"))","v":""}]
[null,null,{"$f":"MACC!B19","v":11},{"$f":"IF(MACC!C19=0,\"\",MACC!C19)","v":""},null,null,null,null,null,null,null,null,null,null,null,null,null,null,null,null,null,null,null,"Trim and draft optimization",null,"General technical solutions for operation",null,false,"",{"$f":"IF(AB40,IF($E$18=\"Newbuild\",INDEX(Measures[],MATCH(X40,Measures[Measure],0),21),IF($E$18=\"Retrofit\",INDEX(Measures[],MATCH(X40,Measures[Measure],0),22),\"\")),1)","v":1},null,null,null,{"$f":"_xlfn.TEXTJOIN(\",\",TRUE,IF(INDEX('Incompatibility matrix'!$B$6:$AG$37,MATCH(X40,'Incompatibility matrix'!$A$6:$A$37,0),0)=1,'Incompatibility matrix'!$B$4:$AG$4,\"\"))","v":"Trim and draft optimization"},{"$f":"_xlfn.TEXTJOIN(\",\",TRUE,IF(ISNUMBER(MATCH(_xlfn.TEXTSPLIT(AH40,\",\"),_xlfn._xlws.FILTER($X$29:$X$42,$AB$29:$AB$42=TRUE),0)),_xlfn.TEXTSPLIT(AH40,\",\"),\"\"))","v":""}]
[null,null,{"$f":"MACC!B20","v":12},{"$f":"IF(MACC!C20=0,\"\",MACC!C20)","v":""},null,null,null,null,null,null,null,null,null,null,null,null,null,null,null,null,null,null,null,"Weather routing",null,"General technical solutions for operation",null,false,"",{"$f":"IF(AB41,IF($E$18=\"Newbuild\",INDEX(Measures[],MATCH(X41,Measures[Measure],0),21),IF($E$18=\"Retrofit\",INDEX(Measures[],MATCH(X41,Measures[Measure],0),22),\"\")),1)","v":1},null,null,null,{"$f":"_xlfn.TEXTJOIN(\",\",TRUE,IF(INDEX('Incompatibility matrix'!$B$6:$AG$37,MATCH(X41,'Incompatibility matrix'!$A$6:$A$37,0),0)=1,'Incompatibility matrix'!$B$4:$AG$4,\"\"))","v":"Weather routing"},{"$f":"_xlfn.TEXTJOIN(\",\",TRUE,IF(ISNUMBER(MATCH(_xlfn.TEXTSPLIT(AH41,\",\"),_xlfn._xlws.FILTER($X$29:$X$42,$AB$29:$AB$42=TRUE),0)),_xlfn.TEXTSPLIT(AH41,\",\"),\"\"))","v":""}]
[null,null,{"$f":"MACC!B21","v":13},{"$f":"IF(MACC!C21=0,\"\",MACC!C21)","v":""},null,null,null,null,null,null,null,null,null,null,null,null,null,null,null,null,null,null,null,"Speed management",null,"General technical solutions for operation",null,false,"",{"$f":"IF(AB42,IF($E$18=\"Newbuild\",INDEX(Measures[],MATCH(X42,Measures[Measure],0),21),IF($E$18=\"Retrofit\",INDEX(Measures[],MATCH(X42,Measures[Measure],0),22),\"\")),1)","v":1},null,null,null,{"$f":"_xlfn.TEXTJOIN(\",\",TRUE,IF(INDEX('Incompatibility matrix'!$B$6:$AG$37,MATCH(X42,'Incompatibility matrix'!$A$6:$A$37,0),0)=1,'Incompatibility matrix'!$B$4:$AG$4,\"\"))","v":"Speed management"},{"$f":"_xlfn.TEXTJOIN(\",\",TRUE,IF(ISNUMBER(MATCH(_xlfn.TEXTSPLIT(AH42,\",\"),_xlfn._xlws.FILTER($X$29:$X$42,$AB$29:$AB$42=TRUE),0)),_xlfn.TEXTSPLIT(AH42,\",\"),\"\"))","v":""}]
[null,null,{"$f":"MACC!B22","v":14},{"$f":"IF(MACC!C22=0,\"\",MACC!C22)","v":""},null,null,null,null,null,null,null,null,null,null,null,null,null,null,null,null,null,null,null,null,null,null,null,null,{"$f":"COUNTIF(AC29:AC42,\"Error\")","v":0},{"$f":"SUM(AD29:AD42)","v":14}]
[null,null,null,null,null,null,null,null,null,null,null,null,null,null,null,null,null,null,null,null,null,null,null,null,null,null,null,{"$f":"COUNTIF(AB29:AB42,\"TRUE\")","v":0}]
[]
[]
[null,null,"Abatement summary"]
[null,null,"ID","Measure",null,null,"Measure type","Applied fuel reduction [%]","Cost efficiency   [$/ton CO2]","CII value\n[gCO2/DWTt nm]\n[gCO2/GT nm]","CII rating","EEXI / EEDI\n[gCO2/ton nm]",null,"TRL","Measure Lifetime [Years]",null,"OPEX [$]","CAPEX [$]","Payback time [years]","Potentital yearly savings\n[$]",null,null,"Note: \nTo get information on each measure, click on the info button located to the right of each measure in the \"Measure summary\" sheet. More information on each measure can be found in the information portal:"]
[null,null,1,{"$f":"IF('Cost&CO2_Calc'!B130=0,\"\",'Cost&CO2_Calc'!B130)","v":""},null,null,{"$f":"IF(D49=\"\",\"\",VLOOKUP(D49,Measures[],4,FALSE))","v":""},{"$f":"_xlfn.IFS(D49=\"\",\"\",AND(D49<>\"\",'Cost&CO2_Calc'!Q130<>\"NA\"),'Cost&CO2_Calc'!I130,AND(D49<>\"\",'Cost&CO2_Calc'!Q130=\"NA\"),\"NA\")","v":""},{"$f":"IF(D49=\"\",\"\",'Cost&CO2_Calc'!Q130)","v":""},{"$f":"IF(D49=\"\",\"\",VLOOKUP(D49,Measures[],11,FALSE))","v":""},{"$f":"IF(D49=\"\",\"\",VLOOKUP(D49,Measures[],12,FALSE))","v":""},{"$f":"IF(D49=\"\",\"\",IF('Cost&CO2_Calc'!T129=0,\"No inserted EEXI/EEDI\",IF('Cost&CO2_Calc'!S130=0,\"NA\",'Cost&CO2_Calc'!T130)))","v":""},null,{"$f":"IF(D49=\"\",\"\",VLOOKUP(D49,Measures[],19,FALSE))","v":""},{"$f":"_xlfn.IFS(D49=\"\",\"\",AND(D49<>\"\",G49=\"NA\"),\"NA\",AND(D49<>\"\",G49<>\"NA\"),VLOOKUP(D49,Measures[],15,FALSE))","v":""},null,{"$f":"_xlfn.IFS(D49=\"\",\"\",AND(D49<>\"\",G49=\"NA\"),\"NA\",AND(D49<>\"\",G49<>\"NA\"),VLOOKUP(D49,Measures[],16,FALSE))","v":""},{"$f":"_xlfn.IFS(D49=\"\",\"\",AND(D49<>\"\",G49=\"NA\"),\"NA\",AND(D49<>\"\",G49<>\"NA\",$E$18=\"Newbuild\"),VLOOKUP(D49,Measures[],17,FALSE),AND(D49<>\"\",G49<>\"NA\",$E$18=\"Retrofit\"),VLOOKUP(D49,Measures[],18,FALSE))","v":""},{"$f":"_xlfn.IFS(D49=\"\",\"\",AND(D49<>\"\",G49=\"NA\"),\"NA\",AND(D49<>\"\",G49<>\"NA\"),'Cost&CO2_Calc'!O130)","v":""},{"$f":"_xlfn.IFS(D49=\"\",\"\",AND(D49<>\"\",G49=\"NA\"),\"NA\",AND(D49<>\"\",G49<>\"NA\"),'Cost&CO2_Calc'!N130)","v":""}]
[null,null,2,{"$f":"IF('Cost&CO2_Calc'!B131=0,\"\",'Cost&CO2_Calc'!B131)","v":""},null,null,{"$f":"IF(D50=\"\",\"\",VLOOKUP(D50,Measures[],4,FALSE))","v":""},{"$f":"_xlfn.IFS(D50=\"\",\"\",AND(D50<>\"\",'Cost&CO2_Calc'!Q131<>\"NA\"),'Cost&CO2_Calc'!I131,AND(D50<>\"\",'Cost&CO2_Calc'!Q131=\"NA\"),\"NA\")","v":""},{"$f":"IF(D50=\"\",\"\",'Cost&CO2_Calc'!Q131)","v":""},{"$f":"IF(D50=\"\",\"\",VLOOKUP(D50,Measures[],11,FALSE))","v":""},{"$f":"IF(D50=\"\",\"\",VLOOKUP(D50,Measures[],12,FALSE))","v":""},{"$f":"IF(D50=\"\",\"\",IF('Cost&CO2_Calc'!T130=0,\"No inserted EEXI/EEDI\",IF('Cost&CO2_Calc'!S131=0,\"NA\",'Cost&CO2_Calc'!T131)))","v":""},null,{"$f":"IF(D50=\"\",\"\",VLOOKUP(D50,Measures[],19,FALSE))","v":""},{"$f":"_xlfn.IFS(D50=\"\",\"\",AND(D50<>\"\",G50=\"NA\"),\"NA\",AND(D50<>\"\",G50<>\"NA\"),VLOOKUP(D50,Measures[],15,FALSE))","v":""},null,{"$f":"_xlfn.IFS(D50=\"\",\"\",AND(D50<>\"\",G50=\"NA\"),\"NA\",AND(D50<>\"\",G50<>\"NA\"),VLOOKUP(D50,Measures[],16,FALSE))","v":""},{"$f":"_xlfn.IFS(D50=\"\",\"\",AND(D50<>\"\",G50=\"NA\"),\"NA\",AND(D50<>\"\",G50<>\"NA\",$E$18=\"Newbuild\"),VLOOKUP(D50,Measures[],17,FALSE),AND(D50<>\"\",G50<>\"NA\",$E$18=\"Retrofit\"),VLOOKUP(D50,Measures[],18,FALSE))","v":""},{"$f":"_xlfn.IFS(D50=\"\",\"\",AND(D50<>\"\",G50=\"NA\"),\"NA\",AND(D50<>\"\",G50<>\"NA\"),'Cost&CO2_Calc'!O131)","v":""},{"$f":"_xlfn.IFS(D50=\"\",\"\",AND(D50<>\"\",G50=\"NA\"),\"NA\",AND(D50<>\"\",G50<>\"NA\"),'Cost&CO2_Calc'!N131)","v":""},null,null,"Link here."]
[null,null,3,{"$f":"IF('Cost&CO2_Calc'!B132=0,\"\",'Cost&CO2_Calc'!B132)","v":""},null,null,{"$f":"IF(D51=\"\",\"\",VLOOKUP(D51,Measures[],4,FALSE))","v":""},{"$f":"_xlfn.IFS(D51=\"\",\"\",AND(D51<>\"\",'Cost&CO2_Calc'!Q132<>\"NA\"),'Cost&CO2_Calc'!I132,AND(D51<>\"\",'Cost&CO2_Calc'!Q132=\"NA\"),\"NA\")","v":""},{"$f":"IF(D51=\"\",\"\",'Cost&CO2_Calc'!Q132)","v":""},{"$f":"IF(D51=\"\",\"\",VLOOKUP(D51,Measures[],11,FALSE))","v":""},{"$f":"IF(D51=\"\",\"\",VLOOKUP(D51,Measures[],12,FALSE))","v":""},{"$f":"IF(D51=\"\",\"\",IF('Cost&CO2_Calc'!T131=0,\"No inserted EEXI/EEDI\",IF('Cost&CO2_Calc'!S132=0,\"NA\",'Cost&CO2_Calc'!T132)))","v":""},null,{"$f":"IF(D51=\"\",\"\",VLOOKUP(D51,Measures[],19,FALSE))","v":""},{"$f":"_xlfn.IFS(D51=\"\",\"\",AND(D51<>\"\",G51=\"NA\"),\"NA\",AND(D51<>\"\",G51<>\"NA\"),VLOOKUP(D51,Measures[],15,FALSE))","v":""},null,{"$f":"_xlfn.IFS(D51=\"\",\"\",AND(D51<>\"\",G51=\"NA\"),\"NA\",AND(D51<>\"\",G51<>\"NA\"),VLOOKUP(D51,Measures[],16,FALSE))","v":""},{"$f":"_xlfn.IFS(D51=\"\",\"\",AND(D51<>\"\",G51=\"NA\"),\"NA\",AND(D51<>\"\",G51<>\"NA\",$E$18=\"Newbuild\"),VLOOKUP(D51,Measures[],17,FALSE),AND(D51<>\"\",G51<>\"NA\",$E$18=\"Retrofit\"),VLOOKUP(D51,Measures[],18,FALSE))","v":""},{"$f":"_xlfn.IFS(D51=\"\",\"\",AND(D51<>\"\",G51=\"NA\"),\"NA\",AND(D51<>\"\",G51<>\"NA\"),'Cost&CO2_Calc'!O132)","v":""},{"$f":"_xlfn.IFS(D51=\"\",\"\",AND(D51<>\"\",G51=\"NA\"),\"NA\",AND(D51<>\"\",G51<>\"NA\"),'Cost&CO2_Calc'!N132)","v":""}]
[null,null,4,{"$f":"IF('Cost&CO2_Calc'!B133=0,\"\",'Cost&CO2_Calc'!B133)","v":""},null,null,{"$f":"IF(D52=\"\",\"\",VLOOKUP(D52,Measures[],4,FALSE))","v":""},{"$f":"_xlfn.IFS(D52=\"\",\"\",AND(D52<>\"\",'Cost&CO2_Calc'!Q133<>\"NA\"),'Cost&CO2_Calc'!I133,AND(D52<>\"\",'Cost&CO2_Calc'!Q133=\"NA\"),\"NA\")","v":""},{"$f":"IF(D52=\"\",\"\",'Cost&CO2_Calc'!Q133)","v":""},{"$f":"IF(D52=\"\",\"\",VLOOKUP(D52,Measures[],11,FALSE))","v":""},{"$f":"IF(D52=\"\",\"\",VLOOKUP(D52,Measures[],12,FALSE))","v":""},{"$f":"IF(D52=\"\",\"\",IF('Cost&CO2_Calc'!T132=0,\"No inserted EEXI/EEDI\",IF('Cost&CO2_Calc'!S133=0,\"NA\",'Cost&CO2_Calc'!T133)))","v":""},null,{"$f":"IF(D52=\"\",\"\",VLOOKUP(D52,Measures[],19,FALSE))","v":""},{"$f":"_xlfn.IFS(D52=\"\",\"\",AND(D52<>\"\",G52=\"NA\"),\"NA\",AND(D52<>\"\",G52<>\"NA\"),VLOOKUP(D52,Measures[],15,FALSE))","v":""},null,{"$f":"_xlfn.IFS(D52=\"\",\"\",AND(D52<>\"\",G52=\"NA\"),\"NA\",AND(D52<>\"\",G52<>\"NA\"),VLOOKUP(D52,Measures[],16,FALSE))","v":""},{"$f":"_xlfn.IFS(D52=\"\",\"\",AND(D52<>\"\",G52=\"NA\"),\"NA\",AND(D52<>\"\",G52<>\"NA\",$E$18=\"Newbuild\"),VLOOKUP(D52,Measures[],17,FALSE),AND(D52<>\"\",G52<>\"NA\",$E$18=\"Retrofit\"),VLOOKUP(D52,Measures[],18,FALSE))","v":""},{"$f":"_xlfn.IFS(D52=\"\",\"\",AND(D52<>\"\",G52=\"NA\"),\"NA\",AND(D52<>\"\",G52<>\"NA\"),'Cost&CO2_Calc'!O133)","v":""},{"$f":"_xlfn.IFS(D52=\"\",\"\",AND(D52<>\"\",G52=\"NA\"),\"NA\",AND(D52<>\"\",G52<>\"NA\"),'Cost&CO2_Calc'!N133)","v":""},null,null,"If some measures are incompatible, the two measures will turn red after the calculation is completed. To identify which measures are incompatible, refer to the incompatibility matrix sheet.\n\nThe carbon intensity metric used in the CII scheme varies depending on the ship segment. The capacity gross ton distance (cgDIST) is based on gross tonnage as cargo-carrying capacity and is applicable to cruise passenger ships, vehicle carriers, Ro-Ro passenger ships, and Ro-Ro cargo ships. The Annual Efficiency Ratio (AER), on the other hand, is based on deadweight and is applicable to the remaining ship types."]
[null,null,5,{"$f":"IF('Cost&CO2_Calc'!B134=0,\"\",'Cost&CO2_Calc'!B134)","v":""},null,null,{"$f":"IF(D53=\"\",\"\",VLOOKUP(D53,Measures[],4,FALSE))","v":""},{"$f":"_xlfn.IFS(D53=\"\",\"\",AND(D53<>\"\",'Cost&CO2_Calc'!Q134<>\"NA\"),'Cost&CO2_Calc'!I134,AND(D53<>\"\",'Cost&CO2_Calc'!Q134=\"NA\"),\"NA\")","v":""},{"$f":"IF(D53=\"\",\"\",'Cost&CO2_Calc'!Q134)","v":""},{"$f":"IF(D53=\"\",\"\",VLOOKUP(D53,Measures[],11,FALSE))","v":""},{"$f":"IF(D53=\"\",\"\",VLOOKUP(D53,Measures[],12,FALSE))","v":""},{"$f":"IF(D53=\"\",\"\",IF('Cost&CO2_Calc'!T133=0,\"No inserted EEXI/EEDI\",IF('Cost&CO2_Calc'!S134=0,\"NA\",'Cost&CO2_Calc'!T134)))","v":""},null,{"$f":"IF(D53=\"\",\"\",VLOOKUP(D53,Measures[],19,FALSE))","v":""},{"$f":"_xlfn.IFS(D53=\"\",\"\",AND(D53<>\"\",G53=\"NA\"),\"NA\",AND(D53<>\"\",G53<>\"NA\"),VLOOKUP(D53,Measures[],15,FALSE))","v":""},null,{"$f":"_xlfn.IFS(D53=\"\",\"\",AND(D53<>\"\",G53=\"NA\"),\"NA\",AND(D53<>\"\",G53<>\"NA\"),VLOOKUP(D53,Measures[],16,FALSE))","v":""},{"$f":"_xlfn.IFS(D53=\"\",\"\",AND(D53<>\"\",G53=\"NA\"),\"NA\",AND(D53<>\"\",G53<>\"NA\",$E$18=\"Newbuild\"),VLOOKUP(D53,Measures[],17,FALSE),AND(D53<>\"\",G53<>\"NA\",$E$18=\"Retrofit\"),VLOOKUP(D53,Measures[],18,FALSE))","v":""},{"$f":"_xlfn.IFS(D53=\"\",\"\",AND(D53<>\"\",G53=\"NA\"),\"NA\",AND(D53<>\"\",G53<>\"NA\"),'Cost&CO2_Calc'!O134)","v":""},{"$f":"_xlfn.IFS(D53=\"\",\"\",AND(D53<>\"\",G53=\"NA\"),\"NA\",AND(D53<>\"\",G53<>\"NA\"),'Cost&CO2_Calc'!N134)","v":""}]
[null,null,6,{"$f":"IF('Cost&CO2_Calc'!B135=0,\"\",'Cost&CO2_Calc'!B135)","v":""},null,null,{"$f":"IF(D54=\"\",\"\",VLOOKUP(D54,Measures[],4,FALSE))","v":""},{"$f":"_xlfn.IFS(D54=\"\",\"\",AND(D54<>\"\",'Cost&CO2_Calc'!Q135<>\"NA\"),'Cost&CO2_Calc'!I135,AND(D54<>\"\",'Cost&CO2_Calc'!Q135=\"NA\"),\"NA\")","v":""},{"$f":"IF(D54=\"\",\"\",'Cost&CO2_Calc'!Q135)","v":""},{"$f":"IF(D54=\"\",\"\",VLOOKUP(D54,Measures[],11,FALSE))","v":""},{"$f":"IF(D54=\"\",\"\",VLOOKUP(D54,Measures[],12,FALSE))","v":""},{"$f":"IF(D54=\"\",\"\",IF('Cost&CO2_Calc'!T134=0,\"No inserted EEXI/EEDI\",IF('Cost&CO2_Calc'!S135=0,\"NA\",'Cost&CO2_Calc'!T135)))","v":""},null,{"$f":"IF(D54=\"\",\"\",VLOOKUP(D54,Measures[],19,FALSE))","v":""},{"$f":"IF(D54=\"\",\"\",VLOOKUP(D54,Measures[],15,FALSE))","v":""},null,{"$f":"_xlfn.IFS(D54=\"\",\"\",AND(D54<>\"\",G54=\"NA\"),\"NA\",AND(D54<>\"\",G54<>\"NA\"),VLOOKUP(D54,Measures[],16,FALSE))","v":""},{"$f":"_xlfn.IFS(D54=\"\",\"\",AND(D54<>\"\",G54=\"NA\"),\"NA\",AND(D54<>\"\",G54<>\"NA\",$E$18=\"Newbuild\"),VLOOKUP(D54,Measures[],17,FALSE),AND(D54<>\"\",G54<>\"NA\",$E$18=\"Retrofit\"),VLOOKUP(D54,Measures[],18,FALSE))","v":""},{"$f":"_xlfn.IFS(D54=\"\",\"\",AND(D54<>\"\",G54=\"NA\"),\"NA\",AND(D54<>\"\",G54<>\"NA\"),'Cost&CO2_Calc'!O135)","v":""},{"$f":"_xlfn.IFS(D54=\"\",\"\",AND(D54<>\"\",G54=\"NA\"),\"NA\",AND(D54<>\"\",G54<>\"NA\"),'Cost&CO2_Calc'!N135)","v":""}]
[null,null,7,{"$f":"IF('Cost&CO2_Calc'!B136=0,\"\",'Cost&CO2_Calc'!B136)","v":""},null,null,{"$f":"IF(D55=\"\",\"\",VLOOKUP(D55,Measures[],4,FALSE))","v":""},{"$f":"_xlfn.IFS(D55=\"\",\"\",AND(D55<>\"\",'Cost&CO2_Calc'!Q136<>\"NA\"),'Cost&CO2_Calc'!I136,AND(D55<>\"\",'Cost&CO2_Calc'!Q136=\"NA\"),\"NA\")","v":""},{"$f":"IF(D55=\"\",\"\",'Cost&CO2_Calc'!Q136)","v":""},{"$f":"IF(D55=\"\",\"\",VLOOKUP(D55,Measures[],11,FALSE))","v":""},{"$f":"IF(D55=\"\",\"\",VLOOKUP(D55,Measures[],12,FALSE))","v":""},{"$f":"IF(D55=\"\",\"\",IF('Cost&CO2_Calc'!T135=0,\"No inserted EEXI/EEDI\",IF('Cost&CO2_Calc'!S136=0,\"NA\",'Cost&CO2_Calc'!T136)))","v":""},null,{"$f":"IF(D55=\"\",\"\",VLOOKUP(D55,Measures[],19,FALSE))","v":""},{"$f":"IF(D55=\"\",\"\",VLOOKUP(D55,Measures[],15,FALSE))","v":""},null,{"$f":"_xlfn.IFS(D55=\"\",\"\",AND(D55<>\"\",G55=\"NA\"),\"NA\",AND(D55<>\"\",G55<>\"NA\"),VLOOKUP(D55,Measures[],16,FALSE))","v":""},{"$f":"_xlfn.IFS(D55=\"\",\"\",AND(D55<>\"\",G55=\"NA\"),\"NA\",AND(D55<>\"\",G55<>\"NA\",$E$18=\"Newbuild\"),VLOOKUP(D55,Measures[],17,FALSE),AND(D55<>\"\",G55<>\"NA\",$E$18=\"Retrofit\"),VLOOKUP(D55,Measures[],18,FALSE))","v":""},{"$f":"_xlfn.IFS(D55=\"\",\"\",AND(D55<>\"\",G55=\"NA\"),\"NA\",AND(D55<>\"\",G55<>\"NA\"),'Cost&CO2_Calc'!O136)","v":""},{"$f":"_xlfn.IFS(D55=\"\",\"\",AND(D55<>\"\",G55=\"NA\"),\"NA\",AND(D55<>\"\",G55<>\"NA\"),'Cost&CO2_Calc'!N136)","v":""}]
[null,null,8,{"$f":"IF('Cost&CO2_Calc'!B137=0,\"\",'Cost&CO2_Calc'!B137)","v":""},null,null,{"$f":"IF(D56=\"\",\"\",VLOOKUP(D56,Measures[],4,FALSE))","v":""},{"$f":"_xlfn.IFS(D56=\"\",\"\",AND(D56<>\"\",'Cost&CO2_Calc'!Q137<>\"NA\"),'Cost&CO2_Calc'!I137,AND(D56<>\"\",'Cost&CO2_Calc'!Q137=\"NA\"),\"NA\")","v":""},{"$f":"IF(D56=\"\",\"\",'Cost&CO2_Calc'!Q137)","v":""},{"$f":"IF(D56=\"\",\"\",VLOOKUP(D56,Measures[],11,FALSE))","v":""},{"$f":"IF(D56=\"\",\"\",VLOOKUP(D56,Measures[],12,FALSE))","v":""},{"$f":"IF(D56=\"\",\"\",IF('Cost&CO2_Calc'!T136=0,\"No inserted EEXI/EEDI\",IF('Cost&CO2_Calc'!S137=0,\"NA\",'Cost&CO2_Calc'!T137)))","v":""},null,{"$f":"IF(D56=\"\",\"\",VLOOKUP(D56,Measures[],19,FALSE))","v":""},{"$f":"IF(D56=\"\",\"\",VLOOKUP(D56,Measures[],15,FALSE))","v":""},null,{"$f":"_xlfn.IFS(D56=\"\",\"\",AND(D56<>\"\",G56=\"NA\"),\"NA\",AND(D56<>\"\",G56<>\"NA\"),VLOOKUP(D56,Measures[],16,FALSE))","v":""},{"$f":"_xlfn.IFS(D56=\"\",\"\",AND(D56<>\"\",G56=\"NA\"),\"NA\",AND(D56<>\"\",G56<>\"NA\",$E$18=\"Newbuild\"),VLOOKUP(D56,Measures[],17,FALSE),AND(D56<>\"\",G56<>\"NA\",$E$18=\"Retrofit\"),VLOOKUP(D56,Measures[],18,FALSE))","v":""},{"$f":"_xlfn.IFS(D56=\"\",\"\",AND(D56<>\"\",G56=\"NA\"),\"NA\",AND(D56<>\"\",G56<>\"NA\"),'Cost&CO2_Calc'!O137)","v":""},{"$f":"_xlfn.IFS(D56=\"\",\"\",AND(D56<>\"\",G56=\"NA\"),\"NA\",AND(D56<>\"\",G56<>\"NA\"),'Cost&CO2_Calc'!N137)","v":""}]
[null,null,9,{"$f":"IF('Cost&CO2_Calc'!B138=0,\"\",'Cost&CO2_Calc'!B138)","v":""},null,null,{"$f":"IF(D57=\"\",\"\",VLOOKUP(D57,Measures[],4,FALSE))","v":""},{"$f":"_xlfn.IFS(D57=\"\",\"\",AND(D57<>\"\",'Cost&CO2_Calc'!Q138<>\"NA\"),'Cost&CO2_Calc'!I138,AND(D57<>\"\",'Cost&CO2_Calc'!Q138=\"NA\"),\"NA\")","v":""},{"$f":"IF(D57=\"\",\"\",'Cost&CO2_Calc'!Q138)","v":""},{"$f":"IF(D57=\"\",\"\",VLOOKUP(D57,Measures[],11,FALSE))","v":""},{"$f":"IF(D57=\"\",\"\",VLOOKUP(D57,Measures[],12,FALSE))","v":""},{"$f":"IF(D57=\"\",\"\",IF('Cost&CO2_Calc'!T137=0,\"No inserted EEXI/EEDI\",IF('Cost&CO2_Calc'!S138=0,\"NA\",'Cost&CO2_Calc'!T138)))","v":""},null,{"$f":"IF(D57=\"\",\"\",VLOOKUP(D57,Measures[],19,FALSE))","v":""},{"$f":"IF(D57=\"\",\"\",VLOOKUP(D57,Measures[],15,FALSE))","v":""},null,{"$f":"_xlfn.IFS(D57=\"\",\"\",AND(D57<>\"\",G57=\"NA\"),\"NA\",AND(D57<>\"\",G57<>\"NA\"),VLOOKUP(D57,Measures[],16,FALSE))","v":""},{"$f":"_xlfn.IFS(D57=\"\",\"\",AND(D57<>\"\",G57=\"NA\"),\"NA\",AND(D57<>\"\",G57<>\"NA\",$E$18=\"Newbuild\"),VLOOKUP(D57,Measures[],17,FALSE),AND(D57<>\"\",G57<>\"NA\",$E$18=\"Retrofit\"),VLOOKUP(D57,Measures[],18,FALSE))","v":""},{"$f":"_xlfn.IFS(D57=\"\",\"\",AND(D57<>\"\",G57=\"NA\"),\"NA\",AND(D57<>\"\",G57<>\"NA\"),'Cost&CO2_Calc'!O138)","v":""},{"$f":"_xlfn.IFS(D57=\"\",\"\",AND(D57<>\"\",G57=\"NA\"),\"NA\",AND(D57<>\"\",G57<>\"NA\"),'Cost&CO2_Calc'!N138)","v":""}]
[null,null,10,{"$f":"IF('Cost&CO2_Calc'!B139=0,\"\",'Cost&CO2_Calc'!B139)","v":""},null,null,{"$f":"IF(D58=\"\",\"\",VLOOKUP(D58,Measures[],4,FALSE))","v":""},{"$f":"_xlfn.IFS(D58=\"\",\"\",AND(D58<>\"\",'Cost&CO2_Calc'!Q139<>\"NA\"),'Cost&CO2_Calc'!I139,AND(D58<>\"\",'Cost&CO2_Calc'!Q139=\"NA\"),\"NA\")","v":""},{"$f":"IF(D58=\"\",\"\",'Cost&CO2_Calc'!Q139)","v":""},{"$f":"IF(D58=\"\",\"\",VLOOKUP(D58,Measures[],11,FALSE))","v":""},{"$f":"IF(D58=\"\",\"\",VLOOKUP(D58,Measures[],12,FALSE))","v":""},{"$f":"IF(D58=\"\",\"\",IF('Cost&CO2_Calc'!T138=0,\"No inserted EEXI/EEDI\",IF('Cost&CO2_Calc'!S139=0,\"NA\",'Cost&CO2_Calc'!T139)))","v":""},null,{"$f":"IF(D58=\"\",\"\",VLOOKUP(D58,Measures[],19,FALSE))","v":""},{"$f":"IF(D58=\"\",\"\",VLOOKUP(D58,Measures[],15,FALSE))","v":""},null,{"$f":"_xlfn.IFS(D58=\"\",\"\",AND(D58<>\"\",G58=\"NA\"),\"NA\",AND(D58<>\"\",G58<>\"NA\"),VLOOKUP(D58,Measures[],16,FALSE))","v":""},{"$f":"_xlfn.IFS(D58=\"\",\"\",AND(D58<>\"\",G58=\"NA\"),\"NA\",AND(D58<>\"\",G58<>\"NA\",$E$18=\"Newbuild\"),VLOOKUP(D58,Measures[],17,FALSE),AND(D58<>\"\",G58<>\"NA\",$E$18=\"Retrofit\"),VLOOKUP(D58,Measures[],18,FALSE))","v":""},{"$f":"_xlfn.IFS(D58=\"\",\"\",AND(D58<>\"\",G58=\"NA\"),\"NA\",AND(D58<>\"\",G58<>\"NA\"),'Cost&CO2_Calc'!O139)","v":""},{"$f":"_xlfn.IFS(D58=\"\",\"\",AND(D58<>\"\",G58=\"NA\"),\"NA\",AND(D58<>\"\",G58<>\"NA\"),'Cost&CO2_Calc'!N139)","v":""}]
[null,null,11,{"$f":"IF('Cost&CO2_Calc'!B140=0,\"\",'Cost&CO2_Calc'!B140)","v":""},null,null,{"$f":"IF(D59=\"\",\"\",VLOOKUP(D59,Measures[],4,FALSE))","v":""},{"$f":"_xlfn.IFS(D59=\"\",\"\",AND(D59<>\"\",'Cost&CO2_Calc'!Q140<>\"NA\"),'Cost&CO2_Calc'!I140,AND(D59<>\"\",'Cost&CO2_Calc'!Q140=\"NA\"),\"NA\")","v":""},{"$f":"IF(D59=\"\",\"\",'Cost&CO2_Calc'!Q140)","v":""},{"$f":"IF(D59=\"\",\"\",VLOOKUP(D59,Measures[],11,FALSE))","v":""},{"$f":"IF(D59=\"\",\"\",VLOOKUP(D59,Measures[],12,FALSE))","v":""},{"$f":"IF(D59=\"\",\"\",IF('Cost&CO2_Calc'!T139=0,\"No inserted EEXI/EEDI\",IF('Cost&CO2_Calc'!S140=0,\"NA\",'Cost&CO2_Calc'!T140)))","v":""},null,{"$f":"IF(D59=\"\",\"\",VLOOKUP(D59,Measures[],19,FALSE))","v":""},{"$f":"IF(D59=\"\",\"\",VLOOKUP(D59,Measures[],15,FALSE))","v":""},null,{"$f":"_xlfn.IFS(D59=\"\",\"\",AND(D59<>\"\",G59=\"NA\"),\"NA\",AND(D59<>\"\",G59<>\"NA\"),VLOOKUP(D59,Measures[],16,FALSE))","v":""},{"$f":"_xlfn.IFS(D59=\"\",\"\",AND(D59<>\"\",G59=\"NA\"),\"NA\",AND(D59<>\"\",G59<>\"NA\",$E$18=\"Newbuild\"),VLOOKUP(D59,Measures[],17,FALSE),AND(D59<>\"\",G59<>\"NA\",$E$18=\"Retrofit\"),VLOOKUP(D59,Measures[],18,FALSE))","v":""},{"$f":"_xlfn.IFS(D59=\"\",\"\",AND(D59<>\"\",G59=\"NA\"),\"NA\",AND(D59<>\"\",G59<>\"NA\"),'Cost&CO2_Calc'!O140)","v":""},{"$f":"_xlfn.IFS(D59=\"\",\"\",AND(D59<>\"\",G59=\"NA\"),\"NA\",AND(D59<>\"\",G59<>\"NA\"),'Cost&CO2_Calc'!N140)","v":""}]
[null,null,12,{"$f":"IF('Cost&CO2_Calc'!B141=0,\"\",'Cost&CO2_Calc'!B141)","v":""},null,null,{"$f":"IF(D60=\"\",\"\",VLOOKUP(D60,Measures[],4,FALSE))","v":""},{"$f":"_xlfn.IFS(D60=\"\",\"\",AND(D60<>\"\",'Cost&CO2_Calc'!Q141<>\"NA\"),'Cost&CO2_Calc'!I141,AND(D60<>\"\",'Cost&CO2_Calc'!Q141=\"NA\"),\"NA\")","v":""},{"$f":"IF(D60=\"\",\"\",'Cost&CO2_Calc'!Q141)","v":""},{"$f":"IF(D60=\"\",\"\",VLOOKUP(D60,Measures[],11,FALSE))","v":""},{"$f":"IF(D60=\"\",\"\",VLOOKUP(D60,Measures[],12,FALSE))","v":""},{"$f":"IF(D60=\"\",\"\",IF('Cost&CO2_Calc'!T140=0,\"No inserted EEXI/EEDI\",IF('Cost&CO2_Calc'!S141=0,\"NA\",'Cost&CO2_Calc'!T141)))","v":""},null,{"$f":"IF(D60=\"\",\"\",VLOOKUP(D60,Measures[],19,FALSE))","v":""},{"$f":"IF(D60=\"\",\"\",VLOOKUP(D60,Measures[],15,FALSE))","v":""},null,{"$f":"_xlfn.IFS(D60=\"\",\"\",AND(D60<>\"\",G60=\"NA\"),\"NA\",AND(D60<>\"\",G60<>\"NA\"),VLOOKUP(D60,Measures[],16,FALSE))","v":""},{"$f":"_xlfn.IFS(D60=\"\",\"\",AND(D60<>\"\",G60=\"NA\"),\"NA\",AND(D60<>\"\",G60<>\"NA\",$E$18=\"Newbuild\"),VLOOKUP(D60,Measures[],17,FALSE),AND(D60<>\"\",G60<>\"NA\",$E$18=\"Retrofit\"),VLOOKUP(D60,Measures[],18,FALSE))","v":""},{"$f":"_xlfn.IFS(D60=\"\",\"\",AND(D60<>\"\",G60=\"NA\"),\"NA\",AND(D60<>\"\",G60<>\"NA\"),'Cost&CO2_Calc'!O141)","v":""},{"$f":"_xlfn.IFS(D60=\"\",\"\",AND(D60<>\"\",G60=\"NA\"),\"NA\",AND(D60<>\"\",G60<>\"NA\"),'Cost&CO2_Calc'!N141)","v":""}]
[null,null,13,{"$f":"IF('Cost&CO2_Calc'!B142=0,\"\",'Cost&CO2_Calc'!B142)","v":""},null,null,{"$f":"IF(D61=\"\",\"\",VLOOKUP(D61,Measures[],4,FALSE))","v":""},{"$f":"_xlfn.IFS(D61=\"\",\"\",AND(D61<>\"\",'Cost&CO2_Calc'!Q142<>\"NA\"),'Cost&CO2_Calc'!I142,AND(D61<>\"\",'Cost&CO2_Calc'!Q142=\"NA\"),\"NA\")","v":""},{"$f":"IF(D61=\"\",\"\",'Cost&CO2_Calc'!Q142)","v":""},{"$f":"IF(D61=\"\",\"\",VLOOKUP(D61,Measures[],11,FALSE))","v":""},{"$f":"IF(D61=\"\",\"\",VLOOKUP(D61,Measures[],12,FALSE))","v":""},{"$f":"IF(D61=\"\",\"\",IF('Cost&CO2_Calc'!T141=0,\"No inserted EEXI/EEDI\",IF('Cost&CO2_Calc'!S142=0,\"NA\",'Cost&CO2_Calc'!T142)))","v":""},null,{"$f":"IF(D61=\"\",\"\",VLOOKUP(D61,Measures[],19,FALSE))","v":""},{"$f":"IF(D61=\"\",\"\",VLOOKUP(D61,Measures[],15,FALSE))","v":""},null,{"$f":"_xlfn.IFS(D61=\"\",\"\",AND(D61<>\"\",G61=\"NA\"),\"NA\",AND(D61<>\"\",G61<>\"NA\"),VLOOKUP(D61,Measures[],16,FALSE))","v":""},{"$f":"_xlfn.IFS(D61=\"\",\"\",AND(D61<>\"\",G61=\"NA\"),\"NA\",AND(D61<>\"\",G61<>\"NA\",$E$18=\"Newbuild\"),VLOOKUP(D61,Measures[],17,FALSE),AND(D61<>\"\",G61<>\"NA\",$E$18=\"Retrofit\"),VLOOKUP(D61,Measures[],18,FALSE))","v":""},{"$f":"_xlfn.IFS(D61=\"\",\"\",AND(D61<>\"\",G61=\"NA\"),\"NA\",AND(D61<>\"\",G61<>\"NA\"),'Cost&CO2_Calc'!O142)","v":""},{"$f":"_xlfn.IFS(D61=\"\",\"\",AND(D61<>\"\",G61=\"NA\"),\"NA\",AND(D61<>\"\",G61<>\"NA\"),'Cost&CO2_Calc'!N142)","v":""}]
[null,null,14,{"$f":"IF('Cost&CO2_Calc'!B143=0,\"\",'Cost&CO2_Calc'!B143)","v":""},null,null,{"$f":"IF(D62=\"\",\"\",VLOOKUP(D62,Measures[],4,FALSE))","v":""},{"$f":"_xlfn.IFS(D62=\"\",\"\",AND(D62<>\"\",'Cost&CO2_Calc'!Q143<>\"NA\"),'Cost&CO2_Calc'!I143,AND(D62<>\"\",'Cost&CO2_Calc'!Q143=\"NA\"),\"NA\")","v":""},{"$f":"IF(D62=\"\",\"\",'Cost&CO2_Calc'!Q143)","v":""},{"$f":"IF(D62=\"\",\"\",VLOOKUP(D62,Measures[],11,FALSE))","v":""},{"$f":"IF(D62=\"\",\"\",VLOOKUP(D62,Measures[],12,FALSE))","v":""},{"$f":"IF(D62=\"\",\"\",IF('Cost&CO2_Calc'!T142=0,\"No inserted EEXI/EEDI\",IF('Cost&CO2_Calc'!S143=0,\"NA\",'Cost&CO2_Calc'!T143)))","v":""},null,{"$f":"IF(D62=\"\",\"\",VLOOKUP(D62,Measures[],19,FALSE))","v":""},{"$f":"IF(D62=\"\",\"\",VLOOKUP(D62,Measures[],15,FALSE))","v":""},null,{"$f":"_xlfn.IFS(D62=\"\",\"\",AND(D62<>\"\",G62=\"NA\"),\"NA\",AND(D62<>\"\",G62<>\"NA\"),VLOOKUP(D62,Measures[],16,FALSE))","v":""},{"$f":"_xlfn.IFS(D62=\"\",\"\",AND(D62<>\"\",G62=\"NA\"),\"NA\",AND(D62<>\"\",G62<>\"NA\",$E$18=\"Newbuild\"),VLOOKUP(D62,Measures[],17,FALSE),AND(D62<>\"\",G62<>\"NA\",$E$18=\"Retrofit\"),VLOOKUP(D62,Measures[],18,FALSE))","v":""},{"$f":"_xlfn.IFS(D62=\"\",\"\",AND(D62<>\"\",G62=\"NA\"),\"NA\",AND(D62<>\"\",G62<>\"NA\"),'Cost&CO2_Calc'!O143)","v":""},{"$f":"_xlfn.IFS(D62=\"\",\"\",AND(D62<>\"\",G62=\"NA\"),\"NA\",AND(D62<>\"\",G62<>\"NA\"),'Cost&CO2_Calc'!N143)","v":""}]
[null,null,null,null,null,null,null,null,null,null,null,null,null,null,null,null,null,{"$f":"_xlfn.IFS(D63=\"\",\"\",AND(D63<>\"\",G63=\"NA\"),\"NA\",AND(D63<>\"\",G63<>\"NA\",$E$18=\"Newbuild\"),VLOOKUP(D63,Measures[],16,FALSE),AND(D63<>\"\",G63<>\"NA\",$E$18=\"Retrofit\"),VLOOKUP(D63,Measures[],17,FALSE))","v":""},null,null,null,null,"Version 2.0"]

{"sheet":"Measure summary","index":3,"n_rows":64,"n_cols":22,"rows_kept":64,"cut":false,"hidden":false,"merged":[[8,2,8,3],[2,2,2,3],[3,2,3,3],[4,2,4,3],[5,2,5,3],[6,2,6,3]]}
[null,null,"This table gives measure data relevant to the following vessel:"]
[]
[null,null,"Vessel type",null,null,null,null,{"$f":"Dashboard!E10","v":"Select from list"}]
[null,null,"Vessel size (Deadweight):",null,{"$f":"Dashboard!F12","v":"[Tonnes]"},null,null,{"$f":"Dashboard!E12","v":0},"[Tonnes]"]
[null,null,"Vessel capacity (Gross Tonnage);",null,{"$f":"Dashboard!F14","v":0},null,null,{"$f":"Dashboard!E14","v":0}]
[null,null,"Category:",null,null,null,null,{"$f":"D47","v":"Not selected"}]
[null,null,"Newbuild/retrofit:",null,null,null,null,{"$f":"Dashboard!E18","v":"Select from list"}]
[]
[null,null,"Year of implementation:",null,null,null,null,{"$f":"Dashboard!T14","v":0}]
[]
[]
[null,null,"Optional: if you want to edit any of the measure values, overvwrite the original values in the grey columns below or in the dedicated measure sheet"]
[null,null,"Note: you will overwrite the original values and formulas, to get back to these values, you will need to download the template again or re-enter the original values."]
[null,null,null,null,null,null,null,null,null,null,null,null,null,null,null,null,null,null,null,null,21,22]
["Measure","Measure name short","Info","Technical/operational","Column2","EEDI/EEXI binary [0,1]","Measure sheet refrence","Typical fuel reduction [%]","Fuel savings low [%]","Fuel savings high [%]","CII value","CII rating","Typical EEXI / EEDI reduction [%]","EEXI","Lifetime [Years]","OPEX \n[$ per year]","CAPEX NB [$]","CAPEX Retrofit [$]","TRL \n(1-9)","Newbuild/Retrofit","Newbuild","Retrofit"]
["Cargo handling systems","Cargo handling systems","i","Technical",null,0,{"$f":"CONCATENATE(\"'\",Measures[[#This Row],[Measure name short]],\"'!A3:L72\")","v":"'Cargo handling systems'!A3:L72"},{"$f":"IFERROR(IF(VLOOKUP($D$47,INDIRECT(Measures[[#This Row],[Measure sheet refrence]]),12,FALSE)=0%,\"NA\",VLOOKUP($D$47,INDIRECT(Measures[[#This Row],[Measure sheet refrence]]),12,FALSE)),\"\")","v":""},{"$f":"IFERROR(IF(Measures[[#This Row],[Typical fuel reduction '[%']]]=\"NA\",\"NA\",VLOOKUP($D$47,INDIRECT(Measures[[#This Row],[Measure sheet refrence]]),10,FALSE)),\"\")","v":""},{"$f":"IFERROR(IF(Measures[[#This Row],[Typical fuel reduction '[%']]]=\"NA\",\"NA\",VLOOKUP($D$47,INDIRECT(Measures[[#This Row],[Measure sheet refrence]]),11,FALSE)),\"\")","v":""},{"$f":"IFERROR(IF(Dashboard!$T$16=0,INDEX('Cost&CO2_Calc'!$AA$130:$AA$160,MATCH(Measures[[#This Row],[Measure]],'Cost&CO2_Calc'!$B$130:$B$160,0)),INDEX('Cost&CO2_Calc'!$AB$130:$AB$160,MATCH(Measures[[#This Row],[Measure]],'Cost&CO2_Calc'!$B$130:$B$160,0))),0)","v":0},{"$f":"_xlfn.IFS(K16=0,\"NA\",K16>_xlfn.XLOOKUP($H$9,CII_calculation!$A$46:$A$67,CII_calculation!$K$46:$K$67),\"E\",K16>_xlfn.XLOOKUP($H$9,CII_calculation!$A$46:$A$67,CII_calculation!$I$46:$I$67),\"D\",K16>_xlfn.XLOOKUP($H$9,CII_calculation!$A$46:$A$67,CII_calculation!$G$46:$G$67),\"C\",K16>_xlfn.XLOOKUP($H$9,CII_calculation!$A$46:$A$67,CII_calculation!$E$46:$E$67),\"B\",K16<_xlfn.XLOOKUP($H$9,CII_calculation!$A$46:$A$67,CII_calculation!$E$46:$E$67),\"A\")","v":"NA"},{"$f":"IFERROR(IF(VLOOKUP($D$47,INDIRECT(Measures[[#This Row],[Measure sheet refrence]]),13,FALSE)=0%,\"NA\",VLOOKUP($D$47,INDIRECT(Measures[[#This Row],[Measure sheet refrence]]),13,FALSE)),\"\")","v":""},{"$f":"IF(Measures[[#This Row],[Typical EEXI / EEDI reduction '[%']]]=\"NA\",\"NA\",ROUND(Dashboard!$T$22*(1-Measures[[#This Row],[Typical EEXI / EEDI reduction '[%']]]),2)*Measures[[#This Row],[EEDI/EEXI binary '[0,1']]])","v":{"$error":"#VALUE!"}},{"$f":"IFERROR(IF(VLOOKUP($D$47,INDIRECT(Measures[[#This Row],[Measure sheet refrence]]),9,FALSE)=0,\"NA\",VLOOKUP($D$47,INDIRECT(Measures[[#This Row],[Measure sheet refrence]]),9,FALSE)),\"\")","v":""},{"$f":"IFERROR(IF(Measures[[#This Row],[Lifetime '[Years']]]=\"NA\",\"NA\",VLOOKUP($D$47,INDIRECT(Measures[[#This Row],[Measure sheet refrence]]),7,FALSE)),\"\")","v":""},{"$f":"IFERROR(IF(Measures[[#This Row],[Lifetime '[Years']]]=\"NA\",\"NA\",VLOOKUP($D$47,INDIRECT(Measures[[#This Row],[Measure sheet refrence]]),5,FALSE)),\"\")","v":""},{"$f":"IFERROR(IF(Measures[[#This Row],[Lifetime '[Years']]]=\"NA\",\"NA\",(1+VLOOKUP($D$47,INDIRECT(Measures[[#This Row],[Measure sheet refrence]]),6,FALSE))*Measures[[#This Row],[CAPEX NB '[$']]]),\"\")","v":""},{"$f":"VLOOKUP(Measures[[#This Row],[Measure]],Tooltip!A:C,3,FALSE)","v":9},"N/R",1,1]
["Energy efficient lighting system","EE lighting system","i","Technical",null,1,{"$f":"CONCATENATE(\"'\",Measures[[#This Row],[Measure name short]],\"'!A3:M72\")","v":"'EE lighting system'!A3:M72"},{"$f":"IFERROR(IF(VLOOKUP($D$47,INDIRECT(Measures[[#This Row],[Measure sheet refrence]]),12,FALSE)=0%,\"NA\",VLOOKUP($D$47,INDIRECT(Measures[[#This Row],[Measure sheet refrence]]),12,FALSE)),\"\")","v":""},{"$f":"IFERROR(IF(Measures[[#This Row],[Typical fuel reduction '[%']]]=\"NA\",\"NA\",VLOOKUP($D$47,INDIRECT(Measures[[#This Row],[Measure sheet refrence]]),10,FALSE)),\"\")","v":""},{"$f":"IFERROR(IF(Measures[[#This Row],[Typical fuel reduction '[%']]]=\"NA\",\"NA\",VLOOKUP($D$47,INDIRECT(Measures[[#This Row],[Measure sheet refrence]]),11,FALSE)),\"\")","v":""},{"$f":"IFERROR(IF(Dashboard!$T$16=0,INDEX('Cost&CO2_Calc'!$AA$130:$AA$160,MATCH(Measures[[#This Row],[Measure]],'Cost&CO2_Calc'!$B$130:$B$160,0)),INDEX('Cost&CO2_Calc'!$AB$130:$AB$160,MATCH(Measures[[#This Row],[Measure]],'Cost&CO2_Calc'!$B$130:$B$160,0))),0)","v":0},{"$f":"_xlfn.IFS(K17=0,\"NA\",K17>_xlfn.XLOOKUP($H$9,CII_calculation!$A$46:$A$67,CII_calculation!$K$46:$K$67),\"E\",K17>_xlfn.XLOOKUP($H$9,CII_calculation!$A$46:$A$67,CII_calculation!$I$46:$I$67),\"D\",K17>_xlfn.XLOOKUP($H$9,CII_calculation!$A$46:$A$67,CII_calculation!$G$46:$G$67),\"C\",K17>_xlfn.XLOOKUP($H$9,CII_calculation!$A$46:$A$67,CII_calculation!$E$46:$E$67),\"B\",K17<_xlfn.XLOOKUP($H$9,CII_calculation!$A$46:$A$67,CII_calculation!$E$46:$E$67),\"A\")","v":"NA"},{"$f":"IFERROR(IF(VLOOKUP($D$47,INDIRECT(Measures[[#This Row],[Measure sheet refrence]]),13,FALSE)=0%,\"NA\",VLOOKUP($D$47,INDIRECT(Measures[[#This Row],[Measure sheet refrence]]),13,FALSE)),\"\")","v":""},{"$f":"IF(Measures[[#This Row],[Typical EEXI / EEDI reduction '[%']]]=\"NA\",\"NA\",ROUND(Dashboard!$T$22*(1-Measures[[#This Row],[Typical EEXI / EEDI reduction '[%']]]),2)*Measures[[#This Row],[EEDI/EEXI binary '[0,1']]])","v":{"$error":"#VALUE!"}},{"$f":"IFERROR(IF(VLOOKUP($D$47,INDIRECT(Measures[[#This Row],[Measure sheet refrence]]),9,FALSE)=0,\"NA\",VLOOKUP($D$47,INDIRECT(Measures[[#This Row],[Measure sheet refrence]]),9,FALSE)),\"\")","v":""},{"$f":"IFERROR(IF(Measures[[#This Row],[Lifetime '[Years']]]=\"NA\",\"NA\",VLOOKUP($D$47,INDIRECT(Measures[[#This Row],[Measure sheet refrence]]),7,FALSE)),\"\")","v":""},{"$f":"IFERROR(IF(Measures[[#This Row],[Lifetime '[Years']]]=\"NA\",\"NA\",VLOOKUP($D$47,INDIRECT(Measures[[#This Row],[Measure sheet refrence]]),5,FALSE)),\"\")","v":""},{"$f":"IFERROR(IF(Measures[[#This Row],[Lifetime '[Years']]]=\"NA\",\"NA\",(1+VLOOKUP($D$47,INDIRECT(Measures[[#This Row],[Measure sheet refrence]]),6,FALSE))*Measures[[#This Row],[CAPEX NB '[$']]]),\"\")","v":""},{"$f":"VLOOKUP(Measures[[#This Row],[Measure]],Tooltip!A:C,3,FALSE)","v":9},"N/R",1,1]
["Frequency controlled electric motors ","Freq. controlled el. motors ","i","Technical",null,1,{"$f":"CONCATENATE(\"'\",Measures[[#This Row],[Measure name short]],\"'!A3:m72\")","v":"'Freq. controlled el. motors '!A3:m72"},{"$f":"IFERROR(IF(VLOOKUP($D$47,INDIRECT(Measures[[#This Row],[Measure sheet refrence]]),12,FALSE)=0%,\"NA\",VLOOKUP($D$47,INDIRECT(Measures[[#This Row],[Measure sheet refrence]]),12,FALSE)),\"\")","v":""},{"$f":"IFERROR(IF(Measures[[#This Row],[Typical fuel reduction '[%']]]=\"NA\",\"NA\",VLOOKUP($D$47,INDIRECT(Measures[[#This Row],[Measure sheet refrence]]),10,FALSE)),\"\")","v":""},{"$f":"IFERROR(IF(Measures[[#This Row],[Typical fuel reduction '[%']]]=\"NA\",\"NA\",VLOOKUP($D$47,INDIRECT(Measures[[#This Row],[Measure sheet refrence]]),11,FALSE)),\"\")","v":""},{"$f":"IFERROR(IF(Dashboard!$T$16=0,INDEX('Cost&CO2_Calc'!$AA$130:$AA$160,MATCH(Measures[[#This Row],[Measure]],'Cost&CO2_Calc'!$B$130:$B$160,0)),INDEX('Cost&CO2_Calc'!$AB$130:$AB$160,MATCH(Measures[[#This Row],[Measure]],'Cost&CO2_Calc'!$B$130:$B$160,0))),0)","v":0},{"$f":"_xlfn.IFS(K18=0,\"NA\",K18>_xlfn.XLOOKUP($H$9,CII_calculation!$A$46:$A$67,CII_calculation!$K$46:$K$67),\"E\",K18>_xlfn.XLOOKUP($H$9,CII_calculation!$A$46:$A$67,CII_calculation!$I$46:$I$67),\"D\",K18>_xlfn.XLOOKUP($H$9,CII_calculation!$A$46:$A$67,CII_calculation!$G$46:$G$67),\"C\",K18>_xlfn.XLOOKUP($H$9,CII_calculation!$A$46:$A$67,CII_calculation!$E$46:$E$67),\"B\",K18<_xlfn.XLOOKUP($H$9,CII_calculation!$A$46:$A$67,CII_calculation!$E$46:$E$67),\"A\")","v":"NA"},{"$f":"IFERROR(IF(VLOOKUP($D$47,INDIRECT(Measures[[#This Row],[Measure sheet refrence]]),13,FALSE)=0%,\"NA\",VLOOKUP($D$47,INDIRECT(Measures[[#This Row],[Measure sheet refrence]]),13,FALSE)),\"\")","v":""},{"$f":"IF(Measures[[#This Row],[Typical EEXI / EEDI reduction '[%']]]=\"NA\",\"NA\",ROUND(Dashboard!$T$22*(1-Measures[[#This Row],[Typical EEXI / EEDI reduction '[%']]]),2)*Measures[[#This Row],[EEDI/EEXI binary '[0,1']]])","v":{"$error":"#VALUE!"}},{"$f":"IFERROR(IF(VLOOKUP($D$47,INDIRECT(Measures[[#This Row],[Measure sheet refrence]]),9,FALSE)=0,\"NA\",VLOOKUP($D$47,INDIRECT(Measures[[#This Row],[Measure sheet refrence]]),9,FALSE)),\"\")","v":""},{"$f":"IFERROR(IF(Measures[[#This Row],[Lifetime '[Years']]]=\"NA\",\"NA\",VLOOKUP($D$47,INDIRECT(Measures[[#This Row],[Measure sheet refrence]]),7,FALSE)),\"\")","v":""},{"$f":"IFERROR(IF(Measures[[#This Row],[Lifetime '[Years']]]=\"NA\",\"NA\",VLOOKUP($D$47,INDIRECT(Measures[[#This Row],[Measure sheet refrence]]),5,FALSE)),\"\")","v":""},{"$f":"IFERROR(IF(Measures[[#This Row],[Lifetime '[Years']]]=\"NA\",\"NA\",(1+VLOOKUP($D$47,INDIRECT(Measures[[#This Row],[Measure sheet refrence]]),6,FALSE))*Measures[[#This Row],[CAPEX NB '[$']]]),\"\")","v":""},{"$f":"VLOOKUP(Measures[[#This Row],[Measure]],Tooltip!A:C,3,FALSE)","v":9},"N/R",1,1]
["Fixed sails or wings","Fixed sails or wings","i","Technical",null,1,{"$f":"CONCATENATE(\"'\",Measures[[#This Row],[Measure name short]],\"'!A3:m72\")","v":"'Fixed sails or wings'!A3:m72"},{"$f":"IFERROR(IF(VLOOKUP($D$47,INDIRECT(Measures[[#This Row],[Measure sheet refrence]]),12,FALSE)=0%,\"NA\",VLOOKUP($D$47,INDIRECT(Measures[[#This Row],[Measure sheet refrence]]),12,FALSE)),\"\")","v":""},{"$f":"IFERROR(IF(Measures[[#This Row],[Typical fuel reduction '[%']]]=\"NA\",\"NA\",VLOOKUP($D$47,INDIRECT(Measures[[#This Row],[Measure sheet refrence]]),10,FALSE)),\"\")","v":""},{"$f":"IFERROR(IF(Measures[[#This Row],[Typical fuel reduction '[%']]]=\"NA\",\"NA\",VLOOKUP($D$47,INDIRECT(Measures[[#This Row],[Measure sheet refrence]]),11,FALSE)),\"\")","v":""},{"$f":"IFERROR(IF(Dashboard!$T$16=0,INDEX('Cost&CO2_Calc'!$AA$130:$AA$160,MATCH(Measures[[#This Row],[Measure]],'Cost&CO2_Calc'!$B$130:$B$160,0)),INDEX('Cost&CO2_Calc'!$AB$130:$AB$160,MATCH(Measures[[#This Row],[Measure]],'Cost&CO2_Calc'!$B$130:$B$160,0))),0)","v":0},{"$f":"_xlfn.IFS(K19=0,\"NA\",K19>_xlfn.XLOOKUP($H$9,CII_calculation!$A$46:$A$67,CII_calculation!$K$46:$K$67),\"E\",K19>_xlfn.XLOOKUP($H$9,CII_calculation!$A$46:$A$67,CII_calculation!$I$46:$I$67),\"D\",K19>_xlfn.XLOOKUP($H$9,CII_calculation!$A$46:$A$67,CII_calculation!$G$46:$G$67),\"C\",K19>_xlfn.XLOOKUP($H$9,CII_calculation!$A$46:$A$67,CII_calculation!$E$46:$E$67),\"B\",K19<_xlfn.XLOOKUP($H$9,CII_calculation!$A$46:$A$67,CII_calculation!$E$46:$E$67),\"A\")","v":"NA"},{"$f":"IFERROR(IF(VLOOKUP($D$47,INDIRECT(Measures[[#This Row],[Measure sheet refrence]]),13,FALSE)=0%,\"NA\",VLOOKUP($D$47,INDIRECT(Measures[[#This Row],[Measure sheet refrence]]),13,FALSE)),\"\")","v":""},{"$f":"IF(Measures[[#This Row],[Typical EEXI / EEDI reduction '[%']]]=\"NA\",\"NA\",ROUND(Dashboard!$T$22*(1-Measures[[#This Row],[Typical EEXI / EEDI reduction '[%']]]),2)*Measures[[#This Row],[EEDI/EEXI binary '[0,1']]])","v":{"$error":"#VALUE!"}},{"$f":"IFERROR(IF(VLOOKUP($D$47,INDIRECT(Measures[[#This Row],[Measure sheet refrence]]),9,FALSE)=0,\"NA\",VLOOKUP($D$47,INDIRECT(Measures[[#This Row],[Measure sheet refrence]]),9,FALSE)),\"\")","v":""},{"$f":"IFERROR(IF(Measures[[#This Row],[Lifetime '[Years']]]=\"NA\",\"NA\",VLOOKUP($D$47,INDIRECT(Measures[[#This Row],[Measure sheet refrence]]),7,FALSE)),\"\")","v":""},{"$f":"IFERROR(IF(Measures[[#This Row],[Lifetime '[Years']]]=\"NA\",\"NA\",VLOOKUP($D$47,INDIRECT(Measures[[#This Row],[Measure sheet refrence]]),5,FALSE)),\"\")","v":""},{"$f":"IFERROR(IF(Measures[[#This Row],[Lifetime '[Years']]]=\"NA\",\"NA\",(1+VLOOKUP($D$47,INDIRECT(Measures[[#This Row],[Measure sheet refrence]]),6,FALSE))*Measures[[#This Row],[CAPEX NB '[$']]]),\"\")","v":""},{"$f":"VLOOKUP(Measures[[#This Row],[Measure]],Tooltip!A:C,3,FALSE)","v":8},"N/R",1,1]
["Kite","Kite","i","Technical",null,1,{"$f":"CONCATENATE(\"'\",Measures[[#This Row],[Measure name short]],\"'!A3:m72\")","v":"'Kite'!A3:m72"},{"$f":"IFERROR(IF(VLOOKUP($D$47,INDIRECT(Measures[[#This Row],[Measure sheet refrence]]),12,FALSE)=0%,\"NA\",VLOOKUP($D$47,INDIRECT(Measures[[#This Row],[Measure sheet refrence]]),12,FALSE)),\"\")","v":""},{"$f":"IFERROR(IF(Measures[[#This Row],[Typical fuel reduction '[%']]]=\"NA\",\"NA\",VLOOKUP($D$47,INDIRECT(Measures[[#This Row],[Measure sheet refrence]]),10,FALSE)),\"\")","v":""},{"$f":"IFERROR(IF(Measures[[#This Row],[Typical fuel reduction '[%']]]=\"NA\",\"NA\",VLOOKUP($D$47,INDIRECT(Measures[[#This Row],[Measure sheet refrence]]),11,FALSE)),\"\")","v":""},{"$f":"IFERROR(IF(Dashboard!$T$16=0,INDEX('Cost&CO2_Calc'!$AA$130:$AA$160,MATCH(Measures[[#This Row],[Measure]],'Cost&CO2_Calc'!$B$130:$B$160,0)),INDEX('Cost&CO2_Calc'!$AB$130:$AB$160,MATCH(Measures[[#This Row],[Measure]],'Cost&CO2_Calc'!$B$130:$B$160,0))),0)","v":0},{"$f":"_xlfn.IFS(K20=0,\"NA\",K20>_xlfn.XLOOKUP($H$9,CII_calculation!$A$46:$A$67,CII_calculation!$K$46:$K$67),\"E\",K20>_xlfn.XLOOKUP($H$9,CII_calculation!$A$46:$A$67,CII_calculation!$I$46:$I$67),\"D\",K20>_xlfn.XLOOKUP($H$9,CII_calculation!$A$46:$A$67,CII_calculation!$G$46:$G$67),\"C\",K20>_xlfn.XLOOKUP($H$9,CII_calculation!$A$46:$A$67,CII_calculation!$E$46:$E$67),\"B\",K20<_xlfn.XLOOKUP($H$9,CII_calculation!$A$46:$A$67,CII_calculation!$E$46:$E$67),\"A\")","v":"NA"},{"$f":"IFERROR(IF(VLOOKUP($D$47,INDIRECT(Measures[[#This Row],[Measure sheet refrence]]),13,FALSE)=0%,\"NA\",VLOOKUP($D$47,INDIRECT(Measures[[#This Row],[Measure sheet refrence]]),13,FALSE)),\"\")","v":""},{"$f":"IF(Measures[[#This Row],[Typical EEXI / EEDI reduction '[%']]]=\"NA\",\"NA\",ROUND(Dashboard!$T$22*(1-Measures[[#This Row],[Typical EEXI / EEDI reduction '[%']]]),2)*Measures[[#This Row],[EEDI/EEXI binary '[0,1']]])","v":{"$error":"#VALUE!"}},{"$f":"IFERROR(IF(VLOOKUP($D$47,INDIRECT(Measures[[#This Row],[Measure sheet refrence]]),9,FALSE)=0,\"NA\",VLOOKUP($D$47,INDIRECT(Measures[[#This Row],[Measure sheet refrence]]),9,FALSE)),\"\")","v":""},{"$f":"IFERROR(IF(Measures[[#This Row],[Lifetime '[Years']]]=\"NA\",\"NA\",VLOOKUP($D$47,INDIRECT(Measures[[#This Row],[Measure sheet refrence]]),7,FALSE)),\"\")","v":""},{"$f":"IFERROR(IF(Measures[[#This Row],[Lifetime '[Years']]]=\"NA\",\"NA\",VLOOKUP($D$47,INDIRECT(Measures[[#This Row],[Measure sheet refrence]]),5,FALSE)),\"\")","v":""},{"$f":"IFERROR(IF(Measures[[#This Row],[Lifetime '[Years']]]=\"NA\",\"NA\",(1+VLOOKUP($D$47,INDIRECT(Measures[[#This Row],[Measure sheet refrence]]),6,FALSE))*Measures[[#This Row],[CAPEX NB '[$']]]),\"\")","v":""},{"$f":"VLOOKUP(Measures[[#This Row],[Measure]],Tooltip!A:C,3,FALSE)","v":8},"N/R",1,1]
["Solar panels","Solar panels","i","Technical",null,1,{"$f":"CONCATENATE(\"'\",Measures[[#This Row],[Measure name short]],\"'!A3:m72\")","v":"'Solar panels'!A3:m72"},{"$f":"IFERROR(IF(VLOOKUP($D$47,INDIRECT(Measures[[#This Row],[Measure sheet refrence]]),12,FALSE)=0%,\"NA\",VLOOKUP($D$47,INDIRECT(Measures[[#This Row],[Measure sheet refrence]]),12,FALSE)),\"\")","v":""},{"$f":"IFERROR(IF(Measures[[#This Row],[Typical fuel reduction '[%']]]=\"NA\",\"NA\",VLOOKUP($D$47,INDIRECT(Measures[[#This Row],[Measure sheet refrence]]),10,FALSE)),\"\")","v":""},{"$f":"IFERROR(IF(Measures[[#This Row],[Typical fuel reduction '[%']]]=\"NA\",\"NA\",VLOOKUP($D$47,INDIRECT(Measures[[#This Row],[Measure sheet refrence]]),11,FALSE)),\"\")","v":""},{"$f":"IFERROR(IF(Dashboard!$T$16=0,INDEX('Cost&CO2_Calc'!$AA$130:$AA$160,MATCH(Measures[[#This Row],[Measure]],'Cost&CO2_Calc'!$B$130:$B$160,0)),INDEX('Cost&CO2_Calc'!$AB$130:$AB$160,MATCH(Measures[[#This Row],[Measure]],'Cost&CO2_Calc'!$B$130:$B$160,0))),0)","v":0},{"$f":"_xlfn.IFS(K21=0,\"NA\",K21>_xlfn.XLOOKUP($H$9,CII_calculation!$A$46:$A$67,CII_calculation!$K$46:$K$67),\"E\",K21>_xlfn.XLOOKUP($H$9,CII_calculation!$A$46:$A$67,CII_calculation!$I$46:$I$67),\"D\",K21>_xlfn.XLOOKUP($H$9,CII_calculation!$A$46:$A$67,CII_calculation!$G$46:$G$67),\"C\",K21>_xlfn.XLOOKUP($H$9,CII_calculation!$A$46:$A$67,CII_calculation!$E$46:$E$67),\"B\",K21<_xlfn.XLOOKUP($H$9,CII_calculation!$A$46:$A$67,CII_calculation!$E$46:$E$67),\"A\")","v":"NA"},{"$f":"IFERROR(IF(VLOOKUP($D$47,INDIRECT(Measures[[#This Row],[Measure sheet refrence]]),13,FALSE)=0%,\"NA\",VLOOKUP($D$47,INDIRECT(Measures[[#This Row],[Measure sheet refrence]]),13,FALSE)),\"\")","v":""},{"$f":"IF(Measures[[#This Row],[Typical EEXI / EEDI reduction '[%']]]=\"NA\",\"NA\",ROUND(Dashboard!$T$22*(1-Measures[[#This Row],[Typical EEXI / EEDI reduction '[%']]]),2)*Measures[[#This Row],[EEDI/EEXI binary '[0,1']]])","v":{"$error":"#VALUE!"}},{"$f":"IFERROR(IF(VLOOKUP($D$47,INDIRECT(Measures[[#This Row],[Measure sheet refrence]]),9,FALSE)=0,\"NA\",VLOOKUP($D$47,INDIRECT(Measures[[#This Row],[Measure sheet refrence]]),9,FALSE)),\"\")","v":""},{"$f":"IFERROR(IF(Measures[[#This Row],[Lifetime '[Years']]]=\"NA\",\"NA\",VLOOKUP($D$47,INDIRECT(Measures[[#This Row],[Measure sheet refrence]]),7,FALSE)),\"\")","v":""},{"$f":"IFERROR(IF(Measures[[#This Row],[Lifetime '[Years']]]=\"NA\",\"NA\",VLOOKUP($D$47,INDIRECT(Measures[[#This Row],[Measure sheet refrence]]),5,FALSE)),\"\")","v":""},{"$f":"IFERROR(IF(Measures[[#This Row],[Lifetime '[Years']]]=\"NA\",\"NA\",(1+VLOOKUP($D$47,INDIRECT(Measures[[#This Row],[Measure sheet refrence]]),6,FALSE))*Measures[[#This Row],[CAPEX NB '[$']]]),\"\")","v":""},{"$f":"VLOOKUP(Measures[[#This Row],[Measure]],Tooltip!A:C,3,FALSE)","v":8},"N/R",1,1]
["Rotor sails","Rotor sails","i","Technical",null,1,{"$f":"CONCATENATE(\"'\",Measures[[#This Row],[Measure name short]],\"'!A3:m72\")","v":"'Rotor sails'!A3:m72"},{"$f":"IFERROR(IF(VLOOKUP($D$47,INDIRECT(Measures[[#This Row],[Measure sheet refrence]]),12,FALSE)=0%,\"NA\",VLOOKUP($D$47,INDIRECT(Measures[[#This Row],[Measure sheet refrence]]),12,FALSE)),\"\")","v":""},{"$f":"IFERROR(IF(Measures[[#This Row],[Typical fuel reduction '[%']]]=\"NA\",\"NA\",VLOOKUP($D$47,INDIRECT(Measures[[#This Row],[Measure sheet refrence]]),10,FALSE)),\"\")","v":""},{"$f":"IFERROR(IF(Measures[[#This Row],[Typical fuel reduction '[%']]]=\"NA\",\"NA\",VLOOKUP($D$47,INDIRECT(Measures[[#This Row],[Measure sheet refrence]]),11,FALSE)),\"\")","v":""},{"$f":"IFERROR(IF(Dashboard!$T$16=0,INDEX('Cost&CO2_Calc'!$AA$130:$AA$160,MATCH(Measures[[#This Row],[Measure]],'Cost&CO2_Calc'!$B$130:$B$160,0)),INDEX('Cost&CO2_Calc'!$AB$130:$AB$160,MATCH(Measures[[#This Row],[Measure]],'Cost&CO2_Calc'!$B$130:$B$160,0))),0)","v":0},{"$f":"_xlfn.IFS(K22=0,\"NA\",K22>_xlfn.XLOOKUP($H$9,CII_calculation!$A$46:$A$67,CII_calculation!$K$46:$K$67),\"E\",K22>_xlfn.XLOOKUP($H$9,CII_calculation!$A$46:$A$67,CII_calculation!$I$46:$I$67),\"D\",K22>_xlfn.XLOOKUP($H$9,CII_calculation!$A$46:$A$67,CII_calculation!$G$46:$G$67),\"C\",K22>_xlfn.XLOOKUP($H$9,CII_calculation!$A$46:$A$67,CII_calculation!$E$46:$E$67),\"B\",K22<_xlfn.XLOOKUP($H$9,CII_calculation!$A$46:$A$67,CII_calculation!$E$46:$E$67),\"A\")","v":"NA"},{"$f":"IFERROR(IF(VLOOKUP($D$47,INDIRECT(Measures[[#This Row],[Measure sheet refrence]]),13,FALSE)=0%,\"NA\",VLOOKUP($D$47,INDIRECT(Measures[[#This Row],[Measure sheet refrence]]),13,FALSE)),\"\")","v":""},{"$f":"IF(Measures[[#This Row],[Typical EEXI / EEDI reduction '[%']]]=\"NA\",\"NA\",ROUND(Dashboard!$T$22*(1-Measures[[#This Row],[Typical EEXI / EEDI reduction '[%']]]),2)*Measures[[#This Row],[EEDI/EEXI binary '[0,1']]])","v":{"$error":"#VALUE!"}},{"$f":"IFERROR(IF(VLOOKUP($D$47,INDIRECT(Measures[[#This Row],[Measure sheet refrence]]),9,FALSE)=0,\"NA\",VLOOKUP($D$47,INDIRECT(Measures[[#This Row],[Measure sheet refrence]]),9,FALSE)),\"\")","v":""},{"$f":"IFERROR(IF(Measures[[#This Row],[Lifetime '[Years']]]=\"NA\",\"NA\",VLOOKUP($D$47,INDIRECT(Measures[[#This Row],[Measure sheet refrence]]),7,FALSE)),\"\")","v":""},{"$f":"IFERROR(IF(Measures[[#This Row],[Lifetime '[Years']]]=\"NA\",\"NA\",VLOOKUP($D$47,INDIRECT(Measures[[#This Row],[Measure sheet refrence]]),5,FALSE)),\"\")","v":""},{"$f":"IFERROR(IF(Measures[[#This Row],[Lifetime '[Years']]]=\"NA\",\"NA\",(1+VLOOKUP($D$47,INDIRECT(Measures[[#This Row],[Measure sheet refrence]]),6,FALSE))*Measures[[#This Row],[CAPEX NB '[$']]]),\"\")","v":""},{"$f":"VLOOKUP(Measures[[#This Row],[Measure]],Tooltip!A:C,3,FALSE)","v":9},"N/R",1,1]
["Auxiliary systems optimization","Aux systems optimization","i","Technical",null,1,{"$f":"CONCATENATE(\"'\",Measures[[#This Row],[Measure name short]],\"'!A3:m72\")","v":"'Aux systems optimization'!A3:m72"},{"$f":"IFERROR(IF(VLOOKUP($D$47,INDIRECT(Measures[[#This Row],[Measure sheet refrence]]),12,FALSE)=0%,\"NA\",VLOOKUP($D$47,INDIRECT(Measures[[#This Row],[Measure sheet refrence]]),12,FALSE)),\"\")","v":""},{"$f":"IFERROR(IF(Measures[[#This Row],[Typical fuel reduction '[%']]]=\"NA\",\"NA\",VLOOKUP($D$47,INDIRECT(Measures[[#This Row],[Measure sheet refrence]]),10,FALSE)),\"\")","v":""},{"$f":"IFERROR(IF(Measures[[#This Row],[Typical fuel reduction '[%']]]=\"NA\",\"NA\",VLOOKUP($D$47,INDIRECT(Measures[[#This Row],[Measure sheet refrence]]),11,FALSE)),\"\")","v":""},{"$f":"IFERROR(IF(Dashboard!$T$16=0,INDEX('Cost&CO2_Calc'!$AA$130:$AA$160,MATCH(Measures[[#This Row],[Measure]],'Cost&CO2_Calc'!$B$130:$B$160,0)),INDEX('Cost&CO2_Calc'!$AB$130:$AB$160,MATCH(Measures[[#This Row],[Measure]],'Cost&CO2_Calc'!$B$130:$B$160,0))),0)","v":0},{"$f":"_xlfn.IFS(K23=0,\"NA\",K23>_xlfn.XLOOKUP($H$9,CII_calculation!$A$46:$A$67,CII_calculation!$K$46:$K$67),\"E\",K23>_xlfn.XLOOKUP($H$9,CII_calculation!$A$46:$A$67,CII_calculation!$I$46:$I$67),\"D\",K23>_xlfn.XLOOKUP($H$9,CII_calculation!$A$46:$A$67,CII_calculation!$G$46:$G$67),\"C\",K23>_xlfn.XLOOKUP($H$9,CII_calculation!$A$46:$A$67,CII_calculation!$E$46:$E$67),\"B\",K23<_xlfn.XLOOKUP($H$9,CII_calculation!$A$46:$A$67,CII_calculation!$E$46:$E$67),\"A\")","v":"NA"},{"$f":"IFERROR(IF(VLOOKUP($D$47,INDIRECT(Measures[[#This Row],[Measure sheet refrence]]),13,FALSE)=0%,\"NA\",VLOOKUP($D$47,INDIRECT(Measures[[#This Row],[Measure sheet refrence]]),13,FALSE)),\"\")","v":""},{"$f":"IF(Measures[[#This Row],[Typical EEXI / EEDI reduction '[%']]]=\"NA\",\"NA\",ROUND(Dashboard!$T$22*(1-Measures[[#This Row],[Typical EEXI / EEDI reduction '[%']]]),2)*Measures[[#This Row],[EEDI/EEXI binary '[0,1']]])","v":{"$error":"#VALUE!"}},{"$f":"IFERROR(IF(VLOOKUP($D$47,INDIRECT(Measures[[#This Row],[Measure sheet refrence]]),9,FALSE)=0,\"NA\",VLOOKUP($D$47,INDIRECT(Measures[[#This Row],[Measure sheet refrence]]),9,FALSE)),\"\")","v":""},{"$f":"IFERROR(IF(Measures[[#This Row],[Lifetime '[Years']]]=\"NA\",\"NA\",VLOOKUP($D$47,INDIRECT(Measures[[#This Row],[Measure sheet refrence]]),7,FALSE)),\"\")","v":""},{"$f":"IFERROR(IF(Measures[[#This Row],[Lifetime '[Years']]]=\"NA\",\"NA\",VLOOKUP($D$47,INDIRECT(Measures[[#This Row],[Measure sheet refrence]]),5,FALSE)),\"\")","v":""},{"$f":"IFERROR(IF(Measures[[#This Row],[Lifetime '[Years']]]=\"NA\",\"NA\",(1+VLOOKUP($D$47,INDIRECT(Measures[[#This Row],[Measure sheet refrence]]),6,FALSE))*Measures[[#This Row],[CAPEX NB '[$']]]),\"\")","v":""},{"$f":"VLOOKUP(Measures[[#This Row],[Measure]],Tooltip!A:C,3,FALSE)","v":9},"N/R",1,1]
["Engine performance optimization (automatic)","Engine performance opt. (auto)","i","Technical",null,0,{"$f":"CONCATENATE(\"'\",Measures[[#This Row],[Measure name short]],\"'!A3:m72\")","v":"'Engine performance opt. (auto)'!A3:m72"},{"$f":"IFERROR(IF(VLOOKUP($D$47,INDIRECT(Measures[[#This Row],[Measure sheet refrence]]),12,FALSE)=0%,\"NA\",VLOOKUP($D$47,INDIRECT(Measures[[#This Row],[Measure sheet refrence]]),12,FALSE)),\"\")","v":""},{"$f":"IFERROR(IF(Measures[[#This Row],[Typical fuel reduction '[%']]]=\"NA\",\"NA\",VLOOKUP($D$47,INDIRECT(Measures[[#This Row],[Measure sheet refrence]]),10,FALSE)),\"\")","v":""},{"$f":"IFERROR(IF(Measures[[#This Row],[Typical fuel reduction '[%']]]=\"NA\",\"NA\",VLOOKUP($D$47,INDIRECT(Measures[[#This Row],[Measure sheet refrence]]),11,FALSE)),\"\")","v":""},{"$f":"IFERROR(IF(Dashboard!$T$16=0,INDEX('Cost&CO2_Calc'!$AA$130:$AA$160,MATCH(Measures[[#This Row],[Measure]],'Cost&CO2_Calc'!$B$130:$B$160,0)),INDEX('Cost&CO2_Calc'!$AB$130:$AB$160,MATCH(Measures[[#This Row],[Measure]],'Cost&CO2_Calc'!$B$130:$B$160,0))),0)","v":0},{"$f":"_xlfn.IFS(K24=0,\"NA\",K24>_xlfn.XLOOKUP($H$9,CII_calculation!$A$46:$A$67,CII_calculation!$K$46:$K$67),\"E\",K24>_xlfn.XLOOKUP($H$9,CII_calculation!$A$46:$A$67,CII_calculation!$I$46:$I$67),\"D\",K24>_xlfn.XLOOKUP($H$9,CII_calculation!$A$46:$A$67,CII_calculation!$G$46:$G$67),\"C\",K24>_xlfn.XLOOKUP($H$9,CII_calculation!$A$46:$A$67,CII_calculation!$E$46:$E$67),\"B\",K24<_xlfn.XLOOKUP($H$9,CII_calculation!$A$46:$A$67,CII_calculation!$E$46:$E$67),\"A\")","v":"NA"},{"$f":"IFERROR(IF(VLOOKUP($D$47,INDIRECT(Measures[[#This Row],[Measure sheet refrence]]),13,FALSE)=0%,\"NA\",VLOOKUP($D$47,INDIRECT(Measures[[#This Row],[Measure sheet refrence]]),13,FALSE)),\"\")","v":""},{"$f":"IF(Measures[[#This Row],[Typical EEXI / EEDI reduction '[%']]]=\"NA\",\"NA\",ROUND(Dashboard!$T$22*(1-Measures[[#This Row],[Typical EEXI / EEDI reduction '[%']]]),2)*Measures[[#This Row],[EEDI/EEXI binary '[0,1']]])","v":{"$error":"#VALUE!"}},{"$f":"IFERROR(IF(VLOOKUP($D$47,INDIRECT(Measures[[#This Row],[Measure sheet refrence]]),9,FALSE)=0,\"NA\",VLOOKUP($D$47,INDIRECT(Measures[[#This Row],[Measure sheet refrence]]),9,FALSE)),\"\")","v":""},{"$f":"IFERROR(IF(Measures[[#This Row],[Lifetime '[Years']]]=\"NA\",\"NA\",VLOOKUP($D$47,INDIRECT(Measures[[#This Row],[Measure sheet refrence]]),7,FALSE)),\"\")","v":""},{"$f":"IFERROR(IF(Measures[[#This Row],[Lifetime '[Years']]]=\"NA\",\"NA\",VLOOKUP($D$47,INDIRECT(Measures[[#This Row],[Measure sheet refrence]]),5,FALSE)),\"\")","v":""},{"$f":"IFERROR(IF(Measures[[#This Row],[Lifetime '[Years']]]=\"NA\",\"NA\",(1+VLOOKUP($D$47,INDIRECT(Measures[[#This Row],[Measure sheet refrence]]),6,FALSE))*Measures[[#This Row],[CAPEX NB '[$']]]),\"\")","v":""},{"$f":"VLOOKUP(Measures[[#This Row],[Measure]],Tooltip!A:C,3,FALSE)","v":9},"N/R",1,1]
["Engine de-rating","Engine de-rating","i","Technical",null,1,{"$f":"CONCATENATE(\"'\",Measures[[#This Row],[Measure name short]],\"'!A3:m72\")","v":"'Engine de-rating'!A3:m72"},{"$f":"IFERROR(IF(VLOOKUP($D$47,INDIRECT(Measures[[#This Row],[Measure sheet refrence]]),12,FALSE)=0%,\"NA\",VLOOKUP($D$47,INDIRECT(Measures[[#This Row],[Measure sheet refrence]]),12,FALSE)),\"\")","v":""},{"$f":"IFERROR(IF(Measures[[#This Row],[Typical fuel reduction '[%']]]=\"NA\",\"NA\",VLOOKUP($D$47,INDIRECT(Measures[[#This Row],[Measure sheet refrence]]),10,FALSE)),\"\")","v":""},{"$f":"IFERROR(IF(Measures[[#This Row],[Typical fuel reduction '[%']]]=\"NA\",\"NA\",VLOOKUP($D$47,INDIRECT(Measures[[#This Row],[Measure sheet refrence]]),11,FALSE)),\"\")","v":""},{"$f":"IFERROR(IF(Dashboard!$T$16=0,INDEX('Cost&CO2_Calc'!$AA$130:$AA$160,MATCH(Measures[[#This Row],[Measure]],'Cost&CO2_Calc'!$B$130:$B$160,0)),INDEX('Cost&CO2_Calc'!$AB$130:$AB$160,MATCH(Measures[[#This Row],[Measure]],'Cost&CO2_Calc'!$B$130:$B$160,0))),0)","v":0},{"$f":"_xlfn.IFS(K25=0,\"NA\",K25>_xlfn.XLOOKUP($H$9,CII_calculation!$A$46:$A$67,CII_calculation!$K$46:$K$67),\"E\",K25>_xlfn.XLOOKUP($H$9,CII_calculation!$A$46:$A$67,CII_calculation!$I$46:$I$67),\"D\",K25>_xlfn.XLOOKUP($H$9,CII_calculation!$A$46:$A$67,CII_calculation!$G$46:$G$67),\"C\",K25>_xlfn.XLOOKUP($H$9,CII_calculation!$A$46:$A$67,CII_calculation!$E$46:$E$67),\"B\",K25<_xlfn.XLOOKUP($H$9,CII_calculation!$A$46:$A$67,CII_calculation!$E$46:$E$67),\"A\")","v":"NA"},{"$f":"IFERROR(IF(VLOOKUP($D$47,INDIRECT(Measures[[#This Row],[Measure sheet refrence]]),13,FALSE)=0%,\"NA\",VLOOKUP($D$47,INDIRECT(Measures[[#This Row],[Measure sheet refrence]]),13,FALSE)),\"\")","v":""},{"$f":"IF(Measures[[#This Row],[Typical EEXI / EEDI reduction '[%']]]=\"NA\",\"NA\",ROUND(Dashboard!$T$22*(1-Measures[[#This Row],[Typical EEXI / EEDI reduction '[%']]]),2)*Measures[[#This Row],[EEDI/EEXI binary '[0,1']]])","v":{"$error":"#VALUE!"}},{"$f":"IFERROR(IF(VLOOKUP($D$47,INDIRECT(Measures[[#This Row],[Measure sheet refrence]]),9,FALSE)=0,\"NA\",VLOOKUP($D$47,INDIRECT(Measures[[#This Row],[Measure sheet refrence]]),9,FALSE)),\"\")","v":""},{"$f":"IFERROR(IF(Measures[[#This Row],[Lifetime '[Years']]]=\"NA\",\"NA\",VLOOKUP($D$47,INDIRECT(Measures[[#This Row],[Measure sheet refrence]]),7,FALSE)),\"\")","v":""},{"$f":"IFERROR(IF(Measures[[#This Row],[Lifetime '[Years']]]=\"NA\",\"NA\",VLOOKUP($D$47,INDIRECT(Measures[[#This Row],[Measure sheet refrence]]),5,FALSE)),\"\")","v":""},{"$f":"IFERROR(IF(Measures[[#This Row],[Lifetime '[Years']]]=\"NA\",\"NA\",(1+VLOOKUP($D$47,INDIRECT(Measures[[#This Row],[Measure sheet refrence]]),6,FALSE))*Measures[[#This Row],[CAPEX NB '[$']]]),\"\")","v":""},{"$f":"VLOOKUP(Measures[[#This Row],[Measure]],Tooltip!A:C,3,FALSE)","v":9},"R",0,1]
["Engine performance optimization (manual)","Engine performance opt. (man.)","i","Operational",null,0,{"$f":"CONCATENATE(\"'\",Measures[[#This Row],[Measure name short]],\"'!A3:m72\")","v":"'Engine performance opt. (man.)'!A3:m72"},{"$f":"IFERROR(IF(VLOOKUP($D$47,INDIRECT(Measures[[#This Row],[Measure sheet refrence]]),12,FALSE)=0%,\"NA\",VLOOKUP($D$47,INDIRECT(Measures[[#This Row],[Measure sheet refrence]]),12,FALSE)),\"\")","v":""},{"$f":"IFERROR(IF(Measures[[#This Row],[Typical fuel reduction '[%']]]=\"NA\",\"NA\",VLOOKUP($D$47,INDIRECT(Measures[[#This Row],[Measure sheet refrence]]),10,FALSE)),\"\")","v":""},{"$f":"IFERROR(IF(Measures[[#This Row],[Typical fuel reduction '[%']]]=\"NA\",\"NA\",VLOOKUP($D$47,INDIRECT(Measures[[#This Row],[Measure sheet refrence]]),11,FALSE)),\"\")","v":""},{"$f":"IFERROR(IF(Dashboard!$T$16=0,INDEX('Cost&CO2_Calc'!$AA$130:$AA$160,MATCH(Measures[[#This Row],[Measure]],'Cost&CO2_Calc'!$B$130:$B$160,0)),INDEX('Cost&CO2_Calc'!$AB$130:$AB$160,MATCH(Measures[[#This Row],[Measure]],'Cost&CO2_Calc'!$B$130:$B$160,0))),0)","v":0},{"$f":"_xlfn.IFS(K26=0,\"NA\",K26>_xlfn.XLOOKUP($H$9,CII_calculation!$A$46:$A$67,CII_calculation!$K$46:$K$67),\"E\",K26>_xlfn.XLOOKUP($H$9,CII_calculation!$A$46:$A$67,CII_calculation!$I$46:$I$67),\"D\",K26>_xlfn.XLOOKUP($H$9,CII_calculation!$A$46:$A$67,CII_calculation!$G$46:$G$67),\"C\",K26>_xlfn.XLOOKUP($H$9,CII_calculation!$A$46:$A$67,CII_calculation!$E$46:$E$67),\"B\",K26<_xlfn.XLOOKUP($H$9,CII_calculation!$A$46:$A$67,CII_calculation!$E$46:$E$67),\"A\")","v":"NA"},{"$f":"IFERROR(IF(VLOOKUP($D$47,INDIRECT(Measures[[#This Row],[Measure sheet refrence]]),13,FALSE)=0%,\"NA\",VLOOKUP($D$47,INDIRECT(Measures[[#This Row],[Measure sheet refrence]]),13,FALSE)),\"\")","v":""},{"$f":"IF(Measures[[#This Row],[Typical EEXI / EEDI reduction '[%']]]=\"NA\",\"NA\",ROUND(Dashboard!$T$22*(1-Measures[[#This Row],[Typical EEXI / EEDI reduction '[%']]]),2)*Measures[[#This Row],[EEDI/EEXI binary '[0,1']]])","v":{"$error":"#VALUE!"}},{"$f":"IFERROR(IF(VLOOKUP($D$47,INDIRECT(Measures[[#This Row],[Measure sheet refrence]]),9,FALSE)=0,\"NA\",VLOOKUP($D$47,INDIRECT(Measures[[#This Row],[Measure sheet refrence]]),9,FALSE)),\"\")","v":""},{"$f":"IFERROR(IF(Measures[[#This Row],[Lifetime '[Years']]]=\"NA\",\"NA\",VLOOKUP($D$47,INDIRECT(Measures[[#This Row],[Measure sheet refrence]]),7,FALSE)),\"\")","v":""},{"$f":"IFERROR(IF(Measures[[#This Row],[Lifetime '[Years']]]=\"NA\",\"NA\",VLOOKUP($D$47,INDIRECT(Measures[[#This Row],[Measure sheet refrence]]),5,FALSE)),\"\")","v":""},{"$f":"IFERROR(IF(Measures[[#This Row],[Lifetime '[Years']]]=\"NA\",\"NA\",(1+VLOOKUP($D$47,INDIRECT(Measures[[#This Row],[Measure sheet refrence]]),6,FALSE))*Measures[[#This Row],[CAPEX NB '[$']]]),\"\")","v":""},{"$f":"VLOOKUP(Measures[[#This Row],[Measure]],Tooltip!A:C,3,FALSE)","v":9},"R",0,1]
["Exhaust gas boilers on auxiliary engines","Exhaust gas boilers on aux","i","Technical",null,0,{"$f":"CONCATENATE(\"'\",Measures[[#This Row],[Measure name short]],\"'!A3:m72\")","v":"'Exhaust gas boilers on aux'!A3:m72"},{"$f":"IFERROR(IF(VLOOKUP($D$47,INDIRECT(Measures[[#This Row],[Measure sheet refrence]]),12,FALSE)=0%,\"NA\",VLOOKUP($D$47,INDIRECT(Measures[[#This Row],[Measure sheet refrence]]),12,FALSE)),\"\")","v":""},{"$f":"IFERROR(IF(Measures[[#This Row],[Typical fuel reduction '[%']]]=\"NA\",\"NA\",VLOOKUP($D$47,INDIRECT(Measures[[#This Row],[Measure sheet refrence]]),10,FALSE)),\"\")","v":""},{"$f":"IFERROR(IF(Measures[[#This Row],[Typical fuel reduction '[%']]]=\"NA\",\"NA\",VLOOKUP($D$47,INDIRECT(Measures[[#This Row],[Measure sheet refrence]]),11,FALSE)),\"\")","v":""},{"$f":"IFERROR(IF(Dashboard!$T$16=0,INDEX('Cost&CO2_Calc'!$AA$130:$AA$160,MATCH(Measures[[#This Row],[Measure]],'Cost&CO2_Calc'!$B$130:$B$160,0)),INDEX('Cost&CO2_Calc'!$AB$130:$AB$160,MATCH(Measures[[#This Row],[Measure]],'Cost&CO2_Calc'!$B$130:$B$160,0))),0)","v":0},{"$f":"_xlfn.IFS(K27=0,\"NA\",K27>_xlfn.XLOOKUP($H$9,CII_calculation!$A$46:$A$67,CII_calculation!$K$46:$K$67),\"E\",K27>_xlfn.XLOOKUP($H$9,CII_calculation!$A$46:$A$67,CII_calculation!$I$46:$I$67),\"D\",K27>_xlfn.XLOOKUP($H$9,CII_calculation!$A$46:$A$67,CII_calculation!$G$46:$G$67),\"C\",K27>_xlfn.XLOOKUP($H$9,CII_calculation!$A$46:$A$67,CII_calculation!$E$46:$E$67),\"B\",K27<_xlfn.XLOOKUP($H$9,CII_calculation!$A$46:$A$67,CII_calculation!$E$46:$E$67),\"A\")","v":"NA"},{"$f":"IFERROR(IF(VLOOKUP($D$47,INDIRECT(Measures[[#This Row],[Measure sheet refrence]]),13,FALSE)=0%,\"NA\",VLOOKUP($D$47,INDIRECT(Measures[[#This Row],[Measure sheet refrence]]),13,FALSE)),\"\")","v":""},{"$f":"IF(Measures[[#This Row],[Typical EEXI / EEDI reduction '[%']]]=\"NA\",\"NA\",ROUND(Dashboard!$T$22*(1-Measures[[#This Row],[Typical EEXI / EEDI reduction '[%']]]),2)*Measures[[#This Row],[EEDI/EEXI binary '[0,1']]])","v":{"$error":"#VALUE!"}},{"$f":"IFERROR(IF(VLOOKUP($D$47,INDIRECT(Measures[[#This Row],[Measure sheet refrence]]),9,FALSE)=0,\"NA\",VLOOKUP($D$47,INDIRECT(Measures[[#This Row],[Measure sheet refrence]]),9,FALSE)),\"\")","v":""},{"$f":"IFERROR(IF(Measures[[#This Row],[Lifetime '[Years']]]=\"NA\",\"NA\",VLOOKUP($D$47,INDIRECT(Measures[[#This Row],[Measure sheet refrence]]),7,FALSE)),\"\")","v":""},{"$f":"IFERROR(IF(Measures[[#This Row],[Lifetime '[Years']]]=\"NA\",\"NA\",VLOOKUP($D$47,INDIRECT(Measures[[#This Row],[Measure sheet refrence]]),5,FALSE)),\"\")","v":""},{"$f":"IFERROR(IF(Measures[[#This Row],[Lifetime '[Years']]]=\"NA\",\"NA\",(1+VLOOKUP($D$47,INDIRECT(Measures[[#This Row],[Measure sheet refrence]]),6,FALSE))*Measures[[#This Row],[CAPEX NB '[$']]]),\"\")","v":""},{"$f":"VLOOKUP(Measures[[#This Row],[Measure]],Tooltip!A:C,3,FALSE)","v":9},"N/R",1,1]
["Battery hybridization","Battery hyb.","i","Technical",null,1,{"$f":"CONCATENATE(\"'\",Measures[[#This Row],[Measure name short]],\"'!A3:m72\")","v":"'Battery hyb.'!A3:m72"},{"$f":"IFERROR(IF(VLOOKUP($D$47,INDIRECT(Measures[[#This Row],[Measure sheet refrence]]),12,FALSE)=0%,\"NA\",VLOOKUP($D$47,INDIRECT(Measures[[#This Row],[Measure sheet refrence]]),12,FALSE)),\"\")","v":""},{"$f":"IFERROR(IF(Measures[[#This Row],[Typical fuel reduction '[%']]]=\"NA\",\"NA\",VLOOKUP($D$47,INDIRECT(Measures[[#This Row],[Measure sheet refrence]]),10,FALSE)),\"\")","v":""},{"$f":"IFERROR(IF(Measures[[#This Row],[Typical fuel reduction '[%']]]=\"NA\",\"NA\",VLOOKUP($D$47,INDIRECT(Measures[[#This Row],[Measure sheet refrence]]),11,FALSE)),\"\")","v":""},{"$f":"IFERROR(IF(Dashboard!$T$16=0,INDEX('Cost&CO2_Calc'!$AA$130:$AA$160,MATCH(Measures[[#This Row],[Measure]],'Cost&CO2_Calc'!$B$130:$B$160,0)),INDEX('Cost&CO2_Calc'!$AB$130:$AB$160,MATCH(Measures[[#This Row],[Measure]],'Cost&CO2_Calc'!$B$130:$B$160,0))),0)","v":0},{"$f":"_xlfn.IFS(K28=0,\"NA\",K28>_xlfn.XLOOKUP($H$9,CII_calculation!$A$46:$A$67,CII_calculation!$K$46:$K$67),\"E\",K28>_xlfn.XLOOKUP($H$9,CII_calculation!$A$46:$A$67,CII_calculation!$I$46:$I$67),\"D\",K28>_xlfn.XLOOKUP($H$9,CII_calculation!$A$46:$A$67,CII_calculation!$G$46:$G$67),\"C\",K28>_xlfn.XLOOKUP($H$9,CII_calculation!$A$46:$A$67,CII_calculation!$E$46:$E$67),\"B\",K28<_xlfn.XLOOKUP($H$9,CII_calculation!$A$46:$A$67,CII_calculation!$E$46:$E$67),\"A\")","v":"NA"},{"$f":"IFERROR(IF(VLOOKUP($D$47,INDIRECT(Measures[[#This Row],[Measure sheet refrence]]),13,FALSE)=0%,\"NA\",VLOOKUP($D$47,INDIRECT(Measures[[#This Row],[Measure sheet refrence]]),13,FALSE)),\"\")","v":""},{"$f":"IF(Measures[[#This Row],[Typical EEXI / EEDI reduction '[%']]]=\"NA\",\"NA\",ROUND(Dashboard!$T$22*(1-Measures[[#This Row],[Typical EEXI / EEDI reduction '[%']]]),2)*Measures[[#This Row],[EEDI/EEXI binary '[0,1']]])","v":{"$error":"#VALUE!"}},{"$f":"IFERROR(IF(VLOOKUP($D$47,INDIRECT(Measures[[#This Row],[Measure sheet refrence]]),9,FALSE)=0,\"NA\",VLOOKUP($D$47,INDIRECT(Measures[[#This Row],[Measure sheet refrence]]),9,FALSE)),\"\")","v":""},{"$f":"IFERROR(IF(Measures[[#This Row],[Lifetime '[Years']]]=\"NA\",\"NA\",VLOOKUP($D$47,INDIRECT(Measures[[#This Row],[Measure sheet refrence]]),7,FALSE)),\"\")","v":""},{"$f":"IFERROR(IF(Measures[[#This Row],[Lifetime '[Years']]]=\"NA\",\"NA\",VLOOKUP($D$47,INDIRECT(Measures[[#This Row],[Measure sheet refrence]]),5,FALSE)),\"\")","v":""},{"$f":"IFERROR(IF(Measures[[#This Row],[Lifetime '[Years']]]=\"NA\",\"NA\",(1+VLOOKUP($D$47,INDIRECT(Measures[[#This Row],[Measure sheet refrence]]),6,FALSE))*Measures[[#This Row],[CAPEX NB '[$']]]),\"\")","v":""},{"$f":"VLOOKUP(Measures[[#This Row],[Measure]],Tooltip!A:C,3,FALSE)","v":9},"N/R",1,1]
["Shaft generator PTO","Shaft gen. PTO","i","Technical",null,1,{"$f":"CONCATENATE(\"'\",Measures[[#This Row],[Measure name short]],\"'!A3:m72\")","v":"'Shaft gen. PTO'!A3:m72"},{"$f":"IFERROR(IF(VLOOKUP($D$47,INDIRECT(Measures[[#This Row],[Measure sheet refrence]]),12,FALSE)=0%,\"NA\",VLOOKUP($D$47,INDIRECT(Measures[[#This Row],[Measure sheet refrence]]),12,FALSE)),\"\")","v":""},{"$f":"IFERROR(IF(Measures[[#This Row],[Typical fuel reduction '[%']]]=\"NA\",\"NA\",VLOOKUP($D$47,INDIRECT(Measures[[#This Row],[Measure sheet refrence]]),10,FALSE)),\"\")","v":""},{"$f":"IFERROR(IF(Measures[[#This Row],[Typical fuel reduction '[%']]]=\"NA\",\"NA\",VLOOKUP($D$47,INDIRECT(Measures[[#This Row],[Measure sheet refrence]]),11,FALSE)),\"\")","v":""},{"$f":"IFERROR(IF(Dashboard!$T$16=0,INDEX('Cost&CO2_Calc'!$AA$130:$AA$160,MATCH(Measures[[#This Row],[Measure]],'Cost&CO2_Calc'!$B$130:$B$160,0)),INDEX('Cost&CO2_Calc'!$AB$130:$AB$160,MATCH(Measures[[#This Row],[Measure]],'Cost&CO2_Calc'!$B$130:$B$160,0))),0)","v":0},{"$f":"_xlfn.IFS(K29=0,\"NA\",K29>_xlfn.XLOOKUP($H$9,CII_calculation!$A$46:$A$67,CII_calculation!$K$46:$K$67),\"E\",K29>_xlfn.XLOOKUP($H$9,CII_calculation!$A$46:$A$67,CII_calculation!$I$46:$I$67),\"D\",K29>_xlfn.XLOOKUP($H$9,CII_calculation!$A$46:$A$67,CII_calculation!$G$46:$G$67),\"C\",K29>_xlfn.XLOOKUP($H$9,CII_calculation!$A$46:$A$67,CII_calculation!$E$46:$E$67),\"B\",K29<_xlfn.XLOOKUP($H$9,CII_calculation!$A$46:$A$67,CII_calculation!$E$46:$E$67),\"A\")","v":"NA"},{"$f":"IFERROR(IF(VLOOKUP($D$47,INDIRECT(Measures[[#This Row],[Measure sheet refrence]]),13,FALSE)=0%,\"NA\",VLOOKUP($D$47,INDIRECT(Measures[[#This Row],[Measure sheet refrence]]),13,FALSE)),\"\")","v":""},{"$f":"IF(Measures[[#This Row],[Typical EEXI / EEDI reduction '[%']]]=\"NA\",\"NA\",ROUND(Dashboard!$T$22*(1-Measures[[#This Row],[Typical EEXI / EEDI reduction '[%']]]),2)*Measures[[#This Row],[EEDI/EEXI binary '[0,1']]])","v":{"$error":"#VALUE!"}},{"$f":"IFERROR(IF(VLOOKUP($D$47,INDIRECT(Measures[[#This Row],[Measure sheet refrence]]),9,FALSE)=0,\"NA\",VLOOKUP($D$47,INDIRECT(Measures[[#This Row],[Measure sheet refrence]]),9,FALSE)),\"\")","v":""},{"$f":"IFERROR(IF(Measures[[#This Row],[Lifetime '[Years']]]=\"NA\",\"NA\",VLOOKUP($D$47,INDIRECT(Measures[[#This Row],[Measure sheet refrence]]),7,FALSE)),\"\")","v":""},{"$f":"IFERROR(IF(Measures[[#This Row],[Lifetime '[Years']]]=\"NA\",\"NA\",VLOOKUP($D$47,INDIRECT(Measures[[#This Row],[Measure sheet refrence]]),5,FALSE)),\"\")","v":""},{"$f":"IFERROR(IF(Measures[[#This Row],[Lifetime '[Years']]]=\"NA\",\"NA\",(1+VLOOKUP($D$47,INDIRECT(Measures[[#This Row],[Measure sheet refrence]]),6,FALSE))*Measures[[#This Row],[CAPEX NB '[$']]]),\"\")","v":""},{"$f":"VLOOKUP(Measures[[#This Row],[Measure]],Tooltip!A:C,3,FALSE)","v":9},"N/R",1,1]
["Shore power","Shore power","i","Technical",null,0,{"$f":"CONCATENATE(\"'\",Measures[[#This Row],[Measure name short]],\"'!A3:m72\")","v":"'Shore power'!A3:m72"},{"$f":"IFERROR(IF(VLOOKUP($D$47,INDIRECT(Measures[[#This Row],[Measure sheet refrence]]),12,FALSE)=0%,\"NA\",VLOOKUP($D$47,INDIRECT(Measures[[#This Row],[Measure sheet refrence]]),12,FALSE)),\"\")","v":""},{"$f":"IFERROR(IF(Measures[[#This Row],[Typical fuel reduction '[%']]]=\"NA\",\"NA\",VLOOKUP($D$47,INDIRECT(Measures[[#This Row],[Measure sheet refrence]]),10,FALSE)),\"\")","v":""},{"$f":"IFERROR(IF(Measures[[#This Row],[Typical fuel reduction '[%']]]=\"NA\",\"NA\",VLOOKUP($D$47,INDIRECT(Measures[[#This Row],[Measure sheet refrence]]),11,FALSE)),\"\")","v":""},{"$f":"IFERROR(IF(Dashboard!$T$16=0,INDEX('Cost&CO2_Calc'!$AA$130:$AA$160,MATCH(Measures[[#This Row],[Measure]],'Cost&CO2_Calc'!$B$130:$B$160,0)),INDEX('Cost&CO2_Calc'!$AB$130:$AB$160,MATCH(Measures[[#This Row],[Measure]],'Cost&CO2_Calc'!$B$130:$B$160,0))),0)","v":0},{"$f":"_xlfn.IFS(K30=0,\"NA\",K30>_xlfn.XLOOKUP($H$9,CII_calculation!$A$46:$A$67,CII_calculation!$K$46:$K$67),\"E\",K30>_xlfn.XLOOKUP($H$9,CII_calculation!$A$46:$A$67,CII_calculation!$I$46:$I$67),\"D\",K30>_xlfn.XLOOKUP($H$9,CII_calculation!$A$46:$A$67,CII_calculation!$G$46:$G$67),\"C\",K30>_xlfn.XLOOKUP($H$9,CII_calculation!$A$46:$A$67,CII_calculation!$E$46:$E$67),\"B\",K30<_xlfn.XLOOKUP($H$9,CII_calculation!$A$46:$A$67,CII_calculation!$E$46:$E$67),\"A\")","v":"NA"},{"$f":"IFERROR(IF(VLOOKUP($D$47,INDIRECT(Measures[[#This Row],[Measure sheet refrence]]),13,FALSE)=0%,\"NA\",VLOOKUP($D$47,INDIRECT(Measures[[#This Row],[Measure sheet refrence]]),13,FALSE)),\"\")","v":""},{"$f":"IF(Measures[[#This Row],[Typical EEXI / EEDI reduction '[%']]]=\"NA\",\"NA\",ROUND(Dashboard!$T$22*(1-Measures[[#This Row],[Typical EEXI / EEDI reduction '[%']]]),2)*Measures[[#This Row],[EEDI/EEXI binary '[0,1']]])","v":{"$error":"#VALUE!"}},{"$f":"IFERROR(IF(VLOOKUP($D$47,INDIRECT(Measures[[#This Row],[Measure sheet refrence]]),9,FALSE)=0,\"NA\",VLOOKUP($D$47,INDIRECT(Measures[[#This Row],[Measure sheet refrence]]),9,FALSE)),\"\")","v":""},{"$f":"IFERROR(IF(Measures[[#This Row],[Lifetime '[Years']]]=\"NA\",\"NA\",VLOOKUP($D$47,INDIRECT(Measures[[#This Row],[Measure sheet refrence]]),7,FALSE)),\"\")","v":""},{"$f":"IFERROR(IF(Measures[[#This Row],[Lifetime '[Years']]]=\"NA\",\"NA\",VLOOKUP($D$47,INDIRECT(Measures[[#This Row],[Measure sheet refrence]]),5,FALSE)),\"\")","v":""},{"$f":"IFERROR(IF(Measures[[#This Row],[Lifetime '[Years']]]=\"NA\",\"NA\",(1+VLOOKUP($D$47,INDIRECT(Measures[[#This Row],[Measure sheet refrence]]),6,FALSE))*Measures[[#This Row],[CAPEX NB '[$']]]),\"\")","v":""},{"$f":"VLOOKUP(Measures[[#This Row],[Measure]],Tooltip!A:C,3,FALSE)","v":9},"N/R",1,1]
["Improved auxiliary engine load","Improved auxiliary engine load","i","Operational",null,0,{"$f":"CONCATENATE(\"'\",Measures[[#This Row],[Measure name short]],\"'!A3:m72\")","v":"'Improved auxiliary engine load'!A3:m72"},{"$f":"IFERROR(IF(VLOOKUP($D$47,INDIRECT(Measures[[#This Row],[Measure sheet refrence]]),12,FALSE)=0%,\"NA\",VLOOKUP($D$47,INDIRECT(Measures[[#This Row],[Measure sheet refrence]]),12,FALSE)),\"\")","v":""},{"$f":"IFERROR(IF(Measures[[#This Row],[Typical fuel reduction '[%']]]=\"NA\",\"NA\",VLOOKUP($D$47,INDIRECT(Measures[[#This Row],[Measure sheet refrence]]),10,FALSE)),\"\")","v":""},{"$f":"IFERROR(IF(Measures[[#This Row],[Typical fuel reduction '[%']]]=\"NA\",\"NA\",VLOOKUP($D$47,INDIRECT(Measures[[#This Row],[Measure sheet refrence]]),11,FALSE)),\"\")","v":""},{"$f":"IFERROR(IF(Dashboard!$T$16=0,INDEX('Cost&CO2_Calc'!$AA$130:$AA$160,MATCH(Measures[[#This Row],[Measure]],'Cost&CO2_Calc'!$B$130:$B$160,0)),INDEX('Cost&CO2_Calc'!$AB$130:$AB$160,MATCH(Measures[[#This Row],[Measure]],'Cost&CO2_Calc'!$B$130:$B$160,0))),0)","v":0},{"$f":"_xlfn.IFS(K31=0,\"NA\",K31>_xlfn.XLOOKUP($H$9,CII_calculation!$A$46:$A$67,CII_calculation!$K$46:$K$67),\"E\",K31>_xlfn.XLOOKUP($H$9,CII_calculation!$A$46:$A$67,CII_calculation!$I$46:$I$67),\"D\",K31>_xlfn.XLOOKUP($H$9,CII_calculation!$A$46:$A$67,CII_calculation!$G$46:$G$67),\"C\",K31>_xlfn.XLOOKUP($H$9,CII_calculation!$A$46:$A$67,CII_calculation!$E$46:$E$67),\"B\",K31<_xlfn.XLOOKUP($H$9,CII_calculation!$A$46:$A$67,CII_calculation!$E$46:$E$67),\"A\")","v":"NA"},{"$f":"IFERROR(IF(VLOOKUP($D$47,INDIRECT(Measures[[#This Row],[Measure sheet refrence]]),13,FALSE)=0%,\"NA\",VLOOKUP($D$47,INDIRECT(Measures[[#This Row],[Measure sheet refrence]]),13,FALSE)),\"\")","v":""},{"$f":"IF(Measures[[#This Row],[Typical EEXI / EEDI reduction '[%']]]=\"NA\",\"NA\",ROUND(Dashboard!$T$22*(1-Measures[[#This Row],[Typical EEXI / EEDI reduction '[%']]]),2)*Measures[[#This Row],[EEDI/EEXI binary '[0,1']]])","v":{"$error":"#VALUE!"}},{"$f":"IFERROR(IF(VLOOKUP($D$47,INDIRECT(Measures[[#This Row],[Measure sheet refrence]]),9,FALSE)=0,\"NA\",VLOOKUP($D$47,INDIRECT(Measures[[#This Row],[Measure sheet refrence]]),9,FALSE)),\"\")","v":""},{"$f":"IFERROR(IF(Measures[[#This Row],[Lifetime '[Years']]]=\"NA\",\"NA\",VLOOKUP($D$47,INDIRECT(Measures[[#This Row],[Measure sheet refrence]]),7,FALSE)),\"\")","v":""},{"$f":"IFERROR(IF(Measures[[#This Row],[Lifetime '[Years']]]=\"NA\",\"NA\",VLOOKUP($D$47,INDIRECT(Measures[[#This Row],[Measure sheet refrence]]),5,FALSE)),\"\")","v":""},{"$f":"IFERROR(IF(Measures[[#This Row],[Lifetime '[Years']]]=\"NA\",\"NA\",(1+VLOOKUP($D$47,INDIRECT(Measures[[#This Row],[Measure sheet refrence]]),6,FALSE))*Measures[[#This Row],[CAPEX NB '[$']]]),\"\")","v":""},{"$f":"VLOOKUP(Measures[[#This Row],[Measure]],Tooltip!A:C,3,FALSE)","v":9},"N/R",1,1]
["Steam plant operation improvement","Steam plant operation imp.","i","Operational",null,0,{"$f":"CONCATENATE(\"'\",Measures[[#This Row],[Measure name short]],\"'!A3:m72\")","v":"'Steam plant operation imp.'!A3:m72"},{"$f":"IFERROR(IF(VLOOKUP($D$47,INDIRECT(Measures[[#This Row],[Measure sheet refrence]]),12,FALSE)=0%,\"NA\",VLOOKUP($D$47,INDIRECT(Measures[[#This Row],[Measure sheet refrence]]),12,FALSE)),\"\")","v":""},{"$f":"IFERROR(IF(Measures[[#This Row],[Typical fuel reduction '[%']]]=\"NA\",\"NA\",VLOOKUP($D$47,INDIRECT(Measures[[#This Row],[Measure sheet refrence]]),10,FALSE)),\"\")","v":""},{"$f":"IFERROR(IF(Measures[[#This Row],[Typical fuel reduction '[%']]]=\"NA\",\"NA\",VLOOKUP($D$47,INDIRECT(Measures[[#This Row],[Measure sheet refrence]]),11,FALSE)),\"\")","v":""},{"$f":"IFERROR(IF(Dashboard!$T$16=0,INDEX('Cost&CO2_Calc'!$AA$130:$AA$160,MATCH(Measures[[#This Row],[Measure]],'Cost&CO2_Calc'!$B$130:$B$160,0)),INDEX('Cost&CO2_Calc'!$AB$130:$AB$160,MATCH(Measures[[#This Row],[Measure]],'Cost&CO2_Calc'!$B$130:$B$160,0))),0)","v":0},{"$f":"_xlfn.IFS(K32=0,\"NA\",K32>_xlfn.XLOOKUP($H$9,CII_calculation!$A$46:$A$67,CII_calculation!$K$46:$K$67),\"E\",K32>_xlfn.XLOOKUP($H$9,CII_calculation!$A$46:$A$67,CII_calculation!$I$46:$I$67),\"D\",K32>_xlfn.XLOOKUP($H$9,CII_calculation!$A$46:$A$67,CII_calculation!$G$46:$G$67),\"C\",K32>_xlfn.XLOOKUP($H$9,CII_calculation!$A$46:$A$67,CII_calculation!$E$46:$E$67),\"B\",K32<_xlfn.XLOOKUP($H$9,CII_calculation!$A$46:$A$67,CII_calculation!$E$46:$E$67),\"A\")","v":"NA"},{"$f":"IFERROR(IF(VLOOKUP($D$47,INDIRECT(Measures[[#This Row],[Measure sheet refrence]]),13,FALSE)=0%,\"NA\",VLOOKUP($D$47,INDIRECT(Measures[[#This Row],[Measure sheet refrence]]),13,FALSE)),\"\")","v":""},{"$f":"IF(Measures[[#This Row],[Typical EEXI / EEDI reduction '[%']]]=\"NA\",\"NA\",ROUND(Dashboard!$T$22*(1-Measures[[#This Row],[Typical EEXI / EEDI reduction '[%']]]),2)*Measures[[#This Row],[EEDI/EEXI binary '[0,1']]])","v":{"$error":"#VALUE!"}},{"$f":"IFERROR(IF(VLOOKUP($D$47,INDIRECT(Measures[[#This Row],[Measure sheet refrence]]),9,FALSE)=0,\"NA\",VLOOKUP($D$47,INDIRECT(Measures[[#This Row],[Measure sheet refrence]]),9,FALSE)),\"\")","v":""},{"$f":"IFERROR(IF(Measures[[#This Row],[Lifetime '[Years']]]=\"NA\",\"NA\",VLOOKUP($D$47,INDIRECT(Measures[[#This Row],[Measure sheet refrence]]),7,FALSE)),\"\")","v":""},{"$f":"IFERROR(IF(Measures[[#This Row],[Lifetime '[Years']]]=\"NA\",\"NA\",VLOOKUP($D$47,INDIRECT(Measures[[#This Row],[Measure sheet refrence]]),5,FALSE)),\"\")","v":""},{"$f":"IFERROR(IF(Measures[[#This Row],[Lifetime '[Years']]]=\"NA\",\"NA\",(1+VLOOKUP($D$47,INDIRECT(Measures[[#This Row],[Measure sheet refrence]]),6,FALSE))*Measures[[#This Row],[CAPEX NB '[$']]]),\"\")","v":""},{"$f":"VLOOKUP(Measures[[#This Row],[Measure]],Tooltip!A:C,3,FALSE)","v":9},"N/R",1,1]
["Waste heat recovery systems","Waste heat recovery systems","i","Technical",null,1,{"$f":"CONCATENATE(\"'\",Measures[[#This Row],[Measure name short]],\"'!A3:m72\")","v":"'Waste heat recovery systems'!A3:m72"},{"$f":"IFERROR(IF(VLOOKUP($D$47,INDIRECT(Measures[[#This Row],[Measure sheet refrence]]),12,FALSE)=0%,\"NA\",VLOOKUP($D$47,INDIRECT(Measures[[#This Row],[Measure sheet refrence]]),12,FALSE)),\"\")","v":""},{"$f":"IFERROR(IF(Measures[[#This Row],[Typical fuel reduction '[%']]]=\"NA\",\"NA\",VLOOKUP($D$47,INDIRECT(Measures[[#This Row],[Measure sheet refrence]]),10,FALSE)),\"\")","v":""},{"$f":"IFERROR(IF(Measures[[#This Row],[Typical fuel reduction '[%']]]=\"NA\",\"NA\",VLOOKUP($D$47,INDIRECT(Measures[[#This Row],[Measure sheet refrence]]),11,FALSE)),\"\")","v":""},{"$f":"IFERROR(IF(Dashboard!$T$16=0,INDEX('Cost&CO2_Calc'!$AA$130:$AA$160,MATCH(Measures[[#This Row],[Measure]],'Cost&CO2_Calc'!$B$130:$B$160,0)),INDEX('Cost&CO2_Calc'!$AB$130:$AB$160,MATCH(Measures[[#This Row],[Measure]],'Cost&CO2_Calc'!$B$130:$B$160,0))),0)","v":0},{"$f":"_xlfn.IFS(K33=0,\"NA\",K33>_xlfn.XLOOKUP($H$9,CII_calculation!$A$46:$A$67,CII_calculation!$K$46:$K$67),\"E\",K33>_xlfn.XLOOKUP($H$9,CII_calculation!$A$46:$A$67,CII_calculation!$I$46:$I$67),\"D\",K33>_xlfn.XLOOKUP($H$9,CII_calculation!$A$46:$A$67,CII_calculation!$G$46:$G$67),\"C\",K33>_xlfn.XLOOKUP($H$9,CII_calculation!$A$46:$A$67,CII_calculation!$E$46:$E$67),\"B\",K33<_xlfn.XLOOKUP($H$9,CII_calculation!$A$46:$A$67,CII_calculation!$E$46:$E$67),\"A\")","v":"NA"},{"$f":"IFERROR(IF(VLOOKUP($D$47,INDIRECT(Measures[[#This Row],[Measure sheet refrence]]),13,FALSE)=0%,\"NA\",VLOOKUP($D$47,INDIRECT(Measures[[#This Row],[Measure sheet refrence]]),13,FALSE)),\"\")","v":""},{"$f":"IF(Measures[[#This Row],[Typical EEXI / EEDI reduction '[%']]]=\"NA\",\"NA\",ROUND(Dashboard!$T$22*(1-Measures[[#This Row],[Typical EEXI / EEDI reduction '[%']]]),2)*Measures[[#This Row],[EEDI/EEXI binary '[0,1']]])","v":{"$error":"#VALUE!"}},{"$f":"IFERROR(IF(VLOOKUP($D$47,INDIRECT(Measures[[#This Row],[Measure sheet refrence]]),9,FALSE)=0,\"NA\",VLOOKUP($D$47,INDIRECT(Measures[[#This Row],[Measure sheet refrence]]),9,FALSE)),\"\")","v":""},{"$f":"IFERROR(IF(Measures[[#This Row],[Lifetime '[Years']]]=\"NA\",\"NA\",VLOOKUP($D$47,INDIRECT(Measures[[#This Row],[Measure sheet refrence]]),7,FALSE)),\"\")","v":""},{"$f":"IFERROR(IF(Measures[[#This Row],[Lifetime '[Years']]]=\"NA\",\"NA\",VLOOKUP($D$47,INDIRECT(Measures[[#This Row],[Measure sheet refrence]]),5,FALSE)),\"\")","v":""},{"$f":"IFERROR(IF(Measures[[#This Row],[Lifetime '[Years']]]=\"NA\",\"NA\",(1+VLOOKUP($D$47,INDIRECT(Measures[[#This Row],[Measure sheet refrence]]),6,FALSE))*Measures[[#This Row],[CAPEX NB '[$']]]),\"\")","v":""},{"$f":"VLOOKUP(Measures[[#This Row],[Measure]],Tooltip!A:C,3,FALSE)","v":9},"N/R",1,1]
["Autopilot adjustment and use","Autopilot adjustment and use","i","Operational",null,0,{"$f":"CONCATENATE(\"'\",Measures[[#This Row],[Measure name short]],\"'!A3:m72\")","v":"'Autopilot adjustment and use'!A3:m72"},{"$f":"IFERROR(IF(VLOOKUP($D$47,INDIRECT(Measures[[#This Row],[Measure sheet refrence]]),12,FALSE)=0%,\"NA\",VLOOKUP($D$47,INDIRECT(Measures[[#This Row],[Measure sheet refrence]]),12,FALSE)),\"\")","v":""},{"$f":"IFERROR(IF(Measures[[#This Row],[Typical fuel reduction '[%']]]=\"NA\",\"NA\",VLOOKUP($D$47,INDIRECT(Measures[[#This Row],[Measure sheet refrence]]),10,FALSE)),\"\")","v":""},{"$f":"IFERROR(IF(Measures[[#This Row],[Typical fuel reduction '[%']]]=\"NA\",\"NA\",VLOOKUP($D$47,INDIRECT(Measures[[#This Row],[Measure sheet refrence]]),11,FALSE)),\"\")","v":""},{"$f":"IFERROR(IF(Dashboard!$T$16=0,INDEX('Cost&CO2_Calc'!$AA$130:$AA$160,MATCH(Measures[[#This Row],[Measure]],'Cost&CO2_Calc'!$B$130:$B$160,0)),INDEX('Cost&CO2_Calc'!$AB$130:$AB$160,MATCH(Measures[[#This Row],[Measure]],'Cost&CO2_Calc'!$B$130:$B$160,0))),0)","v":0},{"$f":"_xlfn.IFS(K34=0,\"NA\",K34>_xlfn.XLOOKUP($H$9,CII_calculation!$A$46:$A$67,CII_calculation!$K$46:$K$67),\"E\",K34>_xlfn.XLOOKUP($H$9,CII_calculation!$A$46:$A$67,CII_calculation!$I$46:$I$67),\"D\",K34>_xlfn.XLOOKUP($H$9,CII_calculation!$A$46:$A$67,CII_calculation!$G$46:$G$67),\"C\",K34>_xlfn.XLOOKUP($H$9,CII_calculation!$A$46:$A$67,CII_calculation!$E$46:$E$67),\"B\",K34<_xlfn.XLOOKUP($H$9,CII_calculation!$A$46:$A$67,CII_calculation!$E$46:$E$67),\"A\")","v":"NA"},{"$f":"IFERROR(IF(VLOOKUP($D$47,INDIRECT(Measures[[#This Row],[Measure sheet refrence]]),13,FALSE)=0%,\"NA\",VLOOKUP($D$47,INDIRECT(Measures[[#This Row],[Measure sheet refrence]]),13,FALSE)),\"\")","v":""},{"$f":"IF(Measures[[#This Row],[Typical EEXI / EEDI reduction '[%']]]=\"NA\",\"NA\",ROUND(Dashboard!$T$22*(1-Measures[[#This Row],[Typical EEXI / EEDI reduction '[%']]]),2)*Measures[[#This Row],[EEDI/EEXI binary '[0,1']]])","v":{"$error":"#VALUE!"}},{"$f":"IFERROR(IF(VLOOKUP($D$47,INDIRECT(Measures[[#This Row],[Measure sheet refrence]]),9,FALSE)=0,\"NA\",VLOOKUP($D$47,INDIRECT(Measures[[#This Row],[Measure sheet refrence]]),9,FALSE)),\"\")","v":""},{"$f":"IFERROR(IF(Measures[[#This Row],[Lifetime '[Years']]]=\"NA\",\"NA\",VLOOKUP($D$47,INDIRECT(Measures[[#This Row],[Measure sheet refrence]]),7,FALSE)),\"\")","v":""},{"$f":"IFERROR(IF(Measures[[#This Row],[Lifetime '[Years']]]=\"NA\",\"NA\",VLOOKUP($D$47,INDIRECT(Measures[[#This Row],[Measure sheet refrence]]),5,FALSE)),\"\")","v":""},{"$f":"IFERROR(IF(Measures[[#This Row],[Lifetime '[Years']]]=\"NA\",\"NA\",(1+VLOOKUP($D$47,INDIRECT(Measures[[#This Row],[Measure sheet refrence]]),6,FALSE))*Measures[[#This Row],[CAPEX NB '[$']]]),\"\")","v":""},{"$f":"VLOOKUP(Measures[[#This Row],[Measure]],Tooltip!A:C,3,FALSE)","v":9},"N/R",1,1]
["Combinator optimizing","Combinator optimizing","i","Operational",null,0,{"$f":"CONCATENATE(\"'\",Measures[[#This Row],[Measure name short]],\"'!A3:m72\")","v":"'Combinator optimizing'!A3:m72"},{"$f":"IFERROR(IF(VLOOKUP($D$47,INDIRECT(Measures[[#This Row],[Measure sheet refrence]]),12,FALSE)=0%,\"NA\",VLOOKUP($D$47,INDIRECT(Measures[[#This Row],[Measure sheet refrence]]),12,FALSE)),\"\")","v":""},{"$f":"IFERROR(IF(Measures[[#This Row],[Typical fuel reduction '[%']]]=\"NA\",\"NA\",VLOOKUP($D$47,INDIRECT(Measures[[#This Row],[Measure sheet refrence]]),10,FALSE)),\"\")","v":""},{"$f":"IFERROR(IF(Measures[[#This Row],[Typical fuel reduction '[%']]]=\"NA\",\"NA\",VLOOKUP($D$47,INDIRECT(Measures[[#This Row],[Measure sheet refrence]]),11,FALSE)),\"\")","v":""},{"$f":"IFERROR(IF(Dashboard!$T$16=0,INDEX('Cost&CO2_Calc'!$AA$130:$AA$160,MATCH(Measures[[#This Row],[Measure]],'Cost&CO2_Calc'!$B$130:$B$160,0)),INDEX('Cost&CO2_Calc'!$AB$130:$AB$160,MATCH(Measures[[#This Row],[Measure]],'Cost&CO2_Calc'!$B$130:$B$160,0))),0)","v":0},{"$f":"_xlfn.IFS(K35=0,\"NA\",K35>_xlfn.XLOOKUP($H$9,CII_calculation!$A$46:$A$67,CII_calculation!$K$46:$K$67),\"E\",K35>_xlfn.XLOOKUP($H$9,CII_calculation!$A$46:$A$67,CII_calculation!$I$46:$I$67),\"D\",K35>_xlfn.XLOOKUP($H$9,CII_calculation!$A$46:$A$67,CII_calculation!$G$46:$G$67),\"C\",K35>_xlfn.XLOOKUP($H$9,CII_calculation!$A$46:$A$67,CII_calculation!$E$46:$E$67),\"B\",K35<_xlfn.XLOOKUP($H$9,CII_calculation!$A$46:$A$67,CII_calculation!$E$46:$E$67),\"A\")","v":"NA"},{"$f":"IFERROR(IF(VLOOKUP($D$47,INDIRECT(Measures[[#This Row],[Measure sheet refrence]]),13,FALSE)=0%,\"NA\",VLOOKUP($D$47,INDIRECT(Measures[[#This Row],[Measure sheet refrence]]),13,FALSE)),\"\")","v":""},{"$f":"IF(Measures[[#This Row],[Typical EEXI / EEDI reduction '[%']]]=\"NA\",\"NA\",ROUND(Dashboard!$T$22*(1-Measures[[#This Row],[Typical EEXI / EEDI reduction '[%']]]),2)*Measures[[#This Row],[EEDI/EEXI binary '[0,1']]])","v":{"$error":"#VALUE!"}},{"$f":"IFERROR(IF(VLOOKUP($D$47,INDIRECT(Measures[[#This Row],[Measure sheet refrence]]),9,FALSE)=0,\"NA\",VLOOKUP($D$47,INDIRECT(Measures[[#This Row],[Measure sheet refrence]]),9,FALSE)),\"\")","v":""},{"$f":"IFERROR(IF(Measures[[#This Row],[Lifetime '[Years']]]=\"NA\",\"NA\",VLOOKUP($D$47,INDIRECT(Measures[[#This Row],[Measure sheet refrence]]),7,FALSE)),\"\")","v":""},{"$f":"IFERROR(IF(Measures[[#This Row],[Lifetime '[Years']]]=\"NA\",\"NA\",VLOOKUP($D$47,INDIRECT(Measures[[#This Row],[Measure sheet refrence]]),5,FALSE)),\"\")","v":""},{"$f":"IFERROR(IF(Measures[[#This Row],[Lifetime '[Years']]]=\"NA\",\"NA\",(1+VLOOKUP($D$47,INDIRECT(Measures[[#This Row],[Measure sheet refrence]]),6,FALSE))*Measures[[#This Row],[CAPEX NB '[$']]]),\"\")","v":""},{"$f":"VLOOKUP(Measures[[#This Row],[Measure]],Tooltip!A:C,3,FALSE)","v":9},"N/R",1,1]
["Trim and draft optimization","Trim and draft optimization","i","Operational",null,0,{"$f":"CONCATENATE(\"'\",Measures[[#This Row],[Measure name short]],\"'!A3:m72\")","v":"'Trim and draft optimization'!A3:m72"},{"$f":"IFERROR(IF(VLOOKUP($D$47,INDIRECT(Measures[[#This Row],[Measure sheet refrence]]),12,FALSE)=0%,\"NA\",VLOOKUP($D$47,INDIRECT(Measures[[#This Row],[Measure sheet refrence]]),12,FALSE)),\"\")","v":""},{"$f":"IFERROR(IF(Measures[[#This Row],[Typical fuel reduction '[%']]]=\"NA\",\"NA\",VLOOKUP($D$47,INDIRECT(Measures[[#This Row],[Measure sheet refrence]]),10,FALSE)),\"\")","v":""},{"$f":"IFERROR(IF(Measures[[#This Row],[Typical fuel reduction '[%']]]=\"NA\",\"NA\",VLOOKUP($D$47,INDIRECT(Measures[[#This Row],[Measure sheet refrence]]),11,FALSE)),\"\")","v":""},{"$f":"IFERROR(IF(Dashboard!$T$16=0,INDEX('Cost&CO2_Calc'!$AA$130:$AA$160,MATCH(Measures[[#This Row],[Measure]],'Cost&CO2_Calc'!$B$130:$B$160,0)),INDEX('Cost&CO2_Calc'!$AB$130:$AB$160,MATCH(Measures[[#This Row],[Measure]],'Cost&CO2_Calc'!$B$130:$B$160,0))),0)","v":0},{"$f":"_xlfn.IFS(K36=0,\"NA\",K36>_xlfn.XLOOKUP($H$9,CII_calculation!$A$46:$A$67,CII_calculation!$K$46:$K$67),\"E\",K36>_xlfn.XLOOKUP($H$9,CII_calculation!$A$46:$A$67,CII_calculation!$I$46:$I$67),\"D\",K36>_xlfn.XLOOKUP($H$9,CII_calculation!$A$46:$A$67,CII_calculation!$G$46:$G$67),\"C\",K36>_xlfn.XLOOKUP($H$9,CII_calculation!$A$46:$A$67,CII_calculation!$E$46:$E$67),\"B\",K36<_xlfn.XLOOKUP($H$9,CII_calculation!$A$46:$A$67,CII_calculation!$E$46:$E$67),\"A\")","v":"NA"},{"$f":"IFERROR(IF(VLOOKUP($D$47,INDIRECT(Measures[[#This Row],[Measure sheet refrence]]),13,FALSE)=0%,\"NA\",VLOOKUP($D$47,INDIRECT(Measures[[#This Row],[Measure sheet refrence]]),13,FALSE)),\"\")","v":""},{"$f":"IF(Measures[[#This Row],[Typical EEXI / EEDI reduction '[%']]]=\"NA\",\"NA\",ROUND(Dashboard!$T$22*(1-Measures[[#This Row],[Typical EEXI / EEDI reduction '[%']]]),2)*Measures[[#This Row],[EEDI/EEXI binary '[0,1']]])","v":{"$error":"#VALUE!"}},{"$f":"IFERROR(IF(VLOOKUP($D$47,INDIRECT(Measures[[#This Row],[Measure sheet refrence]]),9,FALSE)=0,\"NA\",VLOOKUP($D$47,INDIRECT(Measures[[#This Row],[Measure sheet refrence]]),9,FALSE)),\"\")","v":""},{"$f":"IFERROR(IF(Measures[[#This Row],[Lifetime '[Years']]]=\"NA\",\"NA\",VLOOKUP($D$47,INDIRECT(Measures[[#This Row],[Measure sheet refrence]]),7,FALSE)),\"\")","v":""},{"$f":"IFERROR(IF(Measures[[#This Row],[Lifetime '[Years']]]=\"NA\",\"NA\",VLOOKUP($D$47,INDIRECT(Measures[[#This Row],[Measure sheet refrence]]),5,FALSE)),\"\")","v":""},{"$f":"IFERROR(IF(Measures[[#This Row],[Lifetime '[Years']]]=\"NA\",\"NA\",(1+VLOOKUP($D$47,INDIRECT(Measures[[#This Row],[Measure sheet refrence]]),6,FALSE))*Measures[[#This Row],[CAPEX NB '[$']]]),\"\")","v":""},{"$f":"VLOOKUP(Measures[[#This Row],[Measure]],Tooltip!A:C,3,FALSE)","v":9},"N/R",1,1]
["Weather routing","Weather routing","i","Operational",null,0,{"$f":"CONCATENATE(\"'\",Measures[[#This Row],[Measure name short]],\"'!A3:m72\")","v":"'Weather routing'!A3:m72"},{"$f":"IFERROR(IF(VLOOKUP($D$47,INDIRECT(Measures[[#This Row],[Measure sheet refrence]]),12,FALSE)=0%,\"NA\",VLOOKUP($D$47,INDIRECT(Measures[[#This Row],[Measure sheet refrence]]),12,FALSE)),\"\")","v":""},{"$f":"IFERROR(IF(Measures[[#This Row],[Typical fuel reduction '[%']]]=\"NA\",\"NA\",VLOOKUP($D$47,INDIRECT(Measures[[#This Row],[Measure sheet refrence]]),10,FALSE)),\"\")","v":""},{"$f":"IFERROR(IF(Measures[[#This Row],[Typical fuel reduction '[%']]]=\"NA\",\"NA\",VLOOKUP($D$47,INDIRECT(Measures[[#This Row],[Measure sheet refrence]]),11,FALSE)),\"\")","v":""},{"$f":"IFERROR(IF(Dashboard!$T$16=0,INDEX('Cost&CO2_Calc'!$AA$130:$AA$160,MATCH(Measures[[#This Row],[Measure]],'Cost&CO2_Calc'!$B$130:$B$160,0)),INDEX('Cost&CO2_Calc'!$AB$130:$AB$160,MATCH(Measures[[#This Row],[Measure]],'Cost&CO2_Calc'!$B$130:$B$160,0))),0)","v":0},{"$f":"_xlfn.IFS(K37=0,\"NA\",K37>_xlfn.XLOOKUP($H$9,CII_calculation!$A$46:$A$67,CII_calculation!$K$46:$K$67),\"E\",K37>_xlfn.XLOOKUP($H$9,CII_calculation!$A$46:$A$67,CII_calculation!$I$46:$I$67),\"D\",K37>_xlfn.XLOOKUP($H$9,CII_calculation!$A$46:$A$67,CII_calculation!$G$46:$G$67),\"C\",K37>_xlfn.XLOOKUP($H$9,CII_calculation!$A$46:$A$67,CII_calculation!$E$46:$E$67),\"B\",K37<_xlfn.XLOOKUP($H$9,CII_calculation!$A$46:$A$67,CII_calculation!$E$46:$E$67),\"A\")","v":"NA"},{"$f":"IFERROR(IF(VLOOKUP($D$47,INDIRECT(Measures[[#This Row],[Measure sheet refrence]]),13,FALSE)=0%,\"NA\",VLOOKUP($D$47,INDIRECT(Measures[[#This Row],[Measure sheet refrence]]),13,FALSE)),\"\")","v":""},{"$f":"IF(Measures[[#This Row],[Typical EEXI / EEDI reduction '[%']]]=\"NA\",\"NA\",ROUND(Dashboard!$T$22*(1-Measures[[#This Row],[Typical EEXI / EEDI reduction '[%']]]),2)*Measures[[#This Row],[EEDI/EEXI binary '[0,1']]])","v":{"$error":"#VALUE!"}},{"$f":"IFERROR(IF(VLOOKUP($D$47,INDIRECT(Measures[[#This Row],[Measure sheet refrence]]),9,FALSE)=0,\"NA\",VLOOKUP($D$47,INDIRECT(Measures[[#This Row],[Measure sheet refrence]]),9,FALSE)),\"\")","v":""},{"$f":"IFERROR(IF(Measures[[#This Row],[Lifetime '[Years']]]=\"NA\",\"NA\",VLOOKUP($D$47,INDIRECT(Measures[[#This Row],[Measure sheet refrence]]),7,FALSE)),\"\")","v":""},{"$f":"IFERROR(IF(Measures[[#This Row],[Lifetime '[Years']]]=\"NA\",\"NA\",VLOOKUP($D$47,INDIRECT(Measures[[#This Row],[Measure sheet refrence]]),5,FALSE)),\"\")","v":""},{"$f":"IFERROR(IF(Measures[[#This Row],[Lifetime '[Years']]]=\"NA\",\"NA\",(1+VLOOKUP($D$47,INDIRECT(Measures[[#This Row],[Measure sheet refrence]]),6,FALSE))*Measures[[#This Row],[CAPEX NB '[$']]]),\"\")","v":""},{"$f":"VLOOKUP(Measures[[#This Row],[Measure]],Tooltip!A:C,3,FALSE)","v":9},"N/R",1,1]
["Speed management","Speed management","i","Operational",null,0,{"$f":"CONCATENATE(\"'\",Measures[[#This Row],[Measure name short]],\"'!A3:m72\")","v":"'Speed management'!A3:m72"},{"$f":"IFERROR(IF(VLOOKUP($D$47,INDIRECT(Measures[[#This Row],[Measure sheet refrence]]),12,FALSE)=0%,\"NA\",VLOOKUP($D$47,INDIRECT(Measures[[#This Row],[Measure sheet refrence]]),12,FALSE)),\"\")","v":""},{"$f":"IFERROR(IF(Measures[[#This Row],[Typical fuel reduction '[%']]]=\"NA\",\"NA\",VLOOKUP($D$47,INDIRECT(Measures[[#This Row],[Measure sheet refrence]]),10,FALSE)),\"\")","v":""},{"$f":"IFERROR(IF(Measures[[#This Row],[Typical fuel reduction '[%']]]=\"NA\",\"NA\",VLOOKUP($D$47,INDIRECT(Measures[[#This Row],[Measure sheet refrence]]),11,FALSE)),\"\")","v":""},{"$f":"IFERROR(IF(Dashboard!$T$16=0,INDEX('Cost&CO2_Calc'!$AA$130:$AA$160,MATCH(Measures[[#This Row],[Measure]],'Cost&CO2_Calc'!$B$130:$B$160,0)),INDEX('Cost&CO2_Calc'!$AB$130:$AB$160,MATCH(Measures[[#This Row],[Measure]],'Cost&CO2_Calc'!$B$130:$B$160,0))),0)","v":0},{"$f":"_xlfn.IFS(K38=0,\"NA\",K38>_xlfn.XLOOKUP($H$9,CII_calculation!$A$46:$A$67,CII_calculation!$K$46:$K$67),\"E\",K38>_xlfn.XLOOKUP($H$9,CII_calculation!$A$46:$A$67,CII_calculation!$I$46:$I$67),\"D\",K38>_xlfn.XLOOKUP($H$9,CII_calculation!$A$46:$A$67,CII_calculation!$G$46:$G$67),\"C\",K38>_xlfn.XLOOKUP($H$9,CII_calculation!$A$46:$A$67,CII_calculation!$E$46:$E$67),\"B\",K38<_xlfn.XLOOKUP($H$9,CII_calculation!$A$46:$A$67,CII_calculation!$E$46:$E$67),\"A\")","v":"NA"},{"$f":"IFERROR(IF(VLOOKUP($D$47,INDIRECT(Measures[[#This Row],[Measure sheet refrence]]),13,FALSE)=0%,\"NA\",VLOOKUP($D$47,INDIRECT(Measures[[#This Row],[Measure sheet refrence]]),13,FALSE)),\"\")","v":""},{"$f":"IF(Measures[[#This Row],[Typical EEXI / EEDI reduction '[%']]]=\"NA\",\"NA\",ROUND(Dashboard!$T$22*(1-Measures[[#This Row],[Typical EEXI / EEDI reduction '[%']]]),2)*Measures[[#This Row],[EEDI/EEXI binary '[0,1']]])","v":{"$error":"#VALUE!"}},{"$f":"IFERROR(IF(VLOOKUP($D$47,INDIRECT(Measures[[#This Row],[Measure sheet refrence]]),9,FALSE)=0,\"NA\",VLOOKUP($D$47,INDIRECT(Measures[[#This Row],[Measure sheet refrence]]),9,FALSE)),\"\")","v":""},{"$f":"IFERROR(IF(Measures[[#This Row],[Lifetime '[Years']]]=\"NA\",\"NA\",VLOOKUP($D$47,INDIRECT(Measures[[#This Row],[Measure sheet refrence]]),7,FALSE)),\"\")","v":""},{"$f":"IFERROR(IF(Measures[[#This Row],[Lifetime '[Years']]]=\"NA\",\"NA\",VLOOKUP($D$47,INDIRECT(Measures[[#This Row],[Measure sheet refrence]]),5,FALSE)),\"\")","v":""},{"$f":"IFERROR(IF(Measures[[#This Row],[Lifetime '[Years']]]=\"NA\",\"NA\",(1+VLOOKUP($D$47,INDIRECT(Measures[[#This Row],[Measure sheet refrence]]),6,FALSE))*Measures[[#This Row],[CAPEX NB '[$']]]),\"\")","v":""},{"$f":"VLOOKUP(Measures[[#This Row],[Measure]],Tooltip!A:C,3,FALSE)","v":9},"N/R",1,1]
["Air lubrication","Air lubrication","i","Technical",null,1,{"$f":"CONCATENATE(\"'\",Measures[[#This Row],[Measure name short]],\"'!A3:m72\")","v":"'Air lubrication'!A3:m72"},{"$f":"IFERROR(IF(VLOOKUP($D$47,INDIRECT(Measures[[#This Row],[Measure sheet refrence]]),12,FALSE)=0%,\"NA\",VLOOKUP($D$47,INDIRECT(Measures[[#This Row],[Measure sheet refrence]]),12,FALSE)),\"\")","v":""},{"$f":"IFERROR(IF(Measures[[#This Row],[Typical fuel reduction '[%']]]=\"NA\",\"NA\",VLOOKUP($D$47,INDIRECT(Measures[[#This Row],[Measure sheet refrence]]),10,FALSE)),\"\")","v":""},{"$f":"IFERROR(IF(Measures[[#This Row],[Typical fuel reduction '[%']]]=\"NA\",\"NA\",VLOOKUP($D$47,INDIRECT(Measures[[#This Row],[Measure sheet refrence]]),11,FALSE)),\"\")","v":""},{"$f":"IFERROR(IF(Dashboard!$T$16=0,INDEX('Cost&CO2_Calc'!$AA$130:$AA$160,MATCH(Measures[[#This Row],[Measure]],'Cost&CO2_Calc'!$B$130:$B$160,0)),INDEX('Cost&CO2_Calc'!$AB$130:$AB$160,MATCH(Measures[[#This Row],[Measure]],'Cost&CO2_Calc'!$B$130:$B$160,0))),0)","v":0},{"$f":"_xlfn.IFS(K39=0,\"NA\",K39>_xlfn.XLOOKUP($H$9,CII_calculation!$A$46:$A$67,CII_calculation!$K$46:$K$67),\"E\",K39>_xlfn.XLOOKUP($H$9,CII_calculation!$A$46:$A$67,CII_calculation!$I$46:$I$67),\"D\",K39>_xlfn.XLOOKUP($H$9,CII_calculation!$A$46:$A$67,CII_calculation!$G$46:$G$67),\"C\",K39>_xlfn.XLOOKUP($H$9,CII_calculation!$A$46:$A$67,CII_calculation!$E$46:$E$67),\"B\",K39<_xlfn.XLOOKUP($H$9,CII_calculation!$A$46:$A$67,CII_calculation!$E$46:$E$67),\"A\")","v":"NA"},{"$f":"IFERROR(IF(VLOOKUP($D$47,INDIRECT(Measures[[#This Row],[Measure sheet refrence]]),13,FALSE)=0%,\"NA\",VLOOKUP($D$47,INDIRECT(Measures[[#This Row],[Measure sheet refrence]]),13,FALSE)),\"\")","v":""},{"$f":"IF(Measures[[#This Row],[Typical EEXI / EEDI reduction '[%']]]=\"NA\",\"NA\",ROUND(Dashboard!$T$22*(1-Measures[[#This Row],[Typical EEXI / EEDI reduction '[%']]]),2)*Measures[[#This Row],[EEDI/EEXI binary '[0,1']]])","v":{"$error":"#VALUE!"}},{"$f":"IFERROR(IF(VLOOKUP($D$47,INDIRECT(Measures[[#This Row],[Measure sheet refrence]]),9,FALSE)=0,\"NA\",VLOOKUP($D$47,INDIRECT(Measures[[#This Row],[Measure sheet refrence]]),9,FALSE)),\"\")","v":""},{"$f":"IFERROR(IF(Measures[[#This Row],[Lifetime '[Years']]]=\"NA\",\"NA\",VLOOKUP($D$47,INDIRECT(Measures[[#This Row],[Measure sheet refrence]]),7,FALSE)),\"\")","v":""},{"$f":"IFERROR(IF(Measures[[#This Row],[Lifetime '[Years']]]=\"NA\",\"NA\",VLOOKUP($D$47,INDIRECT(Measures[[#This Row],[Measure sheet refrence]]),5,FALSE)),\"\")","v":""},{"$f":"IFERROR(IF(Measures[[#This Row],[Lifetime '[Years']]]=\"NA\",\"NA\",(1+VLOOKUP($D$47,INDIRECT(Measures[[#This Row],[Measure sheet refrence]]),6,FALSE))*Measures[[#This Row],[CAPEX NB '[$']]]),\"\")","v":""},{"$f":"VLOOKUP(Measures[[#This Row],[Measure]],Tooltip!A:C,3,FALSE)","v":9},"N/R",1,1]
["Hull performance coating","Hull performance coating","i","Technical",null,1,{"$f":"CONCATENATE(\"'\",Measures[[#This Row],[Measure name short]],\"'!A3:m72\")","v":"'Hull performance coating'!A3:m72"},{"$f":"IFERROR(IF(VLOOKUP($D$47,INDIRECT(Measures[[#This Row],[Measure sheet refrence]]),12,FALSE)=0%,\"NA\",VLOOKUP($D$47,INDIRECT(Measures[[#This Row],[Measure sheet refrence]]),12,FALSE)),\"\")","v":""},{"$f":"IFERROR(IF(Measures[[#This Row],[Typical fuel reduction '[%']]]=\"NA\",\"NA\",VLOOKUP($D$47,INDIRECT(Measures[[#This Row],[Measure sheet refrence]]),10,FALSE)),\"\")","v":""},{"$f":"IFERROR(IF(Measures[[#This Row],[Typical fuel reduction '[%']]]=\"NA\",\"NA\",VLOOKUP($D$47,INDIRECT(Measures[[#This Row],[Measure sheet refrence]]),11,FALSE)),\"\")","v":""},{"$f":"IFERROR(IF(Dashboard!$T$16=0,INDEX('Cost&CO2_Calc'!$AA$130:$AA$160,MATCH(Measures[[#This Row],[Measure]],'Cost&CO2_Calc'!$B$130:$B$160,0)),INDEX('Cost&CO2_Calc'!$AB$130:$AB$160,MATCH(Measures[[#This Row],[Measure]],'Cost&CO2_Calc'!$B$130:$B$160,0))),0)","v":0},{"$f":"_xlfn.IFS(K40=0,\"NA\",K40>_xlfn.XLOOKUP($H$9,CII_calculation!$A$46:$A$67,CII_calculation!$K$46:$K$67),\"E\",K40>_xlfn.XLOOKUP($H$9,CII_calculation!$A$46:$A$67,CII_calculation!$I$46:$I$67),\"D\",K40>_xlfn.XLOOKUP($H$9,CII_calculation!$A$46:$A$67,CII_calculation!$G$46:$G$67),\"C\",K40>_xlfn.XLOOKUP($H$9,CII_calculation!$A$46:$A$67,CII_calculation!$E$46:$E$67),\"B\",K40<_xlfn.XLOOKUP($H$9,CII_calculation!$A$46:$A$67,CII_calculation!$E$46:$E$67),\"A\")","v":"NA"},{"$f":"IFERROR(IF(VLOOKUP($D$47,INDIRECT(Measures[[#This Row],[Measure sheet refrence]]),13,FALSE)=0%,\"NA\",VLOOKUP($D$47,INDIRECT(Measures[[#This Row],[Measure sheet refrence]]),13,FALSE)),\"\")","v":""},{"$f":"IF(Measures[[#This Row],[Typical EEXI / EEDI reduction '[%']]]=\"NA\",\"NA\",ROUND(Dashboard!$T$22*(1-Measures[[#This Row],[Typical EEXI / EEDI reduction '[%']]]),2)*Measures[[#This Row],[EEDI/EEXI binary '[0,1']]])","v":{"$error":"#VALUE!"}},{"$f":"IFERROR(IF(VLOOKUP($D$47,INDIRECT(Measures[[#This Row],[Measure sheet refrence]]),9,FALSE)=0,\"NA\",VLOOKUP($D$47,INDIRECT(Measures[[#This Row],[Measure sheet refrence]]),9,FALSE)),\"\")","v":""},{"$f":"IFERROR(IF(Measures[[#This Row],[Lifetime '[Years']]]=\"NA\",\"NA\",VLOOKUP($D$47,INDIRECT(Measures[[#This Row],[Measure sheet refrence]]),7,FALSE)),\"\")","v":""},{"$f":"IFERROR(IF(Measures[[#This Row],[Lifetime '[Years']]]=\"NA\",\"NA\",VLOOKUP($D$47,INDIRECT(Measures[[#This Row],[Measure sheet refrence]]),5,FALSE)),\"\")","v":""},{"$f":"IFERROR(IF(Measures[[#This Row],[Lifetime '[Years']]]=\"NA\",\"NA\",(1+VLOOKUP($D$47,INDIRECT(Measures[[#This Row],[Measure sheet refrence]]),6,FALSE))*Measures[[#This Row],[CAPEX NB '[$']]]),\"\")","v":""},{"$f":"VLOOKUP(Measures[[#This Row],[Measure]],Tooltip!A:C,3,FALSE)","v":9},"N/R",1,1]
["Hull cleaning","Hull cleaning","i","Operational",null,0,{"$f":"CONCATENATE(\"'\",Measures[[#This Row],[Measure name short]],\"'!A3:m72\")","v":"'Hull cleaning'!A3:m72"},{"$f":"IFERROR(IF(VLOOKUP($D$47,INDIRECT(Measures[[#This Row],[Measure sheet refrence]]),12,FALSE)=0%,\"NA\",VLOOKUP($D$47,INDIRECT(Measures[[#This Row],[Measure sheet refrence]]),12,FALSE)),\"\")","v":""},{"$f":"IFERROR(IF(Measures[[#This Row],[Typical fuel reduction '[%']]]=\"NA\",\"NA\",VLOOKUP($D$47,INDIRECT(Measures[[#This Row],[Measure sheet refrence]]),10,FALSE)),\"\")","v":""},{"$f":"IFERROR(IF(Measures[[#This Row],[Typical fuel reduction '[%']]]=\"NA\",\"NA\",VLOOKUP($D$47,INDIRECT(Measures[[#This Row],[Measure sheet refrence]]),11,FALSE)),\"\")","v":""},{"$f":"IFERROR(IF(Dashboard!$T$16=0,INDEX('Cost&CO2_Calc'!$AA$130:$AA$160,MATCH(Measures[[#This Row],[Measure]],'Cost&CO2_Calc'!$B$130:$B$160,0)),INDEX('Cost&CO2_Calc'!$AB$130:$AB$160,MATCH(Measures[[#This Row],[Measure]],'Cost&CO2_Calc'!$B$130:$B$160,0))),0)","v":0},{"$f":"_xlfn.IFS(K41=0,\"NA\",K41>_xlfn.XLOOKUP($H$9,CII_calculation!$A$46:$A$67,CII_calculation!$K$46:$K$67),\"E\",K41>_xlfn.XLOOKUP($H$9,CII_calculation!$A$46:$A$67,CII_calculation!$I$46:$I$67),\"D\",K41>_xlfn.XLOOKUP($H$9,CII_calculation!$A$46:$A$67,CII_calculation!$G$46:$G$67),\"C\",K41>_xlfn.XLOOKUP($H$9,CII_calculation!$A$46:$A$67,CII_calculation!$E$46:$E$67),\"B\",K41<_xlfn.XLOOKUP($H$9,CII_calculation!$A$46:$A$67,CII_calculation!$E$46:$E$67),\"A\")","v":"NA"},{"$f":"IFERROR(IF(VLOOKUP($D$47,INDIRECT(Measures[[#This Row],[Measure sheet refrence]]),13,FALSE)=0%,\"NA\",VLOOKUP($D$47,INDIRECT(Measures[[#This Row],[Measure sheet refrence]]),13,FALSE)),\"\")","v":""},{"$f":"IF(Measures[[#This Row],[Typical EEXI / EEDI reduction '[%']]]=\"NA\",\"NA\",ROUND(Dashboard!$T$22*(1-Measures[[#This Row],[Typical EEXI / EEDI reduction '[%']]]),2)*Measures[[#This Row],[EEDI/EEXI binary '[0,1']]])","v":{"$error":"#VALUE!"}},{"$f":"IFERROR(IF(VLOOKUP($D$47,INDIRECT(Measures[[#This Row],[Measure sheet refrence]]),9,FALSE)=0,\"NA\",VLOOKUP($D$47,INDIRECT(Measures[[#This Row],[Measure sheet refrence]]),9,FALSE)),\"\")","v":""},{"$f":"IFERROR(IF(Measures[[#This Row],[Lifetime '[Years']]]=\"NA\",\"NA\",VLOOKUP($D$47,INDIRECT(Measures[[#This Row],[Measure sheet refrence]]),7,FALSE)),\"\")","v":""},{"$f":"IFERROR(IF(Measures[[#This Row],[Lifetime '[Years']]]=\"NA\",\"NA\",VLOOKUP($D$47,INDIRECT(Measures[[#This Row],[Measure sheet refrence]]),5,FALSE)),\"\")","v":""},{"$f":"IFERROR(IF(Measures[[#This Row],[Lifetime '[Years']]]=\"NA\",\"NA\",(1+VLOOKUP($D$47,INDIRECT(Measures[[#This Row],[Measure sheet refrence]]),6,FALSE))*Measures[[#This Row],[CAPEX NB '[$']]]),\"\")","v":""},{"$f":"VLOOKUP(Measures[[#This Row],[Measure]],Tooltip!A:C,3,FALSE)","v":9},"R",0,1]
["Hull form optimization","Hull form optimization","i","Technical",null,0,{"$f":"CONCATENATE(\"'\",Measures[[#This Row],[Measure name short]],\"'!A3:m72\")","v":"'Hull form optimization'!A3:m72"},{"$f":"IFERROR(IF(VLOOKUP($D$47,INDIRECT(Measures[[#This Row],[Measure sheet refrence]]),12,FALSE)=0%,\"NA\",VLOOKUP($D$47,INDIRECT(Measures[[#This Row],[Measure sheet refrence]]),12,FALSE)),\"\")","v":""},{"$f":"IFERROR(IF(Measures[[#This Row],[Typical fuel reduction '[%']]]=\"NA\",\"NA\",VLOOKUP($D$47,INDIRECT(Measures[[#This Row],[Measure sheet refrence]]),10,FALSE)),\"\")","v":""},{"$f":"IFERROR(IF(Measures[[#This Row],[Typical fuel reduction '[%']]]=\"NA\",\"NA\",VLOOKUP($D$47,INDIRECT(Measures[[#This Row],[Measure sheet refrence]]),11,FALSE)),\"\")","v":""},{"$f":"IFERROR(IF(Dashboard!$T$16=0,INDEX('Cost&CO2_Calc'!$AA$130:$AA$160,MATCH(Measures[[#This Row],[Measure]],'Cost&CO2_Calc'!$B$130:$B$160,0)),INDEX('Cost&CO2_Calc'!$AB$130:$AB$160,MATCH(Measures[[#This Row],[Measure]],'Cost&CO2_Calc'!$B$130:$B$160,0))),0)","v":0},{"$f":"_xlfn.IFS(K42=0,\"NA\",K42>_xlfn.XLOOKUP($H$9,CII_calculation!$A$46:$A$67,CII_calculation!$K$46:$K$67),\"E\",K42>_xlfn.XLOOKUP($H$9,CII_calculation!$A$46:$A$67,CII_calculation!$I$46:$I$67),\"D\",K42>_xlfn.XLOOKUP($H$9,CII_calculation!$A$46:$A$67,CII_calculation!$G$46:$G$67),\"C\",K42>_xlfn.XLOOKUP($H$9,CII_calculation!$A$46:$A$67,CII_calculation!$E$46:$E$67),\"B\",K42<_xlfn.XLOOKUP($H$9,CII_calculation!$A$46:$A$67,CII_calculation!$E$46:$E$67),\"A\")","v":"NA"},{"$f":"IFERROR(IF(VLOOKUP($D$47,INDIRECT(Measures[[#This Row],[Measure sheet refrence]]),13,FALSE)=0%,\"NA\",VLOOKUP($D$47,INDIRECT(Measures[[#This Row],[Measure sheet refrence]]),13,FALSE)),\"\")","v":""},{"$f":"IF(Measures[[#This Row],[Typical EEXI / EEDI reduction '[%']]]=\"NA\",\"NA\",ROUND(Dashboard!$T$22*(1-Measures[[#This Row],[Typical EEXI / EEDI reduction '[%']]]),2)*Measures[[#This Row],[EEDI/EEXI binary '[0,1']]])","v":{"$error":"#VALUE!"}},{"$f":"IFERROR(IF(VLOOKUP($D$47,INDIRECT(Measures[[#This Row],[Measure sheet refrence]]),9,FALSE)=0,\"NA\",VLOOKUP($D$47,INDIRECT(Measures[[#This Row],[Measure sheet refrence]]),9,FALSE)),\"\")","v":""},{"$f":"IFERROR(IF(Measures[[#This Row],[Lifetime '[Years']]]=\"NA\",\"NA\",VLOOKUP($D$47,INDIRECT(Measures[[#This Row],[Measure sheet refrence]]),7,FALSE)),\"\")","v":""},{"$f":"IFERROR(IF(Measures[[#This Row],[Lifetime '[Years']]]=\"NA\",\"NA\",VLOOKUP($D$47,INDIRECT(Measures[[#This Row],[Measure sheet refrence]]),5,FALSE)),\"\")","v":""},{"$f":"IFERROR(IF(Measures[[#This Row],[Lifetime '[Years']]]=\"NA\",\"NA\",(1+VLOOKUP($D$47,INDIRECT(Measures[[#This Row],[Measure sheet refrence]]),6,FALSE))*Measures[[#This Row],[CAPEX NB '[$']]]),\"\")","v":""},{"$f":"VLOOKUP(Measures[[#This Row],[Measure]],Tooltip!A:C,3,FALSE)","v":9},"N",1,0]
["Propeller retrofitting","Propeller retrofitting","i","Technical",null,1,{"$f":"CONCATENATE(\"'\",Measures[[#This Row],[Measure name short]],\"'!A3:m72\")","v":"'Propeller retrofitting'!A3:m72"},{"$f":"IFERROR(IF(VLOOKUP($D$47,INDIRECT(Measures[[#This Row],[Measure sheet refrence]]),12,FALSE)=0%,\"NA\",VLOOKUP($D$47,INDIRECT(Measures[[#This Row],[Measure sheet refrence]]),12,FALSE)),\"\")","v":""},{"$f":"IFERROR(IF(Measures[[#This Row],[Typical fuel reduction '[%']]]=\"NA\",\"NA\",VLOOKUP($D$47,INDIRECT(Measures[[#This Row],[Measure sheet refrence]]),10,FALSE)),\"\")","v":""},{"$f":"IFERROR(IF(Measures[[#This Row],[Typical fuel reduction '[%']]]=\"NA\",\"NA\",VLOOKUP($D$47,INDIRECT(Measures[[#This Row],[Measure sheet refrence]]),11,FALSE)),\"\")","v":""},{"$f":"IFERROR(IF(Dashboard!$T$16=0,INDEX('Cost&CO2_Calc'!$AA$130:$AA$160,MATCH(Measures[[#This Row],[Measure]],'Cost&CO2_Calc'!$B$130:$B$160,0)),INDEX('Cost&CO2_Calc'!$AB$130:$AB$160,MATCH(Measures[[#This Row],[Measure]],'Cost&CO2_Calc'!$B$130:$B$160,0))),0)","v":0},{"$f":"_xlfn.IFS(K43=0,\"NA\",K43>_xlfn.XLOOKUP($H$9,CII_calculation!$A$46:$A$67,CII_calculation!$K$46:$K$67),\"E\",K43>_xlfn.XLOOKUP($H$9,CII_calculation!$A$46:$A$67,CII_calculation!$I$46:$I$67),\"D\",K43>_xlfn.XLOOKUP($H$9,CII_calculation!$A$46:$A$67,CII_calculation!$G$46:$G$67),\"C\",K43>_xlfn.XLOOKUP($H$9,CII_calculation!$A$46:$A$67,CII_calculation!$E$46:$E$67),\"B\",K43<_xlfn.XLOOKUP($H$9,CII_calculation!$A$46:$A$67,CII_calculation!$E$46:$E$67),\"A\")","v":"NA"},{"$f":"IFERROR(IF(VLOOKUP($D$47,INDIRECT(Measures[[#This Row],[Measure sheet refrence]]),13,FALSE)=0%,\"NA\",VLOOKUP($D$47,INDIRECT(Measures[[#This Row],[Measure sheet refrence]]),13,FALSE)),\"\")","v":""},{"$f":"IF(Measures[[#This Row],[Typical EEXI / EEDI reduction '[%']]]=\"NA\",\"NA\",ROUND(Dashboard!$T$22*(1-Measures[[#This Row],[Typical EEXI / EEDI reduction '[%']]]),2)*Measures[[#This Row],[EEDI/EEXI binary '[0,1']]])","v":{"$error":"#VALUE!"}},{"$f":"IFERROR(IF(VLOOKUP($D$47,INDIRECT(Measures[[#This Row],[Measure sheet refrence]]),9,FALSE)=0,\"NA\",VLOOKUP($D$47,INDIRECT(Measures[[#This Row],[Measure sheet refrence]]),9,FALSE)),\"\")","v":""},{"$f":"IFERROR(IF(Measures[[#This Row],[Lifetime '[Years']]]=\"NA\",\"NA\",VLOOKUP($D$47,INDIRECT(Measures[[#This Row],[Measure sheet refrence]]),7,FALSE)),\"\")","v":""},{"$f":"IFERROR(IF(Measures[[#This Row],[Lifetime '[Years']]]=\"NA\",\"NA\",VLOOKUP($D$47,INDIRECT(Measures[[#This Row],[Measure sheet refrence]]),5,FALSE)),\"\")","v":""},{"$f":"IFERROR(IF(Measures[[#This Row],[Lifetime '[Years']]]=\"NA\",\"NA\",(1+VLOOKUP($D$47,INDIRECT(Measures[[#This Row],[Measure sheet refrence]]),6,FALSE))*Measures[[#This Row],[CAPEX NB '[$']]]),\"\")","v":""},{"$f":"VLOOKUP(Measures[[#This Row],[Measure]],Tooltip!A:C,3,FALSE)","v":9},"R",0,1]
["Propulsion improving devices (PIDs)","Propulsion imp. devices (PIDs)","i","Technical",null,1,{"$f":"CONCATENATE(\"'\",Measures[[#This Row],[Measure name short]],\"'!A3:m72\")","v":"'Propulsion imp. devices (PIDs)'!A3:m72"},{"$f":"IFERROR(IF(VLOOKUP($D$47,INDIRECT(Measures[[#This Row],[Measure sheet refrence]]),12,FALSE)=0%,\"NA\",VLOOKUP($D$47,INDIRECT(Measures[[#This Row],[Measure sheet refrence]]),12,FALSE)),\"\")","v":""},{"$f":"IFERROR(IF(Measures[[#This Row],[Typical fuel reduction '[%']]]=\"NA\",\"NA\",VLOOKUP($D$47,INDIRECT(Measures[[#This Row],[Measure sheet refrence]]),10,FALSE)),\"\")","v":""},{"$f":"IFERROR(IF(Measures[[#This Row],[Typical fuel reduction '[%']]]=\"NA\",\"NA\",VLOOKUP($D$47,INDIRECT(Measures[[#This Row],[Measure sheet refrence]]),11,FALSE)),\"\")","v":""},{"$f":"IFERROR(IF(Dashboard!$T$16=0,INDEX('Cost&CO2_Calc'!$AA$130:$AA$160,MATCH(Measures[[#This Row],[Measure]],'Cost&CO2_Calc'!$B$130:$B$160,0)),INDEX('Cost&CO2_Calc'!$AB$130:$AB$160,MATCH(Measures[[#This Row],[Measure]],'Cost&CO2_Calc'!$B$130:$B$160,0))),0)","v":0},{"$f":"_xlfn.IFS(K44=0,\"NA\",K44>_xlfn.XLOOKUP($H$9,CII_calculation!$A$46:$A$67,CII_calculation!$K$46:$K$67),\"E\",K44>_xlfn.XLOOKUP($H$9,CII_calculation!$A$46:$A$67,CII_calculation!$I$46:$I$67),\"D\",K44>_xlfn.XLOOKUP($H$9,CII_calculation!$A$46:$A$67,CII_calculation!$G$46:$G$67),\"C\",K44>_xlfn.XLOOKUP($H$9,CII_calculation!$A$46:$A$67,CII_calculation!$E$46:$E$67),\"B\",K44<_xlfn.XLOOKUP($H$9,CII_calculation!$A$46:$A$67,CII_calculation!$E$46:$E$67),\"A\")","v":"NA"},{"$f":"IFERROR(IF(VLOOKUP($D$47,INDIRECT(Measures[[#This Row],[Measure sheet refrence]]),13,FALSE)=0%,\"NA\",VLOOKUP($D$47,INDIRECT(Measures[[#This Row],[Measure sheet refrence]]),13,FALSE)),\"\")","v":""},{"$f":"IF(Measures[[#This Row],[Typical EEXI / EEDI reduction '[%']]]=\"NA\",\"NA\",ROUND(Dashboard!$T$22*(1-Measures[[#This Row],[Typical EEXI / EEDI reduction '[%']]]),2)*Measures[[#This Row],[EEDI/EEXI binary '[0,1']]])","v":{"$error":"#VALUE!"}},{"$f":"IFERROR(IF(VLOOKUP($D$47,INDIRECT(Measures[[#This Row],[Measure sheet refrence]]),9,FALSE)=0,\"NA\",VLOOKUP($D$47,INDIRECT(Measures[[#This Row],[Measure sheet refrence]]),9,FALSE)),\"\")","v":""},{"$f":"IFERROR(IF(Measures[[#This Row],[Lifetime '[Years']]]=\"NA\",\"NA\",VLOOKUP($D$47,INDIRECT(Measures[[#This Row],[Measure sheet refrence]]),7,FALSE)),\"\")","v":""},{"$f":"IFERROR(IF(Measures[[#This Row],[Lifetime '[Years']]]=\"NA\",\"NA\",VLOOKUP($D$47,INDIRECT(Measures[[#This Row],[Measure sheet refrence]]),5,FALSE)),\"\")","v":""},{"$f":"IFERROR(IF(Measures[[#This Row],[Lifetime '[Years']]]=\"NA\",\"NA\",(1+VLOOKUP($D$47,INDIRECT(Measures[[#This Row],[Measure sheet refrence]]),6,FALSE))*Measures[[#This Row],[CAPEX NB '[$']]]),\"\")","v":""},{"$f":"VLOOKUP(Measures[[#This Row],[Measure]],Tooltip!A:C,3,FALSE)","v":9},"N/R",1,1]
["Propeller polishing","Propeller polishing","i","Operational",null,0,{"$f":"CONCATENATE(\"'\",Measures[[#This Row],[Measure name short]],\"'!A3:m72\")","v":"'Propeller polishing'!A3:m72"},{"$f":"IFERROR(IF(VLOOKUP($D$47,INDIRECT(Measures[[#This Row],[Measure sheet refrence]]),12,FALSE)=0%,\"NA\",VLOOKUP($D$47,INDIRECT(Measures[[#This Row],[Measure sheet refrence]]),12,FALSE)),\"\")","v":""},{"$f":"IFERROR(IF(Measures[[#This Row],[Typical fuel reduction '[%']]]=\"NA\",\"NA\",VLOOKUP($D$47,INDIRECT(Measures[[#This Row],[Measure sheet refrence]]),10,FALSE)),\"\")","v":""},{"$f":"IFERROR(IF(Measures[[#This Row],[Typical fuel reduction '[%']]]=\"NA\",\"NA\",VLOOKUP($D$47,INDIRECT(Measures[[#This Row],[Measure sheet refrence]]),11,FALSE)),\"\")","v":""},{"$f":"IFERROR(IF(Dashboard!$T$16=0,INDEX('Cost&CO2_Calc'!$AA$130:$AA$160,MATCH(Measures[[#This Row],[Measure]],'Cost&CO2_Calc'!$B$130:$B$160,0)),INDEX('Cost&CO2_Calc'!$AB$130:$AB$160,MATCH(Measures[[#This Row],[Measure]],'Cost&CO2_Calc'!$B$130:$B$160,0))),0)","v":0},{"$f":"_xlfn.IFS(K45=0,\"NA\",K45>_xlfn.XLOOKUP($H$9,CII_calculation!$A$46:$A$67,CII_calculation!$K$46:$K$67),\"E\",K45>_xlfn.XLOOKUP($H$9,CII_calculation!$A$46:$A$67,CII_calculation!$I$46:$I$67),\"D\",K45>_xlfn.XLOOKUP($H$9,CII_calculation!$A$46:$A$67,CII_calculation!$G$46:$G$67),\"C\",K45>_xlfn.XLOOKUP($H$9,CII_calculation!$A$46:$A$67,CII_calculation!$E$46:$E$67),\"B\",K45<_xlfn.XLOOKUP($H$9,CII_calculation!$A$46:$A$67,CII_calculation!$E$46:$E$67),\"A\")","v":"NA"},{"$f":"IFERROR(IF(VLOOKUP($D$47,INDIRECT(Measures[[#This Row],[Measure sheet refrence]]),13,FALSE)=0%,\"NA\",VLOOKUP($D$47,INDIRECT(Measures[[#This Row],[Measure sheet refrence]]),13,FALSE)),\"\")","v":""},{"$f":"IF(Measures[[#This Row],[Typical EEXI / EEDI reduction '[%']]]=\"NA\",\"NA\",ROUND(Dashboard!$T$22*(1-Measures[[#This Row],[Typical EEXI / EEDI reduction '[%']]]),2)*Measures[[#This Row],[EEDI/EEXI binary '[0,1']]])","v":{"$error":"#VALUE!"}},{"$f":"IFERROR(IF(VLOOKUP($D$47,INDIRECT(Measures[[#This Row],[Measure sheet refrence]]),9,FALSE)=0,\"NA\",VLOOKUP($D$47,INDIRECT(Measures[[#This Row],[Measure sheet refrence]]),9,FALSE)),\"\")","v":""},{"$f":"IFERROR(IF(Measures[[#This Row],[Lifetime '[Years']]]=\"NA\",\"NA\",VLOOKUP($D$47,INDIRECT(Measures[[#This Row],[Measure sheet refrence]]),7,FALSE)),\"\")","v":""},{"$f":"IFERROR(IF(Measures[[#This Row],[Lifetime '[Years']]]=\"NA\",\"NA\",VLOOKUP($D$47,INDIRECT(Measures[[#This Row],[Measure sheet refrence]]),5,FALSE)),\"\")","v":""},{"$f":"IFERROR(IF(Measures[[#This Row],[Lifetime '[Years']]]=\"NA\",\"NA\",(1+VLOOKUP($D$47,INDIRECT(Measures[[#This Row],[Measure sheet refrence]]),6,FALSE))*Measures[[#This Row],[CAPEX NB '[$']]]),\"\")","v":""},{"$f":"VLOOKUP(Measures[[#This Row],[Measure]],Tooltip!A:C,3,FALSE)","v":9},"R",0,1]
[]
["Vessel type",null,null,{"$f":"IFERROR(CII_calculation!B93,\"Not selected\")","v":"Not selected"},null,null,null,null,null,null,null,null,null,null,null,null,null,null,null,"Version 2.0"]
[]
[]
[]
["HIDE these output rows in deliveries!"]
[]
["Output CII",null,null,"high CII","low CII"]
["Current AER 4 th study"]
["Attained AER 4th study - optimal",null,null,1.6,2.2000000000000002]
["Attained AER 4th study - all",0]
["Current AER inserted",{"$f":"Dashboard!T16","v":0}]
["Attained AER - optimal",{"$f":"'Cost&CO2_Calc'!AB160","v":0},null,5.8,7.4]
["Attained AER - all",0,null,0,0]
[]
[null,0]
[]
[]
[null,0]

{"sheet":"Incompatibility matrix","index":4,"n_rows":73,"n_cols":37,"rows_kept":73,"cut":false,"hidden":false,"merged":[]}
[]
[null,1,"These two measures are incompatible and they cannot work together, as the one limits/eliminates the effect of the other"]
[]
["Technology","Energy efficient lighting system","Frequency controlled electric motors ","Fixed sails or wings","Kite","Solar panels","Rotor sails","Auxiliary systems optimization","Engine performance optimization (automatic)","Engine de-rating","Engine performance optimization (manual)","Exhaust gas boilers on auxiliary engines","Battery hybridization (not plug-in)","Shaft generator PTO","Shore power","Improved auxiliary engine load","Steam plant operation improvement","Waste heat recovery systems","Battery hybridization","Autopilot adjustment and use","Combinator optimizing","Trim and draft optimization","Weather routing","Speed management","Air lubrication","Hull performance coating","Hull cleaning","Hull retrofitting","Hull form optimization","Propeller retrofitting","Propulsion improving devices (PIDs)","Propeller polishing","Dropdown to select measure","Check","Measure 1","measure 2"]
[null,{"$f":"IFERROR(IF(MATCH(B4,Dashboard!$X$29:$X$42,0),1,0),0)","v":0},{"$f":"IFERROR(IF(MATCH(C4,Dashboard!$X$29:$X$42,0),1,0),0)","v":1},{"$f":"IFERROR(IF(MATCH(D4,Dashboard!$X$29:$X$42,0),1,0),0)","v":0},{"$f":"IFERROR(IF(MATCH(E4,Dashboard!$X$29:$X$42,0),1,0),0)","v":1},{"$f":"IFERROR(IF(MATCH(F4,Dashboard!$X$29:$X$42,0),1,0),0)","v":0},{"$f":"IFERROR(IF(MATCH(G4,Dashboard!$X$29:$X$42,0),1,0),0)","v":0},{"$f":"IFERROR(IF(MATCH(H4,Dashboard!$X$29:$X$42,0),1,0),0)","v":0},{"$f":"IFERROR(IF(MATCH(I4,Dashboard!$X$29:$X$42,0),1,0),0)","v":1},{"$f":"IFERROR(IF(MATCH(J4,Dashboard!$X$29:$X$42,0),1,0),0)","v":1},{"$f":"IFERROR(IF(MATCH(K4,Dashboard!$X$29:$X$42,0),1,0),0)","v":0},{"$f":"IFERROR(IF(MATCH(L4,Dashboard!$X$29:$X$42,0),1,0),0)","v":1},{"$f":"IFERROR(IF(MATCH(M4,Dashboard!$X$29:$X$42,0),1,0),0)","v":0},{"$f":"IFERROR(IF(MATCH(N4,Dashboard!$X$29:$X$42,0),1,0),0)","v":0},{"$f":"IFERROR(IF(MATCH(O4,Dashboard!$X$29:$X$42,0),1,0),0)","v":0},{"$f":"IFERROR(IF(MATCH(P4,Dashboard!$X$29:$X$42,0),1,0),0)","v":0},{"$f":"IFERROR(IF(MATCH(Q4,Dashboard!$X$29:$X$42,0),1,0),0)","v":0},{"$f":"IFERROR(IF(MATCH(R4,Dashboard!$X$29:$X$42,0),1,0),0)","v":0},{"$f":"IFERROR(IF(MATCH(S4,Dashboard!$X$29:$X$42,0),1,0),0)","v":0},{"$f":"IFERROR(IF(MATCH(T4,Dashboard!$X$29:$X$42,0),1,0),0)","v":1},{"$f":"IFERROR(IF(MATCH(U4,Dashboard!$X$29:$X$42,0),1,0),0)","v":1},{"$f":"IFERROR(IF(MATCH(V4,Dashboard!$X$29:$X$42,0),1,0),0)","v":1},{"$f":"IFERROR(IF(MATCH(W4,Dashboard!$X$29:$X$42,0),1,0),0)","v":1},{"$f":"IFERROR(IF(MATCH(X4,Dashboard!$X$29:$X$42,0),1,0),0)","v":1},{"$f":"IFERROR(IF(MATCH(Y4,Dashboard!$X$29:$X$42,0),1,0),0)","v":1},{"$f":"IFERROR(IF(MATCH(Z4,Dashboard!$X$29:$X$42,0),1,0),0)","v":1},{"$f":"IFERROR(IF(MATCH(AA4,Dashboard!$X$29:$X$42,0),1,0),0)","v":1},{"$f":"IFERROR(IF(MATCH(AB4,Dashboard!$X$29:$X$42,0),1,0),0)","v":0},{"$f":"IFERROR(IF(MATCH(AC4,Dashboard!$X$29:$X$42,0),1,0),0)","v":0},{"$f":"IFERROR(IF(MATCH(AD4,Dashboard!$X$29:$X$42,0),1,0),0)","v":0},{"$f":"IFERROR(IF(MATCH(AE4,Dashboard!$X$29:$X$42,0),1,0),0)","v":1},{"$f":"IFERROR(IF(MATCH(AF4,Dashboard!$X$29:$X$42,0),1,0),0)","v":0}]
["Energy efficient lighting system",1,0,0,0,0,0,0,0,0,0,0,0,0,0,0,0,0,0,0,0,0,0,0,0,0,0,0,0,0,0,0,0,{"$f":"SUMPRODUCT(B6:AF6,$B$5:$AF$5)","v":0}]
["Frequency controlled electric motors ",0,1,0,0,0,0,0,0,0,0,0,0,0,0,0,0,0,0,0,0,0,0,0,0,0,0,0,0,0,0,0,0,{"$f":"SUMPRODUCT(B7:AF7,$B$5:$AF$5)","v":1}]
["Fixed sails or wings",0,0,1,1,0,1,0,0,0,0,0,0,0,0,0,0,1,0,0,0,0,0,0,0,0,0,0,0,0,0,0,0,1]
["Kite",0,0,1,1,0,1,0,0,0,0,0,0,0,0,0,0,1,0,0,0,0,0,0,0,0,0,0,0,0,0,0,0,1]
["Solar panels",0,0,0,0,1,0,0,0,0,0,0,0,0,0,0,0,0,0,0,0,0,0,0,0,0,0,0,0,0,0,0,0,0]
["Rotor sails",0,0,1,1,0,1,0,0,0,0,0,0,0,0,0,0,1,0,0,0,0,0,0,0,0,0,0,0,0,0,0,0,1]
["Auxiliary systems optimization",0,0,0,0,0,0,1,0,0,0,0,0,0,0,0,0,0,0,0,0,0,0,0,0,0,0,0,0,0,0,0,0,0]
["Engine performance optimization (automatic)",0,0,0,0,0,0,0,1,0,0,0,0,0,0,0,0,0,0,0,0,0,0,0,0,0,0,0,0,0,0,0,0,1]
["Engine de-rating",0,0,0,0,0,0,0,0,1,0,0,0,1,0,0,0,0,0,0,0,0,0,0,0,0,0,0,0,0,0,0,0,1]
["Engine performance optimization (manual)",0,0,0,0,0,0,0,0,0,1,0,0,0,0,0,0,0,0,0,0,0,0,0,0,0,0,0,0,0,0,0,0,0]
["Exhaust gas boilers on auxiliary engines",0,0,0,0,0,0,0,0,0,0,1,0,0,1,0,0,0,0,0,0,0,0,0,0,0,0,0,0,0,0,0,0,1]
["Battery hybridization (not plug-in)",0,0,0,0,0,0,0,0,0,0,0,1,0,0,0,0,0,0,0,0,0,0,0,0,0,0,0,0,0,0,0,0,0]
["Shaft generator PTO",0,0,0,0,0,0,0,0,1,0,0,0,1,0,0,0,0,0,0,0,0,0,0,0,0,0,0,0,0,0,0,0,1]
["Shore power",0,0,0,0,0,0,0,0,0,0,1,0,0,1,0,0,0,0,0,0,0,0,0,0,0,0,0,0,0,0,0,0,1]
["Improved auxiliary engine load",0,0,0,0,0,0,0,0,0,0,0,0,0,0,1,0,0,0,0,0,0,0,0,0,0,0,0,0,0,0,0,0,0]
["Steam plant operation improvement",0,0,0,0,0,0,0,0,0,0,0,0,0,0,0,1,0,0,0,0,0,0,0,0,0,0,0,0,0,0,0,0,0]
["Waste heat recovery systems",0,0,1,1,0,1,0,0,0,0,0,0,0,0,0,0,1,0,0,0,0,0,0,0,0,0,0,0,0,0,0,0,{"$f":"SUMPRODUCT(B22:AF22,$B$5:$AF$5)","v":1}]
["Battery hybridization",0,0,0,0,0,0,0,0,0,0,0,0,0,0,0,0,0,1,0,0,0,0,0,0,0,0,0,0,0,0,0,0,0]
["Autopilot adjustment and use",0,0,0,0,0,0,0,0,0,0,0,0,0,0,0,0,0,0,1,0,0,0,0,0,0,0,0,0,0,0,0,0,1]
["Combinator optimizing",0,0,0,0,0,0,0,0,0,0,0,0,0,0,0,0,0,0,0,1,0,0,0,0,0,0,0,0,0,0,0,0,1]
["Trim and draft optimization",0,0,0,0,0,0,0,0,0,0,0,0,0,0,0,0,0,0,0,0,1,0,0,0,0,0,0,0,0,0,0,0,1]
["Weather routing",0,0,0,0,0,0,0,0,0,0,0,0,0,0,0,0,0,0,0,0,0,1,0,0,0,0,0,0,0,0,0,0,1]
["Speed management",0,0,0,0,0,0,0,0,0,0,0,0,0,0,0,0,0,0,0,0,0,0,1,0,0,0,0,0,0,0,0,0,1]
["Air lubrication",0,0,0,0,0,0,0,0,0,0,0,0,0,0,0,0,0,0,0,0,0,0,0,1,0,0,0,0,0,0,0,0,1]
["Hull performance coating",0,0,0,0,0,0,0,0,0,0,0,0,0,0,0,0,0,0,0,0,0,0,0,0,1,0,0,0,0,0,0,0,1]
["Hull cleaning",0,0,0,0,0,0,0,0,0,0,0,0,0,0,0,0,0,0,0,0,0,0,0,0,0,1,0,0,0,0,0,0,1]
["Hull retrofitting",0,0,0,0,0,0,0,0,0,0,0,0,0,0,0,0,0,0,0,0,0,0,0,0,0,0,1,0,0,0,0,0,0]
["Hull form optimization",0,0,0,0,0,0,0,0,0,0,0,0,0,0,0,0,0,0,0,0,0,0,0,0,0,0,0,1,0,0,0,0,0]
["Propeller retrofitting",0,0,0,0,0,0,0,0,0,0,0,0,0,0,0,0,0,0,0,0,0,0,0,0,0,0,0,0,1,0,0,0,0]
["Propulsion improving devices (PIDs)",0,0,0,0,0,0,0,0,0,0,0,0,0,0,0,0,0,0,0,0,0,0,0,0,0,0,0,0,0,1,0,0,1]
["Propeller polishing",0,0,0,0,0,0,0,0,0,0,0,0,0,0,0,0,0,0,0,0,0,0,0,0,0,0,0,0,0,0,1,0,0]
["Dropdown to select measure",0,0,0,0,0,0,0,0,0,0,0,0,0,0,0,0,0,0,0,0,0,0,0,0,0,0,0,0,0,0,0,0,0]
[]
["Twin matrix"]
["Technology","Energy efficient lighting system","Frequency controlled electric motors ","Fixed sails or wings","Kite","Solar panels","Rotor sails","Auxiliary systems optimization","Engine performance optimization (automatic)","Engine de-rating","Engine performance optimization (manual)","Exhaust gas boilers on auxiliary engines","Battery hybridization (not plug-in)","Shaft generator PTO","Shore power","Improved auxiliary engine load","Steam plant operation improvement","Waste heat recovery systems","Battery hybridization","Autopilot adjustment and use","Combinator optimizing","Trim and draft optimization","Weather routing","Speed management","Air lubrication","Hull performance coating","Hull cleaning","Hull retrofitting","Hull form optimization","Propeller retrofitting","Propulsion improving devices (PIDs)","Propeller polishing","Dropdown to select measure","Check"]
[null,{"$f":"IFERROR(IF(MATCH(B40,Dashboard!$X$29:$X$42,0),1,0),0)","v":0},{"$f":"IFERROR(IF(MATCH(C40,Dashboard!$X$29:$X$42,0),1,0),0)","v":1},{"$f":"IFERROR(IF(MATCH(D40,Dashboard!$X$29:$X$42,0),1,0),0)","v":0},{"$f":"IFERROR(IF(MATCH(E40,Dashboard!$X$29:$X$42,0),1,0),0)","v":1},{"$f":"IFERROR(IF(MATCH(F40,Dashboard!$X$29:$X$42,0),1,0),0)","v":0},{"$f":"IFERROR(IF(MATCH(G40,Dashboard!$X$29:$X$42,0),1,0),0)","v":0},{"$f":"IFERROR(IF(MATCH(H40,Dashboard!$X$29:$X$42,0),1,0),0)","v":0},{"$f":"IFERROR(IF(MATCH(I40,Dashboard!$X$29:$X$42,0),1,0),0)","v":1},{"$f":"IFERROR(IF(MATCH(J40,Dashboard!$X$29:$X$42,0),1,0),0)","v":1},{"$f":"IFERROR(IF(MATCH(K40,Dashboard!$X$29:$X$42,0),1,0),0)","v":0},{"$f":"IFERROR(IF(MATCH(L40,Dashboard!$X$29:$X$42,0),1,0),0)","v":1},{"$f":"IFERROR(IF(MATCH(M40,Dashboard!$X$29:$X$42,0),1,0),0)","v":0},{"$f":"IFERROR(IF(MATCH(N40,Dashboard!$X$29:$X$42,0),1,0),0)","v":0},{"$f":"IFERROR(IF(MATCH(O40,Dashboard!$X$29:$X$42,0),1,0),0)","v":0},{"$f":"IFERROR(IF(MATCH(P40,Dashboard!$X$29:$X$42,0),1,0),0)","v":0},{"$f":"IFERROR(IF(MATCH(Q40,Dashboard!$X$29:$X$42,0),1,0),0)","v":0},{"$f":"IFERROR(IF(MATCH(R40,Dashboard!$X$29:$X$42,0),1,0),0)","v":0},{"$f":"IFERROR(IF(MATCH(S40,Dashboard!$X$29:$X$42,0),1,0),0)","v":0},{"$f":"IFERROR(IF(MATCH(T40,Dashboard!$X$29:$X$42,0),1,0),0)","v":1},{"$f":"IFERROR(IF(MATCH(U40,Dashboard!$X$29:$X$42,0),1,0),0)","v":1},{"$f":"IFERROR(IF(MATCH(V40,Dashboard!$X$29:$X$42,0),1,0),0)","v":1},{"$f":"IFERROR(IF(MATCH(W40,Dashboard!$X$29:$X$42,0),1,0),0)","v":1},{"$f":"IFERROR(IF(MATCH(X40,Dashboard!$X$29:$X$42,0),1,0),0)","v":1},{"$f":"IFERROR(IF(MATCH(Y40,Dashboard!$X$29:$X$42,0),1,0),0)","v":1},{"$f":"IFERROR(IF(MATCH(Z40,Dashboard!$X$29:$X$42,0),1,0),0)","v":1},{"$f":"IFERROR(IF(MATCH(AA40,Dashboard!$X$29:$X$42,0),1,0),0)","v":1},{"$f":"IFERROR(IF(MATCH(AB40,Dashboard!$X$29:$X$42,0),1,0),0)","v":0},{"$f":"IFERROR(IF(MATCH(AC40,Dashboard!$X$29:$X$42,0),1,0),0)","v":0},{"$f":"IFERROR(IF(MATCH(AD40,Dashboard!$X$29:$X$42,0),1,0),0)","v":0},{"$f":"IFERROR(IF(MATCH(AE40,Dashboard!$X$29:$X$42,0),1,0),0)","v":1},{"$f":"IFERROR(IF(MATCH(AF40,Dashboard!$X$29:$X$42,0),1,0),0)","v":0},null,null,null,null,"Applied measures"]
["Energy efficient lighting system",{"$f":"IF(COUNTIF(Dashboard!$X$29:$X$42,#REF!)>1,5,IFERROR(B6*IF(INDEX(Dashboard!$X$29:$AC$42,MATCH($A42,Dashboard!$X$29:$X$42,0),5)*INDEX(Dashboard!$X$28:$AC$41,MATCH(B$40,Dashboard!$X$28:$X$41,0),5)=1,1,0),0))","v":0},{"$f":"IF(COUNTIF(Dashboard!$X$29:$X$42,B42)>1,5,IFERROR(C6*IF(INDEX(Dashboard!$X$29:$AC$42,MATCH($A42,Dashboard!$X$29:$X$42,0),5)*INDEX(Dashboard!$X$28:$AC$41,MATCH(C$40,Dashboard!$X$28:$X$41,0),5)=1,1,0),0))","v":0},{"$f":"IF(COUNTIF(Dashboard!$X$29:$X$42,C42)>1,5,IFERROR(D6*IF(INDEX(Dashboard!$X$29:$AC$42,MATCH($A42,Dashboard!$X$29:$X$42,0),5)*INDEX(Dashboard!$X$28:$AC$41,MATCH(D$40,Dashboard!$X$28:$X$41,0),5)=1,1,0),0))","v":0},{"$f":"IF(COUNTIF(Dashboard!$X$29:$X$42,D42)>1,5,IFERROR(E6*IF(INDEX(Dashboard!$X$29:$AC$42,MATCH($A42,Dashboard!$X$29:$X$42,0),5)*INDEX(Dashboard!$X$28:$AC$41,MATCH(E$40,Dashboard!$X$28:$X$41,0),5)=1,1,0),0))","v":0},{"$f":"IF(COUNTIF(Dashboard!$X$29:$X$42,E42)>1,5,IFERROR(F6*IF(INDEX(Dashboard!$X$29:$AC$42,MATCH($A42,Dashboard!$X$29:$X$42,0),5)*INDEX(Dashboard!$X$28:$AC$41,MATCH(F$40,Dashboard!$X$28:$X$41,0),5)=1,1,0),0))","v":0},{"$f":"IF(COUNTIF(Dashboard!$X$29:$X$42,F42)>1,5,IFERROR(G6*IF(INDEX(Dashboard!$X$29:$AC$42,MATCH($A42,Dashboard!$X$29:$X$42,0),5)*INDEX(Dashboard!$X$28:$AC$41,MATCH(G$40,Dashboard!$X$28:$X$41,0),5)=1,1,0),0))","v":0},{"$f":"IF(COUNTIF(Dashboard!$X$29:$X$42,G42)>1,5,IFERROR(H6*IF(INDEX(Dashboard!$X$29:$AC$42,MATCH($A42,Dashboard!$X$29:$X$42,0),5)*INDEX(Dashboard!$X$28:$AC$41,MATCH(H$40,Dashboard!$X$28:$X$41,0),5)=1,1,0),0))","v":0},{"$f":"IF(COUNTIF(Dashboard!$X$29:$X$42,H42)>1,5,IFERROR(I6*IF(INDEX(Dashboard!$X$29:$AC$42,MATCH($A42,Dashboard!$X$29:$X$42,0),5)*INDEX(Dashboard!$X$28:$AC$41,MATCH(I$40,Dashboard!$X$28:$X$41,0),5)=1,1,0),0))","v":0},{"$f":"IF(COUNTIF(Dashboard!$X$29:$X$42,I42)>1,5,IFERROR(J6*IF(INDEX(Dashboard!$X$29:$AC$42,MATCH($A42,Dashboard!$X$29:$X$42,0),5)*INDEX(Dashboard!$X$28:$AC$41,MATCH(J$40,Dashboard!$X$28:$X$41,0),5)=1,1,0),0))","v":0},{"$f":"IF(COUNTIF(Dashboard!$X$29:$X$42,J42)>1,5,IFERROR(K6*IF(INDEX(Dashboard!$X$29:$AC$42,MATCH($A42,Dashboard!$X$29:$X$42,0),5)*INDEX(Dashboard!$X$28:$AC$41,MATCH(K$40,Dashboard!$X$28:$X$41,0),5)=1,1,0),0))","v":0},{"$f":"IF(COUNTIF(Dashboard!$X$29:$X$42,K42)>1,5,IFERROR(L6*IF(INDEX(Dashboard!$X$29:$AC$42,MATCH($A42,Dashboard!$X$29:$X$42,0),5)*INDEX(Dashboard!$X$28:$AC$41,MATCH(L$40,Dashboard!$X$28:$X$41,0),5)=1,1,0),0))","v":0},{"$f":"IF(COUNTIF(Dashboard!$X$29:$X$42,L42)>1,5,IFERROR(M6*IF(INDEX(Dashboard!$X$29:$AC$42,MATCH($A42,Dashboard!$X$29:$X$42,0),5)*INDEX(Dashboard!$X$28:$AC$41,MATCH(M$40,Dashboard!$X$28:$X$41,0),5)=1,1,0),0))","v":0},{"$f":"IF(COUNTIF(Dashboard!$X$29:$X$42,M42)>1,5,IFERROR(N6*IF(INDEX(Dashboard!$X$29:$AC$42,MATCH($A42,Dashboard!$X$29:$X$42,0),5)*INDEX(Dashboard!$X$28:$AC$41,MATCH(N$40,Dashboard!$X$28:$X$41,0),5)=1,1,0),0))","v":0},{"$f":"IF(COUNTIF(Dashboard!$X$29:$X$42,N42)>1,5,IFERROR(O6*IF(INDEX(Dashboard!$X$29:$AC$42,MATCH($A42,Dashboard!$X$29:$X$42,0),5)*INDEX(Dashboard!$X$28:$AC$41,MATCH(O$40,Dashboard!$X$28:$X$41,0),5)=1,1,0),0))","v":0},{"$f":"IF(COUNTIF(Dashboard!$X$29:$X$42,O42)>1,5,IFERROR(P6*IF(INDEX(Dashboard!$X$29:$AC$42,MATCH($A42,Dashboard!$X$29:$X$42,0),5)*INDEX(Dashboard!$X$28:$AC$41,MATCH(P$40,Dashboard!$X$28:$X$41,0),5)=1,1,0),0))","v":0},{"$f":"IF(COUNTIF(Dashboard!$X$29:$X$42,P42)>1,5,IFERROR(Q6*IF(INDEX(Dashboard!$X$29:$AC$42,MATCH($A42,Dashboard!$X$29:$X$42,0),5)*INDEX(Dashboard!$X$28:$AC$41,MATCH(Q$40,Dashboard!$X$28:$X$41,0),5)=1,1,0),0))","v":0},{"$f":"IF(COUNTIF(Dashboard!$X$29:$X$42,Q42)>1,5,IFERROR(R6*IF(INDEX(Dashboard!$X$29:$AC$42,MATCH($A42,Dashboard!$X$29:$X$42,0),5)*INDEX(Dashboard!$X$28:$AC$41,MATCH(R$40,Dashboard!$X$28:$X$41,0),5)=1,1,0),0))","v":0},{"$f":"IF(COUNTIF(Dashboard!$X$29:$X$42,R42)>1,5,IFERROR(S6*IF(INDEX(Dashboard!$X$29:$AC$42,MATCH($A42,Dashboard!$X$29:$X$42,0),5)*INDEX(Dashboard!$X$28:$AC$41,MATCH(S$40,Dashboard!$X$28:$X$41,0),5)=1,1,0),0))","v":0},{"$f":"IF(COUNTIF(Dashboard!$X$29:$X$42,S42)>1,5,IFERROR(T6*IF(INDEX(Dashboard!$X$29:$AC$42,MATCH($A42,Dashboard!$X$29:$X$42,0),5)*INDEX(Dashboard!$X$28:$AC$41,MATCH(T$40,Dashboard!$X$28:$X$41,0),5)=1,1,0),0))","v":0},{"$f":"IF(COUNTIF(Dashboard!$X$29:$X$42,T42)>1,5,IFERROR(U6*IF(INDEX(Dashboard!$X$29:$AC$42,MATCH($A42,Dashboard!$X$29:$X$42,0),5)*INDEX(Dashboard!$X$28:$AC$41,MATCH(U$40,Dashboard!$X$28:$X$41,0),5)=1,1,0),0))","v":0},{"$f":"IF(COUNTIF(Dashboard!$X$29:$X$42,U42)>1,5,IFERROR(V6*IF(INDEX(Dashboard!$X$29:$AC$42,MATCH($A42,Dashboard!$X$29:$X$42,0),5)*INDEX(Dashboard!$X$28:$AC$41,MATCH(V$40,Dashboard!$X$28:$X$41,0),5)=1,1,0),0))","v":0},{"$f":"IF(COUNTIF(Dashboard!$X$29:$X$42,V42)>1,5,IFERROR(W6*IF(INDEX(Dashboard!$X$29:$AC$42,MATCH($A42,Dashboard!$X$29:$X$42,0),5)*INDEX(Dashboard!$X$28:$AC$41,MATCH(W$40,Dashboard!$X$28:$X$41,0),5)=1,1,0),0))","v":0},{"$f":"IF(COUNTIF(Dashboard!$X$29:$X$42,W42)>1,5,IFERROR(X6*IF(INDEX(Dashboard!$X$29:$AC$42,MATCH($A42,Dashboard!$X$29:$X$42,0),5)*INDEX(Dashboard!$X$28:$AC$41,MATCH(X$40,Dashboard!$X$28:$X$41,0),5)=1,1,0),0))","v":0},{"$f":"IF(COUNTIF(Dashboard!$X$29:$X$42,X42)>1,5,IFERROR(Y6*IF(INDEX(Dashboard!$X$29:$AC$42,MATCH($A42,Dashboard!$X$29:$X$42,0),5)*INDEX(Dashboard!$X$28:$AC$41,MATCH(Y$40,Dashboard!$X$28:$X$41,0),5)=1,1,0),0))","v":0},{"$f":"IF(COUNTIF(Dashboard!$X$29:$X$42,Y42)>1,5,IFERROR(Z6*IF(INDEX(Dashboard!$X$29:$AC$42,MATCH($A42,Dashboard!$X$29:$X$42,0),5)*INDEX(Dashboard!$X$28:$AC$41,MATCH(Z$40,Dashboard!$X$28:$X$41,0),5)=1,1,0),0))","v":0},{"$f":"IF(COUNTIF(Dashboard!$X$29:$X$42,Z42)>1,5,IFERROR(AA6*IF(INDEX(Dashboard!$X$29:$AC$42,MATCH($A42,Dashboard!$X$29:$X$42,0),5)*INDEX(Dashboard!$X$28:$AC$41,MATCH(AA$40,Dashboard!$X$28:$X$41,0),5)=1,1,0),0))","v":0},{"$f":"IF(COUNTIF(Dashboard!$X$29:$X$42,AA42)>1,5,IFERROR(AB6*IF(INDEX(Dashboard!$X$29:$AC$42,MATCH($A42,Dashboard!$X$29:$X$42,0),5)*INDEX(Dashboard!$X$28:$AC$41,MATCH(AB$40,Dashboard!$X$28:$X$41,0),5)=1,1,0),0))","v":0},{"$f":"IF(COUNTIF(Dashboard!$X$29:$X$42,AB42)>1,5,IFERROR(AC6*IF(INDEX(Dashboard!$X$29:$AC$42,MATCH($A42,Dashboard!$X$29:$X$42,0),5)*INDEX(Dashboard!$X$28:$AC$41,MATCH(AC$40,Dashboard!$X$28:$X$41,0),5)=1,1,0),0))","v":0},{"$f":"IF(COUNTIF(Dashboard!$X$29:$X$42,AC42)>1,5,IFERROR(AD6*IF(INDEX(Dashboard!$X$29:$AC$42,MATCH($A42,Dashboard!$X$29:$X$42,0),5)*INDEX(Dashboard!$X$28:$AC$41,MATCH(AD$40,Dashboard!$X$28:$X$41,0),5)=1,1,0),0))","v":0},{"$f":"IF(COUNTIF(Dashboard!$X$29:$X$42,AD42)>1,5,IFERROR(AE6*IF(INDEX(Dashboard!$X$29:$AC$42,MATCH($A42,Dashboard!$X$29:$X$42,0),5)*INDEX(Dashboard!$X$28:$AC$41,MATCH(AE$40,Dashboard!$X$28:$X$41,0),5)=1,1,0),0))","v":0},{"$f":"IF(COUNTIF(Dashboard!$X$29:$X$42,AE42)>1,5,IFERROR(AF6*IF(INDEX(Dashboard!$X$29:$AC$42,MATCH($A42,Dashboard!$X$29:$X$42,0),5)*INDEX(Dashboard!$X$28:$AC$41,MATCH(AF$40,Dashboard!$X$28:$X$41,0),5)=1,1,0),0))","v":0},0,{"$f":"SUMPRODUCT(B42:AF42,$B$5:$AF$5)","v":0},null,null,{"$f":"IF(Dashboard!AB30,Dashboard!X30,\"\")","v":""}]
["Frequency controlled electric motors ",{"$f":"IF(COUNTIF(Dashboard!$X$29:$X$42,#REF!)>1,5,IFERROR(B7*IF(INDEX(Dashboard!$X$29:$AC$42,MATCH($A43,Dashboard!$X$29:$X$42,0),5)*INDEX(Dashboard!$X$28:$AC$41,MATCH(B$40,Dashboard!$X$28:$X$41,0),5)=1,1,0),0))","v":0},{"$f":"IF(COUNTIF(Dashboard!$X$29:$X$42,B43)>1,5,IFERROR(C7*IF(INDEX(Dashboard!$X$29:$AC$42,MATCH($A43,Dashboard!$X$29:$X$42,0),5)*INDEX(Dashboard!$X$28:$AC$41,MATCH(C$40,Dashboard!$X$28:$X$41,0),5)=1,1,0),0))","v":0},{"$f":"IF(COUNTIF(Dashboard!$X$29:$X$42,C43)>1,5,IFERROR(D7*IF(INDEX(Dashboard!$X$29:$AC$42,MATCH($A43,Dashboard!$X$29:$X$42,0),5)*INDEX(Dashboard!$X$28:$AC$41,MATCH(D$40,Dashboard!$X$28:$X$41,0),5)=1,1,0),0))","v":0},{"$f":"IF(COUNTIF(Dashboard!$X$29:$X$42,D43)>1,5,IFERROR(E7*IF(INDEX(Dashboard!$X$29:$AC$42,MATCH($A43,Dashboard!$X$29:$X$42,0),5)*INDEX(Dashboard!$X$28:$AC$41,MATCH(E$40,Dashboard!$X$28:$X$41,0),5)=1,1,0),0))","v":0},{"$f":"IF(COUNTIF(Dashboard!$X$29:$X$42,E43)>1,5,IFERROR(F7*IF(INDEX(Dashboard!$X$29:$AC$42,MATCH($A43,Dashboard!$X$29:$X$42,0),5)*INDEX(Dashboard!$X$28:$AC$41,MATCH(F$40,Dashboard!$X$28:$X$41,0),5)=1,1,0),0))","v":0},{"$f":"IF(COUNTIF(Dashboard!$X$29:$X$42,F43)>1,5,IFERROR(G7*IF(INDEX(Dashboard!$X$29:$AC$42,MATCH($A43,Dashboard!$X$29:$X$42,0),5)*INDEX(Dashboard!$X$28:$AC$41,MATCH(G$40,Dashboard!$X$28:$X$41,0),5)=1,1,0),0))","v":0},{"$f":"IF(COUNTIF(Dashboard!$X$29:$X$42,G43)>1,5,IFERROR(H7*IF(INDEX(Dashboard!$X$29:$AC$42,MATCH($A43,Dashboard!$X$29:$X$42,0),5)*INDEX(Dashboard!$X$28:$AC$41,MATCH(H$40,Dashboard!$X$28:$X$41,0),5)=1,1,0),0))","v":0},{"$f":"IF(COUNTIF(Dashboard!$X$29:$X$42,H43)>1,5,IFERROR(I7*IF(INDEX(Dashboard!$X$29:$AC$42,MATCH($A43,Dashboard!$X$29:$X$42,0),5)*INDEX(Dashboard!$X$28:$AC$41,MATCH(I$40,Dashboard!$X$28:$X$41,0),5)=1,1,0),0))","v":0},{"$f":"IF(COUNTIF(Dashboard!$X$29:$X$42,I43)>1,5,IFERROR(J7*IF(INDEX(Dashboard!$X$29:$AC$42,MATCH($A43,Dashboard!$X$29:$X$42,0),5)*INDEX(Dashboard!$X$28:$AC$41,MATCH(J$40,Dashboard!$X$28:$X$41,0),5)=1,1,0),0))","v":0},{"$f":"IF(COUNTIF(Dashboard!$X$29:$X$42,J43)>1,5,IFERROR(K7*IF(INDEX(Dashboard!$X$29:$AC$42,MATCH($A43,Dashboard!$X$29:$X$42,0),5)*INDEX(Dashboard!$X$28:$AC$41,MATCH(K$40,Dashboard!$X$28:$X$41,0),5)=1,1,0),0))","v":0},{"$f":"IF(COUNTIF(Dashboard!$X$29:$X$42,K43)>1,5,IFERROR(L7*IF(INDEX(Dashboard!$X$29:$AC$42,MATCH($A43,Dashboard!$X$29:$X$42,0),5)*INDEX(Dashboard!$X$28:$AC$41,MATCH(L$40,Dashboard!$X$28:$X$41,0),5)=1,1,0),0))","v":0},{"$f":"IF(COUNTIF(Dashboard!$X$29:$X$42,L43)>1,5,IFERROR(M7*IF(INDEX(Dashboard!$X$29:$AC$42,MATCH($A43,Dashboard!$X$29:$X$42,0),5)*INDEX(Dashboard!$X$28:$AC$41,MATCH(M$40,Dashboard!$X$28:$X$41,0),5)=1,1,0),0))","v":0},{"$f":"IF(COUNTIF(Dashboard!$X$29:$X$42,M43)>1,5,IFERROR(N7*IF(INDEX(Dashboard!$X$29:$AC$42,MATCH($A43,Dashboard!$X$29:$X$42,0),5)*INDEX(Dashboard!$X$28:$AC$41,MATCH(N$40,Dashboard!$X$28:$X$41,0),5)=1,1,0),0))","v":0},{"$f":"IF(COUNTIF(Dashboard!$X$29:$X$42,N43)>1,5,IFERROR(O7*IF(INDEX(Dashboard!$X$29:$AC$42,MATCH($A43,Dashboard!$X$29:$X$42,0),5)*INDEX(Dashboard!$X$28:$AC$41,MATCH(O$40,Dashboard!$X$28:$X$41,0),5)=1,1,0),0))","v":0},{"$f":"IF(COUNTIF(Dashboard!$X$29:$X$42,O43)>1,5,IFERROR(P7*IF(INDEX(Dashboard!$X$29:$AC$42,MATCH($A43,Dashboard!$X$29:$X$42,0),5)*INDEX(Dashboard!$X$28:$AC$41,MATCH(P$40,Dashboard!$X$28:$X$41,0),5)=1,1,0),0))","v":0},{"$f":"IF(COUNTIF(Dashboard!$X$29:$X$42,P43)>1,5,IFERROR(Q7*IF(INDEX(Dashboard!$X$29:$AC$42,MATCH($A43,Dashboard!$X$29:$X$42,0),5)*INDEX(Dashboard!$X$28:$AC$41,MATCH(Q$40,Dashboard!$X$28:$X$41,0),5)=1,1,0),0))","v":0},{"$f":"IF(COUNTIF(Dashboard!$X$29:$X$42,Q43)>1,5,IFERROR(R7*IF(INDEX(Dashboard!$X$29:$AC$42,MATCH($A43,Dashboard!$X$29:$X$42,0),5)*INDEX(Dashboard!$X$28:$AC$41,MATCH(R$40,Dashboard!$X$28:$X$41,0),5)=1,1,0),0))","v":0},{"$f":"IF(COUNTIF(Dashboard!$X$29:$X$42,R43)>1,5,IFERROR(S7*IF(INDEX(Dashboard!$X$29:$AC$42,MATCH($A43,Dashboard!$X$29:$X$42,0),5)*INDEX(Dashboard!$X$28:$AC$41,MATCH(S$40,Dashboard!$X$28:$X$41,0),5)=1,1,0),0))","v":0},{"$f":"IF(COUNTIF(Dashboard!$X$29:$X$42,S43)>1,5,IFERROR(T7*IF(INDEX(Dashboard!$X$29:$AC$42,MATCH($A43,Dashboard!$X$29:$X$42,0),5)*INDEX(Dashboard!$X$28:$AC$41,MATCH(T$40,Dashboard!$X$28:$X$41,0),5)=1,1,0),0))","v":0},{"$f":"IF(COUNTIF(Dashboard!$X$29:$X$42,T43)>1,5,IFERROR(U7*IF(INDEX(Dashboard!$X$29:$AC$42,MATCH($A43,Dashboard!$X$29:$X$42,0),5)*INDEX(Dashboard!$X$28:$AC$41,MATCH(U$40,Dashboard!$X$28:$X$41,0),5)=1,1,0),0))","v":0},{"$f":"IF(COUNTIF(Dashboard!$X$29:$X$42,U43)>1,5,IFERROR(V7*IF(INDEX(Dashboard!$X$29:$AC$42,MATCH($A43,Dashboard!$X$29:$X$42,0),5)*INDEX(Dashboard!$X$28:$AC$41,MATCH(V$40,Dashboard!$X$28:$X$41,0),5)=1,1,0),0))","v":0},{"$f":"IF(COUNTIF(Dashboard!$X$29:$X$42,V43)>1,5,IFERROR(W7*IF(INDEX(Dashboard!$X$29:$AC$42,MATCH($A43,Dashboard!$X$29:$X$42,0),5)*INDEX(Dashboard!$X$28:$AC$41,MATCH(W$40,Dashboard!$X$28:$X$41,0),5)=1,1,0),0))","v":0},{"$f":"IF(COUNTIF(Dashboard!$X$29:$X$42,W43)>1,5,IFERROR(X7*IF(INDEX(Dashboard!$X$29:$AC$42,MATCH($A43,Dashboard!$X$29:$X$42,0),5)*INDEX(Dashboard!$X$28:$AC$41,MATCH(X$40,Dashboard!$X$28:$X$41,0),5)=1,1,0),0))","v":0},{"$f":"IF(COUNTIF(Dashboard!$X$29:$X$42,X43)>1,5,IFERROR(Y7*IF(INDEX(Dashboard!$X$29:$AC$42,MATCH($A43,Dashboard!$X$29:$X$42,0),5)*INDEX(Dashboard!$X$28:$AC$41,MATCH(Y$40,Dashboard!$X$28:$X$41,0),5)=1,1,0),0))","v":0},{"$f":"IF(COUNTIF(Dashboard!$X$29:$X$42,Y43)>1,5,IFERROR(Z7*IF(INDEX(Dashboard!$X$29:$AC$42,MATCH($A43,Dashboard!$X$29:$X$42,0),5)*INDEX(Dashboard!$X$28:$AC$41,MATCH(Z$40,Dashboard!$X$28:$X$41,0),5)=1,1,0),0))","v":0},{"$f":"IF(COUNTIF(Dashboard!$X$29:$X$42,Z43)>1,5,IFERROR(AA7*IF(INDEX(Dashboard!$X$29:$AC$42,MATCH($A43,Dashboard!$X$29:$X$42,0),5)*INDEX(Dashboard!$X$28:$AC$41,MATCH(AA$40,Dashboard!$X$28:$X$41,0),5)=1,1,0),0))","v":0},{"$f":"IF(COUNTIF(Dashboard!$X$29:$X$42,AA43)>1,5,IFERROR(AB7*IF(INDEX(Dashboard!$X$29:$AC$42,MATCH($A43,Dashboard!$X$29:$X$42,0),5)*INDEX(Dashboard!$X$28:$AC$41,MATCH(AB$40,Dashboard!$X$28:$X$41,0),5)=1,1,0),0))","v":0},{"$f":"IF(COUNTIF(Dashboard!$X$29:$X$42,AB43)>1,5,IFERROR(AC7*IF(INDEX(Dashboard!$X$29:$AC$42,MATCH($A43,Dashboard!$X$29:$X$42,0),5)*INDEX(Dashboard!$X$28:$AC$41,MATCH(AC$40,Dashboard!$X$28:$X$41,0),5)=1,1,0),0))","v":0},{"$f":"IF(COUNTIF(Dashboard!$X$29:$X$42,AC43)>1,5,IFERROR(AD7*IF(INDEX(Dashboard!$X$29:$AC$42,MATCH($A43,Dashboard!$X$29:$X$42,0),5)*INDEX(Dashboard!$X$28:$AC$41,MATCH(AD$40,Dashboard!$X$28:$X$41,0),5)=1,1,0),0))","v":0},{"$f":"IF(COUNTIF(Dashboard!$X$29:$X$42,AD43)>1,5,IFERROR(AE7*IF(INDEX(Dashboard!$X$29:$AC$42,MATCH($A43,Dashboard!$X$29:$X$42,0),5)*INDEX(Dashboard!$X$28:$AC$41,MATCH(AE$40,Dashboard!$X$28:$X$41,0),5)=1,1,0),0))","v":0},{"$f":"IF(COUNTIF(Dashboard!$X$29:$X$42,AE43)>1,5,IFERROR(AF7*IF(INDEX(Dashboard!$X$29:$AC$42,MATCH($A43,Dashboard!$X$29:$X$42,0),5)*INDEX(Dashboard!$X$28:$AC$41,MATCH(AF$40,Dashboard!$X$28:$X$41,0),5)=1,1,0),0))","v":0},0,0,null,null,{"$f":"IF(Dashboard!AB31,Dashboard!X31,\"\")","v":""}]
["Fixed sails or wings",{"$f":"IF(COUNTIF(Dashboard!$X$29:$X$42,#REF!)>1,5,IFERROR(B8*IF(INDEX(Dashboard!$X$29:$AC$42,MATCH($A44,Dashboard!$X$29:$X$42,0),5)*INDEX(Dashboard!$X$28:$AC$41,MATCH(B$40,Dashboard!$X$28:$X$41,0),5)=1,1,0),0))","v":0},{"$f":"IF(COUNTIF(Dashboard!$X$29:$X$42,B44)>1,5,IFERROR(C8*IF(INDEX(Dashboard!$X$29:$AC$42,MATCH($A44,Dashboard!$X$29:$X$42,0),5)*INDEX(Dashboard!$X$28:$AC$41,MATCH(C$40,Dashboard!$X$28:$X$41,0),5)=1,1,0),0))","v":0},{"$f":"IF(COUNTIF(Dashboard!$X$29:$X$42,C44)>1,5,IFERROR(D8*IF(INDEX(Dashboard!$X$29:$AC$42,MATCH($A44,Dashboard!$X$29:$X$42,0),5)*INDEX(Dashboard!$X$28:$AC$41,MATCH(D$40,Dashboard!$X$28:$X$41,0),5)=1,1,0),0))","v":0},{"$f":"IF(COUNTIF(Dashboard!$X$29:$X$42,D44)>1,5,IFERROR(E8*IF(INDEX(Dashboard!$X$29:$AC$42,MATCH($A44,Dashboard!$X$29:$X$42,0),5)*INDEX(Dashboard!$X$28:$AC$41,MATCH(E$40,Dashboard!$X$28:$X$41,0),5)=1,1,0),0))","v":0},{"$f":"IF(COUNTIF(Dashboard!$X$29:$X$42,E44)>1,5,IFERROR(F8*IF(INDEX(Dashboard!$X$29:$AC$42,MATCH($A44,Dashboard!$X$29:$X$42,0),5)*INDEX(Dashboard!$X$28:$AC$41,MATCH(F$40,Dashboard!$X$28:$X$41,0),5)=1,1,0),0))","v":0},{"$f":"IF(COUNTIF(Dashboard!$X$29:$X$42,F44)>1,5,IFERROR(G8*IF(INDEX(Dashboard!$X$29:$AC$42,MATCH($A44,Dashboard!$X$29:$X$42,0),5)*INDEX(Dashboard!$X$28:$AC$41,MATCH(G$40,Dashboard!$X$28:$X$41,0),5)=1,1,0),0))","v":0},{"$f":"IF(COUNTIF(Dashboard!$X$29:$X$42,G44)>1,5,IFERROR(H8*IF(INDEX(Dashboard!$X$29:$AC$42,MATCH($A44,Dashboard!$X$29:$X$42,0),5)*INDEX(Dashboard!$X$28:$AC$41,MATCH(H$40,Dashboard!$X$28:$X$41,0),5)=1,1,0),0))","v":0},{"$f":"IF(COUNTIF(Dashboard!$X$29:$X$42,H44)>1,5,IFERROR(I8*IF(INDEX(Dashboard!$X$29:$AC$42,MATCH($A44,Dashboard!$X$29:$X$42,0),5)*INDEX(Dashboard!$X$28:$AC$41,MATCH(I$40,Dashboard!$X$28:$X$41,0),5)=1,1,0),0))","v":0},{"$f":"IF(COUNTIF(Dashboard!$X$29:$X$42,I44)>1,5,IFERROR(J8*IF(INDEX(Dashboard!$X$29:$AC$42,MATCH($A44,Dashboard!$X$29:$X$42,0),5)*INDEX(Dashboard!$X$28:$AC$41,MATCH(J$40,Dashboard!$X$28:$X$41,0),5)=1,1,0),0))","v":0},{"$f":"IF(COUNTIF(Dashboard!$X$29:$X$42,J44)>1,5,IFERROR(K8*IF(INDEX(Dashboard!$X$29:$AC$42,MATCH($A44,Dashboard!$X$29:$X$42,0),5)*INDEX(Dashboard!$X$28:$AC$41,MATCH(K$40,Dashboard!$X$28:$X$41,0),5)=1,1,0),0))","v":0},{"$f":"IF(COUNTIF(Dashboard!$X$29:$X$42,K44)>1,5,IFERROR(L8*IF(INDEX(Dashboard!$X$29:$AC$42,MATCH($A44,Dashboard!$X$29:$X$42,0),5)*INDEX(Dashboard!$X$28:$AC$41,MATCH(L$40,Dashboard!$X$28:$X$41,0),5)=1,1,0),0))","v":0},{"$f":"IF(COUNTIF(Dashboard!$X$29:$X$42,L44)>1,5,IFERROR(M8*IF(INDEX(Dashboard!$X$29:$AC$42,MATCH($A44,Dashboard!$X$29:$X$42,0),5)*INDEX(Dashboard!$X$28:$AC$41,MATCH(M$40,Dashboard!$X$28:$X$41,0),5)=1,1,0),0))","v":0},{"$f":"IF(COUNTIF(Dashboard!$X$29:$X$42,M44)>1,5,IFERROR(N8*IF(INDEX(Dashboard!$X$29:$AC$42,MATCH($A44,Dashboard!$X$29:$X$42,0),5)*INDEX(Dashboard!$X$28:$AC$41,MATCH(N$40,Dashboard!$X$28:$X$41,0),5)=1,1,0),0))","v":0},{"$f":"IF(COUNTIF(Dashboard!$X$29:$X$42,N44)>1,5,IFERROR(O8*IF(INDEX(Dashboard!$X$29:$AC$42,MATCH($A44,Dashboard!$X$29:$X$42,0),5)*INDEX(Dashboard!$X$28:$AC$41,MATCH(O$40,Dashboard!$X$28:$X$41,0),5)=1,1,0),0))","v":0},{"$f":"IF(COUNTIF(Dashboard!$X$29:$X$42,O44)>1,5,IFERROR(P8*IF(INDEX(Dashboard!$X$29:$AC$42,MATCH($A44,Dashboard!$X$29:$X$42,0),5)*INDEX(Dashboard!$X$28:$AC$41,MATCH(P$40,Dashboard!$X$28:$X$41,0),5)=1,1,0),0))","v":0},{"$f":"IF(COUNTIF(Dashboard!$X$29:$X$42,P44)>1,5,IFERROR(Q8*IF(INDEX(Dashboard!$X$29:$AC$42,MATCH($A44,Dashboard!$X$29:$X$42,0),5)*INDEX(Dashboard!$X$28:$AC$41,MATCH(Q$40,Dashboard!$X$28:$X$41,0),5)=1,1,0),0))","v":0},{"$f":"IF(COUNTIF(Dashboard!$X$29:$X$42,Q44)>1,5,IFERROR(R8*IF(INDEX(Dashboard!$X$29:$AC$42,MATCH($A44,Dashboard!$X$29:$X$42,0),5)*INDEX(Dashboard!$X$28:$AC$41,MATCH(R$40,Dashboard!$X$28:$X$41,0),5)=1,1,0),0))","v":0},{"$f":"IF(COUNTIF(Dashboard!$X$29:$X$42,R44)>1,5,IFERROR(S8*IF(INDEX(Dashboard!$X$29:$AC$42,MATCH($A44,Dashboard!$X$29:$X$42,0),5)*INDEX(Dashboard!$X$28:$AC$41,MATCH(S$40,Dashboard!$X$28:$X$41,0),5)=1,1,0),0))","v":0},{"$f":"IF(COUNTIF(Dashboard!$X$29:$X$42,S44)>1,5,IFERROR(T8*IF(INDEX(Dashboard!$X$29:$AC$42,MATCH($A44,Dashboard!$X$29:$X$42,0),5)*INDEX(Dashboard!$X$28:$AC$41,MATCH(T$40,Dashboard!$X$28:$X$41,0),5)=1,1,0),0))","v":0},{"$f":"IF(COUNTIF(Dashboard!$X$29:$X$42,T44)>1,5,IFERROR(U8*IF(INDEX(Dashboard!$X$29:$AC$42,MATCH($A44,Dashboard!$X$29:$X$42,0),5)*INDEX(Dashboard!$X$28:$AC$41,MATCH(U$40,Dashboard!$X$28:$X$41,0),5)=1,1,0),0))","v":0},{"$f":"IF(COUNTIF(Dashboard!$X$29:$X$42,U44)>1,5,IFERROR(V8*IF(INDEX(Dashboard!$X$29:$AC$42,MATCH($A44,Dashboard!$X$29:$X$42,0),5)*INDEX(Dashboard!$X$28:$AC$41,MATCH(V$40,Dashboard!$X$28:$X$41,0),5)=1,1,0),0))","v":0},{"$f":"IF(COUNTIF(Dashboard!$X$29:$X$42,V44)>1,5,IFERROR(W8*IF(INDEX(Dashboard!$X$29:$AC$42,MATCH($A44,Dashboard!$X$29:$X$42,0),5)*INDEX(Dashboard!$X$28:$AC$41,MATCH(W$40,Dashboard!$X$28:$X$41,0),5)=1,1,0),0))","v":0},{"$f":"IF(COUNTIF(Dashboard!$X$29:$X$42,W44)>1,5,IFERROR(X8*IF(INDEX(Dashboard!$X$29:$AC$42,MATCH($A44,Dashboard!$X$29:$X$42,0),5)*INDEX(Dashboard!$X$28:$AC$41,MATCH(X$40,Dashboard!$X$28:$X$41,0),5)=1,1,0),0))","v":0},{"$f":"IF(COUNTIF(Dashboard!$X$29:$X$42,X44)>1,5,IFERROR(Y8*IF(INDEX(Dashboard!$X$29:$AC$42,MATCH($A44,Dashboard!$X$29:$X$42,0),5)*INDEX(Dashboard!$X$28:$AC$41,MATCH(Y$40,Dashboard!$X$28:$X$41,0),5)=1,1,0),0))","v":0},{"$f":"IF(COUNTIF(Dashboard!$X$29:$X$42,Y44)>1,5,IFERROR(Z8*IF(INDEX(Dashboard!$X$29:$AC$42,MATCH($A44,Dashboard!$X$29:$X$42,0),5)*INDEX(Dashboard!$X$28:$AC$41,MATCH(Z$40,Dashboard!$X$28:$X$41,0),5)=1,1,0),0))","v":0},{"$f":"IF(COUNTIF(Dashboard!$X$29:$X$42,Z44)>1,5,IFERROR(AA8*IF(INDEX(Dashboard!$X$29:$AC$42,MATCH($A44,Dashboard!$X$29:$X$42,0),5)*INDEX(Dashboard!$X$28:$AC$41,MATCH(AA$40,Dashboard!$X$28:$X$41,0),5)=1,1,0),0))","v":0},{"$f":"IF(COUNTIF(Dashboard!$X$29:$X$42,AA44)>1,5,IFERROR(AB8*IF(INDEX(Dashboard!$X$29:$AC$42,MATCH($A44,Dashboard!$X$29:$X$42,0),5)*INDEX(Dashboard!$X$28:$AC$41,MATCH(AB$40,Dashboard!$X$28:$X$41,0),5)=1,1,0),0))","v":0},{"$f":"IF(COUNTIF(Dashboard!$X$29:$X$42,AB44)>1,5,IFERROR(AC8*IF(INDEX(Dashboard!$X$29:$AC$42,MATCH($A44,Dashboard!$X$29:$X$42,0),5)*INDEX(Dashboard!$X$28:$AC$41,MATCH(AC$40,Dashboard!$X$28:$X$41,0),5)=1,1,0),0))","v":0},{"$f":"IF(COUNTIF(Dashboard!$X$29:$X$42,AC44)>1,5,IFERROR(AD8*IF(INDEX(Dashboard!$X$29:$AC$42,MATCH($A44,Dashboard!$X$29:$X$42,0),5)*INDEX(Dashboard!$X$28:$AC$41,MATCH(AD$40,Dashboard!$X$28:$X$41,0),5)=1,1,0),0))","v":0},{"$f":"IF(COUNTIF(Dashboard!$X$29:$X$42,AD44)>1,5,IFERROR(AE8*IF(INDEX(Dashboard!$X$29:$AC$42,MATCH($A44,Dashboard!$X$29:$X$42,0),5)*INDEX(Dashboard!$X$28:$AC$41,MATCH(AE$40,Dashboard!$X$28:$X$41,0),5)=1,1,0),0))","v":0},{"$f":"IF(COUNTIF(Dashboard!$X$29:$X$42,AE44)>1,5,IFERROR(AF8*IF(INDEX(Dashboard!$X$29:$AC$42,MATCH($A44,Dashboard!$X$29:$X$42,0),5)*INDEX(Dashboard!$X$28:$AC$41,MATCH(AF$40,Dashboard!$X$28:$X$41,0),5)=1,1,0),0))","v":0},0,0,null,null,{"$f":"IF(Dashboard!AB32,Dashboard!X32,\"\")","v":""}]
["Kite",{"$f":"IF(COUNTIF(Dashboard!$X$29:$X$42,#REF!)>1,5,IFERROR(B9*IF(INDEX(Dashboard!$X$29:$AC$42,MATCH($A45,Dashboard!$X$29:$X$42,0),5)*INDEX(Dashboard!$X$28:$AC$41,MATCH(B$40,Dashboard!$X$28:$X$41,0),5)=1,1,0),0))","v":0},{"$f":"IF(COUNTIF(Dashboard!$X$29:$X$42,B45)>1,5,IFERROR(C9*IF(INDEX(Dashboard!$X$29:$AC$42,MATCH($A45,Dashboard!$X$29:$X$42,0),5)*INDEX(Dashboard!$X$28:$AC$41,MATCH(C$40,Dashboard!$X$28:$X$41,0),5)=1,1,0),0))","v":0},{"$f":"IF(COUNTIF(Dashboard!$X$29:$X$42,C45)>1,5,IFERROR(D9*IF(INDEX(Dashboard!$X$29:$AC$42,MATCH($A45,Dashboard!$X$29:$X$42,0),5)*INDEX(Dashboard!$X$28:$AC$41,MATCH(D$40,Dashboard!$X$28:$X$41,0),5)=1,1,0),0))","v":0},{"$f":"IF(COUNTIF(Dashboard!$X$29:$X$42,D45)>1,5,IFERROR(E9*IF(INDEX(Dashboard!$X$29:$AC$42,MATCH($A45,Dashboard!$X$29:$X$42,0),5)*INDEX(Dashboard!$X$28:$AC$41,MATCH(E$40,Dashboard!$X$28:$X$41,0),5)=1,1,0),0))","v":0},{"$f":"IF(COUNTIF(Dashboard!$X$29:$X$42,E45)>1,5,IFERROR(F9*IF(INDEX(Dashboard!$X$29:$AC$42,MATCH($A45,Dashboard!$X$29:$X$42,0),5)*INDEX(Dashboard!$X$28:$AC$41,MATCH(F$40,Dashboard!$X$28:$X$41,0),5)=1,1,0),0))","v":0},{"$f":"IF(COUNTIF(Dashboard!$X$29:$X$42,F45)>1,5,IFERROR(G9*IF(INDEX(Dashboard!$X$29:$AC$42,MATCH($A45,Dashboard!$X$29:$X$42,0),5)*INDEX(Dashboard!$X$28:$AC$41,MATCH(G$40,Dashboard!$X$28:$X$41,0),5)=1,1,0),0))","v":0},{"$f":"IF(COUNTIF(Dashboard!$X$29:$X$42,G45)>1,5,IFERROR(H9*IF(INDEX(Dashboard!$X$29:$AC$42,MATCH($A45,Dashboard!$X$29:$X$42,0),5)*INDEX(Dashboard!$X$28:$AC$41,MATCH(H$40,Dashboard!$X$28:$X$41,0),5)=1,1,0),0))","v":0},{"$f":"IF(COUNTIF(Dashboard!$X$29:$X$42,H45)>1,5,IFERROR(I9*IF(INDEX(Dashboard!$X$29:$AC$42,MATCH($A45,Dashboard!$X$29:$X$42,0),5)*INDEX(Dashboard!$X$28:$AC$41,MATCH(I$40,Dashboard!$X$28:$X$41,0),5)=1,1,0),0))","v":0},{"$f":"IF(COUNTIF(Dashboard!$X$29:$X$42,I45)>1,5,IFERROR(J9*IF(INDEX(Dashboard!$X$29:$AC$42,MATCH($A45,Dashboard!$X$29:$X$42,0),5)*INDEX(Dashboard!$X$28:$AC$41,MATCH(J$40,Dashboard!$X$28:$X$41,0),5)=1,1,0),0))","v":0},{"$f":"IF(COUNTIF(Dashboard!$X$29:$X$42,J45)>1,5,IFERROR(K9*IF(INDEX(Dashboard!$X$29:$AC$42,MATCH($A45,Dashboard!$X$29:$X$42,0),5)*INDEX(Dashboard!$X$28:$AC$41,MATCH(K$40,Dashboard!$X$28:$X$41,0),5)=1,1,0),0))","v":0},{"$f":"IF(COUNTIF(Dashboard!$X$29:$X$42,K45)>1,5,IFERROR(L9*IF(INDEX(Dashboard!$X$29:$AC$42,MATCH($A45,Dashboard!$X$29:$X$42,0),5)*INDEX(Dashboard!$X$28:$AC$41,MATCH(L$40,Dashboard!$X$28:$X$41,0),5)=1,1,0),0))","v":0},{"$f":"IF(COUNTIF(Dashboard!$X$29:$X$42,L45)>1,5,IFERROR(M9*IF(INDEX(Dashboard!$X$29:$AC$42,MATCH($A45,Dashboard!$X$29:$X$42,0),5)*INDEX(Dashboard!$X$28:$AC$41,MATCH(M$40,Dashboard!$X$28:$X$41,0),5)=1,1,0),0))","v":0},{"$f":"IF(COUNTIF(Dashboard!$X$29:$X$42,M45)>1,5,IFERROR(N9*IF(INDEX(Dashboard!$X$29:$AC$42,MATCH($A45,Dashboard!$X$29:$X$42,0),5)*INDEX(Dashboard!$X$28:$AC$41,MATCH(N$40,Dashboard!$X$28:$X$41,0),5)=1,1,0),0))","v":0},{"$f":"IF(COUNTIF(Dashboard!$X$29:$X$42,N45)>1,5,IFERROR(O9*IF(INDEX(Dashboard!$X$29:$AC$42,MATCH($A45,Dashboard!$X$29:$X$42,0),5)*INDEX(Dashboard!$X$28:$AC$41,MATCH(O$40,Dashboard!$X$28:$X$41,0),5)=1,1,0),0))","v":0},{"$f":"IF(COUNTIF(Dashboard!$X$29:$X$42,O45)>1,5,IFERROR(P9*IF(INDEX(Dashboard!$X$29:$AC$42,MATCH($A45,Dashboard!$X$29:$X$42,0),5)*INDEX(Dashboard!$X$28:$AC$41,MATCH(P$40,Dashboard!$X$28:$X$41,0),5)=1,1,0),0))","v":0},{"$f":"IF(COUNTIF(Dashboard!$X$29:$X$42,P45)>1,5,IFERROR(Q9*IF(INDEX(Dashboard!$X$29:$AC$42,MATCH($A45,Dashboard!$X$29:$X$42,0),5)*INDEX(Dashboard!$X$28:$AC$41,MATCH(Q$40,Dashboard!$X$28:$X$41,0),5)=1,1,0),0))","v":0},{"$f":"IF(COUNTIF(Dashboard!$X$29:$X$42,Q45)>1,5,IFERROR(R9*IF(INDEX(Dashboard!$X$29:$AC$42,MATCH($A45,Dashboard!$X$29:$X$42,0),5)*INDEX(Dashboard!$X$28:$AC$41,MATCH(R$40,Dashboard!$X$28:$X$41,0),5)=1,1,0),0))","v":0},{"$f":"IF(COUNTIF(Dashboard!$X$29:$X$42,R45)>1,5,IFERROR(S9*IF(INDEX(Dashboard!$X$29:$AC$42,MATCH($A45,Dashboard!$X$29:$X$42,0),5)*INDEX(Dashboard!$X$28:$AC$41,MATCH(S$40,Dashboard!$X$28:$X$41,0),5)=1,1,0),0))","v":0},{"$f":"IF(COUNTIF(Dashboard!$X$29:$X$42,S45)>1,5,IFERROR(T9*IF(INDEX(Dashboard!$X$29:$AC$42,MATCH($A45,Dashboard!$X$29:$X$42,0),5)*INDEX(Dashboard!$X$28:$AC$41,MATCH(T$40,Dashboard!$X$28:$X$41,0),5)=1,1,0),0))","v":0},{"$f":"IF(COUNTIF(Dashboard!$X$29:$X$42,T45)>1,5,IFERROR(U9*IF(INDEX(Dashboard!$X$29:$AC$42,MATCH($A45,Dashboard!$X$29:$X$42,0),5)*INDEX(Dashboard!$X$28:$AC$41,MATCH(U$40,Dashboard!$X$28:$X$41,0),5)=1,1,0),0))","v":0},{"$f":"IF(COUNTIF(Dashboard!$X$29:$X$42,U45)>1,5,IFERROR(V9*IF(INDEX(Dashboard!$X$29:$AC$42,MATCH($A45,Dashboard!$X$29:$X$42,0),5)*INDEX(Dashboard!$X$28:$AC$41,MATCH(V$40,Dashboard!$X$28:$X$41,0),5)=1,1,0),0))","v":0},{"$f":"IF(COUNTIF(Dashboard!$X$29:$X$42,V45)>1,5,IFERROR(W9*IF(INDEX(Dashboard!$X$29:$AC$42,MATCH($A45,Dashboard!$X$29:$X$42,0),5)*INDEX(Dashboard!$X$28:$AC$41,MATCH(W$40,Dashboard!$X$28:$X$41,0),5)=1,1,0),0))","v":0},{"$f":"IF(COUNTIF(Dashboard!$X$29:$X$42,W45)>1,5,IFERROR(X9*IF(INDEX(Dashboard!$X$29:$AC$42,MATCH($A45,Dashboard!$X$29:$X$42,0),5)*INDEX(Dashboard!$X$28:$AC$41,MATCH(X$40,Dashboard!$X$28:$X$41,0),5)=1,1,0),0))","v":0},{"$f":"IF(COUNTIF(Dashboard!$X$29:$X$42,X45)>1,5,IFERROR(Y9*IF(INDEX(Dashboard!$X$29:$AC$42,MATCH($A45,Dashboard!$X$29:$X$42,0),5)*INDEX(Dashboard!$X$28:$AC$41,MATCH(Y$40,Dashboard!$X$28:$X$41,0),5)=1,1,0),0))","v":0},{"$f":"IF(COUNTIF(Dashboard!$X$29:$X$42,Y45)>1,5,IFERROR(Z9*IF(INDEX(Dashboard!$X$29:$AC$42,MATCH($A45,Dashboard!$X$29:$X$42,0),5)*INDEX(Dashboard!$X$28:$AC$41,MATCH(Z$40,Dashboard!$X$28:$X$41,0),5)=1,1,0),0))","v":0},{"$f":"IF(COUNTIF(Dashboard!$X$29:$X$42,Z45)>1,5,IFERROR(AA9*IF(INDEX(Dashboard!$X$29:$AC$42,MATCH($A45,Dashboard!$X$29:$X$42,0),5)*INDEX(Dashboard!$X$28:$AC$41,MATCH(AA$40,Dashboard!$X$28:$X$41,0),5)=1,1,0),0))","v":0},{"$f":"IF(COUNTIF(Dashboard!$X$29:$X$42,AA45)>1,5,IFERROR(AB9*IF(INDEX(Dashboard!$X$29:$AC$42,MATCH($A45,Dashboard!$X$29:$X$42,0),5)*INDEX(Dashboard!$X$28:$AC$41,MATCH(AB$40,Dashboard!$X$28:$X$41,0),5)=1,1,0),0))","v":0},{"$f":"IF(COUNTIF(Dashboard!$X$29:$X$42,AB45)>1,5,IFERROR(AC9*IF(INDEX(Dashboard!$X$29:$AC$42,MATCH($A45,Dashboard!$X$29:$X$42,0),5)*INDEX(Dashboard!$X$28:$AC$41,MATCH(AC$40,Dashboard!$X$28:$X$41,0),5)=1,1,0),0))","v":0},{"$f":"IF(COUNTIF(Dashboard!$X$29:$X$42,AC45)>1,5,IFERROR(AD9*IF(INDEX(Dashboard!$X$29:$AC$42,MATCH($A45,Dashboard!$X$29:$X$42,0),5)*INDEX(Dashboard!$X$28:$AC$41,MATCH(AD$40,Dashboard!$X$28:$X$41,0),5)=1,1,0),0))","v":0},{"$f":"IF(COUNTIF(Dashboard!$X$29:$X$42,AD45)>1,5,IFERROR(AE9*IF(INDEX(Dashboard!$X$29:$AC$42,MATCH($A45,Dashboard!$X$29:$X$42,0),5)*INDEX(Dashboard!$X$28:$AC$41,MATCH(AE$40,Dashboard!$X$28:$X$41,0),5)=1,1,0),0))","v":0},{"$f":"IF(COUNTIF(Dashboard!$X$29:$X$42,AE45)>1,5,IFERROR(AF9*IF(INDEX(Dashboard!$X$29:$AC$42,MATCH($A45,Dashboard!$X$29:$X$42,0),5)*INDEX(Dashboard!$X$28:$AC$41,MATCH(AF$40,Dashboard!$X$28:$X$41,0),5)=1,1,0),0))","v":0},0,0,null,null,{"$f":"IF(Dashboard!AB33,Dashboard!X33,\"\")","v":""}]
["Solar panels",{"$f":"IF(COUNTIF(Dashboard!$X$29:$X$42,#REF!)>1,5,IFERROR(B10*IF(INDEX(Dashboard!$X$29:$AC$42,MATCH($A46,Dashboard!$X$29:$X$42,0),5)*INDEX(Dashboard!$X$28:$AC$41,MATCH(B$40,Dashboard!$X$28:$X$41,0),5)=1,1,0),0))","v":0},{"$f":"IF(COUNTIF(Dashboard!$X$29:$X$42,B46)>1,5,IFERROR(C10*IF(INDEX(Dashboard!$X$29:$AC$42,MATCH($A46,Dashboard!$X$29:$X$42,0),5)*INDEX(Dashboard!$X$28:$AC$41,MATCH(C$40,Dashboard!$X$28:$X$41,0),5)=1,1,0),0))","v":0},{"$f":"IF(COUNTIF(Dashboard!$X$29:$X$42,C46)>1,5,IFERROR(D10*IF(INDEX(Dashboard!$X$29:$AC$42,MATCH($A46,Dashboard!$X$29:$X$42,0),5)*INDEX(Dashboard!$X$28:$AC$41,MATCH(D$40,Dashboard!$X$28:$X$41,0),5)=1,1,0),0))","v":0},{"$f":"IF(COUNTIF(Dashboard!$X$29:$X$42,D46)>1,5,IFERROR(E10*IF(INDEX(Dashboard!$X$29:$AC$42,MATCH($A46,Dashboard!$X$29:$X$42,0),5)*INDEX(Dashboard!$X$28:$AC$41,MATCH(E$40,Dashboard!$X$28:$X$41,0),5)=1,1,0),0))","v":0},{"$f":"IF(COUNTIF(Dashboard!$X$29:$X$42,E46)>1,5,IFERROR(F10*IF(INDEX(Dashboard!$X$29:$AC$42,MATCH($A46,Dashboard!$X$29:$X$42,0),5)*INDEX(Dashboard!$X$28:$AC$41,MATCH(F$40,Dashboard!$X$28:$X$41,0),5)=1,1,0),0))","v":0},{"$f":"IF(COUNTIF(Dashboard!$X$29:$X$42,F46)>1,5,IFERROR(G10*IF(INDEX(Dashboard!$X$29:$AC$42,MATCH($A46,Dashboard!$X$29:$X$42,0),5)*INDEX(Dashboard!$X$28:$AC$41,MATCH(G$40,Dashboard!$X$28:$X$41,0),5)=1,1,0),0))","v":0},{"$f":"IF(COUNTIF(Dashboard!$X$29:$X$42,G46)>1,5,IFERROR(H10*IF(INDEX(Dashboard!$X$29:$AC$42,MATCH($A46,Dashboard!$X$29:$X$42,0),5)*INDEX(Dashboard!$X$28:$AC$41,MATCH(H$40,Dashboard!$X$28:$X$41,0),5)=1,1,0),0))","v":0},{"$f":"IF(COUNTIF(Dashboard!$X$29:$X$42,H46)>1,5,IFERROR(I10*IF(INDEX(Dashboard!$X$29:$AC$42,MATCH($A46,Dashboard!$X$29:$X$42,0),5)*INDEX(Dashboard!$X$28:$AC$41,MATCH(I$40,Dashboard!$X$28:$X$41,0),5)=1,1,0),0))","v":0},{"$f":"IF(COUNTIF(Dashboard!$X$29:$X$42,I46)>1,5,IFERROR(J10*IF(INDEX(Dashboard!$X$29:$AC$42,MATCH($A46,Dashboard!$X$29:$X$42,0),5)*INDEX(Dashboard!$X$28:$AC$41,MATCH(J$40,Dashboard!$X$28:$X$41,0),5)=1,1,0),0))","v":0},{"$f":"IF(COUNTIF(Dashboard!$X$29:$X$42,J46)>1,5,IFERROR(K10*IF(INDEX(Dashboard!$X$29:$AC$42,MATCH($A46,Dashboard!$X$29:$X$42,0),5)*INDEX(Dashboard!$X$28:$AC$41,MATCH(K$40,Dashboard!$X$28:$X$41,0),5)=1,1,0),0))","v":0},{"$f":"IF(COUNTIF(Dashboard!$X$29:$X$42,K46)>1,5,IFERROR(L10*IF(INDEX(Dashboard!$X$29:$AC$42,MATCH($A46,Dashboard!$X$29:$X$42,0),5)*INDEX(Dashboard!$X$28:$AC$41,MATCH(L$40,Dashboard!$X$28:$X$41,0),5)=1,1,0),0))","v":0},{"$f":"IF(COUNTIF(Dashboard!$X$29:$X$42,L46)>1,5,IFERROR(M10*IF(INDEX(Dashboard!$X$29:$AC$42,MATCH($A46,Dashboard!$X$29:$X$42,0),5)*INDEX(Dashboard!$X$28:$AC$41,MATCH(M$40,Dashboard!$X$28:$X$41,0),5)=1,1,0),0))","v":0},{"$f":"IF(COUNTIF(Dashboard!$X$29:$X$42,M46)>1,5,IFERROR(N10*IF(INDEX(Dashboard!$X$29:$AC$42,MATCH($A46,Dashboard!$X$29:$X$42,0),5)*INDEX(Dashboard!$X$28:$AC$41,MATCH(N$40,Dashboard!$X$28:$X$41,0),5)=1,1,0),0))","v":0},{"$f":"IF(COUNTIF(Dashboard!$X$29:$X$42,N46)>1,5,IFERROR(O10*IF(INDEX(Dashboard!$X$29:$AC$42,MATCH($A46,Dashboard!$X$29:$X$42,0),5)*INDEX(Dashboard!$X$28:$AC$41,MATCH(O$40,Dashboard!$X$28:$X$41,0),5)=1,1,0),0))","v":0},{"$f":"IF(COUNTIF(Dashboard!$X$29:$X$42,O46)>1,5,IFERROR(P10*IF(INDEX(Dashboard!$X$29:$AC$42,MATCH($A46,Dashboard!$X$29:$X$42,0),5)*INDEX(Dashboard!$X$28:$AC$41,MATCH(P$40,Dashboard!$X$28:$X$41,0),5)=1,1,0),0))","v":0},{"$f":"IF(COUNTIF(Dashboard!$X$29:$X$42,P46)>1,5,IFERROR(Q10*IF(INDEX(Dashboard!$X$29:$AC$42,MATCH($A46,Dashboard!$X$29:$X$42,0),5)*INDEX(Dashboard!$X$28:$AC$41,MATCH(Q$40,Dashboard!$X$28:$X$41,0),5)=1,1,0),0))","v":0},{"$f":"IF(COUNTIF(Dashboard!$X$29:$X$42,Q46)>1,5,IFERROR(R10*IF(INDEX(Dashboard!$X$29:$AC$42,MATCH($A46,Dashboard!$X$29:$X$42,0),5)*INDEX(Dashboard!$X$28:$AC$41,MATCH(R$40,Dashboard!$X$28:$X$41,0),5)=1,1,0),0))","v":0},{"$f":"IF(COUNTIF(Dashboard!$X$29:$X$42,R46)>1,5,IFERROR(S10*IF(INDEX(Dashboard!$X$29:$AC$42,MATCH($A46,Dashboard!$X$29:$X$42,0),5)*INDEX(Dashboard!$X$28:$AC$41,MATCH(S$40,Dashboard!$X$28:$X$41,0),5)=1,1,0),0))","v":0},{"$f":"IF(COUNTIF(Dashboard!$X$29:$X$42,S46)>1,5,IFERROR(T10*IF(INDEX(Dashboard!$X$29:$AC$42,MATCH($A46,Dashboard!$X$29:$X$42,0),5)*INDEX(Dashboard!$X$28:$AC$41,MATCH(T$40,Dashboard!$X$28:$X$41,0),5)=1,1,0),0))","v":0},{"$f":"IF(COUNTIF(Dashboard!$X$29:$X$42,T46)>1,5,IFERROR(U10*IF(INDEX(Dashboard!$X$29:$AC$42,MATCH($A46,Dashboard!$X$29:$X$42,0),5)*INDEX(Dashboard!$X$28:$AC$41,MATCH(U$40,Dashboard!$X$28:$X$41,0),5)=1,1,0),0))","v":0},{"$f":"IF(COUNTIF(Dashboard!$X$29:$X$42,U46)>1,5,IFERROR(V10*IF(INDEX(Dashboard!$X$29:$AC$42,MATCH($A46,Dashboard!$X$29:$X$42,0),5)*INDEX(Dashboard!$X$28:$AC$41,MATCH(V$40,Dashboard!$X$28:$X$41,0),5)=1,1,0),0))","v":0},{"$f":"IF(COUNTIF(Dashboard!$X$29:$X$42,V46)>1,5,IFERROR(W10*IF(INDEX(Dashboard!$X$29:$AC$42,MATCH($A46,Dashboard!$X$29:$X$42,0),5)*INDEX(Dashboard!$X$28:$AC$41,MATCH(W$40,Dashboard!$X$28:$X$41,0),5)=1,1,0),0))","v":0},{"$f":"IF(COUNTIF(Dashboard!$X$29:$X$42,W46)>1,5,IFERROR(X10*IF(INDEX(Dashboard!$X$29:$AC$42,MATCH($A46,Dashboard!$X$29:$X$42,0),5)*INDEX(Dashboard!$X$28:$AC$41,MATCH(X$40,Dashboard!$X$28:$X$41,0),5)=1,1,0),0))","v":0},{"$f":"IF(COUNTIF(Dashboard!$X$29:$X$42,X46)>1,5,IFERROR(Y10*IF(INDEX(Dashboard!$X$29:$AC$42,MATCH($A46,Dashboard!$X$29:$X$42,0),5)*INDEX(Dashboard!$X$28:$AC$41,MATCH(Y$40,Dashboard!$X$28:$X$41,0),5)=1,1,0),0))","v":0},{"$f":"IF(COUNTIF(Dashboard!$X$29:$X$42,Y46)>1,5,IFERROR(Z10*IF(INDEX(Dashboard!$X$29:$AC$42,MATCH($A46,Dashboard!$X$29:$X$42,0),5)*INDEX(Dashboard!$X$28:$AC$41,MATCH(Z$40,Dashboard!$X$28:$X$41,0),5)=1,1,0),0))","v":0},{"$f":"IF(COUNTIF(Dashboard!$X$29:$X$42,Z46)>1,5,IFERROR(AA10*IF(INDEX(Dashboard!$X$29:$AC$42,MATCH($A46,Dashboard!$X$29:$X$42,0),5)*INDEX(Dashboard!$X$28:$AC$41,MATCH(AA$40,Dashboard!$X$28:$X$41,0),5)=1,1,0),0))","v":0},{"$f":"IF(COUNTIF(Dashboard!$X$29:$X$42,AA46)>1,5,IFERROR(AB10*IF(INDEX(Dashboard!$X$29:$AC$42,MATCH($A46,Dashboard!$X$29:$X$42,0),5)*INDEX(Dashboard!$X$28:$AC$41,MATCH(AB$40,Dashboard!$X$28:$X$41,0),5)=1,1,0),0))","v":0},{"$f":"IF(COUNTIF(Dashboard!$X$29:$X$42,AB46)>1,5,IFERROR(AC10*IF(INDEX(Dashboard!$X$29:$AC$42,MATCH($A46,Dashboard!$X$29:$X$42,0),5)*INDEX(Dashboard!$X$28:$AC$41,MATCH(AC$40,Dashboard!$X$28:$X$41,0),5)=1,1,0),0))","v":0},{"$f":"IF(COUNTIF(Dashboard!$X$29:$X$42,AC46)>1,5,IFERROR(AD10*IF(INDEX(Dashboard!$X$29:$AC$42,MATCH($A46,Dashboard!$X$29:$X$42,0),5)*INDEX(Dashboard!$X$28:$AC$41,MATCH(AD$40,Dashboard!$X$28:$X$41,0),5)=1,1,0),0))","v":0},{"$f":"IF(COUNTIF(Dashboard!$X$29:$X$42,AD46)>1,5,IFERROR(AE10*IF(INDEX(Dashboard!$X$29:$AC$42,MATCH($A46,Dashboard!$X$29:$X$42,0),5)*INDEX(Dashboard!$X$28:$AC$41,MATCH(AE$40,Dashboard!$X$28:$X$41,0),5)=1,1,0),0))","v":0},{"$f":"IF(COUNTIF(Dashboard!$X$29:$X$42,AE46)>1,5,IFERROR(AF10*IF(INDEX(Dashboard!$X$29:$AC$42,MATCH($A46,Dashboard!$X$29:$X$42,0),5)*INDEX(Dashboard!$X$28:$AC$41,MATCH(AF$40,Dashboard!$X$28:$X$41,0),5)=1,1,0),0))","v":0},0,0,null,null,{"$f":"IF(Dashboard!AB34,Dashboard!X34,\"\")","v":""}]
["Rotor sails",{"$f":"IF(COUNTIF(Dashboard!$X$29:$X$42,#REF!)>1,5,IFERROR(B11*IF(INDEX(Dashboard!$X$29:$AC$42,MATCH($A47,Dashboard!$X$29:$X$42,0),5)*INDEX(Dashboard!$X$28:$AC$41,MATCH(B$40,Dashboard!$X$28:$X$41,0),5)=1,1,0),0))","v":0},{"$f":"IF(COUNTIF(Dashboard!$X$29:$X$42,B47)>1,5,IFERROR(C11*IF(INDEX(Dashboard!$X$29:$AC$42,MATCH($A47,Dashboard!$X$29:$X$42,0),5)*INDEX(Dashboard!$X$28:$AC$41,MATCH(C$40,Dashboard!$X$28:$X$41,0),5)=1,1,0),0))","v":0},{"$f":"IF(COUNTIF(Dashboard!$X$29:$X$42,C47)>1,5,IFERROR(D11*IF(INDEX(Dashboard!$X$29:$AC$42,MATCH($A47,Dashboard!$X$29:$X$42,0),5)*INDEX(Dashboard!$X$28:$AC$41,MATCH(D$40,Dashboard!$X$28:$X$41,0),5)=1,1,0),0))","v":0},{"$f":"IF(COUNTIF(Dashboard!$X$29:$X$42,D47)>1,5,IFERROR(E11*IF(INDEX(Dashboard!$X$29:$AC$42,MATCH($A47,Dashboard!$X$29:$X$42,0),5)*INDEX(Dashboard!$X$28:$AC$41,MATCH(E$40,Dashboard!$X$28:$X$41,0),5)=1,1,0),0))","v":0},{"$f":"IF(COUNTIF(Dashboard!$X$29:$X$42,E47)>1,5,IFERROR(F11*IF(INDEX(Dashboard!$X$29:$AC$42,MATCH($A47,Dashboard!$X$29:$X$42,0),5)*INDEX(Dashboard!$X$28:$AC$41,MATCH(F$40,Dashboard!$X$28:$X$41,0),5)=1,1,0),0))","v":0},{"$f":"IF(COUNTIF(Dashboard!$X$29:$X$42,F47)>1,5,IFERROR(G11*IF(INDEX(Dashboard!$X$29:$AC$42,MATCH($A47,Dashboard!$X$29:$X$42,0),5)*INDEX(Dashboard!$X$28:$AC$41,MATCH(G$40,Dashboard!$X$28:$X$41,0),5)=1,1,0),0))","v":0},{"$f":"IF(COUNTIF(Dashboard!$X$29:$X$42,G47)>1,5,IFERROR(H11*IF(INDEX(Dashboard!$X$29:$AC$42,MATCH($A47,Dashboard!$X$29:$X$42,0),5)*INDEX(Dashboard!$X$28:$AC$41,MATCH(H$40,Dashboard!$X$28:$X$41,0),5)=1,1,0),0))","v":0},{"$f":"IF(COUNTIF(Dashboard!$X$29:$X$42,H47)>1,5,IFERROR(I11*IF(INDEX(Dashboard!$X$29:$AC$42,MATCH($A47,Dashboard!$X$29:$X$42,0),5)*INDEX(Dashboard!$X$28:$AC$41,MATCH(I$40,Dashboard!$X$28:$X$41,0),5)=1,1,0),0))","v":0},{"$f":"IF(COUNTIF(Dashboard!$X$29:$X$42,I47)>1,5,IFERROR(J11*IF(INDEX(Dashboard!$X$29:$AC$42,MATCH($A47,Dashboard!$X$29:$X$42,0),5)*INDEX(Dashboard!$X$28:$AC$41,MATCH(J$40,Dashboard!$X$28:$X$41,0),5)=1,1,0),0))","v":0},{"$f":"IF(COUNTIF(Dashboard!$X$29:$X$42,J47)>1,5,IFERROR(K11*IF(INDEX(Dashboard!$X$29:$AC$42,MATCH($A47,Dashboard!$X$29:$X$42,0),5)*INDEX(Dashboard!$X$28:$AC$41,MATCH(K$40,Dashboard!$X$28:$X$41,0),5)=1,1,0),0))","v":0},{"$f":"IF(COUNTIF(Dashboard!$X$29:$X$42,K47)>1,5,IFERROR(L11*IF(INDEX(Dashboard!$X$29:$AC$42,MATCH($A47,Dashboard!$X$29:$X$42,0),5)*INDEX(Dashboard!$X$28:$AC$41,MATCH(L$40,Dashboard!$X$28:$X$41,0),5)=1,1,0),0))","v":0},{"$f":"IF(COUNTIF(Dashboard!$X$29:$X$42,L47)>1,5,IFERROR(M11*IF(INDEX(Dashboard!$X$29:$AC$42,MATCH($A47,Dashboard!$X$29:$X$42,0),5)*INDEX(Dashboard!$X$28:$AC$41,MATCH(M$40,Dashboard!$X$28:$X$41,0),5)=1,1,0),0))","v":0},{"$f":"IF(COUNTIF(Dashboard!$X$29:$X$42,M47)>1,5,IFERROR(N11*IF(INDEX(Dashboard!$X$29:$AC$42,MATCH($A47,Dashboard!$X$29:$X$42,0),5)*INDEX(Dashboard!$X$28:$AC$41,MATCH(N$40,Dashboard!$X$28:$X$41,0),5)=1,1,0),0))","v":0},{"$f":"IF(COUNTIF(Dashboard!$X$29:$X$42,N47)>1,5,IFERROR(O11*IF(INDEX(Dashboard!$X$29:$AC$42,MATCH($A47,Dashboard!$X$29:$X$42,0),5)*INDEX(Dashboard!$X$28:$AC$41,MATCH(O$40,Dashboard!$X$28:$X$41,0),5)=1,1,0),0))","v":0},{"$f":"IF(COUNTIF(Dashboard!$X$29:$X$42,O47)>1,5,IFERROR(P11*IF(INDEX(Dashboard!$X$29:$AC$42,MATCH($A47,Dashboard!$X$29:$X$42,0),5)*INDEX(Dashboard!$X$28:$AC$41,MATCH(P$40,Dashboard!$X$28:$X$41,0),5)=1,1,0),0))","v":0},{"$f":"IF(COUNTIF(Dashboard!$X$29:$X$42,P47)>1,5,IFERROR(Q11*IF(INDEX(Dashboard!$X$29:$AC$42,MATCH($A47,Dashboard!$X$29:$X$42,0),5)*INDEX(Dashboard!$X$28:$AC$41,MATCH(Q$40,Dashboard!$X$28:$X$41,0),5)=1,1,0),0))","v":0},{"$f":"IF(COUNTIF(Dashboard!$X$29:$X$42,Q47)>1,5,IFERROR(R11*IF(INDEX(Dashboard!$X$29:$AC$42,MATCH($A47,Dashboard!$X$29:$X$42,0),5)*INDEX(Dashboard!$X$28:$AC$41,MATCH(R$40,Dashboard!$X$28:$X$41,0),5)=1,1,0),0))","v":0},{"$f":"IF(COUNTIF(Dashboard!$X$29:$X$42,R47)>1,5,IFERROR(S11*IF(INDEX(Dashboard!$X$29:$AC$42,MATCH($A47,Dashboard!$X$29:$X$42,0),5)*INDEX(Dashboard!$X$28:$AC$41,MATCH(S$40,Dashboard!$X$28:$X$41,0),5)=1,1,0),0))","v":0},{"$f":"IF(COUNTIF(Dashboard!$X$29:$X$42,S47)>1,5,IFERROR(T11*IF(INDEX(Dashboard!$X$29:$AC$42,MATCH($A47,Dashboard!$X$29:$X$42,0),5)*INDEX(Dashboard!$X$28:$AC$41,MATCH(T$40,Dashboard!$X$28:$X$41,0),5)=1,1,0),0))","v":0},{"$f":"IF(COUNTIF(Dashboard!$X$29:$X$42,T47)>1,5,IFERROR(U11*IF(INDEX(Dashboard!$X$29:$AC$42,MATCH($A47,Dashboard!$X$29:$X$42,0),5)*INDEX(Dashboard!$X$28:$AC$41,MATCH(U$40,Dashboard!$X$28:$X$41,0),5)=1,1,0),0))","v":0},{"$f":"IF(COUNTIF(Dashboard!$X$29:$X$42,U47)>1,5,IFERROR(V11*IF(INDEX(Dashboard!$X$29:$AC$42,MATCH($A47,Dashboard!$X$29:$X$42,0),5)*INDEX(Dashboard!$X$28:$AC$41,MATCH(V$40,Dashboard!$X$28:$X$41,0),5)=1,1,0),0))","v":0},{"$f":"IF(COUNTIF(Dashboard!$X$29:$X$42,V47)>1,5,IFERROR(W11*IF(INDEX(Dashboard!$X$29:$AC$42,MATCH($A47,Dashboard!$X$29:$X$42,0),5)*INDEX(Dashboard!$X$28:$AC$41,MATCH(W$40,Dashboard!$X$28:$X$41,0),5)=1,1,0),0))","v":0},{"$f":"IF(COUNTIF(Dashboard!$X$29:$X$42,W47)>1,5,IFERROR(X11*IF(INDEX(Dashboard!$X$29:$AC$42,MATCH($A47,Dashboard!$X$29:$X$42,0),5)*INDEX(Dashboard!$X$28:$AC$41,MATCH(X$40,Dashboard!$X$28:$X$41,0),5)=1,1,0),0))","v":0},{"$f":"IF(COUNTIF(Dashboard!$X$29:$X$42,X47)>1,5,IFERROR(Y11*IF(INDEX(Dashboard!$X$29:$AC$42,MATCH($A47,Dashboard!$X$29:$X$42,0),5)*INDEX(Dashboard!$X$28:$AC$41,MATCH(Y$40,Dashboard!$X$28:$X$41,0),5)=1,1,0),0))","v":0},{"$f":"IF(COUNTIF(Dashboard!$X$29:$X$42,Y47)>1,5,IFERROR(Z11*IF(INDEX(Dashboard!$X$29:$AC$42,MATCH($A47,Dashboard!$X$29:$X$42,0),5)*INDEX(Dashboard!$X$28:$AC$41,MATCH(Z$40,Dashboard!$X$28:$X$41,0),5)=1,1,0),0))","v":0},{"$f":"IF(COUNTIF(Dashboard!$X$29:$X$42,Z47)>1,5,IFERROR(AA11*IF(INDEX(Dashboard!$X$29:$AC$42,MATCH($A47,Dashboard!$X$29:$X$42,0),5)*INDEX(Dashboard!$X$28:$AC$41,MATCH(AA$40,Dashboard!$X$28:$X$41,0),5)=1,1,0),0))","v":0},{"$f":"IF(COUNTIF(Dashboard!$X$29:$X$42,AA47)>1,5,IFERROR(AB11*IF(INDEX(Dashboard!$X$29:$AC$42,MATCH($A47,Dashboard!$X$29:$X$42,0),5)*INDEX(Dashboard!$X$28:$AC$41,MATCH(AB$40,Dashboard!$X$28:$X$41,0),5)=1,1,0),0))","v":0},{"$f":"IF(COUNTIF(Dashboard!$X$29:$X$42,AB47)>1,5,IFERROR(AC11*IF(INDEX(Dashboard!$X$29:$AC$42,MATCH($A47,Dashboard!$X$29:$X$42,0),5)*INDEX(Dashboard!$X$28:$AC$41,MATCH(AC$40,Dashboard!$X$28:$X$41,0),5)=1,1,0),0))","v":0},{"$f":"IF(COUNTIF(Dashboard!$X$29:$X$42,AC47)>1,5,IFERROR(AD11*IF(INDEX(Dashboard!$X$29:$AC$42,MATCH($A47,Dashboard!$X$29:$X$42,0),5)*INDEX(Dashboard!$X$28:$AC$41,MATCH(AD$40,Dashboard!$X$28:$X$41,0),5)=1,1,0),0))","v":0},{"$f":"IF(COUNTIF(Dashboard!$X$29:$X$42,AD47)>1,5,IFERROR(AE11*IF(INDEX(Dashboard!$X$29:$AC$42,MATCH($A47,Dashboard!$X$29:$X$42,0),5)*INDEX(Dashboard!$X$28:$AC$41,MATCH(AE$40,Dashboard!$X$28:$X$41,0),5)=1,1,0),0))","v":0},{"$f":"IF(COUNTIF(Dashboard!$X$29:$X$42,AE47)>1,5,IFERROR(AF11*IF(INDEX(Dashboard!$X$29:$AC$42,MATCH($A47,Dashboard!$X$29:$X$42,0),5)*INDEX(Dashboard!$X$28:$AC$41,MATCH(AF$40,Dashboard!$X$28:$X$41,0),5)=1,1,0),0))","v":0},0,0,null,null,{"$f":"IF(Dashboard!AB35,Dashboard!X35,\"\")","v":""}]
["Auxiliary systems optimization",{"$f":"IF(COUNTIF(Dashboard!$X$29:$X$42,#REF!)>1,5,IFERROR(B12*IF(INDEX(Dashboard!$X$29:$AC$42,MATCH($A48,Dashboard!$X$29:$X$42,0),5)*INDEX(Dashboard!$X$28:$AC$41,MATCH(B$40,Dashboard!$X$28:$X$41,0),5)=1,1,0),0))","v":0},{"$f":"IF(COUNTIF(Dashboard!$X$29:$X$42,B48)>1,5,IFERROR(C12*IF(INDEX(Dashboard!$X$29:$AC$42,MATCH($A48,Dashboard!$X$29:$X$42,0),5)*INDEX(Dashboard!$X$28:$AC$41,MATCH(C$40,Dashboard!$X$28:$X$41,0),5)=1,1,0),0))","v":0},{"$f":"IF(COUNTIF(Dashboard!$X$29:$X$42,C48)>1,5,IFERROR(D12*IF(INDEX(Dashboard!$X$29:$AC$42,MATCH($A48,Dashboard!$X$29:$X$42,0),5)*INDEX(Dashboard!$X$28:$AC$41,MATCH(D$40,Dashboard!$X$28:$X$41,0),5)=1,1,0),0))","v":0},{"$f":"IF(COUNTIF(Dashboard!$X$29:$X$42,D48)>1,5,IFERROR(E12*IF(INDEX(Dashboard!$X$29:$AC$42,MATCH($A48,Dashboard!$X$29:$X$42,0),5)*INDEX(Dashboard!$X$28:$AC$41,MATCH(E$40,Dashboard!$X$28:$X$41,0),5)=1,1,0),0))","v":0},{"$f":"IF(COUNTIF(Dashboard!$X$29:$X$42,E48)>1,5,IFERROR(F12*IF(INDEX(Dashboard!$X$29:$AC$42,MATCH($A48,Dashboard!$X$29:$X$42,0),5)*INDEX(Dashboard!$X$28:$AC$41,MATCH(F$40,Dashboard!$X$28:$X$41,0),5)=1,1,0),0))","v":0},{"$f":"IF(COUNTIF(Dashboard!$X$29:$X$42,F48)>1,5,IFERROR(G12*IF(INDEX(Dashboard!$X$29:$AC$42,MATCH($A48,Dashboard!$X$29:$X$42,0),5)*INDEX(Dashboard!$X$28:$AC$41,MATCH(G$40,Dashboard!$X$28:$X$41,0),5)=1,1,0),0))","v":0},{"$f":"IF(COUNTIF(Dashboard!$X$29:$X$42,G48)>1,5,IFERROR(H12*IF(INDEX(Dashboard!$X$29:$AC$42,MATCH($A48,Dashboard!$X$29:$X$42,0),5)*INDEX(Dashboard!$X$28:$AC$41,MATCH(H$40,Dashboard!$X$28:$X$41,0),5)=1,1,0),0))","v":0},{"$f":"IF(COUNTIF(Dashboard!$X$29:$X$42,H48)>1,5,IFERROR(I12*IF(INDEX(Dashboard!$X$29:$AC$42,MATCH($A48,Dashboard!$X$29:$X$42,0),5)*INDEX(Dashboard!$X$28:$AC$41,MATCH(I$40,Dashboard!$X$28:$X$41,0),5)=1,1,0),0))","v":0},{"$f":"IF(COUNTIF(Dashboard!$X$29:$X$42,I48)>1,5,IFERROR(J12*IF(INDEX(Dashboard!$X$29:$AC$42,MATCH($A48,Dashboard!$X$29:$X$42,0),5)*INDEX(Dashboard!$X$28:$AC$41,MATCH(J$40,Dashboard!$X$28:$X$41,0),5)=1,1,0),0))","v":0},{"$f":"IF(COUNTIF(Dashboard!$X$29:$X$42,J48)>1,5,IFERROR(K12*IF(INDEX(Dashboard!$X$29:$AC$42,MATCH($A48,Dashboard!$X$29:$X$42,0),5)*INDEX(Dashboard!$X$28:$AC$41,MATCH(K$40,Dashboard!$X$28:$X$41,0),5)=1,1,0),0))","v":0},{"$f":"IF(COUNTIF(Dashboard!$X$29:$X$42,K48)>1,5,IFERROR(L12*IF(INDEX(Dashboard!$X$29:$AC$42,MATCH($A48,Dashboard!$X$29:$X$42,0),5)*INDEX(Dashboard!$X$28:$AC$41,MATCH(L$40,Dashboard!$X$28:$X$41,0),5)=1,1,0),0))","v":0},{"$f":"IF(COUNTIF(Dashboard!$X$29:$X$42,L48)>1,5,IFERROR(M12*IF(INDEX(Dashboard!$X$29:$AC$42,MATCH($A48,Dashboard!$X$29:$X$42,0),5)*INDEX(Dashboard!$X$28:$AC$41,MATCH(M$40,Dashboard!$X$28:$X$41,0),5)=1,1,0),0))","v":0},{"$f":"IF(COUNTIF(Dashboard!$X$29:$X$42,M48)>1,5,IFERROR(N12*IF(INDEX(Dashboard!$X$29:$AC$42,MATCH($A48,Dashboard!$X$29:$X$42,0),5)*INDEX(Dashboard!$X$28:$AC$41,MATCH(N$40,Dashboard!$X$28:$X$41,0),5)=1,1,0),0))","v":0},{"$f":"IF(COUNTIF(Dashboard!$X$29:$X$42,N48)>1,5,IFERROR(O12*IF(INDEX(Dashboard!$X$29:$AC$42,MATCH($A48,Dashboard!$X$29:$X$42,0),5)*INDEX(Dashboard!$X$28:$AC$41,MATCH(O$40,Dashboard!$X$28:$X$41,0),5)=1,1,0),0))","v":0},{"$f":"IF(COUNTIF(Dashboard!$X$29:$X$42,O48)>1,5,IFERROR(P12*IF(INDEX(Dashboard!$X$29:$AC$42,MATCH($A48,Dashboard!$X$29:$X$42,0),5)*INDEX(Dashboard!$X$28:$AC$41,MATCH(P$40,Dashboard!$X$28:$X$41,0),5)=1,1,0),0))","v":0},{"$f":"IF(COUNTIF(Dashboard!$X$29:$X$42,P48)>1,5,IFERROR(Q12*IF(INDEX(Dashboard!$X$29:$AC$42,MATCH($A48,Dashboard!$X$29:$X$42,0),5)*INDEX(Dashboard!$X$28:$AC$41,MATCH(Q$40,Dashboard!$X$28:$X$41,0),5)=1,1,0),0))","v":0},{"$f":"IF(COUNTIF(Dashboard!$X$29:$X$42,Q48)>1,5,IFERROR(R12*IF(INDEX(Dashboard!$X$29:$AC$42,MATCH($A48,Dashboard!$X$29:$X$42,0),5)*INDEX(Dashboard!$X$28:$AC$41,MATCH(R$40,Dashboard!$X$28:$X$41,0),5)=1,1,0),0))","v":0},{"$f":"IF(COUNTIF(Dashboard!$X$29:$X$42,R48)>1,5,IFERROR(S12*IF(INDEX(Dashboard!$X$29:$AC$42,MATCH($A48,Dashboard!$X$29:$X$42,0),5)*INDEX(Dashboard!$X$28:$AC$41,MATCH(S$40,Dashboard!$X$28:$X$41,0),5)=1,1,0),0))","v":0},{"$f":"IF(COUNTIF(Dashboard!$X$29:$X$42,S48)>1,5,IFERROR(T12*IF(INDEX(Dashboard!$X$29:$AC$42,MATCH($A48,Dashboard!$X$29:$X$42,0),5)*INDEX(Dashboard!$X$28:$AC$41,MATCH(T$40,Dashboard!$X$28:$X$41,0),5)=1,1,0),0))","v":0},{"$f":"IF(COUNTIF(Dashboard!$X$29:$X$42,T48)>1,5,IFERROR(U12*IF(INDEX(Dashboard!$X$29:$AC$42,MATCH($A48,Dashboard!$X$29:$X$42,0),5)*INDEX(Dashboard!$X$28:$AC$41,MATCH(U$40,Dashboard!$X$28:$X$41,0),5)=1,1,0),0))","v":0},{"$f":"IF(COUNTIF(Dashboard!$X$29:$X$42,U48)>1,5,IFERROR(V12*IF(INDEX(Dashboard!$X$29:$AC$42,MATCH($A48,Dashboard!$X$29:$X$42,0),5)*INDEX(Dashboard!$X$28:$AC$41,MATCH(V$40,Dashboard!$X$28:$X$41,0),5)=1,1,0),0))","v":0},{"$f":"IF(COUNTIF(Dashboard!$X$29:$X$42,V48)>1,5,IFERROR(W12*IF(INDEX(Dashboard!$X$29:$AC$42,MATCH($A48,Dashboard!$X$29:$X$42,0),5)*INDEX(Dashboard!$X$28:$AC$41,MATCH(W$40,Dashboard!$X$28:$X$41,0),5)=1,1,0),0))","v":0},{"$f":"IF(COUNTIF(Dashboard!$X$29:$X$42,W48)>1,5,IFERROR(X12*IF(INDEX(Dashboard!$X$29:$AC$42,MATCH($A48,Dashboard!$X$29:$X$42,0),5)*INDEX(Dashboard!$X$28:$AC$41,MATCH(X$40,Dashboard!$X$28:$X$41,0),5)=1,1,0),0))","v":0},{"$f":"IF(COUNTIF(Dashboard!$X$29:$X$42,X48)>1,5,IFERROR(Y12*IF(INDEX(Dashboard!$X$29:$AC$42,MATCH($A48,Dashboard!$X$29:$X$42,0),5)*INDEX(Dashboard!$X$28:$AC$41,MATCH(Y$40,Dashboard!$X$28:$X$41,0),5)=1,1,0),0))","v":0},{"$f":"IF(COUNTIF(Dashboard!$X$29:$X$42,Y48)>1,5,IFERROR(Z12*IF(INDEX(Dashboard!$X$29:$AC$42,MATCH($A48,Dashboard!$X$29:$X$42,0),5)*INDEX(Dashboard!$X$28:$AC$41,MATCH(Z$40,Dashboard!$X$28:$X$41,0),5)=1,1,0),0))","v":0},{"$f":"IF(COUNTIF(Dashboard!$X$29:$X$42,Z48)>1,5,IFERROR(AA12*IF(INDEX(Dashboard!$X$29:$AC$42,MATCH($A48,Dashboard!$X$29:$X$42,0),5)*INDEX(Dashboard!$X$28:$AC$41,MATCH(AA$40,Dashboard!$X$28:$X$41,0),5)=1,1,0),0))","v":0},{"$f":"IF(COUNTIF(Dashboard!$X$29:$X$42,AA48)>1,5,IFERROR(AB12*IF(INDEX(Dashboard!$X$29:$AC$42,MATCH($A48,Dashboard!$X$29:$X$42,0),5)*INDEX(Dashboard!$X$28:$AC$41,MATCH(AB$40,Dashboard!$X$28:$X$41,0),5)=1,1,0),0))","v":0},{"$f":"IF(COUNTIF(Dashboard!$X$29:$X$42,AB48)>1,5,IFERROR(AC12*IF(INDEX(Dashboard!$X$29:$AC$42,MATCH($A48,Dashboard!$X$29:$X$42,0),5)*INDEX(Dashboard!$X$28:$AC$41,MATCH(AC$40,Dashboard!$X$28:$X$41,0),5)=1,1,0),0))","v":0},{"$f":"IF(COUNTIF(Dashboard!$X$29:$X$42,AC48)>1,5,IFERROR(AD12*IF(INDEX(Dashboard!$X$29:$AC$42,MATCH($A48,Dashboard!$X$29:$X$42,0),5)*INDEX(Dashboard!$X$28:$AC$41,MATCH(AD$40,Dashboard!$X$28:$X$41,0),5)=1,1,0),0))","v":0},{"$f":"IF(COUNTIF(Dashboard!$X$29:$X$42,AD48)>1,5,IFERROR(AE12*IF(INDEX(Dashboard!$X$29:$AC$42,MATCH($A48,Dashboard!$X$29:$X$42,0),5)*INDEX(Dashboard!$X$28:$AC$41,MATCH(AE$40,Dashboard!$X$28:$X$41,0),5)=1,1,0),0))","v":0},{"$f":"IF(COUNTIF(Dashboard!$X$29:$X$42,AE48)>1,5,IFERROR(AF12*IF(INDEX(Dashboard!$X$29:$AC$42,MATCH($A48,Dashboard!$X$29:$X$42,0),5)*INDEX(Dashboard!$X$28:$AC$41,MATCH(AF$40,Dashboard!$X$28:$X$41,0),5)=1,1,0),0))","v":0},0,0,null,null,{"$f":"IF(Dashboard!AB36,Dashboard!X36,\"\")","v":""}]
["Engine performance optimization (automatic)",{"$f":"IF(COUNTIF(Dashboard!$X$29:$X$42,#REF!)>1,5,IFERROR(B13*IF(INDEX(Dashboard!$X$29:$AC$42,MATCH($A49,Dashboard!$X$29:$X$42,0),5)*INDEX(Dashboard!$X$28:$AC$41,MATCH(B$40,Dashboard!$X$28:$X$41,0),5)=1,1,0),0))","v":0},{"$f":"IF(COUNTIF(Dashboard!$X$29:$X$42,B49)>1,5,IFERROR(C13*IF(INDEX(Dashboard!$X$29:$AC$42,MATCH($A49,Dashboard!$X$29:$X$42,0),5)*INDEX(Dashboard!$X$28:$AC$41,MATCH(C$40,Dashboard!$X$28:$X$41,0),5)=1,1,0),0))","v":0},{"$f":"IF(COUNTIF(Dashboard!$X$29:$X$42,C49)>1,5,IFERROR(D13*IF(INDEX(Dashboard!$X$29:$AC$42,MATCH($A49,Dashboard!$X$29:$X$42,0),5)*INDEX(Dashboard!$X$28:$AC$41,MATCH(D$40,Dashboard!$X$28:$X$41,0),5)=1,1,0),0))","v":0},{"$f":"IF(COUNTIF(Dashboard!$X$29:$X$42,D49)>1,5,IFERROR(E13*IF(INDEX(Dashboard!$X$29:$AC$42,MATCH($A49,Dashboard!$X$29:$X$42,0),5)*INDEX(Dashboard!$X$28:$AC$41,MATCH(E$40,Dashboard!$X$28:$X$41,0),5)=1,1,0),0))","v":0},{"$f":"IF(COUNTIF(Dashboard!$X$29:$X$42,E49)>1,5,IFERROR(F13*IF(INDEX(Dashboard!$X$29:$AC$42,MATCH($A49,Dashboard!$X$29:$X$42,0),5)*INDEX(Dashboard!$X$28:$AC$41,MATCH(F$40,Dashboard!$X$28:$X$41,0),5)=1,1,0),0))","v":0},{"$f":"IF(COUNTIF(Dashboard!$X$29:$X$42,F49)>1,5,IFERROR(G13*IF(INDEX(Dashboard!$X$29:$AC$42,MATCH($A49,Dashboard!$X$29:$X$42,0),5)*INDEX(Dashboard!$X$28:$AC$41,MATCH(G$40,Dashboard!$X$28:$X$41,0),5)=1,1,0),0))","v":0},{"$f":"IF(COUNTIF(Dashboard!$X$29:$X$42,G49)>1,5,IFERROR(H13*IF(INDEX(Dashboard!$X$29:$AC$42,MATCH($A49,Dashboard!$X$29:$X$42,0),5)*INDEX(Dashboard!$X$28:$AC$41,MATCH(H$40,Dashboard!$X$28:$X$41,0),5)=1,1,0),0))","v":0},{"$f":"IF(COUNTIF(Dashboard!$X$29:$X$42,H49)>1,5,IFERROR(I13*IF(INDEX(Dashboard!$X$29:$AC$42,MATCH($A49,Dashboard!$X$29:$X$42,0),5)*INDEX(Dashboard!$X$28:$AC$41,MATCH(I$40,Dashboard!$X$28:$X$41,0),5)=1,1,0),0))","v":0},{"$f":"IF(COUNTIF(Dashboard!$X$29:$X$42,I49)>1,5,IFERROR(J13*IF(INDEX(Dashboard!$X$29:$AC$42,MATCH($A49,Dashboard!$X$29:$X$42,0),5)*INDEX(Dashboard!$X$28:$AC$41,MATCH(J$40,Dashboard!$X$28:$X$41,0),5)=1,1,0),0))","v":0},{"$f":"IF(COUNTIF(Dashboard!$X$29:$X$42,J49)>1,5,IFERROR(K13*IF(INDEX(Dashboard!$X$29:$AC$42,MATCH($A49,Dashboard!$X$29:$X$42,0),5)*INDEX(Dashboard!$X$28:$AC$41,MATCH(K$40,Dashboard!$X$28:$X$41,0),5)=1,1,0),0))","v":0},{"$f":"IF(COUNTIF(Dashboard!$X$29:$X$42,K49)>1,5,IFERROR(L13*IF(INDEX(Dashboard!$X$29:$AC$42,MATCH($A49,Dashboard!$X$29:$X$42,0),5)*INDEX(Dashboard!$X$28:$AC$41,MATCH(L$40,Dashboard!$X$28:$X$41,0),5)=1,1,0),0))","v":0},{"$f":"IF(COUNTIF(Dashboard!$X$29:$X$42,L49)>1,5,IFERROR(M13*IF(INDEX(Dashboard!$X$29:$AC$42,MATCH($A49,Dashboard!$X$29:$X$42,0),5)*INDEX(Dashboard!$X$28:$AC$41,MATCH(M$40,Dashboard!$X$28:$X$41,0),5)=1,1,0),0))","v":0},{"$f":"IF(COUNTIF(Dashboard!$X$29:$X$42,M49)>1,5,IFERROR(N13*IF(INDEX(Dashboard!$X$29:$AC$42,MATCH($A49,Dashboard!$X$29:$X$42,0),5)*INDEX(Dashboard!$X$28:$AC$41,MATCH(N$40,Dashboard!$X$28:$X$41,0),5)=1,1,0),0))","v":0},{"$f":"IF(COUNTIF(Dashboard!$X$29:$X$42,N49)>1,5,IFERROR(O13*IF(INDEX(Dashboard!$X$29:$AC$42,MATCH($A49,Dashboard!$X$29:$X$42,0),5)*INDEX(Dashboard!$X$28:$AC$41,MATCH(O$40,Dashboard!$X$28:$X$41,0),5)=1,1,0),0))","v":0},{"$f":"IF(COUNTIF(Dashboard!$X$29:$X$42,O49)>1,5,IFERROR(P13*IF(INDEX(Dashboard!$X$29:$AC$42,MATCH($A49,Dashboard!$X$29:$X$42,0),5)*INDEX(Dashboard!$X$28:$AC$41,MATCH(P$40,Dashboard!$X$28:$X$41,0),5)=1,1,0),0))","v":0},{"$f":"IF(COUNTIF(Dashboard!$X$29:$X$42,P49)>1,5,IFERROR(Q13*IF(INDEX(Dashboard!$X$29:$AC$42,MATCH($A49,Dashboard!$X$29:$X$42,0),5)*INDEX(Dashboard!$X$28:$AC$41,MATCH(Q$40,Dashboard!$X$28:$X$41,0),5)=1,1,0),0))","v":0},{"$f":"IF(COUNTIF(Dashboard!$X$29:$X$42,Q49)>1,5,IFERROR(R13*IF(INDEX(Dashboard!$X$29:$AC$42,MATCH($A49,Dashboard!$X$29:$X$42,0),5)*INDEX(Dashboard!$X$28:$AC$41,MATCH(R$40,Dashboard!$X$28:$X$41,0),5)=1,1,0),0))","v":0},{"$f":"IF(COUNTIF(Dashboard!$X$29:$X$42,R49)>1,5,IFERROR(S13*IF(INDEX(Dashboard!$X$29:$AC$42,MATCH($A49,Dashboard!$X$29:$X$42,0),5)*INDEX(Dashboard!$X$28:$AC$41,MATCH(S$40,Dashboard!$X$28:$X$41,0),5)=1,1,0),0))","v":0},{"$f":"IF(COUNTIF(Dashboard!$X$29:$X$42,S49)>1,5,IFERROR(T13*IF(INDEX(Dashboard!$X$29:$AC$42,MATCH($A49,Dashboard!$X$29:$X$42,0),5)*INDEX(Dashboard!$X$28:$AC$41,MATCH(T$40,Dashboard!$X$28:$X$41,0),5)=1,1,0),0))","v":0},{"$f":"IF(COUNTIF(Dashboard!$X$29:$X$42,T49)>1,5,IFERROR(U13*IF(INDEX(Dashboard!$X$29:$AC$42,MATCH($A49,Dashboard!$X$29:$X$42,0),5)*INDEX(Dashboard!$X$28:$AC$41,MATCH(U$40,Dashboard!$X$28:$X$41,0),5)=1,1,0),0))","v":0},{"$f":"IF(COUNTIF(Dashboard!$X$29:$X$42,U49)>1,5,IFERROR(V13*IF(INDEX(Dashboard!$X$29:$AC$42,MATCH($A49,Dashboard!$X$29:$X$42,0),5)*INDEX(Dashboard!$X$28:$AC$41,MATCH(V$40,Dashboard!$X$28:$X$41,0),5)=1,1,0),0))","v":0},{"$f":"IF(COUNTIF(Dashboard!$X$29:$X$42,V49)>1,5,IFERROR(W13*IF(INDEX(Dashboard!$X$29:$AC$42,MATCH($A49,Dashboard!$X$29:$X$42,0),5)*INDEX(Dashboard!$X$28:$AC$41,MATCH(W$40,Dashboard!$X$28:$X$41,0),5)=1,1,0),0))","v":0},{"$f":"IF(COUNTIF(Dashboard!$X$29:$X$42,W49)>1,5,IFERROR(X13*IF(INDEX(Dashboard!$X$29:$AC$42,MATCH($A49,Dashboard!$X$29:$X$42,0),5)*INDEX(Dashboard!$X$28:$AC$41,MATCH(X$40,Dashboard!$X$28:$X$41,0),5)=1,1,0),0))","v":0},{"$f":"IF(COUNTIF(Dashboard!$X$29:$X$42,X49)>1,5,IFERROR(Y13*IF(INDEX(Dashboard!$X$29:$AC$42,MATCH($A49,Dashboard!$X$29:$X$42,0),5)*INDEX(Dashboard!$X$28:$AC$41,MATCH(Y$40,Dashboard!$X$28:$X$41,0),5)=1,1,0),0))","v":0},{"$f":"IF(COUNTIF(Dashboard!$X$29:$X$42,Y49)>1,5,IFERROR(Z13*IF(INDEX(Dashboard!$X$29:$AC$42,MATCH($A49,Dashboard!$X$29:$X$42,0),5)*INDEX(Dashboard!$X$28:$AC$41,MATCH(Z$40,Dashboard!$X$28:$X$41,0),5)=1,1,0),0))","v":0},{"$f":"IF(COUNTIF(Dashboard!$X$29:$X$42,Z49)>1,5,IFERROR(AA13*IF(INDEX(Dashboard!$X$29:$AC$42,MATCH($A49,Dashboard!$X$29:$X$42,0),5)*INDEX(Dashboard!$X$28:$AC$41,MATCH(AA$40,Dashboard!$X$28:$X$41,0),5)=1,1,0),0))","v":0},{"$f":"IF(COUNTIF(Dashboard!$X$29:$X$42,AA49)>1,5,IFERROR(AB13*IF(INDEX(Dashboard!$X$29:$AC$42,MATCH($A49,Dashboard!$X$29:$X$42,0),5)*INDEX(Dashboard!$X$28:$AC$41,MATCH(AB$40,Dashboard!$X$28:$X$41,0),5)=1,1,0),0))","v":0},{"$f":"IF(COUNTIF(Dashboard!$X$29:$X$42,AB49)>1,5,IFERROR(AC13*IF(INDEX(Dashboard!$X$29:$AC$42,MATCH($A49,Dashboard!$X$29:$X$42,0),5)*INDEX(Dashboard!$X$28:$AC$41,MATCH(AC$40,Dashboard!$X$28:$X$41,0),5)=1,1,0),0))","v":0},{"$f":"IF(COUNTIF(Dashboard!$X$29:$X$42,AC49)>1,5,IFERROR(AD13*IF(INDEX(Dashboard!$X$29:$AC$42,MATCH($A49,Dashboard!$X$29:$X$42,0),5)*INDEX(Dashboard!$X$28:$AC$41,MATCH(AD$40,Dashboard!$X$28:$X$41,0),5)=1,1,0),0))","v":0},{"$f":"IF(COUNTIF(Dashboard!$X$29:$X$42,AD49)>1,5,IFERROR(AE13*IF(INDEX(Dashboard!$X$29:$AC$42,MATCH($A49,Dashboard!$X$29:$X$42,0),5)*INDEX(Dashboard!$X$28:$AC$41,MATCH(AE$40,Dashboard!$X$28:$X$41,0),5)=1,1,0),0))","v":0},{"$f":"IF(COUNTIF(Dashboard!$X$29:$X$42,AE49)>1,5,IFERROR(AF13*IF(INDEX(Dashboard!$X$29:$AC$42,MATCH($A49,Dashboard!$X$29:$X$42,0),5)*INDEX(Dashboard!$X$28:$AC$41,MATCH(AF$40,Dashboard!$X$28:$X$41,0),5)=1,1,0),0))","v":0},0,0,null,null,{"$f":"IF(Dashboard!AB37,Dashboard!X37,\"\")","v":""}]
["Engine de-rating",{"$f":"IF(COUNTIF(Dashboard!$X$29:$X$42,#REF!)>1,5,IFERROR(B14*IF(INDEX(Dashboard!$X$29:$AC$42,MATCH($A50,Dashboard!$X$29:$X$42,0),5)*INDEX(Dashboard!$X$28:$AC$41,MATCH(B$40,Dashboard!$X$28:$X$41,0),5)=1,1,0),0))","v":0},{"$f":"IF(COUNTIF(Dashboard!$X$29:$X$42,B50)>1,5,IFERROR(C14*IF(INDEX(Dashboard!$X$29:$AC$42,MATCH($A50,Dashboard!$X$29:$X$42,0),5)*INDEX(Dashboard!$X$28:$AC$41,MATCH(C$40,Dashboard!$X$28:$X$41,0),5)=1,1,0),0))","v":0},{"$f":"IF(COUNTIF(Dashboard!$X$29:$X$42,C50)>1,5,IFERROR(D14*IF(INDEX(Dashboard!$X$29:$AC$42,MATCH($A50,Dashboard!$X$29:$X$42,0),5)*INDEX(Dashboard!$X$28:$AC$41,MATCH(D$40,Dashboard!$X$28:$X$41,0),5)=1,1,0),0))","v":0},{"$f":"IF(COUNTIF(Dashboard!$X$29:$X$42,D50)>1,5,IFERROR(E14*IF(INDEX(Dashboard!$X$29:$AC$42,MATCH($A50,Dashboard!$X$29:$X$42,0),5)*INDEX(Dashboard!$X$28:$AC$41,MATCH(E$40,Dashboard!$X$28:$X$41,0),5)=1,1,0),0))","v":0},{"$f":"IF(COUNTIF(Dashboard!$X$29:$X$42,E50)>1,5,IFERROR(F14*IF(INDEX(Dashboard!$X$29:$AC$42,MATCH($A50,Dashboard!$X$29:$X$42,0),5)*INDEX(Dashboard!$X$28:$AC$41,MATCH(F$40,Dashboard!$X$28:$X$41,0),5)=1,1,0),0))","v":0},{"$f":"IF(COUNTIF(Dashboard!$X$29:$X$42,F50)>1,5,IFERROR(G14*IF(INDEX(Dashboard!$X$29:$AC$42,MATCH($A50,Dashboard!$X$29:$X$42,0),5)*INDEX(Dashboard!$X$28:$AC$41,MATCH(G$40,Dashboard!$X$28:$X$41,0),5)=1,1,0),0))","v":0},{"$f":"IF(COUNTIF(Dashboard!$X$29:$X$42,G50)>1,5,IFERROR(H14*IF(INDEX(Dashboard!$X$29:$AC$42,MATCH($A50,Dashboard!$X$29:$X$42,0),5)*INDEX(Dashboard!$X$28:$AC$41,MATCH(H$40,Dashboard!$X$28:$X$41,0),5)=1,1,0),0))","v":0},{"$f":"IF(COUNTIF(Dashboard!$X$29:$X$42,H50)>1,5,IFERROR(I14*IF(INDEX(Dashboard!$X$29:$AC$42,MATCH($A50,Dashboard!$X$29:$X$42,0),5)*INDEX(Dashboard!$X$28:$AC$41,MATCH(I$40,Dashboard!$X$28:$X$41,0),5)=1,1,0),0))","v":0},{"$f":"IF(COUNTIF(Dashboard!$X$29:$X$42,I50)>1,5,IFERROR(J14*IF(INDEX(Dashboard!$X$29:$AC$42,MATCH($A50,Dashboard!$X$29:$X$42,0),5)*INDEX(Dashboard!$X$28:$AC$41,MATCH(J$40,Dashboard!$X$28:$X$41,0),5)=1,1,0),0))","v":0},{"$f":"IF(COUNTIF(Dashboard!$X$29:$X$42,J50)>1,5,IFERROR(K14*IF(INDEX(Dashboard!$X$29:$AC$42,MATCH($A50,Dashboard!$X$29:$X$42,0),5)*INDEX(Dashboard!$X$28:$AC$41,MATCH(K$40,Dashboard!$X$28:$X$41,0),5)=1,1,0),0))","v":0},{"$f":"IF(COUNTIF(Dashboard!$X$29:$X$42,K50)>1,5,IFERROR(L14*IF(INDEX(Dashboard!$X$29:$AC$42,MATCH($A50,Dashboard!$X$29:$X$42,0),5)*INDEX(Dashboard!$X$28:$AC$41,MATCH(L$40,Dashboard!$X$28:$X$41,0),5)=1,1,0),0))","v":0},{"$f":"IF(COUNTIF(Dashboard!$X$29:$X$42,L50)>1,5,IFERROR(M14*IF(INDEX(Dashboard!$X$29:$AC$42,MATCH($A50,Dashboard!$X$29:$X$42,0),5)*INDEX(Dashboard!$X$28:$AC$41,MATCH(M$40,Dashboard!$X$28:$X$41,0),5)=1,1,0),0))","v":0},{"$f":"IF(COUNTIF(Dashboard!$X$29:$X$42,M50)>1,5,IFERROR(N14*IF(INDEX(Dashboard!$X$29:$AC$42,MATCH($A50,Dashboard!$X$29:$X$42,0),5)*INDEX(Dashboard!$X$28:$AC$41,MATCH(N$40,Dashboard!$X$28:$X$41,0),5)=1,1,0),0))","v":0},{"$f":"IF(COUNTIF(Dashboard!$X$29:$X$42,N50)>1,5,IFERROR(O14*IF(INDEX(Dashboard!$X$29:$AC$42,MATCH($A50,Dashboard!$X$29:$X$42,0),5)*INDEX(Dashboard!$X$28:$AC$41,MATCH(O$40,Dashboard!$X$28:$X$41,0),5)=1,1,0),0))","v":0},{"$f":"IF(COUNTIF(Dashboard!$X$29:$X$42,O50)>1,5,IFERROR(P14*IF(INDEX(Dashboard!$X$29:$AC$42,MATCH($A50,Dashboard!$X$29:$X$42,0),5)*INDEX(Dashboard!$X$28:$AC$41,MATCH(P$40,Dashboard!$X$28:$X$41,0),5)=1,1,0),0))","v":0},{"$f":"IF(COUNTIF(Dashboard!$X$29:$X$42,P50)>1,5,IFERROR(Q14*IF(INDEX(Dashboard!$X$29:$AC$42,MATCH($A50,Dashboard!$X$29:$X$42,0),5)*INDEX(Dashboard!$X$28:$AC$41,MATCH(Q$40,Dashboard!$X$28:$X$41,0),5)=1,1,0),0))","v":0},{"$f":"IF(COUNTIF(Dashboard!$X$29:$X$42,Q50)>1,5,IFERROR(R14*IF(INDEX(Dashboard!$X$29:$AC$42,MATCH($A50,Dashboard!$X$29:$X$42,0),5)*INDEX(Dashboard!$X$28:$AC$41,MATCH(R$40,Dashboard!$X$28:$X$41,0),5)=1,1,0),0))","v":0},{"$f":"IF(COUNTIF(Dashboard!$X$29:$X$42,R50)>1,5,IFERROR(S14*IF(INDEX(Dashboard!$X$29:$AC$42,MATCH($A50,Dashboard!$X$29:$X$42,0),5)*INDEX(Dashboard!$X$28:$AC$41,MATCH(S$40,Dashboard!$X$28:$X$41,0),5)=1,1,0),0))","v":0},{"$f":"IF(COUNTIF(Dashboard!$X$29:$X$42,S50)>1,5,IFERROR(T14*IF(INDEX(Dashboard!$X$29:$AC$42,MATCH($A50,Dashboard!$X$29:$X$42,0),5)*INDEX(Dashboard!$X$28:$AC$41,MATCH(T$40,Dashboard!$X$28:$X$41,0),5)=1,1,0),0))","v":0},{"$f":"IF(COUNTIF(Dashboard!$X$29:$X$42,T50)>1,5,IFERROR(U14*IF(INDEX(Dashboard!$X$29:$AC$42,MATCH($A50,Dashboard!$X$29:$X$42,0),5)*INDEX(Dashboard!$X$28:$AC$41,MATCH(U$40,Dashboard!$X$28:$X$41,0),5)=1,1,0),0))","v":0},{"$f":"IF(COUNTIF(Dashboard!$X$29:$X$42,U50)>1,5,IFERROR(V14*IF(INDEX(Dashboard!$X$29:$AC$42,MATCH($A50,Dashboard!$X$29:$X$42,0),5)*INDEX(Dashboard!$X$28:$AC$41,MATCH(V$40,Dashboard!$X$28:$X$41,0),5)=1,1,0),0))","v":0},{"$f":"IF(COUNTIF(Dashboard!$X$29:$X$42,V50)>1,5,IFERROR(W14*IF(INDEX(Dashboard!$X$29:$AC$42,MATCH($A50,Dashboard!$X$29:$X$42,0),5)*INDEX(Dashboard!$X$28:$AC$41,MATCH(W$40,Dashboard!$X$28:$X$41,0),5)=1,1,0),0))","v":0},{"$f":"IF(COUNTIF(Dashboard!$X$29:$X$42,W50)>1,5,IFERROR(X14*IF(INDEX(Dashboard!$X$29:$AC$42,MATCH($A50,Dashboard!$X$29:$X$42,0),5)*INDEX(Dashboard!$X$28:$AC$41,MATCH(X$40,Dashboard!$X$28:$X$41,0),5)=1,1,0),0))","v":0},{"$f":"IF(COUNTIF(Dashboard!$X$29:$X$42,X50)>1,5,IFERROR(Y14*IF(INDEX(Dashboard!$X$29:$AC$42,MATCH($A50,Dashboard!$X$29:$X$42,0),5)*INDEX(Dashboard!$X$28:$AC$41,MATCH(Y$40,Dashboard!$X$28:$X$41,0),5)=1,1,0),0))","v":0},{"$f":"IF(COUNTIF(Dashboard!$X$29:$X$42,Y50)>1,5,IFERROR(Z14*IF(INDEX(Dashboard!$X$29:$AC$42,MATCH($A50,Dashboard!$X$29:$X$42,0),5)*INDEX(Dashboard!$X$28:$AC$41,MATCH(Z$40,Dashboard!$X$28:$X$41,0),5)=1,1,0),0))","v":0},{"$f":"IF(COUNTIF(Dashboard!$X$29:$X$42,Z50)>1,5,IFERROR(AA14*IF(INDEX(Dashboard!$X$29:$AC$42,MATCH($A50,Dashboard!$X$29:$X$42,0),5)*INDEX(Dashboard!$X$28:$AC$41,MATCH(AA$40,Dashboard!$X$28:$X$41,0),5)=1,1,0),0))","v":0},{"$f":"IF(COUNTIF(Dashboard!$X$29:$X$42,AA50)>1,5,IFERROR(AB14*IF(INDEX(Dashboard!$X$29:$AC$42,MATCH($A50,Dashboard!$X$29:$X$42,0),5)*INDEX(Dashboard!$X$28:$AC$41,MATCH(AB$40,Dashboard!$X$28:$X$41,0),5)=1,1,0),0))","v":0},{"$f":"IF(COUNTIF(Dashboard!$X$29:$X$42,AB50)>1,5,IFERROR(AC14*IF(INDEX(Dashboard!$X$29:$AC$42,MATCH($A50,Dashboard!$X$29:$X$42,0),5)*INDEX(Dashboard!$X$28:$AC$41,MATCH(AC$40,Dashboard!$X$28:$X$41,0),5)=1,1,0),0))","v":0},{"$f":"IF(COUNTIF(Dashboard!$X$29:$X$42,AC50)>1,5,IFERROR(AD14*IF(INDEX(Dashboard!$X$29:$AC$42,MATCH($A50,Dashboard!$X$29:$X$42,0),5)*INDEX(Dashboard!$X$28:$AC$41,MATCH(AD$40,Dashboard!$X$28:$X$41,0),5)=1,1,0),0))","v":0},{"$f":"IF(COUNTIF(Dashboard!$X$29:$X$42,AD50)>1,5,IFERROR(AE14*IF(INDEX(Dashboard!$X$29:$AC$42,MATCH($A50,Dashboard!$X$29:$X$42,0),5)*INDEX(Dashboard!$X$28:$AC$41,MATCH(AE$40,Dashboard!$X$28:$X$41,0),5)=1,1,0),0))","v":0},{"$f":"IF(COUNTIF(Dashboard!$X$29:$X$42,AE50)>1,5,IFERROR(AF14*IF(INDEX(Dashboard!$X$29:$AC$42,MATCH($A50,Dashboard!$X$29:$X$42,0),5)*INDEX(Dashboard!$X$28:$AC$41,MATCH(AF$40,Dashboard!$X$28:$X$41,0),5)=1,1,0),0))","v":0},0,0,null,null,{"$f":"IF(Dashboard!AB38,Dashboard!X38,\"\")","v":""}]
["Engine performance optimization (manual)",{"$f":"IF(COUNTIF(Dashboard!$X$29:$X$42,#REF!)>1,5,IFERROR(B15*IF(INDEX(Dashboard!$X$29:$AC$42,MATCH($A51,Dashboard!$X$29:$X$42,0),5)*INDEX(Dashboard!$X$28:$AC$41,MATCH(B$40,Dashboard!$X$28:$X$41,0),5)=1,1,0),0))","v":0},{"$f":"IF(COUNTIF(Dashboard!$X$29:$X$42,B51)>1,5,IFERROR(C15*IF(INDEX(Dashboard!$X$29:$AC$42,MATCH($A51,Dashboard!$X$29:$X$42,0),5)*INDEX(Dashboard!$X$28:$AC$41,MATCH(C$40,Dashboard!$X$28:$X$41,0),5)=1,1,0),0))","v":0},{"$f":"IF(COUNTIF(Dashboard!$X$29:$X$42,C51)>1,5,IFERROR(D15*IF(INDEX(Dashboard!$X$29:$AC$42,MATCH($A51,Dashboard!$X$29:$X$42,0),5)*INDEX(Dashboard!$X$28:$AC$41,MATCH(D$40,Dashboard!$X$28:$X$41,0),5)=1,1,0),0))","v":0},{"$f":"IF(COUNTIF(Dashboard!$X$29:$X$42,D51)>1,5,IFERROR(E15*IF(INDEX(Dashboard!$X$29:$AC$42,MATCH($A51,Dashboard!$X$29:$X$42,0),5)*INDEX(Dashboard!$X$28:$AC$41,MATCH(E$40,Dashboard!$X$28:$X$41,0),5)=1,1,0),0))","v":0},{"$f":"IF(COUNTIF(Dashboard!$X$29:$X$42,E51)>1,5,IFERROR(F15*IF(INDEX(Dashboard!$X$29:$AC$42,MATCH($A51,Dashboard!$X$29:$X$42,0),5)*INDEX(Dashboard!$X$28:$AC$41,MATCH(F$40,Dashboard!$X$28:$X$41,0),5)=1,1,0),0))","v":0},{"$f":"IF(COUNTIF(Dashboard!$X$29:$X$42,F51)>1,5,IFERROR(G15*IF(INDEX(Dashboard!$X$29:$AC$42,MATCH($A51,Dashboard!$X$29:$X$42,0),5)*INDEX(Dashboard!$X$28:$AC$41,MATCH(G$40,Dashboard!$X$28:$X$41,0),5)=1,1,0),0))","v":0},{"$f":"IF(COUNTIF(Dashboard!$X$29:$X$42,G51)>1,5,IFERROR(H15*IF(INDEX(Dashboard!$X$29:$AC$42,MATCH($A51,Dashboard!$X$29:$X$42,0),5)*INDEX(Dashboard!$X$28:$AC$41,MATCH(H$40,Dashboard!$X$28:$X$41,0),5)=1,1,0),0))","v":0},{"$f":"IF(COUNTIF(Dashboard!$X$29:$X$42,H51)>1,5,IFERROR(I15*IF(INDEX(Dashboard!$X$29:$AC$42,MATCH($A51,Dashboard!$X$29:$X$42,0),5)*INDEX(Dashboard!$X$28:$AC$41,MATCH(I$40,Dashboard!$X$28:$X$41,0),5)=1,1,0),0))","v":0},{"$f":"IF(COUNTIF(Dashboard!$X$29:$X$42,I51)>1,5,IFERROR(J15*IF(INDEX(Dashboard!$X$29:$AC$42,MATCH($A51,Dashboard!$X$29:$X$42,0),5)*INDEX(Dashboard!$X$28:$AC$41,MATCH(J$40,Dashboard!$X$28:$X$41,0),5)=1,1,0),0))","v":0},{"$f":"IF(COUNTIF(Dashboard!$X$29:$X$42,J51)>1,5,IFERROR(K15*IF(INDEX(Dashboard!$X$29:$AC$42,MATCH($A51,Dashboard!$X$29:$X$42,0),5)*INDEX(Dashboard!$X$28:$AC$41,MATCH(K$40,Dashboard!$X$28:$X$41,0),5)=1,1,0),0))","v":0},{"$f":"IF(COUNTIF(Dashboard!$X$29:$X$42,K51)>1,5,IFERROR(L15*IF(INDEX(Dashboard!$X$29:$AC$42,MATCH($A51,Dashboard!$X$29:$X$42,0),5)*INDEX(Dashboard!$X$28:$AC$41,MATCH(L$40,Dashboard!$X$28:$X$41,0),5)=1,1,0),0))","v":0},{"$f":"IF(COUNTIF(Dashboard!$X$29:$X$42,L51)>1,5,IFERROR(M15*IF(INDEX(Dashboard!$X$29:$AC$42,MATCH($A51,Dashboard!$X$29:$X$42,0),5)*INDEX(Dashboard!$X$28:$AC$41,MATCH(M$40,Dashboard!$X$28:$X$41,0),5)=1,1,0),0))","v":0},{"$f":"IF(COUNTIF(Dashboard!$X$29:$X$42,M51)>1,5,IFERROR(N15*IF(INDEX(Dashboard!$X$29:$AC$42,MATCH($A51,Dashboard!$X$29:$X$42,0),5)*INDEX(Dashboard!$X$28:$AC$41,MATCH(N$40,Dashboard!$X$28:$X$41,0),5)=1,1,0),0))","v":0},{"$f":"IF(COUNTIF(Dashboard!$X$29:$X$42,N51)>1,5,IFERROR(O15*IF(INDEX(Dashboard!$X$29:$AC$42,MATCH($A51,Dashboard!$X$29:$X$42,0),5)*INDEX(Dashboard!$X$28:$AC$41,MATCH(O$40,Dashboard!$X$28:$X$41,0),5)=1,1,0),0))","v":0},{"$f":"IF(COUNTIF(Dashboard!$X$29:$X$42,O51)>1,5,IFERROR(P15*IF(INDEX(Dashboard!$X$29:$AC$42,MATCH($A51,Dashboard!$X$29:$X$42,0),5)*INDEX(Dashboard!$X$28:$AC$41,MATCH(P$40,Dashboard!$X$28:$X$41,0),5)=1,1,0),0))","v":0},{"$f":"IF(COUNTIF(Dashboard!$X$29:$X$42,P51)>1,5,IFERROR(Q15*IF(INDEX(Dashboard!$X$29:$AC$42,MATCH($A51,Dashboard!$X$29:$X$42,0),5)*INDEX(Dashboard!$X$28:$AC$41,MATCH(Q$40,Dashboard!$X$28:$X$41,0),5)=1,1,0),0))","v":0},{"$f":"IF(COUNTIF(Dashboard!$X$29:$X$42,Q51)>1,5,IFERROR(R15*IF(INDEX(Dashboard!$X$29:$AC$42,MATCH($A51,Dashboard!$X$29:$X$42,0),5)*INDEX(Dashboard!$X$28:$AC$41,MATCH(R$40,Dashboard!$X$28:$X$41,0),5)=1,1,0),0))","v":0},{"$f":"IF(COUNTIF(Dashboard!$X$29:$X$42,R51)>1,5,IFERROR(S15*IF(INDEX(Dashboard!$X$29:$AC$42,MATCH($A51,Dashboard!$X$29:$X$42,0),5)*INDEX(Dashboard!$X$28:$AC$41,MATCH(S$40,Dashboard!$X$28:$X$41,0),5)=1,1,0),0))","v":0},{"$f":"IF(COUNTIF(Dashboard!$X$29:$X$42,S51)>1,5,IFERROR(T15*IF(INDEX(Dashboard!$X$29:$AC$42,MATCH($A51,Dashboard!$X$29:$X$42,0),5)*INDEX(Dashboard!$X$28:$AC$41,MATCH(T$40,Dashboard!$X$28:$X$41,0),5)=1,1,0),0))","v":0},{"$f":"IF(COUNTIF(Dashboard!$X$29:$X$42,T51)>1,5,IFERROR(U15*IF(INDEX(Dashboard!$X$29:$AC$42,MATCH($A51,Dashboard!$X$29:$X$42,0),5)*INDEX(Dashboard!$X$28:$AC$41,MATCH(U$40,Dashboard!$X$28:$X$41,0),5)=1,1,0),0))","v":0},{"$f":"IF(COUNTIF(Dashboard!$X$29:$X$42,U51)>1,5,IFERROR(V15*IF(INDEX(Dashboard!$X$29:$AC$42,MATCH($A51,Dashboard!$X$29:$X$42,0),5)*INDEX(Dashboard!$X$28:$AC$41,MATCH(V$40,Dashboard!$X$28:$X$41,0),5)=1,1,0),0))","v":0},{"$f":"IF(COUNTIF(Dashboard!$X$29:$X$42,V51)>1,5,IFERROR(W15*IF(INDEX(Dashboard!$X$29:$AC$42,MATCH($A51,Dashboard!$X$29:$X$42,0),5)*INDEX(Dashboard!$X$28:$AC$41,MATCH(W$40,Dashboard!$X$28:$X$41,0),5)=1,1,0),0))","v":0},{"$f":"IF(COUNTIF(Dashboard!$X$29:$X$42,W51)>1,5,IFERROR(X15*IF(INDEX(Dashboard!$X$29:$AC$42,MATCH($A51,Dashboard!$X$29:$X$42,0),5)*INDEX(Dashboard!$X$28:$AC$41,MATCH(X$40,Dashboard!$X$28:$X$41,0),5)=1,1,0),0))","v":0},{"$f":"IF(COUNTIF(Dashboard!$X$29:$X$42,X51)>1,5,IFERROR(Y15*IF(INDEX(Dashboard!$X$29:$AC$42,MATCH($A51,Dashboard!$X$29:$X$42,0),5)*INDEX(Dashboard!$X$28:$AC$41,MATCH(Y$40,Dashboard!$X$28:$X$41,0),5)=1,1,0),0))","v":0},{"$f":"IF(COUNTIF(Dashboard!$X$29:$X$42,Y51)>1,5,IFERROR(Z15*IF(INDEX(Dashboard!$X$29:$AC$42,MATCH($A51,Dashboard!$X$29:$X$42,0),5)*INDEX(Dashboard!$X$28:$AC$41,MATCH(Z$40,Dashboard!$X$28:$X$41,0),5)=1,1,0),0))","v":0},{"$f":"IF(COUNTIF(Dashboard!$X$29:$X$42,Z51)>1,5,IFERROR(AA15*IF(INDEX(Dashboard!$X$29:$AC$42,MATCH($A51,Dashboard!$X$29:$X$42,0),5)*INDEX(Dashboard!$X$28:$AC$41,MATCH(AA$40,Dashboard!$X$28:$X$41,0),5)=1,1,0),0))","v":0},{"$f":"IF(COUNTIF(Dashboard!$X$29:$X$42,AA51)>1,5,IFERROR(AB15*IF(INDEX(Dashboard!$X$29:$AC$42,MATCH($A51,Dashboard!$X$29:$X$42,0),5)*INDEX(Dashboard!$X$28:$AC$41,MATCH(AB$40,Dashboard!$X$28:$X$41,0),5)=1,1,0),0))","v":0},{"$f":"IF(COUNTIF(Dashboard!$X$29:$X$42,AB51)>1,5,IFERROR(AC15*IF(INDEX(Dashboard!$X$29:$AC$42,MATCH($A51,Dashboard!$X$29:$X$42,0),5)*INDEX(Dashboard!$X$28:$AC$41,MATCH(AC$40,Dashboard!$X$28:$X$41,0),5)=1,1,0),0))","v":0},{"$f":"IF(COUNTIF(Dashboard!$X$29:$X$42,AC51)>1,5,IFERROR(AD15*IF(INDEX(Dashboard!$X$29:$AC$42,MATCH($A51,Dashboard!$X$29:$X$42,0),5)*INDEX(Dashboard!$X$28:$AC$41,MATCH(AD$40,Dashboard!$X$28:$X$41,0),5)=1,1,0),0))","v":0},{"$f":"IF(COUNTIF(Dashboard!$X$29:$X$42,AD51)>1,5,IFERROR(AE15*IF(INDEX(Dashboard!$X$29:$AC$42,MATCH($A51,Dashboard!$X$29:$X$42,0),5)*INDEX(Dashboard!$X$28:$AC$41,MATCH(AE$40,Dashboard!$X$28:$X$41,0),5)=1,1,0),0))","v":0},{"$f":"IF(COUNTIF(Dashboard!$X$29:$X$42,AE51)>1,5,IFERROR(AF15*IF(INDEX(Dashboard!$X$29:$AC$42,MATCH($A51,Dashboard!$X$29:$X$42,0),5)*INDEX(Dashboard!$X$28:$AC$41,MATCH(AF$40,Dashboard!$X$28:$X$41,0),5)=1,1,0),0))","v":0},0,0,null,null,{"$f":"IF(Dashboard!AB39,Dashboard!X39,\"\")","v":""}]
["Exhaust gas boilers on auxiliary engines",{"$f":"IF(COUNTIF(Dashboard!$X$29:$X$42,#REF!)>1,5,IFERROR(B16*IF(INDEX(Dashboard!$X$29:$AC$42,MATCH($A52,Dashboard!$X$29:$X$42,0),5)*INDEX(Dashboard!$X$28:$AC$41,MATCH(B$40,Dashboard!$X$28:$X$41,0),5)=1,1,0),0))","v":0},{"$f":"IF(COUNTIF(Dashboard!$X$29:$X$42,B52)>1,5,IFERROR(C16*IF(INDEX(Dashboard!$X$29:$AC$42,MATCH($A52,Dashboard!$X$29:$X$42,0),5)*INDEX(Dashboard!$X$28:$AC$41,MATCH(C$40,Dashboard!$X$28:$X$41,0),5)=1,1,0),0))","v":0},{"$f":"IF(COUNTIF(Dashboard!$X$29:$X$42,C52)>1,5,IFERROR(D16*IF(INDEX(Dashboard!$X$29:$AC$42,MATCH($A52,Dashboard!$X$29:$X$42,0),5)*INDEX(Dashboard!$X$28:$AC$41,MATCH(D$40,Dashboard!$X$28:$X$41,0),5)=1,1,0),0))","v":0},{"$f":"IF(COUNTIF(Dashboard!$X$29:$X$42,D52)>1,5,IFERROR(E16*IF(INDEX(Dashboard!$X$29:$AC$42,MATCH($A52,Dashboard!$X$29:$X$42,0),5)*INDEX(Dashboard!$X$28:$AC$41,MATCH(E$40,Dashboard!$X$28:$X$41,0),5)=1,1,0),0))","v":0},{"$f":"IF(COUNTIF(Dashboard!$X$29:$X$42,E52)>1,5,IFERROR(F16*IF(INDEX(Dashboard!$X$29:$AC$42,MATCH($A52,Dashboard!$X$29:$X$42,0),5)*INDEX(Dashboard!$X$28:$AC$41,MATCH(F$40,Dashboard!$X$28:$X$41,0),5)=1,1,0),0))","v":0},{"$f":"IF(COUNTIF(Dashboard!$X$29:$X$42,F52)>1,5,IFERROR(G16*IF(INDEX(Dashboard!$X$29:$AC$42,MATCH($A52,Dashboard!$X$29:$X$42,0),5)*INDEX(Dashboard!$X$28:$AC$41,MATCH(G$40,Dashboard!$X$28:$X$41,0),5)=1,1,0),0))","v":0},{"$f":"IF(COUNTIF(Dashboard!$X$29:$X$42,G52)>1,5,IFERROR(H16*IF(INDEX(Dashboard!$X$29:$AC$42,MATCH($A52,Dashboard!$X$29:$X$42,0),5)*INDEX(Dashboard!$X$28:$AC$41,MATCH(H$40,Dashboard!$X$28:$X$41,0),5)=1,1,0),0))","v":0},{"$f":"IF(COUNTIF(Dashboard!$X$29:$X$42,H52)>1,5,IFERROR(I16*IF(INDEX(Dashboard!$X$29:$AC$42,MATCH($A52,Dashboard!$X$29:$X$42,0),5)*INDEX(Dashboard!$X$28:$AC$41,MATCH(I$40,Dashboard!$X$28:$X$41,0),5)=1,1,0),0))","v":0},{"$f":"IF(COUNTIF(Dashboard!$X$29:$X$42,I52)>1,5,IFERROR(J16*IF(INDEX(Dashboard!$X$29:$AC$42,MATCH($A52,Dashboard!$X$29:$X$42,0),5)*INDEX(Dashboard!$X$28:$AC$41,MATCH(J$40,Dashboard!$X$28:$X$41,0),5)=1,1,0),0))","v":0},{"$f":"IF(COUNTIF(Dashboard!$X$29:$X$42,J52)>1,5,IFERROR(K16*IF(INDEX(Dashboard!$X$29:$AC$42,MATCH($A52,Dashboard!$X$29:$X$42,0),5)*INDEX(Dashboard!$X$28:$AC$41,MATCH(K$40,Dashboard!$X$28:$X$41,0),5)=1,1,0),0))","v":0},{"$f":"IF(COUNTIF(Dashboard!$X$29:$X$42,K52)>1,5,IFERROR(L16*IF(INDEX(Dashboard!$X$29:$AC$42,MATCH($A52,Dashboard!$X$29:$X$42,0),5)*INDEX(Dashboard!$X$28:$AC$41,MATCH(L$40,Dashboard!$X$28:$X$41,0),5)=1,1,0),0))","v":0},{"$f":"IF(COUNTIF(Dashboard!$X$29:$X$42,L52)>1,5,IFERROR(M16*IF(INDEX(Dashboard!$X$29:$AC$42,MATCH($A52,Dashboard!$X$29:$X$42,0),5)*INDEX(Dashboard!$X$28:$AC$41,MATCH(M$40,Dashboard!$X$28:$X$41,0),5)=1,1,0),0))","v":0},{"$f":"IF(COUNTIF(Dashboard!$X$29:$X$42,M52)>1,5,IFERROR(N16*IF(INDEX(Dashboard!$X$29:$AC$42,MATCH($A52,Dashboard!$X$29:$X$42,0),5)*INDEX(Dashboard!$X$28:$AC$41,MATCH(N$40,Dashboard!$X$28:$X$41,0),5)=1,1,0),0))","v":0},{"$f":"IF(COUNTIF(Dashboard!$X$29:$X$42,N52)>1,5,IFERROR(O16*IF(INDEX(Dashboard!$X$29:$AC$42,MATCH($A52,Dashboard!$X$29:$X$42,0),5)*INDEX(Dashboard!$X$28:$AC$41,MATCH(O$40,Dashboard!$X$28:$X$41,0),5)=1,1,0),0))","v":0},{"$f":"IF(COUNTIF(Dashboard!$X$29:$X$42,O52)>1,5,IFERROR(P16*IF(INDEX(Dashboard!$X$29:$AC$42,MATCH($A52,Dashboard!$X$29:$X$42,0),5)*INDEX(Dashboard!$X$28:$AC$41,MATCH(P$40,Dashboard!$X$28:$X$41,0),5)=1,1,0),0))","v":0},{"$f":"IF(COUNTIF(Dashboard!$X$29:$X$42,P52)>1,5,IFERROR(Q16*IF(INDEX(Dashboard!$X$29:$AC$42,MATCH($A52,Dashboard!$X$29:$X$42,0),5)*INDEX(Dashboard!$X$28:$AC$41,MATCH(Q$40,Dashboard!$X$28:$X$41,0),5)=1,1,0),0))","v":0},{"$f":"IF(COUNTIF(Dashboard!$X$29:$X$42,Q52)>1,5,IFERROR(R16*IF(INDEX(Dashboard!$X$29:$AC$42,MATCH($A52,Dashboard!$X$29:$X$42,0),5)*INDEX(Dashboard!$X$28:$AC$41,MATCH(R$40,Dashboard!$X$28:$X$41,0),5)=1,1,0),0))","v":0},{"$f":"IF(COUNTIF(Dashboard!$X$29:$X$42,R52)>1,5,IFERROR(S16*IF(INDEX(Dashboard!$X$29:$AC$42,MATCH($A52,Dashboard!$X$29:$X$42,0),5)*INDEX(Dashboard!$X$28:$AC$41,MATCH(S$40,Dashboard!$X$28:$X$41,0),5)=1,1,0),0))","v":0},{"$f":"IF(COUNTIF(Dashboard!$X$29:$X$42,S52)>1,5,IFERROR(T16*IF(INDEX(Dashboard!$X$29:$AC$42,MATCH($A52,Dashboard!$X$29:$X$42,0),5)*INDEX(Dashboard!$X$28:$AC$41,MATCH(T$40,Dashboard!$X$28:$X$41,0),5)=1,1,0),0))","v":0},{"$f":"IF(COUNTIF(Dashboard!$X$29:$X$42,T52)>1,5,IFERROR(U16*IF(INDEX(Dashboard!$X$29:$AC$42,MATCH($A52,Dashboard!$X$29:$X$42,0),5)*INDEX(Dashboard!$X$28:$AC$41,MATCH(U$40,Dashboard!$X$28:$X$41,0),5)=1,1,0),0))","v":0},{"$f":"IF(COUNTIF(Dashboard!$X$29:$X$42,U52)>1,5,IFERROR(V16*IF(INDEX(Dashboard!$X$29:$AC$42,MATCH($A52,Dashboard!$X$29:$X$42,0),5)*INDEX(Dashboard!$X$28:$AC$41,MATCH(V$40,Dashboard!$X$28:$X$41,0),5)=1,1,0),0))","v":0},{"$f":"IF(COUNTIF(Dashboard!$X$29:$X$42,V52)>1,5,IFERROR(W16*IF(INDEX(Dashboard!$X$29:$AC$42,MATCH($A52,Dashboard!$X$29:$X$42,0),5)*INDEX(Dashboard!$X$28:$AC$41,MATCH(W$40,Dashboard!$X$28:$X$41,0),5)=1,1,0),0))","v":0},{"$f":"IF(COUNTIF(Dashboard!$X$29:$X$42,W52)>1,5,IFERROR(X16*IF(INDEX(Dashboard!$X$29:$AC$42,MATCH($A52,Dashboard!$X$29:$X$42,0),5)*INDEX(Dashboard!$X$28:$AC$41,MATCH(X$40,Dashboard!$X$28:$X$41,0),5)=1,1,0),0))","v":0},{"$f":"IF(COUNTIF(Dashboard!$X$29:$X$42,X52)>1,5,IFERROR(Y16*IF(INDEX(Dashboard!$X$29:$AC$42,MATCH($A52,Dashboard!$X$29:$X$42,0),5)*INDEX(Dashboard!$X$28:$AC$41,MATCH(Y$40,Dashboard!$X$28:$X$41,0),5)=1,1,0),0))","v":0},{"$f":"IF(COUNTIF(Dashboard!$X$29:$X$42,Y52)>1,5,IFERROR(Z16*IF(INDEX(Dashboard!$X$29:$AC$42,MATCH($A52,Dashboard!$X$29:$X$42,0),5)*INDEX(Dashboard!$X$28:$AC$41,MATCH(Z$40,Dashboard!$X$28:$X$41,0),5)=1,1,0),0))","v":0},{"$f":"IF(COUNTIF(Dashboard!$X$29:$X$42,Z52)>1,5,IFERROR(AA16*IF(INDEX(Dashboard!$X$29:$AC$42,MATCH($A52,Dashboard!$X$29:$X$42,0),5)*INDEX(Dashboard!$X$28:$AC$41,MATCH(AA$40,Dashboard!$X$28:$X$41,0),5)=1,1,0),0))","v":0},{"$f":"IF(COUNTIF(Dashboard!$X$29:$X$42,AA52)>1,5,IFERROR(AB16*IF(INDEX(Dashboard!$X$29:$AC$42,MATCH($A52,Dashboard!$X$29:$X$42,0),5)*INDEX(Dashboard!$X$28:$AC$41,MATCH(AB$40,Dashboard!$X$28:$X$41,0),5)=1,1,0),0))","v":0},{"$f":"IF(COUNTIF(Dashboard!$X$29:$X$42,AB52)>1,5,IFERROR(AC16*IF(INDEX(Dashboard!$X$29:$AC$42,MATCH($A52,Dashboard!$X$29:$X$42,0),5)*INDEX(Dashboard!$X$28:$AC$41,MATCH(AC$40,Dashboard!$X$28:$X$41,0),5)=1,1,0),0))","v":0},{"$f":"IF(COUNTIF(Dashboard!$X$29:$X$42,AC52)>1,5,IFERROR(AD16*IF(INDEX(Dashboard!$X$29:$AC$42,MATCH($A52,Dashboard!$X$29:$X$42,0),5)*INDEX(Dashboard!$X$28:$AC$41,MATCH(AD$40,Dashboard!$X$28:$X$41,0),5)=1,1,0),0))","v":0},{"$f":"IF(COUNTIF(Dashboard!$X$29:$X$42,AD52)>1,5,IFERROR(AE16*IF(INDEX(Dashboard!$X$29:$AC$42,MATCH($A52,Dashboard!$X$29:$X$42,0),5)*INDEX(Dashboard!$X$28:$AC$41,MATCH(AE$40,Dashboard!$X$28:$X$41,0),5)=1,1,0),0))","v":0},{"$f":"IF(COUNTIF(Dashboard!$X$29:$X$42,AE52)>1,5,IFERROR(AF16*IF(INDEX(Dashboard!$X$29:$AC$42,MATCH($A52,Dashboard!$X$29:$X$42,0),5)*INDEX(Dashboard!$X$28:$AC$41,MATCH(AF$40,Dashboard!$X$28:$X$41,0),5)=1,1,0),0))","v":0},0,0,null,null,{"$f":"IF(Dashboard!AB40,Dashboard!X40,\"\")","v":""}]
["Battery hybridization (not plug-in)",{"$f":"IF(COUNTIF(Dashboard!$X$29:$X$42,#REF!)>1,5,IFERROR(B17*IF(INDEX(Dashboard!$X$29:$AC$42,MATCH($A53,Dashboard!$X$29:$X$42,0),5)*INDEX(Dashboard!$X$28:$AC$41,MATCH(B$40,Dashboard!$X$28:$X$41,0),5)=1,1,0),0))","v":0},{"$f":"IF(COUNTIF(Dashboard!$X$29:$X$42,B53)>1,5,IFERROR(C17*IF(INDEX(Dashboard!$X$29:$AC$42,MATCH($A53,Dashboard!$X$29:$X$42,0),5)*INDEX(Dashboard!$X$28:$AC$41,MATCH(C$40,Dashboard!$X$28:$X$41,0),5)=1,1,0),0))","v":0},{"$f":"IF(COUNTIF(Dashboard!$X$29:$X$42,C53)>1,5,IFERROR(D17*IF(INDEX(Dashboard!$X$29:$AC$42,MATCH($A53,Dashboard!$X$29:$X$42,0),5)*INDEX(Dashboard!$X$28:$AC$41,MATCH(D$40,Dashboard!$X$28:$X$41,0),5)=1,1,0),0))","v":0},{"$f":"IF(COUNTIF(Dashboard!$X$29:$X$42,D53)>1,5,IFERROR(E17*IF(INDEX(Dashboard!$X$29:$AC$42,MATCH($A53,Dashboard!$X$29:$X$42,0),5)*INDEX(Dashboard!$X$28:$AC$41,MATCH(E$40,Dashboard!$X$28:$X$41,0),5)=1,1,0),0))","v":0},{"$f":"IF(COUNTIF(Dashboard!$X$29:$X$42,E53)>1,5,IFERROR(F17*IF(INDEX(Dashboard!$X$29:$AC$42,MATCH($A53,Dashboard!$X$29:$X$42,0),5)*INDEX(Dashboard!$X$28:$AC$41,MATCH(F$40,Dashboard!$X$28:$X$41,0),5)=1,1,0),0))","v":0},{"$f":"IF(COUNTIF(Dashboard!$X$29:$X$42,F53)>1,5,IFERROR(G17*IF(INDEX(Dashboard!$X$29:$AC$42,MATCH($A53,Dashboard!$X$29:$X$42,0),5)*INDEX(Dashboard!$X$28:$AC$41,MATCH(G$40,Dashboard!$X$28:$X$41,0),5)=1,1,0),0))","v":0},{"$f":"IF(COUNTIF(Dashboard!$X$29:$X$42,G53)>1,5,IFERROR(H17*IF(INDEX(Dashboard!$X$29:$AC$42,MATCH($A53,Dashboard!$X$29:$X$42,0),5)*INDEX(Dashboard!$X$28:$AC$41,MATCH(H$40,Dashboard!$X$28:$X$41,0),5)=1,1,0),0))","v":0},{"$f":"IF(COUNTIF(Dashboard!$X$29:$X$42,H53)>1,5,IFERROR(I17*IF(INDEX(Dashboard!$X$29:$AC$42,MATCH($A53,Dashboard!$X$29:$X$42,0),5)*INDEX(Dashboard!$X$28:$AC$41,MATCH(I$40,Dashboard!$X$28:$X$41,0),5)=1,1,0),0))","v":0},{"$f":"IF(COUNTIF(Dashboard!$X$29:$X$42,I53)>1,5,IFERROR(J17*IF(INDEX(Dashboard!$X$29:$AC$42,MATCH($A53,Dashboard!$X$29:$X$42,0),5)*INDEX(Dashboard!$X$28:$AC$41,MATCH(J$40,Dashboard!$X$28:$X$41,0),5)=1,1,0),0))","v":0},{"$f":"IF(COUNTIF(Dashboard!$X$29:$X$42,J53)>1,5,IFERROR(K17*IF(INDEX(Dashboard!$X$29:$AC$42,MATCH($A53,Dashboard!$X$29:$X$42,0),5)*INDEX(Dashboard!$X$28:$AC$41,MATCH(K$40,Dashboard!$X$28:$X$41,0),5)=1,1,0),0))","v":0},{"$f":"IF(COUNTIF(Dashboard!$X$29:$X$42,K53)>1,5,IFERROR(L17*IF(INDEX(Dashboard!$X$29:$AC$42,MATCH($A53,Dashboard!$X$29:$X$42,0),5)*INDEX(Dashboard!$X$28:$AC$41,MATCH(L$40,Dashboard!$X$28:$X$41,0),5)=1,1,0),0))","v":0},{"$f":"IF(COUNTIF(Dashboard!$X$29:$X$42,L53)>1,5,IFERROR(M17*IF(INDEX(Dashboard!$X$29:$AC$42,MATCH($A53,Dashboard!$X$29:$X$42,0),5)*INDEX(Dashboard!$X$28:$AC$41,MATCH(M$40,Dashboard!$X$28:$X$41,0),5)=1,1,0),0))","v":0},{"$f":"IF(COUNTIF(Dashboard!$X$29:$X$42,M53)>1,5,IFERROR(N17*IF(INDEX(Dashboard!$X$29:$AC$42,MATCH($A53,Dashboard!$X$29:$X$42,0),5)*INDEX(Dashboard!$X$28:$AC$41,MATCH(N$40,Dashboard!$X$28:$X$41,0),5)=1,1,0),0))","v":0},{"$f":"IF(COUNTIF(Dashboard!$X$29:$X$42,N53)>1,5,IFERROR(O17*IF(INDEX(Dashboard!$X$29:$AC$42,MATCH($A53,Dashboard!$X$29:$X$42,0),5)*INDEX(Dashboard!$X$28:$AC$41,MATCH(O$40,Dashboard!$X$28:$X$41,0),5)=1,1,0),0))","v":0},{"$f":"IF(COUNTIF(Dashboard!$X$29:$X$42,O53)>1,5,IFERROR(P17*IF(INDEX(Dashboard!$X$29:$AC$42,MATCH($A53,Dashboard!$X$29:$X$42,0),5)*INDEX(Dashboard!$X$28:$AC$41,MATCH(P$40,Dashboard!$X$28:$X$41,0),5)=1,1,0),0))","v":0},{"$f":"IF(COUNTIF(Dashboard!$X$29:$X$42,P53)>1,5,IFERROR(Q17*IF(INDEX(Dashboard!$X$29:$AC$42,MATCH($A53,Dashboard!$X$29:$X$42,0),5)*INDEX(Dashboard!$X$28:$AC$41,MATCH(Q$40,Dashboard!$X$28:$X$41,0),5)=1,1,0),0))","v":0},{"$f":"IF(COUNTIF(Dashboard!$X$29:$X$42,Q53)>1,5,IFERROR(R17*IF(INDEX(Dashboard!$X$29:$AC$42,MATCH($A53,Dashboard!$X$29:$X$42,0),5)*INDEX(Dashboard!$X$28:$AC$41,MATCH(R$40,Dashboard!$X$28:$X$41,0),5)=1,1,0),0))","v":0},{"$f":"IF(COUNTIF(Dashboard!$X$29:$X$42,R53)>1,5,IFERROR(S17*IF(INDEX(Dashboard!$X$29:$AC$42,MATCH($A53,Dashboard!$X$29:$X$42,0),5)*INDEX(Dashboard!$X$28:$AC$41,MATCH(S$40,Dashboard!$X$28:$X$41,0),5)=1,1,0),0))","v":0},{"$f":"IF(COUNTIF(Dashboard!$X$29:$X$42,S53)>1,5,IFERROR(T17*IF(INDEX(Dashboard!$X$29:$AC$42,MATCH($A53,Dashboard!$X$29:$X$42,0),5)*INDEX(Dashboard!$X$28:$AC$41,MATCH(T$40,Dashboard!$X$28:$X$41,0),5)=1,1,0),0))","v":0},{"$f":"IF(COUNTIF(Dashboard!$X$29:$X$42,T53)>1,5,IFERROR(U17*IF(INDEX(Dashboard!$X$29:$AC$42,MATCH($A53,Dashboard!$X$29:$X$42,0),5)*INDEX(Dashboard!$X$28:$AC$41,MATCH(U$40,Dashboard!$X$28:$X$41,0),5)=1,1,0),0))","v":0},{"$f":"IF(COUNTIF(Dashboard!$X$29:$X$42,U53)>1,5,IFERROR(V17*IF(INDEX(Dashboard!$X$29:$AC$42,MATCH($A53,Dashboard!$X$29:$X$42,0),5)*INDEX(Dashboard!$X$28:$AC$41,MATCH(V$40,Dashboard!$X$28:$X$41,0),5)=1,1,0),0))","v":0},{"$f":"IF(COUNTIF(Dashboard!$X$29:$X$42,V53)>1,5,IFERROR(W17*IF(INDEX(Dashboard!$X$29:$AC$42,MATCH($A53,Dashboard!$X$29:$X$42,0),5)*INDEX(Dashboard!$X$28:$AC$41,MATCH(W$40,Dashboard!$X$28:$X$41,0),5)=1,1,0),0))","v":0},{"$f":"IF(COUNTIF(Dashboard!$X$29:$X$42,W53)>1,5,IFERROR(X17*IF(INDEX(Dashboard!$X$29:$AC$42,MATCH($A53,Dashboard!$X$29:$X$42,0),5)*INDEX(Dashboard!$X$28:$AC$41,MATCH(X$40,Dashboard!$X$28:$X$41,0),5)=1,1,0),0))","v":0},{"$f":"IF(COUNTIF(Dashboard!$X$29:$X$42,X53)>1,5,IFERROR(Y17*IF(INDEX(Dashboard!$X$29:$AC$42,MATCH($A53,Dashboard!$X$29:$X$42,0),5)*INDEX(Dashboard!$X$28:$AC$41,MATCH(Y$40,Dashboard!$X$28:$X$41,0),5)=1,1,0),0))","v":0},{"$f":"IF(COUNTIF(Dashboard!$X$29:$X$42,Y53)>1,5,IFERROR(Z17*IF(INDEX(Dashboard!$X$29:$AC$42,MATCH($A53,Dashboard!$X$29:$X$42,0),5)*INDEX(Dashboard!$X$28:$AC$41,MATCH(Z$40,Dashboard!$X$28:$X$41,0),5)=1,1,0),0))","v":0},{"$f":"IF(COUNTIF(Dashboard!$X$29:$X$42,Z53)>1,5,IFERROR(AA17*IF(INDEX(Dashboard!$X$29:$AC$42,MATCH($A53,Dashboard!$X$29:$X$42,0),5)*INDEX(Dashboard!$X$28:$AC$41,MATCH(AA$40,Dashboard!$X$28:$X$41,0),5)=1,1,0),0))","v":0},{"$f":"IF(COUNTIF(Dashboard!$X$29:$X$42,AA53)>1,5,IFERROR(AB17*IF(INDEX(Dashboard!$X$29:$AC$42,MATCH($A53,Dashboard!$X$29:$X$42,0),5)*INDEX(Dashboard!$X$28:$AC$41,MATCH(AB$40,Dashboard!$X$28:$X$41,0),5)=1,1,0),0))","v":0},{"$f":"IF(COUNTIF(Dashboard!$X$29:$X$42,AB53)>1,5,IFERROR(AC17*IF(INDEX(Dashboard!$X$29:$AC$42,MATCH($A53,Dashboard!$X$29:$X$42,0),5)*INDEX(Dashboard!$X$28:$AC$41,MATCH(AC$40,Dashboard!$X$28:$X$41,0),5)=1,1,0),0))","v":0},{"$f":"IF(COUNTIF(Dashboard!$X$29:$X$42,AC53)>1,5,IFERROR(AD17*IF(INDEX(Dashboard!$X$29:$AC$42,MATCH($A53,Dashboard!$X$29:$X$42,0),5)*INDEX(Dashboard!$X$28:$AC$41,MATCH(AD$40,Dashboard!$X$28:$X$41,0),5)=1,1,0),0))","v":0},{"$f":"IF(COUNTIF(Dashboard!$X$29:$X$42,AD53)>1,5,IFERROR(AE17*IF(INDEX(Dashboard!$X$29:$AC$42,MATCH($A53,Dashboard!$X$29:$X$42,0),5)*INDEX(Dashboard!$X$28:$AC$41,MATCH(AE$40,Dashboard!$X$28:$X$41,0),5)=1,1,0),0))","v":0},{"$f":"IF(COUNTIF(Dashboard!$X$29:$X$42,AE53)>1,5,IFERROR(AF17*IF(INDEX(Dashboard!$X$29:$AC$42,MATCH($A53,Dashboard!$X$29:$X$42,0),5)*INDEX(Dashboard!$X$28:$AC$41,MATCH(AF$40,Dashboard!$X$28:$X$41,0),5)=1,1,0),0))","v":0},0,0,null,null,{"$f":"IF(Dashboard!AB41,Dashboard!X41,\"\")","v":""}]
["Shaft generator PTO",{"$f":"IF(COUNTIF(Dashboard!$X$29:$X$42,#REF!)>1,5,IFERROR(B18*IF(INDEX(Dashboard!$X$29:$AC$42,MATCH($A54,Dashboard!$X$29:$X$42,0),5)*INDEX(Dashboard!$X$28:$AC$41,MATCH(B$40,Dashboard!$X$28:$X$41,0),5)=1,1,0),0))","v":0},{"$f":"IF(COUNTIF(Dashboard!$X$29:$X$42,B54)>1,5,IFERROR(C18*IF(INDEX(Dashboard!$X$29:$AC$42,MATCH($A54,Dashboard!$X$29:$X$42,0),5)*INDEX(Dashboard!$X$28:$AC$41,MATCH(C$40,Dashboard!$X$28:$X$41,0),5)=1,1,0),0))","v":0},{"$f":"IF(COUNTIF(Dashboard!$X$29:$X$42,C54)>1,5,IFERROR(D18*IF(INDEX(Dashboard!$X$29:$AC$42,MATCH($A54,Dashboard!$X$29:$X$42,0),5)*INDEX(Dashboard!$X$28:$AC$41,MATCH(D$40,Dashboard!$X$28:$X$41,0),5)=1,1,0),0))","v":0},{"$f":"IF(COUNTIF(Dashboard!$X$29:$X$42,D54)>1,5,IFERROR(E18*IF(INDEX(Dashboard!$X$29:$AC$42,MATCH($A54,Dashboard!$X$29:$X$42,0),5)*INDEX(Dashboard!$X$28:$AC$41,MATCH(E$40,Dashboard!$X$28:$X$41,0),5)=1,1,0),0))","v":0},{"$f":"IF(COUNTIF(Dashboard!$X$29:$X$42,E54)>1,5,IFERROR(F18*IF(INDEX(Dashboard!$X$29:$AC$42,MATCH($A54,Dashboard!$X$29:$X$42,0),5)*INDEX(Dashboard!$X$28:$AC$41,MATCH(F$40,Dashboard!$X$28:$X$41,0),5)=1,1,0),0))","v":0},{"$f":"IF(COUNTIF(Dashboard!$X$29:$X$42,F54)>1,5,IFERROR(G18*IF(INDEX(Dashboard!$X$29:$AC$42,MATCH($A54,Dashboard!$X$29:$X$42,0),5)*INDEX(Dashboard!$X$28:$AC$41,MATCH(G$40,Dashboard!$X$28:$X$41,0),5)=1,1,0),0))","v":0},{"$f":"IF(COUNTIF(Dashboard!$X$29:$X$42,G54)>1,5,IFERROR(H18*IF(INDEX(Dashboard!$X$29:$AC$42,MATCH($A54,Dashboard!$X$29:$X$42,0),5)*INDEX(Dashboard!$X$28:$AC$41,MATCH(H$40,Dashboard!$X$28:$X$41,0),5)=1,1,0),0))","v":0},{"$f":"IF(COUNTIF(Dashboard!$X$29:$X$42,H54)>1,5,IFERROR(I18*IF(INDEX(Dashboard!$X$29:$AC$42,MATCH($A54,Dashboard!$X$29:$X$42,0),5)*INDEX(Dashboard!$X$28:$AC$41,MATCH(I$40,Dashboard!$X$28:$X$41,0),5)=1,1,0),0))","v":0},{"$f":"IF(COUNTIF(Dashboard!$X$29:$X$42,I54)>1,5,IFERROR(J18*IF(INDEX(Dashboard!$X$29:$AC$42,MATCH($A54,Dashboard!$X$29:$X$42,0),5)*INDEX(Dashboard!$X$28:$AC$41,MATCH(J$40,Dashboard!$X$28:$X$41,0),5)=1,1,0),0))","v":0},{"$f":"IF(COUNTIF(Dashboard!$X$29:$X$42,J54)>1,5,IFERROR(K18*IF(INDEX(Dashboard!$X$29:$AC$42,MATCH($A54,Dashboard!$X$29:$X$42,0),5)*INDEX(Dashboard!$X$28:$AC$41,MATCH(K$40,Dashboard!$X$28:$X$41,0),5)=1,1,0),0))","v":0},{"$f":"IF(COUNTIF(Dashboard!$X$29:$X$42,K54)>1,5,IFERROR(L18*IF(INDEX(Dashboard!$X$29:$AC$42,MATCH($A54,Dashboard!$X$29:$X$42,0),5)*INDEX(Dashboard!$X$28:$AC$41,MATCH(L$40,Dashboard!$X$28:$X$41,0),5)=1,1,0),0))","v":0},{"$f":"IF(COUNTIF(Dashboard!$X$29:$X$42,L54)>1,5,IFERROR(M18*IF(INDEX(Dashboard!$X$29:$AC$42,MATCH($A54,Dashboard!$X$29:$X$42,0),5)*INDEX(Dashboard!$X$28:$AC$41,MATCH(M$40,Dashboard!$X$28:$X$41,0),5)=1,1,0),0))","v":0},{"$f":"IF(COUNTIF(Dashboard!$X$29:$X$42,M54)>1,5,IFERROR(N18*IF(INDEX(Dashboard!$X$29:$AC$42,MATCH($A54,Dashboard!$X$29:$X$42,0),5)*INDEX(Dashboard!$X$28:$AC$41,MATCH(N$40,Dashboard!$X$28:$X$41,0),5)=1,1,0),0))","v":0},{"$f":"IF(COUNTIF(Dashboard!$X$29:$X$42,N54)>1,5,IFERROR(O18*IF(INDEX(Dashboard!$X$29:$AC$42,MATCH($A54,Dashboard!$X$29:$X$42,0),5)*INDEX(Dashboard!$X$28:$AC$41,MATCH(O$40,Dashboard!$X$28:$X$41,0),5)=1,1,0),0))","v":0},{"$f":"IF(COUNTIF(Dashboard!$X$29:$X$42,O54)>1,5,IFERROR(P18*IF(INDEX(Dashboard!$X$29:$AC$42,MATCH($A54,Dashboard!$X$29:$X$42,0),5)*INDEX(Dashboard!$X$28:$AC$41,MATCH(P$40,Dashboard!$X$28:$X$41,0),5)=1,1,0),0))","v":0},{"$f":"IF(COUNTIF(Dashboard!$X$29:$X$42,P54)>1,5,IFERROR(Q18*IF(INDEX(Dashboard!$X$29:$AC$42,MATCH($A54,Dashboard!$X$29:$X$42,0),5)*INDEX(Dashboard!$X$28:$AC$41,MATCH(Q$40,Dashboard!$X$28:$X$41,0),5)=1,1,0),0))","v":0},{"$f":"IF(COUNTIF(Dashboard!$X$29:$X$42,Q54)>1,5,IFERROR(R18*IF(INDEX(Dashboard!$X$29:$AC$42,MATCH($A54,Dashboard!$X$29:$X$42,0),5)*INDEX(Dashboard!$X$28:$AC$41,MATCH(R$40,Dashboard!$X$28:$X$41,0),5)=1,1,0),0))","v":0},{"$f":"IF(COUNTIF(Dashboard!$X$29:$X$42,R54)>1,5,IFERROR(S18*IF(INDEX(Dashboard!$X$29:$AC$42,MATCH($A54,Dashboard!$X$29:$X$42,0),5)*INDEX(Dashboard!$X$28:$AC$41,MATCH(S$40,Dashboard!$X$28:$X$41,0),5)=1,1,0),0))","v":0},{"$f":"IF(COUNTIF(Dashboard!$X$29:$X$42,S54)>1,5,IFERROR(T18*IF(INDEX(Dashboard!$X$29:$AC$42,MATCH($A54,Dashboard!$X$29:$X$42,0),5)*INDEX(Dashboard!$X$28:$AC$41,MATCH(T$40,Dashboard!$X$28:$X$41,0),5)=1,1,0),0))","v":0},{"$f":"IF(COUNTIF(Dashboard!$X$29:$X$42,T54)>1,5,IFERROR(U18*IF(INDEX(Dashboard!$X$29:$AC$42,MATCH($A54,Dashboard!$X$29:$X$42,0),5)*INDEX(Dashboard!$X$28:$AC$41,MATCH(U$40,Dashboard!$X$28:$X$41,0),5)=1,1,0),0))","v":0},{"$f":"IF(COUNTIF(Dashboard!$X$29:$X$42,U54)>1,5,IFERROR(V18*IF(INDEX(Dashboard!$X$29:$AC$42,MATCH($A54,Dashboard!$X$29:$X$42,0),5)*INDEX(Dashboard!$X$28:$AC$41,MATCH(V$40,Dashboard!$X$28:$X$41,0),5)=1,1,0),0))","v":0},{"$f":"IF(COUNTIF(Dashboard!$X$29:$X$42,V54)>1,5,IFERROR(W18*IF(INDEX(Dashboard!$X$29:$AC$42,MATCH($A54,Dashboard!$X$29:$X$42,0),5)*INDEX(Dashboard!$X$28:$AC$41,MATCH(W$40,Dashboard!$X$28:$X$41,0),5)=1,1,0),0))","v":0},{"$f":"IF(COUNTIF(Dashboard!$X$29:$X$42,W54)>1,5,IFERROR(X18*IF(INDEX(Dashboard!$X$29:$AC$42,MATCH($A54,Dashboard!$X$29:$X$42,0),5)*INDEX(Dashboard!$X$28:$AC$41,MATCH(X$40,Dashboard!$X$28:$X$41,0),5)=1,1,0),0))","v":0},{"$f":"IF(COUNTIF(Dashboard!$X$29:$X$42,X54)>1,5,IFERROR(Y18*IF(INDEX(Dashboard!$X$29:$AC$42,MATCH($A54,Dashboard!$X$29:$X$42,0),5)*INDEX(Dashboard!$X$28:$AC$41,MATCH(Y$40,Dashboard!$X$28:$X$41,0),5)=1,1,0),0))","v":0},{"$f":"IF(COUNTIF(Dashboard!$X$29:$X$42,Y54)>1,5,IFERROR(Z18*IF(INDEX(Dashboard!$X$29:$AC$42,MATCH($A54,Dashboard!$X$29:$X$42,0),5)*INDEX(Dashboard!$X$28:$AC$41,MATCH(Z$40,Dashboard!$X$28:$X$41,0),5)=1,1,0),0))","v":0},{"$f":"IF(COUNTIF(Dashboard!$X$29:$X$42,Z54)>1,5,IFERROR(AA18*IF(INDEX(Dashboard!$X$29:$AC$42,MATCH($A54,Dashboard!$X$29:$X$42,0),5)*INDEX(Dashboard!$X$28:$AC$41,MATCH(AA$40,Dashboard!$X$28:$X$41,0),5)=1,1,0),0))","v":0},{"$f":"IF(COUNTIF(Dashboard!$X$29:$X$42,AA54)>1,5,IFERROR(AB18*IF(INDEX(Dashboard!$X$29:$AC$42,MATCH($A54,Dashboard!$X$29:$X$42,0),5)*INDEX(Dashboard!$X$28:$AC$41,MATCH(AB$40,Dashboard!$X$28:$X$41,0),5)=1,1,0),0))","v":0},{"$f":"IF(COUNTIF(Dashboard!$X$29:$X$42,AB54)>1,5,IFERROR(AC18*IF(INDEX(Dashboard!$X$29:$AC$42,MATCH($A54,Dashboard!$X$29:$X$42,0),5)*INDEX(Dashboard!$X$28:$AC$41,MATCH(AC$40,Dashboard!$X$28:$X$41,0),5)=1,1,0),0))","v":0},{"$f":"IF(COUNTIF(Dashboard!$X$29:$X$42,AC54)>1,5,IFERROR(AD18*IF(INDEX(Dashboard!$X$29:$AC$42,MATCH($A54,Dashboard!$X$29:$X$42,0),5)*INDEX(Dashboard!$X$28:$AC$41,MATCH(AD$40,Dashboard!$X$28:$X$41,0),5)=1,1,0),0))","v":0},{"$f":"IF(COUNTIF(Dashboard!$X$29:$X$42,AD54)>1,5,IFERROR(AE18*IF(INDEX(Dashboard!$X$29:$AC$42,MATCH($A54,Dashboard!$X$29:$X$42,0),5)*INDEX(Dashboard!$X$28:$AC$41,MATCH(AE$40,Dashboard!$X$28:$X$41,0),5)=1,1,0),0))","v":0},{"$f":"IF(COUNTIF(Dashboard!$X$29:$X$42,AE54)>1,5,IFERROR(AF18*IF(INDEX(Dashboard!$X$29:$AC$42,MATCH($A54,Dashboard!$X$29:$X$42,0),5)*INDEX(Dashboard!$X$28:$AC$41,MATCH(AF$40,Dashboard!$X$28:$X$41,0),5)=1,1,0),0))","v":0},0,0,null,null,{"$f":"IF(Dashboard!AB42,Dashboard!X42,\"\")","v":""}]
["Shore power",{"$f":"IF(COUNTIF(Dashboard!$X$29:$X$42,#REF!)>1,5,IFERROR(B19*IF(INDEX(Dashboard!$X$29:$AC$42,MATCH($A55,Dashboard!$X$29:$X$42,0),5)*INDEX(Dashboard!$X$28:$AC$41,MATCH(B$40,Dashboard!$X$28:$X$41,0),5)=1,1,0),0))","v":0},{"$f":"IF(COUNTIF(Dashboard!$X$29:$X$42,B55)>1,5,IFERROR(C19*IF(INDEX(Dashboard!$X$29:$AC$42,MATCH($A55,Dashboard!$X$29:$X$42,0),5)*INDEX(Dashboard!$X$28:$AC$41,MATCH(C$40,Dashboard!$X$28:$X$41,0),5)=1,1,0),0))","v":0},{"$f":"IF(COUNTIF(Dashboard!$X$29:$X$42,C55)>1,5,IFERROR(D19*IF(INDEX(Dashboard!$X$29:$AC$42,MATCH($A55,Dashboard!$X$29:$X$42,0),5)*INDEX(Dashboard!$X$28:$AC$41,MATCH(D$40,Dashboard!$X$28:$X$41,0),5)=1,1,0),0))","v":0},{"$f":"IF(COUNTIF(Dashboard!$X$29:$X$42,D55)>1,5,IFERROR(E19*IF(INDEX(Dashboard!$X$29:$AC$42,MATCH($A55,Dashboard!$X$29:$X$42,0),5)*INDEX(Dashboard!$X$28:$AC$41,MATCH(E$40,Dashboard!$X$28:$X$41,0),5)=1,1,0),0))","v":0},{"$f":"IF(COUNTIF(Dashboard!$X$29:$X$42,E55)>1,5,IFERROR(F19*IF(INDEX(Dashboard!$X$29:$AC$42,MATCH($A55,Dashboard!$X$29:$X$42,0),5)*INDEX(Dashboard!$X$28:$AC$41,MATCH(F$40,Dashboard!$X$28:$X$41,0),5)=1,1,0),0))","v":0},{"$f":"IF(COUNTIF(Dashboard!$X$29:$X$42,F55)>1,5,IFERROR(G19*IF(INDEX(Dashboard!$X$29:$AC$42,MATCH($A55,Dashboard!$X$29:$X$42,0),5)*INDEX(Dashboard!$X$28:$AC$41,MATCH(G$40,Dashboard!$X$28:$X$41,0),5)=1,1,0),0))","v":0},{"$f":"IF(COUNTIF(Dashboard!$X$29:$X$42,G55)>1,5,IFERROR(H19*IF(INDEX(Dashboard!$X$29:$AC$42,MATCH($A55,Dashboard!$X$29:$X$42,0),5)*INDEX(Dashboard!$X$28:$AC$41,MATCH(H$40,Dashboard!$X$28:$X$41,0),5)=1,1,0),0))","v":0},{"$f":"IF(COUNTIF(Dashboard!$X$29:$X$42,H55)>1,5,IFERROR(I19*IF(INDEX(Dashboard!$X$29:$AC$42,MATCH($A55,Dashboard!$X$29:$X$42,0),5)*INDEX(Dashboard!$X$28:$AC$41,MATCH(I$40,Dashboard!$X$28:$X$41,0),5)=1,1,0),0))","v":0},{"$f":"IF(COUNTIF(Dashboard!$X$29:$X$42,I55)>1,5,IFERROR(J19*IF(INDEX(Dashboard!$X$29:$AC$42,MATCH($A55,Dashboard!$X$29:$X$42,0),5)*INDEX(Dashboard!$X$28:$AC$41,MATCH(J$40,Dashboard!$X$28:$X$41,0),5)=1,1,0),0))","v":0},{"$f":"IF(COUNTIF(Dashboard!$X$29:$X$42,J55)>1,5,IFERROR(K19*IF(INDEX(Dashboard!$X$29:$AC$42,MATCH($A55,Dashboard!$X$29:$X$42,0),5)*INDEX(Dashboard!$X$28:$AC$41,MATCH(K$40,Dashboard!$X$28:$X$41,0),5)=1,1,0),0))","v":0},{"$f":"IF(COUNTIF(Dashboard!$X$29:$X$42,K55)>1,5,IFERROR(L19*IF(INDEX(Dashboard!$X$29:$AC$42,MATCH($A55,Dashboard!$X$29:$X$42,0),5)*INDEX(Dashboard!$X$28:$AC$41,MATCH(L$40,Dashboard!$X$28:$X$41,0),5)=1,1,0),0))","v":0},{"$f":"IF(COUNTIF(Dashboard!$X$29:$X$42,L55)>1,5,IFERROR(M19*IF(INDEX(Dashboard!$X$29:$AC$42,MATCH($A55,Dashboard!$X$29:$X$42,0),5)*INDEX(Dashboard!$X$28:$AC$41,MATCH(M$40,Dashboard!$X$28:$X$41,0),5)=1,1,0),0))","v":0},{"$f":"IF(COUNTIF(Dashboard!$X$29:$X$42,M55)>1,5,IFERROR(N19*IF(INDEX(Dashboard!$X$29:$AC$42,MATCH($A55,Dashboard!$X$29:$X$42,0),5)*INDEX(Dashboard!$X$28:$AC$41,MATCH(N$40,Dashboard!$X$28:$X$41,0),5)=1,1,0),0))","v":0},{"$f":"IF(COUNTIF(Dashboard!$X$29:$X$42,N55)>1,5,IFERROR(O19*IF(INDEX(Dashboard!$X$29:$AC$42,MATCH($A55,Dashboard!$X$29:$X$42,0),5)*INDEX(Dashboard!$X$28:$AC$41,MATCH(O$40,Dashboard!$X$28:$X$41,0),5)=1,1,0),0))","v":0},{"$f":"IF(COUNTIF(Dashboard!$X$29:$X$42,O55)>1,5,IFERROR(P19*IF(INDEX(Dashboard!$X$29:$AC$42,MATCH($A55,Dashboard!$X$29:$X$42,0),5)*INDEX(Dashboard!$X$28:$AC$41,MATCH(P$40,Dashboard!$X$28:$X$41,0),5)=1,1,0),0))","v":0},{"$f":"IF(COUNTIF(Dashboard!$X$29:$X$42,P55)>1,5,IFERROR(Q19*IF(INDEX(Dashboard!$X$29:$AC$42,MATCH($A55,Dashboard!$X$29:$X$42,0),5)*INDEX(Dashboard!$X$28:$AC$41,MATCH(Q$40,Dashboard!$X$28:$X$41,0),5)=1,1,0),0))","v":0},{"$f":"IF(COUNTIF(Dashboard!$X$29:$X$42,Q55)>1,5,IFERROR(R19*IF(INDEX(Dashboard!$X$29:$AC$42,MATCH($A55,Dashboard!$X$29:$X$42,0),5)*INDEX(Dashboard!$X$28:$AC$41,MATCH(R$40,Dashboard!$X$28:$X$41,0),5)=1,1,0),0))","v":0},{"$f":"IF(COUNTIF(Dashboard!$X$29:$X$42,R55)>1,5,IFERROR(S19*IF(INDEX(Dashboard!$X$29:$AC$42,MATCH($A55,Dashboard!$X$29:$X$42,0),5)*INDEX(Dashboard!$X$28:$AC$41,MATCH(S$40,Dashboard!$X$28:$X$41,0),5)=1,1,0),0))","v":0},{"$f":"IF(COUNTIF(Dashboard!$X$29:$X$42,S55)>1,5,IFERROR(T19*IF(INDEX(Dashboard!$X$29:$AC$42,MATCH($A55,Dashboard!$X$29:$X$42,0),5)*INDEX(Dashboard!$X$28:$AC$41,MATCH(T$40,Dashboard!$X$28:$X$41,0),5)=1,1,0),0))","v":0},{"$f":"IF(COUNTIF(Dashboard!$X$29:$X$42,T55)>1,5,IFERROR(U19*IF(INDEX(Dashboard!$X$29:$AC$42,MATCH($A55,Dashboard!$X$29:$X$42,0),5)*INDEX(Dashboard!$X$28:$AC$41,MATCH(U$40,Dashboard!$X$28:$X$41,0),5)=1,1,0),0))","v":0},{"$f":"IF(COUNTIF(Dashboard!$X$29:$X$42,U55)>1,5,IFERROR(V19*IF(INDEX(Dashboard!$X$29:$AC$42,MATCH($A55,Dashboard!$X$29:$X$42,0),5)*INDEX(Dashboard!$X$28:$AC$41,MATCH(V$40,Dashboard!$X$28:$X$41,0),5)=1,1,0),0))","v":0},{"$f":"IF(COUNTIF(Dashboard!$X$29:$X$42,V55)>1,5,IFERROR(W19*IF(INDEX(Dashboard!$X$29:$AC$42,MATCH($A55,Dashboard!$X$29:$X$42,0),5)*INDEX(Dashboard!$X$28:$AC$41,MATCH(W$40,Dashboard!$X$28:$X$41,0),5)=1,1,0),0))","v":0},{"$f":"IF(COUNTIF(Dashboard!$X$29:$X$42,W55)>1,5,IFERROR(X19*IF(INDEX(Dashboard!$X$29:$AC$42,MATCH($A55,Dashboard!$X$29:$X$42,0),5)*INDEX(Dashboard!$X$28:$AC$41,MATCH(X$40,Dashboard!$X$28:$X$41,0),5)=1,1,0),0))","v":0},{"$f":"IF(COUNTIF(Dashboard!$X$29:$X$42,X55)>1,5,IFERROR(Y19*IF(INDEX(Dashboard!$X$29:$AC$42,MATCH($A55,Dashboard!$X$29:$X$42,0),5)*INDEX(Dashboard!$X$28:$AC$41,MATCH(Y$40,Dashboard!$X$28:$X$41,0),5)=1,1,0),0))","v":0},{"$f":"IF(COUNTIF(Dashboard!$X$29:$X$42,Y55)>1,5,IFERROR(Z19*IF(INDEX(Dashboard!$X$29:$AC$42,MATCH($A55,Dashboard!$X$29:$X$42,0),5)*INDEX(Dashboard!$X$28:$AC$41,MATCH(Z$40,Dashboard!$X$28:$X$41,0),5)=1,1,0),0))","v":0},{"$f":"IF(COUNTIF(Dashboard!$X$29:$X$42,Z55)>1,5,IFERROR(AA19*IF(INDEX(Dashboard!$X$29:$AC$42,MATCH($A55,Dashboard!$X$29:$X$42,0),5)*INDEX(Dashboard!$X$28:$AC$41,MATCH(AA$40,Dashboard!$X$28:$X$41,0),5)=1,1,0),0))","v":0},{"$f":"IF(COUNTIF(Dashboard!$X$29:$X$42,AA55)>1,5,IFERROR(AB19*IF(INDEX(Dashboard!$X$29:$AC$42,MATCH($A55,Dashboard!$X$29:$X$42,0),5)*INDEX(Dashboard!$X$28:$AC$41,MATCH(AB$40,Dashboard!$X$28:$X$41,0),5)=1,1,0),0))","v":0},{"$f":"IF(COUNTIF(Dashboard!$X$29:$X$42,AB55)>1,5,IFERROR(AC19*IF(INDEX(Dashboard!$X$29:$AC$42,MATCH($A55,Dashboard!$X$29:$X$42,0),5)*INDEX(Dashboard!$X$28:$AC$41,MATCH(AC$40,Dashboard!$X$28:$X$41,0),5)=1,1,0),0))","v":0},{"$f":"IF(COUNTIF(Dashboard!$X$29:$X$42,AC55)>1,5,IFERROR(AD19*IF(INDEX(Dashboard!$X$29:$AC$42,MATCH($A55,Dashboard!$X$29:$X$42,0),5)*INDEX(Dashboard!$X$28:$AC$41,MATCH(AD$40,Dashboard!$X$28:$X$41,0),5)=1,1,0),0))","v":0},{"$f":"IF(COUNTIF(Dashboard!$X$29:$X$42,AD55)>1,5,IFERROR(AE19*IF(INDEX(Dashboard!$X$29:$AC$42,MATCH($A55,Dashboard!$X$29:$X$42,0),5)*INDEX(Dashboard!$X$28:$AC$41,MATCH(AE$40,Dashboard!$X$28:$X$41,0),5)=1,1,0),0))","v":0},{"$f":"IF(COUNTIF(Dashboard!$X$29:$X$42,AE55)>1,5,IFERROR(AF19*IF(INDEX(Dashboard!$X$29:$AC$42,MATCH($A55,Dashboard!$X$29:$X$42,0),5)*INDEX(Dashboard!$X$28:$AC$41,MATCH(AF$40,Dashboard!$X$28:$X$41,0),5)=1,1,0),0))","v":0},0,0]
["Improved auxiliary engine load",{"$f":"IF(COUNTIF(Dashboard!$X$29:$X$42,#REF!)>1,5,IFERROR(B20*IF(INDEX(Dashboard!$X$29:$AC$42,MATCH($A56,Dashboard!$X$29:$X$42,0),5)*INDEX(Dashboard!$X$28:$AC$41,MATCH(B$40,Dashboard!$X$28:$X$41,0),5)=1,1,0),0))","v":0},{"$f":"IF(COUNTIF(Dashboard!$X$29:$X$42,B56)>1,5,IFERROR(C20*IF(INDEX(Dashboard!$X$29:$AC$42,MATCH($A56,Dashboard!$X$29:$X$42,0),5)*INDEX(Dashboard!$X$28:$AC$41,MATCH(C$40,Dashboard!$X$28:$X$41,0),5)=1,1,0),0))","v":0},{"$f":"IF(COUNTIF(Dashboard!$X$29:$X$42,C56)>1,5,IFERROR(D20*IF(INDEX(Dashboard!$X$29:$AC$42,MATCH($A56,Dashboard!$X$29:$X$42,0),5)*INDEX(Dashboard!$X$28:$AC$41,MATCH(D$40,Dashboard!$X$28:$X$41,0),5)=1,1,0),0))","v":0},{"$f":"IF(COUNTIF(Dashboard!$X$29:$X$42,D56)>1,5,IFERROR(E20*IF(INDEX(Dashboard!$X$29:$AC$42,MATCH($A56,Dashboard!$X$29:$X$42,0),5)*INDEX(Dashboard!$X$28:$AC$41,MATCH(E$40,Dashboard!$X$28:$X$41,0),5)=1,1,0),0))","v":0},{"$f":"IF(COUNTIF(Dashboard!$X$29:$X$42,E56)>1,5,IFERROR(F20*IF(INDEX(Dashboard!$X$29:$AC$42,MATCH($A56,Dashboard!$X$29:$X$42,0),5)*INDEX(Dashboard!$X$28:$AC$41,MATCH(F$40,Dashboard!$X$28:$X$41,0),5)=1,1,0),0))","v":0},{"$f":"IF(COUNTIF(Dashboard!$X$29:$X$42,F56)>1,5,IFERROR(G20*IF(INDEX(Dashboard!$X$29:$AC$42,MATCH($A56,Dashboard!$X$29:$X$42,0),5)*INDEX(Dashboard!$X$28:$AC$41,MATCH(G$40,Dashboard!$X$28:$X$41,0),5)=1,1,0),0))","v":0},{"$f":"IF(COUNTIF(Dashboard!$X$29:$X$42,G56)>1,5,IFERROR(H20*IF(INDEX(Dashboard!$X$29:$AC$42,MATCH($A56,Dashboard!$X$29:$X$42,0),5)*INDEX(Dashboard!$X$28:$AC$41,MATCH(H$40,Dashboard!$X$28:$X$41,0),5)=1,1,0),0))","v":0},{"$f":"IF(COUNTIF(Dashboard!$X$29:$X$42,H56)>1,5,IFERROR(I20*IF(INDEX(Dashboard!$X$29:$AC$42,MATCH($A56,Dashboard!$X$29:$X$42,0),5)*INDEX(Dashboard!$X$28:$AC$41,MATCH(I$40,Dashboard!$X$28:$X$41,0),5)=1,1,0),0))","v":0},{"$f":"IF(COUNTIF(Dashboard!$X$29:$X$42,I56)>1,5,IFERROR(J20*IF(INDEX(Dashboard!$X$29:$AC$42,MATCH($A56,Dashboard!$X$29:$X$42,0),5)*INDEX(Dashboard!$X$28:$AC$41,MATCH(J$40,Dashboard!$X$28:$X$41,0),5)=1,1,0),0))","v":0},{"$f":"IF(COUNTIF(Dashboard!$X$29:$X$42,J56)>1,5,IFERROR(K20*IF(INDEX(Dashboard!$X$29:$AC$42,MATCH($A56,Dashboard!$X$29:$X$42,0),5)*INDEX(Dashboard!$X$28:$AC$41,MATCH(K$40,Dashboard!$X$28:$X$41,0),5)=1,1,0),0))","v":0},{"$f":"IF(COUNTIF(Dashboard!$X$29:$X$42,K56)>1,5,IFERROR(L20*IF(INDEX(Dashboard!$X$29:$AC$42,MATCH($A56,Dashboard!$X$29:$X$42,0),5)*INDEX(Dashboard!$X$28:$AC$41,MATCH(L$40,Dashboard!$X$28:$X$41,0),5)=1,1,0),0))","v":0},{"$f":"IF(COUNTIF(Dashboard!$X$29:$X$42,L56)>1,5,IFERROR(M20*IF(INDEX(Dashboard!$X$29:$AC$42,MATCH($A56,Dashboard!$X$29:$X$42,0),5)*INDEX(Dashboard!$X$28:$AC$41,MATCH(M$40,Dashboard!$X$28:$X$41,0),5)=1,1,0),0))","v":0},{"$f":"IF(COUNTIF(Dashboard!$X$29:$X$42,M56)>1,5,IFERROR(N20*IF(INDEX(Dashboard!$X$29:$AC$42,MATCH($A56,Dashboard!$X$29:$X$42,0),5)*INDEX(Dashboard!$X$28:$AC$41,MATCH(N$40,Dashboard!$X$28:$X$41,0),5)=1,1,0),0))","v":0},{"$f":"IF(COUNTIF(Dashboard!$X$29:$X$42,N56)>1,5,IFERROR(O20*IF(INDEX(Dashboard!$X$29:$AC$42,MATCH($A56,Dashboard!$X$29:$X$42,0),5)*INDEX(Dashboard!$X$28:$AC$41,MATCH(O$40,Dashboard!$X$28:$X$41,0),5)=1,1,0),0))","v":0},{"$f":"IF(COUNTIF(Dashboard!$X$29:$X$42,O56)>1,5,IFERROR(P20*IF(INDEX(Dashboard!$X$29:$AC$42,MATCH($A56,Dashboard!$X$29:$X$42,0),5)*INDEX(Dashboard!$X$28:$AC$41,MATCH(P$40,Dashboard!$X$28:$X$41,0),5)=1,1,0),0))","v":0},{"$f":"IF(COUNTIF(Dashboard!$X$29:$X$42,P56)>1,5,IFERROR(Q20*IF(INDEX(Dashboard!$X$29:$AC$42,MATCH($A56,Dashboard!$X$29:$X$42,0),5)*INDEX(Dashboard!$X$28:$AC$41,MATCH(Q$40,Dashboard!$X$28:$X$41,0),5)=1,1,0),0))","v":0},{"$f":"IF(COUNTIF(Dashboard!$X$29:$X$42,Q56)>1,5,IFERROR(R20*IF(INDEX(Dashboard!$X$29:$AC$42,MATCH($A56,Dashboard!$X$29:$X$42,0),5)*INDEX(Dashboard!$X$28:$AC$41,MATCH(R$40,Dashboard!$X$28:$X$41,0),5)=1,1,0),0))","v":0},{"$f":"IF(COUNTIF(Dashboard!$X$29:$X$42,R56)>1,5,IFERROR(S20*IF(INDEX(Dashboard!$X$29:$AC$42,MATCH($A56,Dashboard!$X$29:$X$42,0),5)*INDEX(Dashboard!$X$28:$AC$41,MATCH(S$40,Dashboard!$X$28:$X$41,0),5)=1,1,0),0))","v":0},{"$f":"IF(COUNTIF(Dashboard!$X$29:$X$42,S56)>1,5,IFERROR(T20*IF(INDEX(Dashboard!$X$29:$AC$42,MATCH($A56,Dashboard!$X$29:$X$42,0),5)*INDEX(Dashboard!$X$28:$AC$41,MATCH(T$40,Dashboard!$X$28:$X$41,0),5)=1,1,0),0))","v":0},{"$f":"IF(COUNTIF(Dashboard!$X$29:$X$42,T56)>1,5,IFERROR(U20*IF(INDEX(Dashboard!$X$29:$AC$42,MATCH($A56,Dashboard!$X$29:$X$42,0),5)*INDEX(Dashboard!$X$28:$AC$41,MATCH(U$40,Dashboard!$X$28:$X$41,0),5)=1,1,0),0))","v":0},{"$f":"IF(COUNTIF(Dashboard!$X$29:$X$42,U56)>1,5,IFERROR(V20*IF(INDEX(Dashboard!$X$29:$AC$42,MATCH($A56,Dashboard!$X$29:$X$42,0),5)*INDEX(Dashboard!$X$28:$AC$41,MATCH(V$40,Dashboard!$X$28:$X$41,0),5)=1,1,0),0))","v":0},{"$f":"IF(COUNTIF(Dashboard!$X$29:$X$42,V56)>1,5,IFERROR(W20*IF(INDEX(Dashboard!$X$29:$AC$42,MATCH($A56,Dashboard!$X$29:$X$42,0),5)*INDEX(Dashboard!$X$28:$AC$41,MATCH(W$40,Dashboard!$X$28:$X$41,0),5)=1,1,0),0))","v":0},{"$f":"IF(COUNTIF(Dashboard!$X$29:$X$42,W56)>1,5,IFERROR(X20*IF(INDEX(Dashboard!$X$29:$AC$42,MATCH($A56,Dashboard!$X$29:$X$42,0),5)*INDEX(Dashboard!$X$28:$AC$41,MATCH(X$40,Dashboard!$X$28:$X$41,0),5)=1,1,0),0))","v":0},{"$f":"IF(COUNTIF(Dashboard!$X$29:$X$42,X56)>1,5,IFERROR(Y20*IF(INDEX(Dashboard!$X$29:$AC$42,MATCH($A56,Dashboard!$X$29:$X$42,0),5)*INDEX(Dashboard!$X$28:$AC$41,MATCH(Y$40,Dashboard!$X$28:$X$41,0),5)=1,1,0),0))","v":0},{"$f":"IF(COUNTIF(Dashboard!$X$29:$X$42,Y56)>1,5,IFERROR(Z20*IF(INDEX(Dashboard!$X$29:$AC$42,MATCH($A56,Dashboard!$X$29:$X$42,0),5)*INDEX(Dashboard!$X$28:$AC$41,MATCH(Z$40,Dashboard!$X$28:$X$41,0),5)=1,1,0),0))","v":0},{"$f":"IF(COUNTIF(Dashboard!$X$29:$X$42,Z56)>1,5,IFERROR(AA20*IF(INDEX(Dashboard!$X$29:$AC$42,MATCH($A56,Dashboard!$X$29:$X$42,0),5)*INDEX(Dashboard!$X$28:$AC$41,MATCH(AA$40,Dashboard!$X$28:$X$41,0),5)=1,1,0),0))","v":0},{"$f":"IF(COUNTIF(Dashboard!$X$29:$X$42,AA56)>1,5,IFERROR(AB20*IF(INDEX(Dashboard!$X$29:$AC$42,MATCH($A56,Dashboard!$X$29:$X$42,0),5)*INDEX(Dashboard!$X$28:$AC$41,MATCH(AB$40,Dashboard!$X$28:$X$41,0),5)=1,1,0),0))","v":0},{"$f":"IF(COUNTIF(Dashboard!$X$29:$X$42,AB56)>1,5,IFERROR(AC20*IF(INDEX(Dashboard!$X$29:$AC$42,MATCH($A56,Dashboard!$X$29:$X$42,0),5)*INDEX(Dashboard!$X$28:$AC$41,MATCH(AC$40,Dashboard!$X$28:$X$41,0),5)=1,1,0),0))","v":0},{"$f":"IF(COUNTIF(Dashboard!$X$29:$X$42,AC56)>1,5,IFERROR(AD20*IF(INDEX(Dashboard!$X$29:$AC$42,MATCH($A56,Dashboard!$X$29:$X$42,0),5)*INDEX(Dashboard!$X$28:$AC$41,MATCH(AD$40,Dashboard!$X$28:$X$41,0),5)=1,1,0),0))","v":0},{"$f":"IF(COUNTIF(Dashboard!$X$29:$X$42,AD56)>1,5,IFERROR(AE20*IF(INDEX(Dashboard!$X$29:$AC$42,MATCH($A56,Dashboard!$X$29:$X$42,0),5)*INDEX(Dashboard!$X$28:$AC$41,MATCH(AE$40,Dashboard!$X$28:$X$41,0),5)=1,1,0),0))","v":0},{"$f":"IF(COUNTIF(Dashboard!$X$29:$X$42,AE56)>1,5,IFERROR(AF20*IF(INDEX(Dashboard!$X$29:$AC$42,MATCH($A56,Dashboard!$X$29:$X$42,0),5)*INDEX(Dashboard!$X$28:$AC$41,MATCH(AF$40,Dashboard!$X$28:$X$41,0),5)=1,1,0),0))","v":0},0,0]
["Steam plant operation improvement",{"$f":"IF(COUNTIF(Dashboard!$X$29:$X$42,#REF!)>1,5,IFERROR(B21*IF(INDEX(Dashboard!$X$29:$AC$42,MATCH($A57,Dashboard!$X$29:$X$42,0),5)*INDEX(Dashboard!$X$28:$AC$41,MATCH(B$40,Dashboard!$X$28:$X$41,0),5)=1,1,0),0))","v":0},{"$f":"IF(COUNTIF(Dashboard!$X$29:$X$42,B57)>1,5,IFERROR(C21*IF(INDEX(Dashboard!$X$29:$AC$42,MATCH($A57,Dashboard!$X$29:$X$42,0),5)*INDEX(Dashboard!$X$28:$AC$41,MATCH(C$40,Dashboard!$X$28:$X$41,0),5)=1,1,0),0))","v":0},{"$f":"IF(COUNTIF(Dashboard!$X$29:$X$42,C57)>1,5,IFERROR(D21*IF(INDEX(Dashboard!$X$29:$AC$42,MATCH($A57,Dashboard!$X$29:$X$42,0),5)*INDEX(Dashboard!$X$28:$AC$41,MATCH(D$40,Dashboard!$X$28:$X$41,0),5)=1,1,0),0))","v":0},{"$f":"IF(COUNTIF(Dashboard!$X$29:$X$42,D57)>1,5,IFERROR(E21*IF(INDEX(Dashboard!$X$29:$AC$42,MATCH($A57,Dashboard!$X$29:$X$42,0),5)*INDEX(Dashboard!$X$28:$AC$41,MATCH(E$40,Dashboard!$X$28:$X$41,0),5)=1,1,0),0))","v":0},{"$f":"IF(COUNTIF(Dashboard!$X$29:$X$42,E57)>1,5,IFERROR(F21*IF(INDEX(Dashboard!$X$29:$AC$42,MATCH($A57,Dashboard!$X$29:$X$42,0),5)*INDEX(Dashboard!$X$28:$AC$41,MATCH(F$40,Dashboard!$X$28:$X$41,0),5)=1,1,0),0))","v":0},{"$f":"IF(COUNTIF(Dashboard!$X$29:$X$42,F57)>1,5,IFERROR(G21*IF(INDEX(Dashboard!$X$29:$AC$42,MATCH($A57,Dashboard!$X$29:$X$42,0),5)*INDEX(Dashboard!$X$28:$AC$41,MATCH(G$40,Dashboard!$X$28:$X$41,0),5)=1,1,0),0))","v":0},{"$f":"IF(COUNTIF(Dashboard!$X$29:$X$42,G57)>1,5,IFERROR(H21*IF(INDEX(Dashboard!$X$29:$AC$42,MATCH($A57,Dashboard!$X$29:$X$42,0),5)*INDEX(Dashboard!$X$28:$AC$41,MATCH(H$40,Dashboard!$X$28:$X$41,0),5)=1,1,0),0))","v":0},{"$f":"IF(COUNTIF(Dashboard!$X$29:$X$42,H57)>1,5,IFERROR(I21*IF(INDEX(Dashboard!$X$29:$AC$42,MATCH($A57,Dashboard!$X$29:$X$42,0),5)*INDEX(Dashboard!$X$28:$AC$41,MATCH(I$40,Dashboard!$X$28:$X$41,0),5)=1,1,0),0))","v":0},{"$f":"IF(COUNTIF(Dashboard!$X$29:$X$42,I57)>1,5,IFERROR(J21*IF(INDEX(Dashboard!$X$29:$AC$42,MATCH($A57,Dashboard!$X$29:$X$42,0),5)*INDEX(Dashboard!$X$28:$AC$41,MATCH(J$40,Dashboard!$X$28:$X$41,0),5)=1,1,0),0))","v":0},{"$f":"IF(COUNTIF(Dashboard!$X$29:$X$42,J57)>1,5,IFERROR(K21*IF(INDEX(Dashboard!$X$29:$AC$42,MATCH($A57,Dashboard!$X$29:$X$42,0),5)*INDEX(Dashboard!$X$28:$AC$41,MATCH(K$40,Dashboard!$X$28:$X$41,0),5)=1,1,0),0))","v":0},{"$f":"IF(COUNTIF(Dashboard!$X$29:$X$42,K57)>1,5,IFERROR(L21*IF(INDEX(Dashboard!$X$29:$AC$42,MATCH($A57,Dashboard!$X$29:$X$42,0),5)*INDEX(Dashboard!$X$28:$AC$41,MATCH(L$40,Dashboard!$X$28:$X$41,0),5)=1,1,0),0))","v":0},{"$f":"IF(COUNTIF(Dashboard!$X$29:$X$42,L57)>1,5,IFERROR(M21*IF(INDEX(Dashboard!$X$29:$AC$42,MATCH($A57,Dashboard!$X$29:$X$42,0),5)*INDEX(Dashboard!$X$28:$AC$41,MATCH(M$40,Dashboard!$X$28:$X$41,0),5)=1,1,0),0))","v":0},{"$f":"IF(COUNTIF(Dashboard!$X$29:$X$42,M57)>1,5,IFERROR(N21*IF(INDEX(Dashboard!$X$29:$AC$42,MATCH($A57,Dashboard!$X$29:$X$42,0),5)*INDEX(Dashboard!$X$28:$AC$41,MATCH(N$40,Dashboard!$X$28:$X$41,0),5)=1,1,0),0))","v":0},{"$f":"IF(COUNTIF(Dashboard!$X$29:$X$42,N57)>1,5,IFERROR(O21*IF(INDEX(Dashboard!$X$29:$AC$42,MATCH($A57,Dashboard!$X$29:$X$42,0),5)*INDEX(Dashboard!$X$28:$AC$41,MATCH(O$40,Dashboard!$X$28:$X$41,0),5)=1,1,0),0))","v":0},{"$f":"IF(COUNTIF(Dashboard!$X$29:$X$42,O57)>1,5,IFERROR(P21*IF(INDEX(Dashboard!$X$29:$AC$42,MATCH($A57,Dashboard!$X$29:$X$42,0),5)*INDEX(Dashboard!$X$28:$AC$41,MATCH(P$40,Dashboard!$X$28:$X$41,0),5)=1,1,0),0))","v":0},{"$f":"IF(COUNTIF(Dashboard!$X$29:$X$42,P57)>1,5,IFERROR(Q21*IF(INDEX(Dashboard!$X$29:$AC$42,MATCH($A57,Dashboard!$X$29:$X$42,0),5)*INDEX(Dashboard!$X$28:$AC$41,MATCH(Q$40,Dashboard!$X$28:$X$41,0),5)=1,1,0),0))","v":0},{"$f":"IF(COUNTIF(Dashboard!$X$29:$X$42,Q57)>1,5,IFERROR(R21*IF(INDEX(Dashboard!$X$29:$AC$42,MATCH($A57,Dashboard!$X$29:$X$42,0),5)*INDEX(Dashboard!$X$28:$AC$41,MATCH(R$40,Dashboard!$X$28:$X$41,0),5)=1,1,0),0))","v":0},{"$f":"IF(COUNTIF(Dashboard!$X$29:$X$42,R57)>1,5,IFERROR(S21*IF(INDEX(Dashboard!$X$29:$AC$42,MATCH($A57,Dashboard!$X$29:$X$42,0),5)*INDEX(Dashboard!$X$28:$AC$41,MATCH(S$40,Dashboard!$X$28:$X$41,0),5)=1,1,0),0))","v":0},{"$f":"IF(COUNTIF(Dashboard!$X$29:$X$42,S57)>1,5,IFERROR(T21*IF(INDEX(Dashboard!$X$29:$AC$42,MATCH($A57,Dashboard!$X$29:$X$42,0),5)*INDEX(Dashboard!$X$28:$AC$41,MATCH(T$40,Dashboard!$X$28:$X$41,0),5)=1,1,0),0))","v":0},{"$f":"IF(COUNTIF(Dashboard!$X$29:$X$42,T57)>1,5,IFERROR(U21*IF(INDEX(Dashboard!$X$29:$AC$42,MATCH($A57,Dashboard!$X$29:$X$42,0),5)*INDEX(Dashboard!$X$28:$AC$41,MATCH(U$40,Dashboard!$X$28:$X$41,0),5)=1,1,0),0))","v":0},{"$f":"IF(COUNTIF(Dashboard!$X$29:$X$42,U57)>1,5,IFERROR(V21*IF(INDEX(Dashboard!$X$29:$AC$42,MATCH($A57,Dashboard!$X$29:$X$42,0),5)*INDEX(Dashboard!$X$28:$AC$41,MATCH(V$40,Dashboard!$X$28:$X$41,0),5)=1,1,0),0))","v":0},{"$f":"IF(COUNTIF(Dashboard!$X$29:$X$42,V57)>1,5,IFERROR(W21*IF(INDEX(Dashboard!$X$29:$AC$42,MATCH($A57,Dashboard!$X$29:$X$42,0),5)*INDEX(Dashboard!$X$28:$AC$41,MATCH(W$40,Dashboard!$X$28:$X$41,0),5)=1,1,0),0))","v":0},{"$f":"IF(COUNTIF(Dashboard!$X$29:$X$42,W57)>1,5,IFERROR(X21*IF(INDEX(Dashboard!$X$29:$AC$42,MATCH($A57,Dashboard!$X$29:$X$42,0),5)*INDEX(Dashboard!$X$28:$AC$41,MATCH(X$40,Dashboard!$X$28:$X$41,0),5)=1,1,0),0))","v":0},{"$f":"IF(COUNTIF(Dashboard!$X$29:$X$42,X57)>1,5,IFERROR(Y21*IF(INDEX(Dashboard!$X$29:$AC$42,MATCH($A57,Dashboard!$X$29:$X$42,0),5)*INDEX(Dashboard!$X$28:$AC$41,MATCH(Y$40,Dashboard!$X$28:$X$41,0),5)=1,1,0),0))","v":0},{"$f":"IF(COUNTIF(Dashboard!$X$29:$X$42,Y57)>1,5,IFERROR(Z21*IF(INDEX(Dashboard!$X$29:$AC$42,MATCH($A57,Dashboard!$X$29:$X$42,0),5)*INDEX(Dashboard!$X$28:$AC$41,MATCH(Z$40,Dashboard!$X$28:$X$41,0),5)=1,1,0),0))","v":0},{"$f":"IF(COUNTIF(Dashboard!$X$29:$X$42,Z57)>1,5,IFERROR(AA21*IF(INDEX(Dashboard!$X$29:$AC$42,MATCH($A57,Dashboard!$X$29:$X$42,0),5)*INDEX(Dashboard!$X$28:$AC$41,MATCH(AA$40,Dashboard!$X$28:$X$41,0),5)=1,1,0),0))","v":0},{"$f":"IF(COUNTIF(Dashboard!$X$29:$X$42,AA57)>1,5,IFERROR(AB21*IF(INDEX(Dashboard!$X$29:$AC$42,MATCH($A57,Dashboard!$X$29:$X$42,0),5)*INDEX(Dashboard!$X$28:$AC$41,MATCH(AB$40,Dashboard!$X$28:$X$41,0),5)=1,1,0),0))","v":0},{"$f":"IF(COUNTIF(Dashboard!$X$29:$X$42,AB57)>1,5,IFERROR(AC21*IF(INDEX(Dashboard!$X$29:$AC$42,MATCH($A57,Dashboard!$X$29:$X$42,0),5)*INDEX(Dashboard!$X$28:$AC$41,MATCH(AC$40,Dashboard!$X$28:$X$41,0),5)=1,1,0),0))","v":0},{"$f":"IF(COUNTIF(Dashboard!$X$29:$X$42,AC57)>1,5,IFERROR(AD21*IF(INDEX(Dashboard!$X$29:$AC$42,MATCH($A57,Dashboard!$X$29:$X$42,0),5)*INDEX(Dashboard!$X$28:$AC$41,MATCH(AD$40,Dashboard!$X$28:$X$41,0),5)=1,1,0),0))","v":0},{"$f":"IF(COUNTIF(Dashboard!$X$29:$X$42,AD57)>1,5,IFERROR(AE21*IF(INDEX(Dashboard!$X$29:$AC$42,MATCH($A57,Dashboard!$X$29:$X$42,0),5)*INDEX(Dashboard!$X$28:$AC$41,MATCH(AE$40,Dashboard!$X$28:$X$41,0),5)=1,1,0),0))","v":0},{"$f":"IF(COUNTIF(Dashboard!$X$29:$X$42,AE57)>1,5,IFERROR(AF21*IF(INDEX(Dashboard!$X$29:$AC$42,MATCH($A57,Dashboard!$X$29:$X$42,0),5)*INDEX(Dashboard!$X$28:$AC$41,MATCH(AF$40,Dashboard!$X$28:$X$41,0),5)=1,1,0),0))","v":0},0,0]
["Waste heat recovery systems",{"$f":"IF(COUNTIF(Dashboard!$X$29:$X$42,#REF!)>1,5,IFERROR(B22*IF(INDEX(Dashboard!$X$29:$AC$42,MATCH($A58,Dashboard!$X$29:$X$42,0),5)*INDEX(Dashboard!$X$28:$AC$41,MATCH(B$40,Dashboard!$X$28:$X$41,0),5)=1,1,0),0))","v":0},{"$f":"IF(COUNTIF(Dashboard!$X$29:$X$42,B58)>1,5,IFERROR(C22*IF(INDEX(Dashboard!$X$29:$AC$42,MATCH($A58,Dashboard!$X$29:$X$42,0),5)*INDEX(Dashboard!$X$28:$AC$41,MATCH(C$40,Dashboard!$X$28:$X$41,0),5)=1,1,0),0))","v":0},{"$f":"IF(COUNTIF(Dashboard!$X$29:$X$42,C58)>1,5,IFERROR(D22*IF(INDEX(Dashboard!$X$29:$AC$42,MATCH($A58,Dashboard!$X$29:$X$42,0),5)*INDEX(Dashboard!$X$28:$AC$41,MATCH(D$40,Dashboard!$X$28:$X$41,0),5)=1,1,0),0))","v":0},{"$f":"IF(COUNTIF(Dashboard!$X$29:$X$42,D58)>1,5,IFERROR(E22*IF(INDEX(Dashboard!$X$29:$AC$42,MATCH($A58,Dashboard!$X$29:$X$42,0),5)*INDEX(Dashboard!$X$28:$AC$41,MATCH(E$40,Dashboard!$X$28:$X$41,0),5)=1,1,0),0))","v":0},{"$f":"IF(COUNTIF(Dashboard!$X$29:$X$42,E58)>1,5,IFERROR(F22*IF(INDEX(Dashboard!$X$29:$AC$42,MATCH($A58,Dashboard!$X$29:$X$42,0),5)*INDEX(Dashboard!$X$28:$AC$41,MATCH(F$40,Dashboard!$X$28:$X$41,0),5)=1,1,0),0))","v":0},{"$f":"IF(COUNTIF(Dashboard!$X$29:$X$42,F58)>1,5,IFERROR(G22*IF(INDEX(Dashboard!$X$29:$AC$42,MATCH($A58,Dashboard!$X$29:$X$42,0),5)*INDEX(Dashboard!$X$28:$AC$41,MATCH(G$40,Dashboard!$X$28:$X$41,0),5)=1,1,0),0))","v":0},{"$f":"IF(COUNTIF(Dashboard!$X$29:$X$42,G58)>1,5,IFERROR(H22*IF(INDEX(Dashboard!$X$29:$AC$42,MATCH($A58,Dashboard!$X$29:$X$42,0),5)*INDEX(Dashboard!$X$28:$AC$41,MATCH(H$40,Dashboard!$X$28:$X$41,0),5)=1,1,0),0))","v":0},{"$f":"IF(COUNTIF(Dashboard!$X$29:$X$42,H58)>1,5,IFERROR(I22*IF(INDEX(Dashboard!$X$29:$AC$42,MATCH($A58,Dashboard!$X$29:$X$42,0),5)*INDEX(Dashboard!$X$28:$AC$41,MATCH(I$40,Dashboard!$X$28:$X$41,0),5)=1,1,0),0))","v":0},{"$f":"IF(COUNTIF(Dashboard!$X$29:$X$42,I58)>1,5,IFERROR(J22*IF(INDEX(Dashboard!$X$29:$AC$42,MATCH($A58,Dashboard!$X$29:$X$42,0),5)*INDEX(Dashboard!$X$28:$AC$41,MATCH(J$40,Dashboard!$X$28:$X$41,0),5)=1,1,0),0))","v":0},{"$f":"IF(COUNTIF(Dashboard!$X$29:$X$42,J58)>1,5,IFERROR(K22*IF(INDEX(Dashboard!$X$29:$AC$42,MATCH($A58,Dashboard!$X$29:$X$42,0),5)*INDEX(Dashboard!$X$28:$AC$41,MATCH(K$40,Dashboard!$X$28:$X$41,0),5)=1,1,0),0))","v":0},{"$f":"IF(COUNTIF(Dashboard!$X$29:$X$42,K58)>1,5,IFERROR(L22*IF(INDEX(Dashboard!$X$29:$AC$42,MATCH($A58,Dashboard!$X$29:$X$42,0),5)*INDEX(Dashboard!$X$28:$AC$41,MATCH(L$40,Dashboard!$X$28:$X$41,0),5)=1,1,0),0))","v":0},{"$f":"IF(COUNTIF(Dashboard!$X$29:$X$42,L58)>1,5,IFERROR(M22*IF(INDEX(Dashboard!$X$29:$AC$42,MATCH($A58,Dashboard!$X$29:$X$42,0),5)*INDEX(Dashboard!$X$28:$AC$41,MATCH(M$40,Dashboard!$X$28:$X$41,0),5)=1,1,0),0))","v":0},{"$f":"IF(COUNTIF(Dashboard!$X$29:$X$42,M58)>1,5,IFERROR(N22*IF(INDEX(Dashboard!$X$29:$AC$42,MATCH($A58,Dashboard!$X$29:$X$42,0),5)*INDEX(Dashboard!$X$28:$AC$41,MATCH(N$40,Dashboard!$X$28:$X$41,0),5)=1,1,0),0))","v":0},{"$f":"IF(COUNTIF(Dashboard!$X$29:$X$42,N58)>1,5,IFERROR(O22*IF(INDEX(Dashboard!$X$29:$AC$42,MATCH($A58,Dashboard!$X$29:$X$42,0),5)*INDEX(Dashboard!$X$28:$AC$41,MATCH(O$40,Dashboard!$X$28:$X$41,0),5)=1,1,0),0))","v":0},{"$f":"IF(COUNTIF(Dashboard!$X$29:$X$42,O58)>1,5,IFERROR(P22*IF(INDEX(Dashboard!$X$29:$AC$42,MATCH($A58,Dashboard!$X$29:$X$42,0),5)*INDEX(Dashboard!$X$28:$AC$41,MATCH(P$40,Dashboard!$X$28:$X$41,0),5)=1,1,0),0))","v":0},{"$f":"IF(COUNTIF(Dashboard!$X$29:$X$42,P58)>1,5,IFERROR(Q22*IF(INDEX(Dashboard!$X$29:$AC$42,MATCH($A58,Dashboard!$X$29:$X$42,0),5)*INDEX(Dashboard!$X$28:$AC$41,MATCH(Q$40,Dashboard!$X$28:$X$41,0),5)=1,1,0),0))","v":0},{"$f":"IF(COUNTIF(Dashboard!$X$29:$X$42,Q58)>1,5,IFERROR(R22*IF(INDEX(Dashboard!$X$29:$AC$42,MATCH($A58,Dashboard!$X$29:$X$42,0),5)*INDEX(Dashboard!$X$28:$AC$41,MATCH(R$40,Dashboard!$X$28:$X$41,0),5)=1,1,0),0))","v":0},{"$f":"IF(COUNTIF(Dashboard!$X$29:$X$42,R58)>1,5,IFERROR(S22*IF(INDEX(Dashboard!$X$29:$AC$42,MATCH($A58,Dashboard!$X$29:$X$42,0),5)*INDEX(Dashboard!$X$28:$AC$41,MATCH(S$40,Dashboard!$X$28:$X$41,0),5)=1,1,0),0))","v":0},{"$f":"IF(COUNTIF(Dashboard!$X$29:$X$42,S58)>1,5,IFERROR(T22*IF(INDEX(Dashboard!$X$29:$AC$42,MATCH($A58,Dashboard!$X$29:$X$42,0),5)*INDEX(Dashboard!$X$28:$AC$41,MATCH(T$40,Dashboard!$X$28:$X$41,0),5)=1,1,0),0))","v":0},{"$f":"IF(COUNTIF(Dashboard!$X$29:$X$42,T58)>1,5,IFERROR(U22*IF(INDEX(Dashboard!$X$29:$AC$42,MATCH($A58,Dashboard!$X$29:$X$42,0),5)*INDEX(Dashboard!$X$28:$AC$41,MATCH(U$40,Dashboard!$X$28:$X$41,0),5)=1,1,0),0))","v":0},{"$f":"IF(COUNTIF(Dashboard!$X$29:$X$42,U58)>1,5,IFERROR(V22*IF(INDEX(Dashboard!$X$29:$AC$42,MATCH($A58,Dashboard!$X$29:$X$42,0),5)*INDEX(Dashboard!$X$28:$AC$41,MATCH(V$40,Dashboard!$X$28:$X$41,0),5)=1,1,0),0))","v":0},{"$f":"IF(COUNTIF(Dashboard!$X$29:$X$42,V58)>1,5,IFERROR(W22*IF(INDEX(Dashboard!$X$29:$AC$42,MATCH($A58,Dashboard!$X$29:$X$42,0),5)*INDEX(Dashboard!$X$28:$AC$41,MATCH(W$40,Dashboard!$X$28:$X$41,0),5)=1,1,0),0))","v":0},{"$f":"IF(COUNTIF(Dashboard!$X$29:$X$42,W58)>1,5,IFERROR(X22*IF(INDEX(Dashboard!$X$29:$AC$42,MATCH($A58,Dashboard!$X$29:$X$42,0),5)*INDEX(Dashboard!$X$28:$AC$41,MATCH(X$40,Dashboard!$X$28:$X$41,0),5)=1,1,0),0))","v":0},{"$f":"IF(COUNTIF(Dashboard!$X$29:$X$42,X58)>1,5,IFERROR(Y22*IF(INDEX(Dashboard!$X$29:$AC$42,MATCH($A58,Dashboard!$X$29:$X$42,0),5)*INDEX(Dashboard!$X$28:$AC$41,MATCH(Y$40,Dashboard!$X$28:$X$41,0),5)=1,1,0),0))","v":0},{"$f":"IF(COUNTIF(Dashboard!$X$29:$X$42,Y58)>1,5,IFERROR(Z22*IF(INDEX(Dashboard!$X$29:$AC$42,MATCH($A58,Dashboard!$X$29:$X$42,0),5)*INDEX(Dashboard!$X$28:$AC$41,MATCH(Z$40,Dashboard!$X$28:$X$41,0),5)=1,1,0),0))","v":0},{"$f":"IF(COUNTIF(Dashboard!$X$29:$X$42,Z58)>1,5,IFERROR(AA22*IF(INDEX(Dashboard!$X$29:$AC$42,MATCH($A58,Dashboard!$X$29:$X$42,0),5)*INDEX(Dashboard!$X$28:$AC$41,MATCH(AA$40,Dashboard!$X$28:$X$41,0),5)=1,1,0),0))","v":0},{"$f":"IF(COUNTIF(Dashboard!$X$29:$X$42,AA58)>1,5,IFERROR(AB22*IF(INDEX(Dashboard!$X$29:$AC$42,MATCH($A58,Dashboard!$X$29:$X$42,0),5)*INDEX(Dashboard!$X$28:$AC$41,MATCH(AB$40,Dashboard!$X$28:$X$41,0),5)=1,1,0),0))","v":0},{"$f":"IF(COUNTIF(Dashboard!$X$29:$X$42,AB58)>1,5,IFERROR(AC22*IF(INDEX(Dashboard!$X$29:$AC$42,MATCH($A58,Dashboard!$X$29:$X$42,0),5)*INDEX(Dashboard!$X$28:$AC$41,MATCH(AC$40,Dashboard!$X$28:$X$41,0),5)=1,1,0),0))","v":0},{"$f":"IF(COUNTIF(Dashboard!$X$29:$X$42,AC58)>1,5,IFERROR(AD22*IF(INDEX(Dashboard!$X$29:$AC$42,MATCH($A58,Dashboard!$X$29:$X$42,0),5)*INDEX(Dashboard!$X$28:$AC$41,MATCH(AD$40,Dashboard!$X$28:$X$41,0),5)=1,1,0),0))","v":0},{"$f":"IF(COUNTIF(Dashboard!$X$29:$X$42,AD58)>1,5,IFERROR(AE22*IF(INDEX(Dashboard!$X$29:$AC$42,MATCH($A58,Dashboard!$X$29:$X$42,0),5)*INDEX(Dashboard!$X$28:$AC$41,MATCH(AE$40,Dashboard!$X$28:$X$41,0),5)=1,1,0),0))","v":0},{"$f":"IF(COUNTIF(Dashboard!$X$29:$X$42,AE58)>1,5,IFERROR(AF22*IF(INDEX(Dashboard!$X$29:$AC$42,MATCH($A58,Dashboard!$X$29:$X$42,0),5)*INDEX(Dashboard!$X$28:$AC$41,MATCH(AF$40,Dashboard!$X$28:$X$41,0),5)=1,1,0),0))","v":0},0,0]
["Battery hybridization",{"$f":"IF(COUNTIF(Dashboard!$X$29:$X$42,#REF!)>1,5,IFERROR(B23*IF(INDEX(Dashboard!$X$29:$AC$42,MATCH($A59,Dashboard!$X$29:$X$42,0),5)*INDEX(Dashboard!$X$28:$AC$41,MATCH(B$40,Dashboard!$X$28:$X$41,0),5)=1,1,0),0))","v":0},{"$f":"IF(COUNTIF(Dashboard!$X$29:$X$42,B59)>1,5,IFERROR(C23*IF(INDEX(Dashboard!$X$29:$AC$42,MATCH($A59,Dashboard!$X$29:$X$42,0),5)*INDEX(Dashboard!$X$28:$AC$41,MATCH(C$40,Dashboard!$X$28:$X$41,0),5)=1,1,0),0))","v":0},{"$f":"IF(COUNTIF(Dashboard!$X$29:$X$42,C59)>1,5,IFERROR(D23*IF(INDEX(Dashboard!$X$29:$AC$42,MATCH($A59,Dashboard!$X$29:$X$42,0),5)*INDEX(Dashboard!$X$28:$AC$41,MATCH(D$40,Dashboard!$X$28:$X$41,0),5)=1,1,0),0))","v":0},{"$f":"IF(COUNTIF(Dashboard!$X$29:$X$42,D59)>1,5,IFERROR(E23*IF(INDEX(Dashboard!$X$29:$AC$42,MATCH($A59,Dashboard!$X$29:$X$42,0),5)*INDEX(Dashboard!$X$28:$AC$41,MATCH(E$40,Dashboard!$X$28:$X$41,0),5)=1,1,0),0))","v":0},{"$f":"IF(COUNTIF(Dashboard!$X$29:$X$42,E59)>1,5,IFERROR(F23*IF(INDEX(Dashboard!$X$29:$AC$42,MATCH($A59,Dashboard!$X$29:$X$42,0),5)*INDEX(Dashboard!$X$28:$AC$41,MATCH(F$40,Dashboard!$X$28:$X$41,0),5)=1,1,0),0))","v":0},{"$f":"IF(COUNTIF(Dashboard!$X$29:$X$42,F59)>1,5,IFERROR(G23*IF(INDEX(Dashboard!$X$29:$AC$42,MATCH($A59,Dashboard!$X$29:$X$42,0),5)*INDEX(Dashboard!$X$28:$AC$41,MATCH(G$40,Dashboard!$X$28:$X$41,0),5)=1,1,0),0))","v":0},{"$f":"IF(COUNTIF(Dashboard!$X$29:$X$42,G59)>1,5,IFERROR(H23*IF(INDEX(Dashboard!$X$29:$AC$42,MATCH($A59,Dashboard!$X$29:$X$42,0),5)*INDEX(Dashboard!$X$28:$AC$41,MATCH(H$40,Dashboard!$X$28:$X$41,0),5)=1,1,0),0))","v":0},{"$f":"IF(COUNTIF(Dashboard!$X$29:$X$42,H59)>1,5,IFERROR(I23*IF(INDEX(Dashboard!$X$29:$AC$42,MATCH($A59,Dashboard!$X$29:$X$42,0),5)*INDEX(Dashboard!$X$28:$AC$41,MATCH(I$40,Dashboard!$X$28:$X$41,0),5)=1,1,0),0))","v":0},{"$f":"IF(COUNTIF(Dashboard!$X$29:$X$42,I59)>1,5,IFERROR(J23*IF(INDEX(Dashboard!$X$29:$AC$42,MATCH($A59,Dashboard!$X$29:$X$42,0),5)*INDEX(Dashboard!$X$28:$AC$41,MATCH(J$40,Dashboard!$X$28:$X$41,0),5)=1,1,0),0))","v":0},{"$f":"IF(COUNTIF(Dashboard!$X$29:$X$42,J59)>1,5,IFERROR(K23*IF(INDEX(Dashboard!$X$29:$AC$42,MATCH($A59,Dashboard!$X$29:$X$42,0),5)*INDEX(Dashboard!$X$28:$AC$41,MATCH(K$40,Dashboard!$X$28:$X$41,0),5)=1,1,0),0))","v":0},{"$f":"IF(COUNTIF(Dashboard!$X$29:$X$42,K59)>1,5,IFERROR(L23*IF(INDEX(Dashboard!$X$29:$AC$42,MATCH($A59,Dashboard!$X$29:$X$42,0),5)*INDEX(Dashboard!$X$28:$AC$41,MATCH(L$40,Dashboard!$X$28:$X$41,0),5)=1,1,0),0))","v":0},{"$f":"IF(COUNTIF(Dashboard!$X$29:$X$42,L59)>1,5,IFERROR(M23*IF(INDEX(Dashboard!$X$29:$AC$42,MATCH($A59,Dashboard!$X$29:$X$42,0),5)*INDEX(Dashboard!$X$28:$AC$41,MATCH(M$40,Dashboard!$X$28:$X$41,0),5)=1,1,0),0))","v":0},{"$f":"IF(COUNTIF(Dashboard!$X$29:$X$42,M59)>1,5,IFERROR(N23*IF(INDEX(Dashboard!$X$29:$AC$42,MATCH($A59,Dashboard!$X$29:$X$42,0),5)*INDEX(Dashboard!$X$28:$AC$41,MATCH(N$40,Dashboard!$X$28:$X$41,0),5)=1,1,0),0))","v":0},{"$f":"IF(COUNTIF(Dashboard!$X$29:$X$42,N59)>1,5,IFERROR(O23*IF(INDEX(Dashboard!$X$29:$AC$42,MATCH($A59,Dashboard!$X$29:$X$42,0),5)*INDEX(Dashboard!$X$28:$AC$41,MATCH(O$40,Dashboard!$X$28:$X$41,0),5)=1,1,0),0))","v":0},{"$f":"IF(COUNTIF(Dashboard!$X$29:$X$42,O59)>1,5,IFERROR(P23*IF(INDEX(Dashboard!$X$29:$AC$42,MATCH($A59,Dashboard!$X$29:$X$42,0),5)*INDEX(Dashboard!$X$28:$AC$41,MATCH(P$40,Dashboard!$X$28:$X$41,0),5)=1,1,0),0))","v":0},{"$f":"IF(COUNTIF(Dashboard!$X$29:$X$42,P59)>1,5,IFERROR(Q23*IF(INDEX(Dashboard!$X$29:$AC$42,MATCH($A59,Dashboard!$X$29:$X$42,0),5)*INDEX(Dashboard!$X$28:$AC$41,MATCH(Q$40,Dashboard!$X$28:$X$41,0),5)=1,1,0),0))","v":0},{"$f":"IF(COUNTIF(Dashboard!$X$29:$X$42,Q59)>1,5,IFERROR(R23*IF(INDEX(Dashboard!$X$29:$AC$42,MATCH($A59,Dashboard!$X$29:$X$42,0),5)*INDEX(Dashboard!$X$28:$AC$41,MATCH(R$40,Dashboard!$X$28:$X$41,0),5)=1,1,0),0))","v":0},{"$f":"IF(COUNTIF(Dashboard!$X$29:$X$42,R59)>1,5,IFERROR(S23*IF(INDEX(Dashboard!$X$29:$AC$42,MATCH($A59,Dashboard!$X$29:$X$42,0),5)*INDEX(Dashboard!$X$28:$AC$41,MATCH(S$40,Dashboard!$X$28:$X$41,0),5)=1,1,0),0))","v":0},{"$f":"IF(COUNTIF(Dashboard!$X$29:$X$42,S59)>1,5,IFERROR(T23*IF(INDEX(Dashboard!$X$29:$AC$42,MATCH($A59,Dashboard!$X$29:$X$42,0),5)*INDEX(Dashboard!$X$28:$AC$41,MATCH(T$40,Dashboard!$X$28:$X$41,0),5)=1,1,0),0))","v":0},{"$f":"IF(COUNTIF(Dashboard!$X$29:$X$42,T59)>1,5,IFERROR(U23*IF(INDEX(Dashboard!$X$29:$AC$42,MATCH($A59,Dashboard!$X$29:$X$42,0),5)*INDEX(Dashboard!$X$28:$AC$41,MATCH(U$40,Dashboard!$X$28:$X$41,0),5)=1,1,0),0))","v":0},{"$f":"IF(COUNTIF(Dashboard!$X$29:$X$42,U59)>1,5,IFERROR(V23*IF(INDEX(Dashboard!$X$29:$AC$42,MATCH($A59,Dashboard!$X$29:$X$42,0),5)*INDEX(Dashboard!$X$28:$AC$41,MATCH(V$40,Dashboard!$X$28:$X$41,0),5)=1,1,0),0))","v":0},{"$f":"IF(COUNTIF(Dashboard!$X$29:$X$42,V59)>1,5,IFERROR(W23*IF(INDEX(Dashboard!$X$29:$AC$42,MATCH($A59,Dashboard!$X$29:$X$42,0),5)*INDEX(Dashboard!$X$28:$AC$41,MATCH(W$40,Dashboard!$X$28:$X$41,0),5)=1,1,0),0))","v":0},{"$f":"IF(COUNTIF(Dashboard!$X$29:$X$42,W59)>1,5,IFERROR(X23*IF(INDEX(Dashboard!$X$29:$AC$42,MATCH($A59,Dashboard!$X$29:$X$42,0),5)*INDEX(Dashboard!$X$28:$AC$41,MATCH(X$40,Dashboard!$X$28:$X$41,0),5)=1,1,0),0))","v":0},{"$f":"IF(COUNTIF(Dashboard!$X$29:$X$42,X59)>1,5,IFERROR(Y23*IF(INDEX(Dashboard!$X$29:$AC$42,MATCH($A59,Dashboard!$X$29:$X$42,0),5)*INDEX(Dashboard!$X$28:$AC$41,MATCH(Y$40,Dashboard!$X$28:$X$41,0),5)=1,1,0),0))","v":0},{"$f":"IF(COUNTIF(Dashboard!$X$29:$X$42,Y59)>1,5,IFERROR(Z23*IF(INDEX(Dashboard!$X$29:$AC$42,MATCH($A59,Dashboard!$X$29:$X$42,0),5)*INDEX(Dashboard!$X$28:$AC$41,MATCH(Z$40,Dashboard!$X$28:$X$41,0),5)=1,1,0),0))","v":0},{"$f":"IF(COUNTIF(Dashboard!$X$29:$X$42,Z59)>1,5,IFERROR(AA23*IF(INDEX(Dashboard!$X$29:$AC$42,MATCH($A59,Dashboard!$X$29:$X$42,0),5)*INDEX(Dashboard!$X$28:$AC$41,MATCH(AA$40,Dashboard!$X$28:$X$41,0),5)=1,1,0),0))","v":0},{"$f":"IF(COUNTIF(Dashboard!$X$29:$X$42,AA59)>1,5,IFERROR(AB23*IF(INDEX(Dashboard!$X$29:$AC$42,MATCH($A59,Dashboard!$X$29:$X$42,0),5)*INDEX(Dashboard!$X$28:$AC$41,MATCH(AB$40,Dashboard!$X$28:$X$41,0),5)=1,1,0),0))","v":0},{"$f":"IF(COUNTIF(Dashboard!$X$29:$X$42,AB59)>1,5,IFERROR(AC23*IF(INDEX(Dashboard!$X$29:$AC$42,MATCH($A59,Dashboard!$X$29:$X$42,0),5)*INDEX(Dashboard!$X$28:$AC$41,MATCH(AC$40,Dashboard!$X$28:$X$41,0),5)=1,1,0),0))","v":0},{"$f":"IF(COUNTIF(Dashboard!$X$29:$X$42,AC59)>1,5,IFERROR(AD23*IF(INDEX(Dashboard!$X$29:$AC$42,MATCH($A59,Dashboard!$X$29:$X$42,0),5)*INDEX(Dashboard!$X$28:$AC$41,MATCH(AD$40,Dashboard!$X$28:$X$41,0),5)=1,1,0),0))","v":0},{"$f":"IF(COUNTIF(Dashboard!$X$29:$X$42,AD59)>1,5,IFERROR(AE23*IF(INDEX(Dashboard!$X$29:$AC$42,MATCH($A59,Dashboard!$X$29:$X$42,0),5)*INDEX(Dashboard!$X$28:$AC$41,MATCH(AE$40,Dashboard!$X$28:$X$41,0),5)=1,1,0),0))","v":0},{"$f":"IF(COUNTIF(Dashboard!$X$29:$X$42,AE59)>1,5,IFERROR(AF23*IF(INDEX(Dashboard!$X$29:$AC$42,MATCH($A59,Dashboard!$X$29:$X$42,0),5)*INDEX(Dashboard!$X$28:$AC$41,MATCH(AF$40,Dashboard!$X$28:$X$41,0),5)=1,1,0),0))","v":0},0,0]
["Autopilot adjustment and use",{"$f":"IF(COUNTIF(Dashboard!$X$29:$X$42,#REF!)>1,5,IFERROR(B24*IF(INDEX(Dashboard!$X$29:$AC$42,MATCH($A60,Dashboard!$X$29:$X$42,0),5)*INDEX(Dashboard!$X$28:$AC$41,MATCH(B$40,Dashboard!$X$28:$X$41,0),5)=1,1,0),0))","v":0},{"$f":"IF(COUNTIF(Dashboard!$X$29:$X$42,B60)>1,5,IFERROR(C24*IF(INDEX(Dashboard!$X$29:$AC$42,MATCH($A60,Dashboard!$X$29:$X$42,0),5)*INDEX(Dashboard!$X$28:$AC$41,MATCH(C$40,Dashboard!$X$28:$X$41,0),5)=1,1,0),0))","v":0},{"$f":"IF(COUNTIF(Dashboard!$X$29:$X$42,C60)>1,5,IFERROR(D24*IF(INDEX(Dashboard!$X$29:$AC$42,MATCH($A60,Dashboard!$X$29:$X$42,0),5)*INDEX(Dashboard!$X$28:$AC$41,MATCH(D$40,Dashboard!$X$28:$X$41,0),5)=1,1,0),0))","v":0},{"$f":"IF(COUNTIF(Dashboard!$X$29:$X$42,D60)>1,5,IFERROR(E24*IF(INDEX(Dashboard!$X$29:$AC$42,MATCH($A60,Dashboard!$X$29:$X$42,0),5)*INDEX(Dashboard!$X$28:$AC$41,MATCH(E$40,Dashboard!$X$28:$X$41,0),5)=1,1,0),0))","v":0},{"$f":"IF(COUNTIF(Dashboard!$X$29:$X$42,E60)>1,5,IFERROR(F24*IF(INDEX(Dashboard!$X$29:$AC$42,MATCH($A60,Dashboard!$X$29:$X$42,0),5)*INDEX(Dashboard!$X$28:$AC$41,MATCH(F$40,Dashboard!$X$28:$X$41,0),5)=1,1,0),0))","v":0},{"$f":"IF(COUNTIF(Dashboard!$X$29:$X$42,F60)>1,5,IFERROR(G24*IF(INDEX(Dashboard!$X$29:$AC$42,MATCH($A60,Dashboard!$X$29:$X$42,0),5)*INDEX(Dashboard!$X$28:$AC$41,MATCH(G$40,Dashboard!$X$28:$X$41,0),5)=1,1,0),0))","v":0},{"$f":"IF(COUNTIF(Dashboard!$X$29:$X$42,G60)>1,5,IFERROR(H24*IF(INDEX(Dashboard!$X$29:$AC$42,MATCH($A60,Dashboard!$X$29:$X$42,0),5)*INDEX(Dashboard!$X$28:$AC$41,MATCH(H$40,Dashboard!$X$28:$X$41,0),5)=1,1,0),0))","v":0},{"$f":"IF(COUNTIF(Dashboard!$X$29:$X$42,H60)>1,5,IFERROR(I24*IF(INDEX(Dashboard!$X$29:$AC$42,MATCH($A60,Dashboard!$X$29:$X$42,0),5)*INDEX(Dashboard!$X$28:$AC$41,MATCH(I$40,Dashboard!$X$28:$X$41,0),5)=1,1,0),0))","v":0},{"$f":"IF(COUNTIF(Dashboard!$X$29:$X$42,I60)>1,5,IFERROR(J24*IF(INDEX(Dashboard!$X$29:$AC$42,MATCH($A60,Dashboard!$X$29:$X$42,0),5)*INDEX(Dashboard!$X$28:$AC$41,MATCH(J$40,Dashboard!$X$28:$X$41,0),5)=1,1,0),0))","v":0},{"$f":"IF(COUNTIF(Dashboard!$X$29:$X$42,J60)>1,5,IFERROR(K24*IF(INDEX(Dashboard!$X$29:$AC$42,MATCH($A60,Dashboard!$X$29:$X$42,0),5)*INDEX(Dashboard!$X$28:$AC$41,MATCH(K$40,Dashboard!$X$28:$X$41,0),5)=1,1,0),0))","v":0},{"$f":"IF(COUNTIF(Dashboard!$X$29:$X$42,K60)>1,5,IFERROR(L24*IF(INDEX(Dashboard!$X$29:$AC$42,MATCH($A60,Dashboard!$X$29:$X$42,0),5)*INDEX(Dashboard!$X$28:$AC$41,MATCH(L$40,Dashboard!$X$28:$X$41,0),5)=1,1,0),0))","v":0},{"$f":"IF(COUNTIF(Dashboard!$X$29:$X$42,L60)>1,5,IFERROR(M24*IF(INDEX(Dashboard!$X$29:$AC$42,MATCH($A60,Dashboard!$X$29:$X$42,0),5)*INDEX(Dashboard!$X$28:$AC$41,MATCH(M$40,Dashboard!$X$28:$X$41,0),5)=1,1,0),0))","v":0},{"$f":"IF(COUNTIF(Dashboard!$X$29:$X$42,M60)>1,5,IFERROR(N24*IF(INDEX(Dashboard!$X$29:$AC$42,MATCH($A60,Dashboard!$X$29:$X$42,0),5)*INDEX(Dashboard!$X$28:$AC$41,MATCH(N$40,Dashboard!$X$28:$X$41,0),5)=1,1,0),0))","v":0},{"$f":"IF(COUNTIF(Dashboard!$X$29:$X$42,N60)>1,5,IFERROR(O24*IF(INDEX(Dashboard!$X$29:$AC$42,MATCH($A60,Dashboard!$X$29:$X$42,0),5)*INDEX(Dashboard!$X$28:$AC$41,MATCH(O$40,Dashboard!$X$28:$X$41,0),5)=1,1,0),0))","v":0},{"$f":"IF(COUNTIF(Dashboard!$X$29:$X$42,O60)>1,5,IFERROR(P24*IF(INDEX(Dashboard!$X$29:$AC$42,MATCH($A60,Dashboard!$X$29:$X$42,0),5)*INDEX(Dashboard!$X$28:$AC$41,MATCH(P$40,Dashboard!$X$28:$X$41,0),5)=1,1,0),0))","v":0},{"$f":"IF(COUNTIF(Dashboard!$X$29:$X$42,P60)>1,5,IFERROR(Q24*IF(INDEX(Dashboard!$X$29:$AC$42,MATCH($A60,Dashboard!$X$29:$X$42,0),5)*INDEX(Dashboard!$X$28:$AC$41,MATCH(Q$40,Dashboard!$X$28:$X$41,0),5)=1,1,0),0))","v":0},{"$f":"IF(COUNTIF(Dashboard!$X$29:$X$42,Q60)>1,5,IFERROR(R24*IF(INDEX(Dashboard!$X$29:$AC$42,MATCH($A60,Dashboard!$X$29:$X$42,0),5)*INDEX(Dashboard!$X$28:$AC$41,MATCH(R$40,Dashboard!$X$28:$X$41,0),5)=1,1,0),0))","v":0},{"$f":"IF(COUNTIF(Dashboard!$X$29:$X$42,R60)>1,5,IFERROR(S24*IF(INDEX(Dashboard!$X$29:$AC$42,MATCH($A60,Dashboard!$X$29:$X$42,0),5)*INDEX(Dashboard!$X$28:$AC$41,MATCH(S$40,Dashboard!$X$28:$X$41,0),5)=1,1,0),0))","v":0},{"$f":"IF(COUNTIF(Dashboard!$X$29:$X$42,S60)>1,5,IFERROR(T24*IF(INDEX(Dashboard!$X$29:$AC$42,MATCH($A60,Dashboard!$X$29:$X$42,0),5)*INDEX(Dashboard!$X$28:$AC$41,MATCH(T$40,Dashboard!$X$28:$X$41,0),5)=1,1,0),0))","v":0},{"$f":"IF(COUNTIF(Dashboard!$X$29:$X$42,T60)>1,5,IFERROR(U24*IF(INDEX(Dashboard!$X$29:$AC$42,MATCH($A60,Dashboard!$X$29:$X$42,0),5)*INDEX(Dashboard!$X$28:$AC$41,MATCH(U$40,Dashboard!$X$28:$X$41,0),5)=1,1,0),0))","v":0},{"$f":"IF(COUNTIF(Dashboard!$X$29:$X$42,U60)>1,5,IFERROR(V24*IF(INDEX(Dashboard!$X$29:$AC$42,MATCH($A60,Dashboard!$X$29:$X$42,0),5)*INDEX(Dashboard!$X$28:$AC$41,MATCH(V$40,Dashboard!$X$28:$X$41,0),5)=1,1,0),0))","v":0},{"$f":"IF(COUNTIF(Dashboard!$X$29:$X$42,V60)>1,5,IFERROR(W24*IF(INDEX(Dashboard!$X$29:$AC$42,MATCH($A60,Dashboard!$X$29:$X$42,0),5)*INDEX(Dashboard!$X$28:$AC$41,MATCH(W$40,Dashboard!$X$28:$X$41,0),5)=1,1,0),0))","v":0},{"$f":"IF(COUNTIF(Dashboard!$X$29:$X$42,W60)>1,5,IFERROR(X24*IF(INDEX(Dashboard!$X$29:$AC$42,MATCH($A60,Dashboard!$X$29:$X$42,0),5)*INDEX(Dashboard!$X$28:$AC$41,MATCH(X$40,Dashboard!$X$28:$X$41,0),5)=1,1,0),0))","v":0},{"$f":"IF(COUNTIF(Dashboard!$X$29:$X$42,X60)>1,5,IFERROR(Y24*IF(INDEX(Dashboard!$X$29:$AC$42,MATCH($A60,Dashboard!$X$29:$X$42,0),5)*INDEX(Dashboard!$X$28:$AC$41,MATCH(Y$40,Dashboard!$X$28:$X$41,0),5)=1,1,0),0))","v":0},{"$f":"IF(COUNTIF(Dashboard!$X$29:$X$42,Y60)>1,5,IFERROR(Z24*IF(INDEX(Dashboard!$X$29:$AC$42,MATCH($A60,Dashboard!$X$29:$X$42,0),5)*INDEX(Dashboard!$X$28:$AC$41,MATCH(Z$40,Dashboard!$X$28:$X$41,0),5)=1,1,0),0))","v":0},{"$f":"IF(COUNTIF(Dashboard!$X$29:$X$42,Z60)>1,5,IFERROR(AA24*IF(INDEX(Dashboard!$X$29:$AC$42,MATCH($A60,Dashboard!$X$29:$X$42,0),5)*INDEX(Dashboard!$X$28:$AC$41,MATCH(AA$40,Dashboard!$X$28:$X$41,0),5)=1,1,0),0))","v":0},{"$f":"IF(COUNTIF(Dashboard!$X$29:$X$42,AA60)>1,5,IFERROR(AB24*IF(INDEX(Dashboard!$X$29:$AC$42,MATCH($A60,Dashboard!$X$29:$X$42,0),5)*INDEX(Dashboard!$X$28:$AC$41,MATCH(AB$40,Dashboard!$X$28:$X$41,0),5)=1,1,0),0))","v":0},{"$f":"IF(COUNTIF(Dashboard!$X$29:$X$42,AB60)>1,5,IFERROR(AC24*IF(INDEX(Dashboard!$X$29:$AC$42,MATCH($A60,Dashboard!$X$29:$X$42,0),5)*INDEX(Dashboard!$X$28:$AC$41,MATCH(AC$40,Dashboard!$X$28:$X$41,0),5)=1,1,0),0))","v":0},{"$f":"IF(COUNTIF(Dashboard!$X$29:$X$42,AC60)>1,5,IFERROR(AD24*IF(INDEX(Dashboard!$X$29:$AC$42,MATCH($A60,Dashboard!$X$29:$X$42,0),5)*INDEX(Dashboard!$X$28:$AC$41,MATCH(AD$40,Dashboard!$X$28:$X$41,0),5)=1,1,0),0))","v":0},{"$f":"IF(COUNTIF(Dashboard!$X$29:$X$42,AD60)>1,5,IFERROR(AE24*IF(INDEX(Dashboard!$X$29:$AC$42,MATCH($A60,Dashboard!$X$29:$X$42,0),5)*INDEX(Dashboard!$X$28:$AC$41,MATCH(AE$40,Dashboard!$X$28:$X$41,0),5)=1,1,0),0))","v":0},{"$f":"IF(COUNTIF(Dashboard!$X$29:$X$42,AE60)>1,5,IFERROR(AF24*IF(INDEX(Dashboard!$X$29:$AC$42,MATCH($A60,Dashboard!$X$29:$X$42,0),5)*INDEX(Dashboard!$X$28:$AC$41,MATCH(AF$40,Dashboard!$X$28:$X$41,0),5)=1,1,0),0))","v":0},0,0]
["Combinator optimizing",{"$f":"IF(COUNTIF(Dashboard!$X$29:$X$42,#REF!)>1,5,IFERROR(B25*IF(INDEX(Dashboard!$X$29:$AC$42,MATCH($A61,Dashboard!$X$29:$X$42,0),5)*INDEX(Dashboard!$X$28:$AC$41,MATCH(B$40,Dashboard!$X$28:$X$41,0),5)=1,1,0),0))","v":0},{"$f":"IF(COUNTIF(Dashboard!$X$29:$X$42,B61)>1,5,IFERROR(C25*IF(INDEX(Dashboard!$X$29:$AC$42,MATCH($A61,Dashboard!$X$29:$X$42,0),5)*INDEX(Dashboard!$X$28:$AC$41,MATCH(C$40,Dashboard!$X$28:$X$41,0),5)=1,1,0),0))","v":0},{"$f":"IF(COUNTIF(Dashboard!$X$29:$X$42,C61)>1,5,IFERROR(D25*IF(INDEX(Dashboard!$X$29:$AC$42,MATCH($A61,Dashboard!$X$29:$X$42,0),5)*INDEX(Dashboard!$X$28:$AC$41,MATCH(D$40,Dashboard!$X$28:$X$41,0),5)=1,1,0),0))","v":0},{"$f":"IF(COUNTIF(Dashboard!$X$29:$X$42,D61)>1,5,IFERROR(E25*IF(INDEX(Dashboard!$X$29:$AC$42,MATCH($A61,Dashboard!$X$29:$X$42,0),5)*INDEX(Dashboard!$X$28:$AC$41,MATCH(E$40,Dashboard!$X$28:$X$41,0),5)=1,1,0),0))","v":0},{"$f":"IF(COUNTIF(Dashboard!$X$29:$X$42,E61)>1,5,IFERROR(F25*IF(INDEX(Dashboard!$X$29:$AC$42,MATCH($A61,Dashboard!$X$29:$X$42,0),5)*INDEX(Dashboard!$X$28:$AC$41,MATCH(F$40,Dashboard!$X$28:$X$41,0),5)=1,1,0),0))","v":0},{"$f":"IF(COUNTIF(Dashboard!$X$29:$X$42,F61)>1,5,IFERROR(G25*IF(INDEX(Dashboard!$X$29:$AC$42,MATCH($A61,Dashboard!$X$29:$X$42,0),5)*INDEX(Dashboard!$X$28:$AC$41,MATCH(G$40,Dashboard!$X$28:$X$41,0),5)=1,1,0),0))","v":0},{"$f":"IF(COUNTIF(Dashboard!$X$29:$X$42,G61)>1,5,IFERROR(H25*IF(INDEX(Dashboard!$X$29:$AC$42,MATCH($A61,Dashboard!$X$29:$X$42,0),5)*INDEX(Dashboard!$X$28:$AC$41,MATCH(H$40,Dashboard!$X$28:$X$41,0),5)=1,1,0),0))","v":0},{"$f":"IF(COUNTIF(Dashboard!$X$29:$X$42,H61)>1,5,IFERROR(I25*IF(INDEX(Dashboard!$X$29:$AC$42,MATCH($A61,Dashboard!$X$29:$X$42,0),5)*INDEX(Dashboard!$X$28:$AC$41,MATCH(I$40,Dashboard!$X$28:$X$41,0),5)=1,1,0),0))","v":0},{"$f":"IF(COUNTIF(Dashboard!$X$29:$X$42,I61)>1,5,IFERROR(J25*IF(INDEX(Dashboard!$X$29:$AC$42,MATCH($A61,Dashboard!$X$29:$X$42,0),5)*INDEX(Dashboard!$X$28:$AC$41,MATCH(J$40,Dashboard!$X$28:$X$41,0),5)=1,1,0),0))","v":0},{"$f":"IF(COUNTIF(Dashboard!$X$29:$X$42,J61)>1,5,IFERROR(K25*IF(INDEX(Dashboard!$X$29:$AC$42,MATCH($A61,Dashboard!$X$29:$X$42,0),5)*INDEX(Dashboard!$X$28:$AC$41,MATCH(K$40,Dashboard!$X$28:$X$41,0),5)=1,1,0),0))","v":0},{"$f":"IF(COUNTIF(Dashboard!$X$29:$X$42,K61)>1,5,IFERROR(L25*IF(INDEX(Dashboard!$X$29:$AC$42,MATCH($A61,Dashboard!$X$29:$X$42,0),5)*INDEX(Dashboard!$X$28:$AC$41,MATCH(L$40,Dashboard!$X$28:$X$41,0),5)=1,1,0),0))","v":0},{"$f":"IF(COUNTIF(Dashboard!$X$29:$X$42,L61)>1,5,IFERROR(M25*IF(INDEX(Dashboard!$X$29:$AC$42,MATCH($A61,Dashboard!$X$29:$X$42,0),5)*INDEX(Dashboard!$X$28:$AC$41,MATCH(M$40,Dashboard!$X$28:$X$41,0),5)=1,1,0),0))","v":0},{"$f":"IF(COUNTIF(Dashboard!$X$29:$X$42,M61)>1,5,IFERROR(N25*IF(INDEX(Dashboard!$X$29:$AC$42,MATCH($A61,Dashboard!$X$29:$X$42,0),5)*INDEX(Dashboard!$X$28:$AC$41,MATCH(N$40,Dashboard!$X$28:$X$41,0),5)=1,1,0),0))","v":0},{"$f":"IF(COUNTIF(Dashboard!$X$29:$X$42,N61)>1,5,IFERROR(O25*IF(INDEX(Dashboard!$X$29:$AC$42,MATCH($A61,Dashboard!$X$29:$X$42,0),5)*INDEX(Dashboard!$X$28:$AC$41,MATCH(O$40,Dashboard!$X$28:$X$41,0),5)=1,1,0),0))","v":0},{"$f":"IF(COUNTIF(Dashboard!$X$29:$X$42,O61)>1,5,IFERROR(P25*IF(INDEX(Dashboard!$X$29:$AC$42,MATCH($A61,Dashboard!$X$29:$X$42,0),5)*INDEX(Dashboard!$X$28:$AC$41,MATCH(P$40,Dashboard!$X$28:$X$41,0),5)=1,1,0),0))","v":0},{"$f":"IF(COUNTIF(Dashboard!$X$29:$X$42,P61)>1,5,IFERROR(Q25*IF(INDEX(Dashboard!$X$29:$AC$42,MATCH($A61,Dashboard!$X$29:$X$42,0),5)*INDEX(Dashboard!$X$28:$AC$41,MATCH(Q$40,Dashboard!$X$28:$X$41,0),5)=1,1,0),0))","v":0},{"$f":"IF(COUNTIF(Dashboard!$X$29:$X$42,Q61)>1,5,IFERROR(R25*IF(INDEX(Dashboard!$X$29:$AC$42,MATCH($A61,Dashboard!$X$29:$X$42,0),5)*INDEX(Dashboard!$X$28:$AC$41,MATCH(R$40,Dashboard!$X$28:$X$41,0),5)=1,1,0),0))","v":0},{"$f":"IF(COUNTIF(Dashboard!$X$29:$X$42,R61)>1,5,IFERROR(S25*IF(INDEX(Dashboard!$X$29:$AC$42,MATCH($A61,Dashboard!$X$29:$X$42,0),5)*INDEX(Dashboard!$X$28:$AC$41,MATCH(S$40,Dashboard!$X$28:$X$41,0),5)=1,1,0),0))","v":0},{"$f":"IF(COUNTIF(Dashboard!$X$29:$X$42,S61)>1,5,IFERROR(T25*IF(INDEX(Dashboard!$X$29:$AC$42,MATCH($A61,Dashboard!$X$29:$X$42,0),5)*INDEX(Dashboard!$X$28:$AC$41,MATCH(T$40,Dashboard!$X$28:$X$41,0),5)=1,1,0),0))","v":0},{"$f":"IF(COUNTIF(Dashboard!$X$29:$X$42,T61)>1,5,IFERROR(U25*IF(INDEX(Dashboard!$X$29:$AC$42,MATCH($A61,Dashboard!$X$29:$X$42,0),5)*INDEX(Dashboard!$X$28:$AC$41,MATCH(U$40,Dashboard!$X$28:$X$41,0),5)=1,1,0),0))","v":0},{"$f":"IF(COUNTIF(Dashboard!$X$29:$X$42,U61)>1,5,IFERROR(V25*IF(INDEX(Dashboard!$X$29:$AC$42,MATCH($A61,Dashboard!$X$29:$X$42,0),5)*INDEX(Dashboard!$X$28:$AC$41,MATCH(V$40,Dashboard!$X$28:$X$41,0),5)=1,1,0),0))","v":0},{"$f":"IF(COUNTIF(Dashboard!$X$29:$X$42,V61)>1,5,IFERROR(W25*IF(INDEX(Dashboard!$X$29:$AC$42,MATCH($A61,Dashboard!$X$29:$X$42,0),5)*INDEX(Dashboard!$X$28:$AC$41,MATCH(W$40,Dashboard!$X$28:$X$41,0),5)=1,1,0),0))","v":0},{"$f":"IF(COUNTIF(Dashboard!$X$29:$X$42,W61)>1,5,IFERROR(X25*IF(INDEX(Dashboard!$X$29:$AC$42,MATCH($A61,Dashboard!$X$29:$X$42,0),5)*INDEX(Dashboard!$X$28:$AC$41,MATCH(X$40,Dashboard!$X$28:$X$41,0),5)=1,1,0),0))","v":0},{"$f":"IF(COUNTIF(Dashboard!$X$29:$X$42,X61)>1,5,IFERROR(Y25*IF(INDEX(Dashboard!$X$29:$AC$42,MATCH($A61,Dashboard!$X$29:$X$42,0),5)*INDEX(Dashboard!$X$28:$AC$41,MATCH(Y$40,Dashboard!$X$28:$X$41,0),5)=1,1,0),0))","v":0},{"$f":"IF(COUNTIF(Dashboard!$X$29:$X$42,Y61)>1,5,IFERROR(Z25*IF(INDEX(Dashboard!$X$29:$AC$42,MATCH($A61,Dashboard!$X$29:$X$42,0),5)*INDEX(Dashboard!$X$28:$AC$41,MATCH(Z$40,Dashboard!$X$28:$X$41,0),5)=1,1,0),0))","v":0},{"$f":"IF(COUNTIF(Dashboard!$X$29:$X$42,Z61)>1,5,IFERROR(AA25*IF(INDEX(Dashboard!$X$29:$AC$42,MATCH($A61,Dashboard!$X$29:$X$42,0),5)*INDEX(Dashboard!$X$28:$AC$41,MATCH(AA$40,Dashboard!$X$28:$X$41,0),5)=1,1,0),0))","v":0},{"$f":"IF(COUNTIF(Dashboard!$X$29:$X$42,AA61)>1,5,IFERROR(AB25*IF(INDEX(Dashboard!$X$29:$AC$42,MATCH($A61,Dashboard!$X$29:$X$42,0),5)*INDEX(Dashboard!$X$28:$AC$41,MATCH(AB$40,Dashboard!$X$28:$X$41,0),5)=1,1,0),0))","v":0},{"$f":"IF(COUNTIF(Dashboard!$X$29:$X$42,AB61)>1,5,IFERROR(AC25*IF(INDEX(Dashboard!$X$29:$AC$42,MATCH($A61,Dashboard!$X$29:$X$42,0),5)*INDEX(Dashboard!$X$28:$AC$41,MATCH(AC$40,Dashboard!$X$28:$X$41,0),5)=1,1,0),0))","v":0},{"$f":"IF(COUNTIF(Dashboard!$X$29:$X$42,AC61)>1,5,IFERROR(AD25*IF(INDEX(Dashboard!$X$29:$AC$42,MATCH($A61,Dashboard!$X$29:$X$42,0),5)*INDEX(Dashboard!$X$28:$AC$41,MATCH(AD$40,Dashboard!$X$28:$X$41,0),5)=1,1,0),0))","v":0},{"$f":"IF(COUNTIF(Dashboard!$X$29:$X$42,AD61)>1,5,IFERROR(AE25*IF(INDEX(Dashboard!$X$29:$AC$42,MATCH($A61,Dashboard!$X$29:$X$42,0),5)*INDEX(Dashboard!$X$28:$AC$41,MATCH(AE$40,Dashboard!$X$28:$X$41,0),5)=1,1,0),0))","v":0},{"$f":"IF(COUNTIF(Dashboard!$X$29:$X$42,AE61)>1,5,IFERROR(AF25*IF(INDEX(Dashboard!$X$29:$AC$42,MATCH($A61,Dashboard!$X$29:$X$42,0),5)*INDEX(Dashboard!$X$28:$AC$41,MATCH(AF$40,Dashboard!$X$28:$X$41,0),5)=1,1,0),0))","v":0},0,0]
["Trim and draft optimization",{"$f":"IF(COUNTIF(Dashboard!$X$29:$X$42,#REF!)>1,5,IFERROR(B26*IF(INDEX(Dashboard!$X$29:$AC$42,MATCH($A62,Dashboard!$X$29:$X$42,0),5)*INDEX(Dashboard!$X$28:$AC$41,MATCH(B$40,Dashboard!$X$28:$X$41,0),5)=1,1,0),0))","v":0},{"$f":"IF(COUNTIF(Dashboard!$X$29:$X$42,B62)>1,5,IFERROR(C26*IF(INDEX(Dashboard!$X$29:$AC$42,MATCH($A62,Dashboard!$X$29:$X$42,0),5)*INDEX(Dashboard!$X$28:$AC$41,MATCH(C$40,Dashboard!$X$28:$X$41,0),5)=1,1,0),0))","v":0},{"$f":"IF(COUNTIF(Dashboard!$X$29:$X$42,C62)>1,5,IFERROR(D26*IF(INDEX(Dashboard!$X$29:$AC$42,MATCH($A62,Dashboard!$X$29:$X$42,0),5)*INDEX(Dashboard!$X$28:$AC$41,MATCH(D$40,Dashboard!$X$28:$X$41,0),5)=1,1,0),0))","v":0},{"$f":"IF(COUNTIF(Dashboard!$X$29:$X$42,D62)>1,5,IFERROR(E26*IF(INDEX(Dashboard!$X$29:$AC$42,MATCH($A62,Dashboard!$X$29:$X$42,0),5)*INDEX(Dashboard!$X$28:$AC$41,MATCH(E$40,Dashboard!$X$28:$X$41,0),5)=1,1,0),0))","v":0},{"$f":"IF(COUNTIF(Dashboard!$X$29:$X$42,E62)>1,5,IFERROR(F26*IF(INDEX(Dashboard!$X$29:$AC$42,MATCH($A62,Dashboard!$X$29:$X$42,0),5)*INDEX(Dashboard!$X$28:$AC$41,MATCH(F$40,Dashboard!$X$28:$X$41,0),5)=1,1,0),0))","v":0},{"$f":"IF(COUNTIF(Dashboard!$X$29:$X$42,F62)>1,5,IFERROR(G26*IF(INDEX(Dashboard!$X$29:$AC$42,MATCH($A62,Dashboard!$X$29:$X$42,0),5)*INDEX(Dashboard!$X$28:$AC$41,MATCH(G$40,Dashboard!$X$28:$X$41,0),5)=1,1,0),0))","v":0},{"$f":"IF(COUNTIF(Dashboard!$X$29:$X$42,G62)>1,5,IFERROR(H26*IF(INDEX(Dashboard!$X$29:$AC$42,MATCH($A62,Dashboard!$X$29:$X$42,0),5)*INDEX(Dashboard!$X$28:$AC$41,MATCH(H$40,Dashboard!$X$28:$X$41,0),5)=1,1,0),0))","v":0},{"$f":"IF(COUNTIF(Dashboard!$X$29:$X$42,H62)>1,5,IFERROR(I26*IF(INDEX(Dashboard!$X$29:$AC$42,MATCH($A62,Dashboard!$X$29:$X$42,0),5)*INDEX(Dashboard!$X$28:$AC$41,MATCH(I$40,Dashboard!$X$28:$X$41,0),5)=1,1,0),0))","v":0},{"$f":"IF(COUNTIF(Dashboard!$X$29:$X$42,I62)>1,5,IFERROR(J26*IF(INDEX(Dashboard!$X$29:$AC$42,MATCH($A62,Dashboard!$X$29:$X$42,0),5)*INDEX(Dashboard!$X$28:$AC$41,MATCH(J$40,Dashboard!$X$28:$X$41,0),5)=1,1,0),0))","v":0},{"$f":"IF(COUNTIF(Dashboard!$X$29:$X$42,J62)>1,5,IFERROR(K26*IF(INDEX(Dashboard!$X$29:$AC$42,MATCH($A62,Dashboard!$X$29:$X$42,0),5)*INDEX(Dashboard!$X$28:$AC$41,MATCH(K$40,Dashboard!$X$28:$X$41,0),5)=1,1,0),0))","v":0},{"$f":"IF(COUNTIF(Dashboard!$X$29:$X$42,K62)>1,5,IFERROR(L26*IF(INDEX(Dashboard!$X$29:$AC$42,MATCH($A62,Dashboard!$X$29:$X$42,0),5)*INDEX(Dashboard!$X$28:$AC$41,MATCH(L$40,Dashboard!$X$28:$X$41,0),5)=1,1,0),0))","v":0},{"$f":"IF(COUNTIF(Dashboard!$X$29:$X$42,L62)>1,5,IFERROR(M26*IF(INDEX(Dashboard!$X$29:$AC$42,MATCH($A62,Dashboard!$X$29:$X$42,0),5)*INDEX(Dashboard!$X$28:$AC$41,MATCH(M$40,Dashboard!$X$28:$X$41,0),5)=1,1,0),0))","v":0},{"$f":"IF(COUNTIF(Dashboard!$X$29:$X$42,M62)>1,5,IFERROR(N26*IF(INDEX(Dashboard!$X$29:$AC$42,MATCH($A62,Dashboard!$X$29:$X$42,0),5)*INDEX(Dashboard!$X$28:$AC$41,MATCH(N$40,Dashboard!$X$28:$X$41,0),5)=1,1,0),0))","v":0},{"$f":"IF(COUNTIF(Dashboard!$X$29:$X$42,N62)>1,5,IFERROR(O26*IF(INDEX(Dashboard!$X$29:$AC$42,MATCH($A62,Dashboard!$X$29:$X$42,0),5)*INDEX(Dashboard!$X$28:$AC$41,MATCH(O$40,Dashboard!$X$28:$X$41,0),5)=1,1,0),0))","v":0},{"$f":"IF(COUNTIF(Dashboard!$X$29:$X$42,O62)>1,5,IFERROR(P26*IF(INDEX(Dashboard!$X$29:$AC$42,MATCH($A62,Dashboard!$X$29:$X$42,0),5)*INDEX(Dashboard!$X$28:$AC$41,MATCH(P$40,Dashboard!$X$28:$X$41,0),5)=1,1,0),0))","v":0},{"$f":"IF(COUNTIF(Dashboard!$X$29:$X$42,P62)>1,5,IFERROR(Q26*IF(INDEX(Dashboard!$X$29:$AC$42,MATCH($A62,Dashboard!$X$29:$X$42,0),5)*INDEX(Dashboard!$X$28:$AC$41,MATCH(Q$40,Dashboard!$X$28:$X$41,0),5)=1,1,0),0))","v":0},{"$f":"IF(COUNTIF(Dashboard!$X$29:$X$42,Q62)>1,5,IFERROR(R26*IF(INDEX(Dashboard!$X$29:$AC$42,MATCH($A62,Dashboard!$X$29:$X$42,0),5)*INDEX(Dashboard!$X$28:$AC$41,MATCH(R$40,Dashboard!$X$28:$X$41,0),5)=1,1,0),0))","v":0},{"$f":"IF(COUNTIF(Dashboard!$X$29:$X$42,R62)>1,5,IFERROR(S26*IF(INDEX(Dashboard!$X$29:$AC$42,MATCH($A62,Dashboard!$X$29:$X$42,0),5)*INDEX(Dashboard!$X$28:$AC$41,MATCH(S$40,Dashboard!$X$28:$X$41,0),5)=1,1,0),0))","v":0},{"$f":"IF(COUNTIF(Dashboard!$X$29:$X$42,S62)>1,5,IFERROR(T26*IF(INDEX(Dashboard!$X$29:$AC$42,MATCH($A62,Dashboard!$X$29:$X$42,0),5)*INDEX(Dashboard!$X$28:$AC$41,MATCH(T$40,Dashboard!$X$28:$X$41,0),5)=1,1,0),0))","v":0},{"$f":"IF(COUNTIF(Dashboard!$X$29:$X$42,T62)>1,5,IFERROR(U26*IF(INDEX(Dashboard!$X$29:$AC$42,MATCH($A62,Dashboard!$X$29:$X$42,0),5)*INDEX(Dashboard!$X$28:$AC$41,MATCH(U$40,Dashboard!$X$28:$X$41,0),5)=1,1,0),0))","v":0},{"$f":"IF(COUNTIF(Dashboard!$X$29:$X$42,U62)>1,5,IFERROR(V26*IF(INDEX(Dashboard!$X$29:$AC$42,MATCH($A62,Dashboard!$X$29:$X$42,0),5)*INDEX(Dashboard!$X$28:$AC$41,MATCH(V$40,Dashboard!$X$28:$X$41,0),5)=1,1,0),0))","v":0},{"$f":"IF(COUNTIF(Dashboard!$X$29:$X$42,V62)>1,5,IFERROR(W26*IF(INDEX(Dashboard!$X$29:$AC$42,MATCH($A62,Dashboard!$X$29:$X$42,0),5)*INDEX(Dashboard!$X$28:$AC$41,MATCH(W$40,Dashboard!$X$28:$X$41,0),5)=1,1,0),0))","v":0},{"$f":"IF(COUNTIF(Dashboard!$X$29:$X$42,W62)>1,5,IFERROR(X26*IF(INDEX(Dashboard!$X$29:$AC$42,MATCH($A62,Dashboard!$X$29:$X$42,0),5)*INDEX(Dashboard!$X$28:$AC$41,MATCH(X$40,Dashboard!$X$28:$X$41,0),5)=1,1,0),0))","v":0},{"$f":"IF(COUNTIF(Dashboard!$X$29:$X$42,X62)>1,5,IFERROR(Y26*IF(INDEX(Dashboard!$X$29:$AC$42,MATCH($A62,Dashboard!$X$29:$X$42,0),5)*INDEX(Dashboard!$X$28:$AC$41,MATCH(Y$40,Dashboard!$X$28:$X$41,0),5)=1,1,0),0))","v":0},{"$f":"IF(COUNTIF(Dashboard!$X$29:$X$42,Y62)>1,5,IFERROR(Z26*IF(INDEX(Dashboard!$X$29:$AC$42,MATCH($A62,Dashboard!$X$29:$X$42,0),5)*INDEX(Dashboard!$X$28:$AC$41,MATCH(Z$40,Dashboard!$X$28:$X$41,0),5)=1,1,0),0))","v":0},{"$f":"IF(COUNTIF(Dashboard!$X$29:$X$42,Z62)>1,5,IFERROR(AA26*IF(INDEX(Dashboard!$X$29:$AC$42,MATCH($A62,Dashboard!$X$29:$X$42,0),5)*INDEX(Dashboard!$X$28:$AC$41,MATCH(AA$40,Dashboard!$X$28:$X$41,0),5)=1,1,0),0))","v":0},{"$f":"IF(COUNTIF(Dashboard!$X$29:$X$42,AA62)>1,5,IFERROR(AB26*IF(INDEX(Dashboard!$X$29:$AC$42,MATCH($A62,Dashboard!$X$29:$X$42,0),5)*INDEX(Dashboard!$X$28:$AC$41,MATCH(AB$40,Dashboard!$X$28:$X$41,0),5)=1,1,0),0))","v":0},{"$f":"IF(COUNTIF(Dashboard!$X$29:$X$42,AB62)>1,5,IFERROR(AC26*IF(INDEX(Dashboard!$X$29:$AC$42,MATCH($A62,Dashboard!$X$29:$X$42,0),5)*INDEX(Dashboard!$X$28:$AC$41,MATCH(AC$40,Dashboard!$X$28:$X$41,0),5)=1,1,0),0))","v":0},{"$f":"IF(COUNTIF(Dashboard!$X$29:$X$42,AC62)>1,5,IFERROR(AD26*IF(INDEX(Dashboard!$X$29:$AC$42,MATCH($A62,Dashboard!$X$29:$X$42,0),5)*INDEX(Dashboard!$X$28:$AC$41,MATCH(AD$40,Dashboard!$X$28:$X$41,0),5)=1,1,0),0))","v":0},{"$f":"IF(COUNTIF(Dashboard!$X$29:$X$42,AD62)>1,5,IFERROR(AE26*IF(INDEX(Dashboard!$X$29:$AC$42,MATCH($A62,Dashboard!$X$29:$X$42,0),5)*INDEX(Dashboard!$X$28:$AC$41,MATCH(AE$40,Dashboard!$X$28:$X$41,0),5)=1,1,0),0))","v":0},{"$f":"IF(COUNTIF(Dashboard!$X$29:$X$42,AE62)>1,5,IFERROR(AF26*IF(INDEX(Dashboard!$X$29:$AC$42,MATCH($A62,Dashboard!$X$29:$X$42,0),5)*INDEX(Dashboard!$X$28:$AC$41,MATCH(AF$40,Dashboard!$X$28:$X$41,0),5)=1,1,0),0))","v":0},0,0]
["Weather routing",{"$f":"IF(COUNTIF(Dashboard!$X$29:$X$42,#REF!)>1,5,IFERROR(B27*IF(INDEX(Dashboard!$X$29:$AC$42,MATCH($A63,Dashboard!$X$29:$X$42,0),5)*INDEX(Dashboard!$X$28:$AC$41,MATCH(B$40,Dashboard!$X$28:$X$41,0),5)=1,1,0),0))","v":0},{"$f":"IF(COUNTIF(Dashboard!$X$29:$X$42,B63)>1,5,IFERROR(C27*IF(INDEX(Dashboard!$X$29:$AC$42,MATCH($A63,Dashboard!$X$29:$X$42,0),5)*INDEX(Dashboard!$X$28:$AC$41,MATCH(C$40,Dashboard!$X$28:$X$41,0),5)=1,1,0),0))","v":0},{"$f":"IF(COUNTIF(Dashboard!$X$29:$X$42,C63)>1,5,IFERROR(D27*IF(INDEX(Dashboard!$X$29:$AC$42,MATCH($A63,Dashboard!$X$29:$X$42,0),5)*INDEX(Dashboard!$X$28:$AC$41,MATCH(D$40,Dashboard!$X$28:$X$41,0),5)=1,1,0),0))","v":0},{"$f":"IF(COUNTIF(Dashboard!$X$29:$X$42,D63)>1,5,IFERROR(E27*IF(INDEX(Dashboard!$X$29:$AC$42,MATCH($A63,Dashboard!$X$29:$X$42,0),5)*INDEX(Dashboard!$X$28:$AC$41,MATCH(E$40,Dashboard!$X$28:$X$41,0),5)=1,1,0),0))","v":0},{"$f":"IF(COUNTIF(Dashboard!$X$29:$X$42,E63)>1,5,IFERROR(F27*IF(INDEX(Dashboard!$X$29:$AC$42,MATCH($A63,Dashboard!$X$29:$X$42,0),5)*INDEX(Dashboard!$X$28:$AC$41,MATCH(F$40,Dashboard!$X$28:$X$41,0),5)=1,1,0),0))","v":0},{"$f":"IF(COUNTIF(Dashboard!$X$29:$X$42,F63)>1,5,IFERROR(G27*IF(INDEX(Dashboard!$X$29:$AC$42,MATCH($A63,Dashboard!$X$29:$X$42,0),5)*INDEX(Dashboard!$X$28:$AC$41,MATCH(G$40,Dashboard!$X$28:$X$41,0),5)=1,1,0),0))","v":0},{"$f":"IF(COUNTIF(Dashboard!$X$29:$X$42,G63)>1,5,IFERROR(H27*IF(INDEX(Dashboard!$X$29:$AC$42,MATCH($A63,Dashboard!$X$29:$X$42,0),5)*INDEX(Dashboard!$X$28:$AC$41,MATCH(H$40,Dashboard!$X$28:$X$41,0),5)=1,1,0),0))","v":0},{"$f":"IF(COUNTIF(Dashboard!$X$29:$X$42,H63)>1,5,IFERROR(I27*IF(INDEX(Dashboard!$X$29:$AC$42,MATCH($A63,Dashboard!$X$29:$X$42,0),5)*INDEX(Dashboard!$X$28:$AC$41,MATCH(I$40,Dashboard!$X$28:$X$41,0),5)=1,1,0),0))","v":0},{"$f":"IF(COUNTIF(Dashboard!$X$29:$X$42,I63)>1,5,IFERROR(J27*IF(INDEX(Dashboard!$X$29:$AC$42,MATCH($A63,Dashboard!$X$29:$X$42,0),5)*INDEX(Dashboard!$X$28:$AC$41,MATCH(J$40,Dashboard!$X$28:$X$41,0),5)=1,1,0),0))","v":0},{"$f":"IF(COUNTIF(Dashboard!$X$29:$X$42,J63)>1,5,IFERROR(K27*IF(INDEX(Dashboard!$X$29:$AC$42,MATCH($A63,Dashboard!$X$29:$X$42,0),5)*INDEX(Dashboard!$X$28:$AC$41,MATCH(K$40,Dashboard!$X$28:$X$41,0),5)=1,1,0),0))","v":0},{"$f":"IF(COUNTIF(Dashboard!$X$29:$X$42,K63)>1,5,IFERROR(L27*IF(INDEX(Dashboard!$X$29:$AC$42,MATCH($A63,Dashboard!$X$29:$X$42,0),5)*INDEX(Dashboard!$X$28:$AC$41,MATCH(L$40,Dashboard!$X$28:$X$41,0),5)=1,1,0),0))","v":0},{"$f":"IF(COUNTIF(Dashboard!$X$29:$X$42,L63)>1,5,IFERROR(M27*IF(INDEX(Dashboard!$X$29:$AC$42,MATCH($A63,Dashboard!$X$29:$X$42,0),5)*INDEX(Dashboard!$X$28:$AC$41,MATCH(M$40,Dashboard!$X$28:$X$41,0),5)=1,1,0),0))","v":0},{"$f":"IF(COUNTIF(Dashboard!$X$29:$X$42,M63)>1,5,IFERROR(N27*IF(INDEX(Dashboard!$X$29:$AC$42,MATCH($A63,Dashboard!$X$29:$X$42,0),5)*INDEX(Dashboard!$X$28:$AC$41,MATCH(N$40,Dashboard!$X$28:$X$41,0),5)=1,1,0),0))","v":0},{"$f":"IF(COUNTIF(Dashboard!$X$29:$X$42,N63)>1,5,IFERROR(O27*IF(INDEX(Dashboard!$X$29:$AC$42,MATCH($A63,Dashboard!$X$29:$X$42,0),5)*INDEX(Dashboard!$X$28:$AC$41,MATCH(O$40,Dashboard!$X$28:$X$41,0),5)=1,1,0),0))","v":0},{"$f":"IF(COUNTIF(Dashboard!$X$29:$X$42,O63)>1,5,IFERROR(P27*IF(INDEX(Dashboard!$X$29:$AC$42,MATCH($A63,Dashboard!$X$29:$X$42,0),5)*INDEX(Dashboard!$X$28:$AC$41,MATCH(P$40,Dashboard!$X$28:$X$41,0),5)=1,1,0),0))","v":0},{"$f":"IF(COUNTIF(Dashboard!$X$29:$X$42,P63)>1,5,IFERROR(Q27*IF(INDEX(Dashboard!$X$29:$AC$42,MATCH($A63,Dashboard!$X$29:$X$42,0),5)*INDEX(Dashboard!$X$28:$AC$41,MATCH(Q$40,Dashboard!$X$28:$X$41,0),5)=1,1,0),0))","v":0},{"$f":"IF(COUNTIF(Dashboard!$X$29:$X$42,Q63)>1,5,IFERROR(R27*IF(INDEX(Dashboard!$X$29:$AC$42,MATCH($A63,Dashboard!$X$29:$X$42,0),5)*INDEX(Dashboard!$X$28:$AC$41,MATCH(R$40,Dashboard!$X$28:$X$41,0),5)=1,1,0),0))","v":0},{"$f":"IF(COUNTIF(Dashboard!$X$29:$X$42,R63)>1,5,IFERROR(S27*IF(INDEX(Dashboard!$X$29:$AC$42,MATCH($A63,Dashboard!$X$29:$X$42,0),5)*INDEX(Dashboard!$X$28:$AC$41,MATCH(S$40,Dashboard!$X$28:$X$41,0),5)=1,1,0),0))","v":0},{"$f":"IF(COUNTIF(Dashboard!$X$29:$X$42,S63)>1,5,IFERROR(T27*IF(INDEX(Dashboard!$X$29:$AC$42,MATCH($A63,Dashboard!$X$29:$X$42,0),5)*INDEX(Dashboard!$X$28:$AC$41,MATCH(T$40,Dashboard!$X$28:$X$41,0),5)=1,1,0),0))","v":0},{"$f":"IF(COUNTIF(Dashboard!$X$29:$X$42,T63)>1,5,IFERROR(U27*IF(INDEX(Dashboard!$X$29:$AC$42,MATCH($A63,Dashboard!$X$29:$X$42,0),5)*INDEX(Dashboard!$X$28:$AC$41,MATCH(U$40,Dashboard!$X$28:$X$41,0),5)=1,1,0),0))","v":0},{"$f":"IF(COUNTIF(Dashboard!$X$29:$X$42,U63)>1,5,IFERROR(V27*IF(INDEX(Dashboard!$X$29:$AC$42,MATCH($A63,Dashboard!$X$29:$X$42,0),5)*INDEX(Dashboard!$X$28:$AC$41,MATCH(V$40,Dashboard!$X$28:$X$41,0),5)=1,1,0),0))","v":0},{"$f":"IF(COUNTIF(Dashboard!$X$29:$X$42,V63)>1,5,IFERROR(W27*IF(INDEX(Dashboard!$X$29:$AC$42,MATCH($A63,Dashboard!$X$29:$X$42,0),5)*INDEX(Dashboard!$X$28:$AC$41,MATCH(W$40,Dashboard!$X$28:$X$41,0),5)=1,1,0),0))","v":0},{"$f":"IF(COUNTIF(Dashboard!$X$29:$X$42,W63)>1,5,IFERROR(X27*IF(INDEX(Dashboard!$X$29:$AC$42,MATCH($A63,Dashboard!$X$29:$X$42,0),5)*INDEX(Dashboard!$X$28:$AC$41,MATCH(X$40,Dashboard!$X$28:$X$41,0),5)=1,1,0),0))","v":0},{"$f":"IF(COUNTIF(Dashboard!$X$29:$X$42,X63)>1,5,IFERROR(Y27*IF(INDEX(Dashboard!$X$29:$AC$42,MATCH($A63,Dashboard!$X$29:$X$42,0),5)*INDEX(Dashboard!$X$28:$AC$41,MATCH(Y$40,Dashboard!$X$28:$X$41,0),5)=1,1,0),0))","v":0},{"$f":"IF(COUNTIF(Dashboard!$X$29:$X$42,Y63)>1,5,IFERROR(Z27*IF(INDEX(Dashboard!$X$29:$AC$42,MATCH($A63,Dashboard!$X$29:$X$42,0),5)*INDEX(Dashboard!$X$28:$AC$41,MATCH(Z$40,Dashboard!$X$28:$X$41,0),5)=1,1,0),0))","v":0},{"$f":"IF(COUNTIF(Dashboard!$X$29:$X$42,Z63)>1,5,IFERROR(AA27*IF(INDEX(Dashboard!$X$29:$AC$42,MATCH($A63,Dashboard!$X$29:$X$42,0),5)*INDEX(Dashboard!$X$28:$AC$41,MATCH(AA$40,Dashboard!$X$28:$X$41,0),5)=1,1,0),0))","v":0},{"$f":"IF(COUNTIF(Dashboard!$X$29:$X$42,AA63)>1,5,IFERROR(AB27*IF(INDEX(Dashboard!$X$29:$AC$42,MATCH($A63,Dashboard!$X$29:$X$42,0),5)*INDEX(Dashboard!$X$28:$AC$41,MATCH(AB$40,Dashboard!$X$28:$X$41,0),5)=1,1,0),0))","v":0},{"$f":"IF(COUNTIF(Dashboard!$X$29:$X$42,AB63)>1,5,IFERROR(AC27*IF(INDEX(Dashboard!$X$29:$AC$42,MATCH($A63,Dashboard!$X$29:$X$42,0),5)*INDEX(Dashboard!$X$28:$AC$41,MATCH(AC$40,Dashboard!$X$28:$X$41,0),5)=1,1,0),0))","v":0},{"$f":"IF(COUNTIF(Dashboard!$X$29:$X$42,AC63)>1,5,IFERROR(AD27*IF(INDEX(Dashboard!$X$29:$AC$42,MATCH($A63,Dashboard!$X$29:$X$42,0),5)*INDEX(Dashboard!$X$28:$AC$41,MATCH(AD$40,Dashboard!$X$28:$X$41,0),5)=1,1,0),0))","v":0},{"$f":"IF(COUNTIF(Dashboard!$X$29:$X$42,AD63)>1,5,IFERROR(AE27*IF(INDEX(Dashboard!$X$29:$AC$42,MATCH($A63,Dashboard!$X$29:$X$42,0),5)*INDEX(Dashboard!$X$28:$AC$41,MATCH(AE$40,Dashboard!$X$28:$X$41,0),5)=1,1,0),0))","v":0},{"$f":"IF(COUNTIF(Dashboard!$X$29:$X$42,AE63)>1,5,IFERROR(AF27*IF(INDEX(Dashboard!$X$29:$AC$42,MATCH($A63,Dashboard!$X$29:$X$42,0),5)*INDEX(Dashboard!$X$28:$AC$41,MATCH(AF$40,Dashboard!$X$28:$X$41,0),5)=1,1,0),0))","v":0},0,0]
["Speed management",{"$f":"IF(COUNTIF(Dashboard!$X$29:$X$42,#REF!)>1,5,IFERROR(B28*IF(INDEX(Dashboard!$X$29:$AC$42,MATCH($A64,Dashboard!$X$29:$X$42,0),5)*INDEX(Dashboard!$X$28:$AC$41,MATCH(B$40,Dashboard!$X$28:$X$41,0),5)=1,1,0),0))","v":0},{"$f":"IF(COUNTIF(Dashboard!$X$29:$X$42,B64)>1,5,IFERROR(C28*IF(INDEX(Dashboard!$X$29:$AC$42,MATCH($A64,Dashboard!$X$29:$X$42,0),5)*INDEX(Dashboard!$X$28:$AC$41,MATCH(C$40,Dashboard!$X$28:$X$41,0),5)=1,1,0),0))","v":0},{"$f":"IF(COUNTIF(Dashboard!$X$29:$X$42,C64)>1,5,IFERROR(D28*IF(INDEX(Dashboard!$X$29:$AC$42,MATCH($A64,Dashboard!$X$29:$X$42,0),5)*INDEX(Dashboard!$X$28:$AC$41,MATCH(D$40,Dashboard!$X$28:$X$41,0),5)=1,1,0),0))","v":0},{"$f":"IF(COUNTIF(Dashboard!$X$29:$X$42,D64)>1,5,IFERROR(E28*IF(INDEX(Dashboard!$X$29:$AC$42,MATCH($A64,Dashboard!$X$29:$X$42,0),5)*INDEX(Dashboard!$X$28:$AC$41,MATCH(E$40,Dashboard!$X$28:$X$41,0),5)=1,1,0),0))","v":0},{"$f":"IF(COUNTIF(Dashboard!$X$29:$X$42,E64)>1,5,IFERROR(F28*IF(INDEX(Dashboard!$X$29:$AC$42,MATCH($A64,Dashboard!$X$29:$X$42,0),5)*INDEX(Dashboard!$X$28:$AC$41,MATCH(F$40,Dashboard!$X$28:$X$41,0),5)=1,1,0),0))","v":0},{"$f":"IF(COUNTIF(Dashboard!$X$29:$X$42,F64)>1,5,IFERROR(G28*IF(INDEX(Dashboard!$X$29:$AC$42,MATCH($A64,Dashboard!$X$29:$X$42,0),5)*INDEX(Dashboard!$X$28:$AC$41,MATCH(G$40,Dashboard!$X$28:$X$41,0),5)=1,1,0),0))","v":0},{"$f":"IF(COUNTIF(Dashboard!$X$29:$X$42,G64)>1,5,IFERROR(H28*IF(INDEX(Dashboard!$X$29:$AC$42,MATCH($A64,Dashboard!$X$29:$X$42,0),5)*INDEX(Dashboard!$X$28:$AC$41,MATCH(H$40,Dashboard!$X$28:$X$41,0),5)=1,1,0),0))","v":0},{"$f":"IF(COUNTIF(Dashboard!$X$29:$X$42,H64)>1,5,IFERROR(I28*IF(INDEX(Dashboard!$X$29:$AC$42,MATCH($A64,Dashboard!$X$29:$X$42,0),5)*INDEX(Dashboard!$X$28:$AC$41,MATCH(I$40,Dashboard!$X$28:$X$41,0),5)=1,1,0),0))","v":0},{"$f":"IF(COUNTIF(Dashboard!$X$29:$X$42,I64)>1,5,IFERROR(J28*IF(INDEX(Dashboard!$X$29:$AC$42,MATCH($A64,Dashboard!$X$29:$X$42,0),5)*INDEX(Dashboard!$X$28:$AC$41,MATCH(J$40,Dashboard!$X$28:$X$41,0),5)=1,1,0),0))","v":0},{"$f":"IF(COUNTIF(Dashboard!$X$29:$X$42,J64)>1,5,IFERROR(K28*IF(INDEX(Dashboard!$X$29:$AC$42,MATCH($A64,Dashboard!$X$29:$X$42,0),5)*INDEX(Dashboard!$X$28:$AC$41,MATCH(K$40,Dashboard!$X$28:$X$41,0),5)=1,1,0),0))","v":0},{"$f":"IF(COUNTIF(Dashboard!$X$29:$X$42,K64)>1,5,IFERROR(L28*IF(INDEX(Dashboard!$X$29:$AC$42,MATCH($A64,Dashboard!$X$29:$X$42,0),5)*INDEX(Dashboard!$X$28:$AC$41,MATCH(L$40,Dashboard!$X$28:$X$41,0),5)=1,1,0),0))","v":0},{"$f":"IF(COUNTIF(Dashboard!$X$29:$X$42,L64)>1,5,IFERROR(M28*IF(INDEX(Dashboard!$X$29:$AC$42,MATCH($A64,Dashboard!$X$29:$X$42,0),5)*INDEX(Dashboard!$X$28:$AC$41,MATCH(M$40,Dashboard!$X$28:$X$41,0),5)=1,1,0),0))","v":0},{"$f":"IF(COUNTIF(Dashboard!$X$29:$X$42,M64)>1,5,IFERROR(N28*IF(INDEX(Dashboard!$X$29:$AC$42,MATCH($A64,Dashboard!$X$29:$X$42,0),5)*INDEX(Dashboard!$X$28:$AC$41,MATCH(N$40,Dashboard!$X$28:$X$41,0),5)=1,1,0),0))","v":0},{"$f":"IF(COUNTIF(Dashboard!$X$29:$X$42,N64)>1,5,IFERROR(O28*IF(INDEX(Dashboard!$X$29:$AC$42,MATCH($A64,Dashboard!$X$29:$X$42,0),5)*INDEX(Dashboard!$X$28:$AC$41,MATCH(O$40,Dashboard!$X$28:$X$41,0),5)=1,1,0),0))","v":0},{"$f":"IF(COUNTIF(Dashboard!$X$29:$X$42,O64)>1,5,IFERROR(P28*IF(INDEX(Dashboard!$X$29:$AC$42,MATCH($A64,Dashboard!$X$29:$X$42,0),5)*INDEX(Dashboard!$X$28:$AC$41,MATCH(P$40,Dashboard!$X$28:$X$41,0),5)=1,1,0),0))","v":0},{"$f":"IF(COUNTIF(Dashboard!$X$29:$X$42,P64)>1,5,IFERROR(Q28*IF(INDEX(Dashboard!$X$29:$AC$42,MATCH($A64,Dashboard!$X$29:$X$42,0),5)*INDEX(Dashboard!$X$28:$AC$41,MATCH(Q$40,Dashboard!$X$28:$X$41,0),5)=1,1,0),0))","v":0},{"$f":"IF(COUNTIF(Dashboard!$X$29:$X$42,Q64)>1,5,IFERROR(R28*IF(INDEX(Dashboard!$X$29:$AC$42,MATCH($A64,Dashboard!$X$29:$X$42,0),5)*INDEX(Dashboard!$X$28:$AC$41,MATCH(R$40,Dashboard!$X$28:$X$41,0),5)=1,1,0),0))","v":0},{"$f":"IF(COUNTIF(Dashboard!$X$29:$X$42,R64)>1,5,IFERROR(S28*IF(INDEX(Dashboard!$X$29:$AC$42,MATCH($A64,Dashboard!$X$29:$X$42,0),5)*INDEX(Dashboard!$X$28:$AC$41,MATCH(S$40,Dashboard!$X$28:$X$41,0),5)=1,1,0),0))","v":0},{"$f":"IF(COUNTIF(Dashboard!$X$29:$X$42,S64)>1,5,IFERROR(T28*IF(INDEX(Dashboard!$X$29:$AC$42,MATCH($A64,Dashboard!$X$29:$X$42,0),5)*INDEX(Dashboard!$X$28:$AC$41,MATCH(T$40,Dashboard!$X$28:$X$41,0),5)=1,1,0),0))","v":0},{"$f":"IF(COUNTIF(Dashboard!$X$29:$X$42,T64)>1,5,IFERROR(U28*IF(INDEX(Dashboard!$X$29:$AC$42,MATCH($A64,Dashboard!$X$29:$X$42,0),5)*INDEX(Dashboard!$X$28:$AC$41,MATCH(U$40,Dashboard!$X$28:$X$41,0),5)=1,1,0),0))","v":0},{"$f":"IF(COUNTIF(Dashboard!$X$29:$X$42,U64)>1,5,IFERROR(V28*IF(INDEX(Dashboard!$X$29:$AC$42,MATCH($A64,Dashboard!$X$29:$X$42,0),5)*INDEX(Dashboard!$X$28:$AC$41,MATCH(V$40,Dashboard!$X$28:$X$41,0),5)=1,1,0),0))","v":0},{"$f":"IF(COUNTIF(Dashboard!$X$29:$X$42,V64)>1,5,IFERROR(W28*IF(INDEX(Dashboard!$X$29:$AC$42,MATCH($A64,Dashboard!$X$29:$X$42,0),5)*INDEX(Dashboard!$X$28:$AC$41,MATCH(W$40,Dashboard!$X$28:$X$41,0),5)=1,1,0),0))","v":0},{"$f":"IF(COUNTIF(Dashboard!$X$29:$X$42,W64)>1,5,IFERROR(X28*IF(INDEX(Dashboard!$X$29:$AC$42,MATCH($A64,Dashboard!$X$29:$X$42,0),5)*INDEX(Dashboard!$X$28:$AC$41,MATCH(X$40,Dashboard!$X$28:$X$41,0),5)=1,1,0),0))","v":0},{"$f":"IF(COUNTIF(Dashboard!$X$29:$X$42,X64)>1,5,IFERROR(Y28*IF(INDEX(Dashboard!$X$29:$AC$42,MATCH($A64,Dashboard!$X$29:$X$42,0),5)*INDEX(Dashboard!$X$28:$AC$41,MATCH(Y$40,Dashboard!$X$28:$X$41,0),5)=1,1,0),0))","v":0},{"$f":"IF(COUNTIF(Dashboard!$X$29:$X$42,Y64)>1,5,IFERROR(Z28*IF(INDEX(Dashboard!$X$29:$AC$42,MATCH($A64,Dashboard!$X$29:$X$42,0),5)*INDEX(Dashboard!$X$28:$AC$41,MATCH(Z$40,Dashboard!$X$28:$X$41,0),5)=1,1,0),0))","v":0},{"$f":"IF(COUNTIF(Dashboard!$X$29:$X$42,Z64)>1,5,IFERROR(AA28*IF(INDEX(Dashboard!$X$29:$AC$42,MATCH($A64,Dashboard!$X$29:$X$42,0),5)*INDEX(Dashboard!$X$28:$AC$41,MATCH(AA$40,Dashboard!$X$28:$X$41,0),5)=1,1,0),0))","v":0},{"$f":"IF(COUNTIF(Dashboard!$X$29:$X$42,AA64)>1,5,IFERROR(AB28*IF(INDEX(Dashboard!$X$29:$AC$42,MATCH($A64,Dashboard!$X$29:$X$42,0),5)*INDEX(Dashboard!$X$28:$AC$41,MATCH(AB$40,Dashboard!$X$28:$X$41,0),5)=1,1,0),0))","v":0},{"$f":"IF(COUNTIF(Dashboard!$X$29:$X$42,AB64)>1,5,IFERROR(AC28*IF(INDEX(Dashboard!$X$29:$AC$42,MATCH($A64,Dashboard!$X$29:$X$42,0),5)*INDEX(Dashboard!$X$28:$AC$41,MATCH(AC$40,Dashboard!$X$28:$X$41,0),5)=1,1,0),0))","v":0},{"$f":"IF(COUNTIF(Dashboard!$X$29:$X$42,AC64)>1,5,IFERROR(AD28*IF(INDEX(Dashboard!$X$29:$AC$42,MATCH($A64,Dashboard!$X$29:$X$42,0),5)*INDEX(Dashboard!$X$28:$AC$41,MATCH(AD$40,Dashboard!$X$28:$X$41,0),5)=1,1,0),0))","v":0},{"$f":"IF(COUNTIF(Dashboard!$X$29:$X$42,AD64)>1,5,IFERROR(AE28*IF(INDEX(Dashboard!$X$29:$AC$42,MATCH($A64,Dashboard!$X$29:$X$42,0),5)*INDEX(Dashboard!$X$28:$AC$41,MATCH(AE$40,Dashboard!$X$28:$X$41,0),5)=1,1,0),0))","v":0},{"$f":"IF(COUNTIF(Dashboard!$X$29:$X$42,AE64)>1,5,IFERROR(AF28*IF(INDEX(Dashboard!$X$29:$AC$42,MATCH($A64,Dashboard!$X$29:$X$42,0),5)*INDEX(Dashboard!$X$28:$AC$41,MATCH(AF$40,Dashboard!$X$28:$X$41,0),5)=1,1,0),0))","v":0},0,0]
["Air lubrication",{"$f":"IF(COUNTIF(Dashboard!$X$29:$X$42,#REF!)>1,5,IFERROR(B29*IF(INDEX(Dashboard!$X$29:$AC$42,MATCH($A65,Dashboard!$X$29:$X$42,0),5)*INDEX(Dashboard!$X$28:$AC$41,MATCH(B$40,Dashboard!$X$28:$X$41,0),5)=1,1,0),0))","v":0},{"$f":"IF(COUNTIF(Dashboard!$X$29:$X$42,B65)>1,5,IFERROR(C29*IF(INDEX(Dashboard!$X$29:$AC$42,MATCH($A65,Dashboard!$X$29:$X$42,0),5)*INDEX(Dashboard!$X$28:$AC$41,MATCH(C$40,Dashboard!$X$28:$X$41,0),5)=1,1,0),0))","v":0},{"$f":"IF(COUNTIF(Dashboard!$X$29:$X$42,C65)>1,5,IFERROR(D29*IF(INDEX(Dashboard!$X$29:$AC$42,MATCH($A65,Dashboard!$X$29:$X$42,0),5)*INDEX(Dashboard!$X$28:$AC$41,MATCH(D$40,Dashboard!$X$28:$X$41,0),5)=1,1,0),0))","v":0},{"$f":"IF(COUNTIF(Dashboard!$X$29:$X$42,D65)>1,5,IFERROR(E29*IF(INDEX(Dashboard!$X$29:$AC$42,MATCH($A65,Dashboard!$X$29:$X$42,0),5)*INDEX(Dashboard!$X$28:$AC$41,MATCH(E$40,Dashboard!$X$28:$X$41,0),5)=1,1,0),0))","v":0},{"$f":"IF(COUNTIF(Dashboard!$X$29:$X$42,E65)>1,5,IFERROR(F29*IF(INDEX(Dashboard!$X$29:$AC$42,MATCH($A65,Dashboard!$X$29:$X$42,0),5)*INDEX(Dashboard!$X$28:$AC$41,MATCH(F$40,Dashboard!$X$28:$X$41,0),5)=1,1,0),0))","v":0},{"$f":"IF(COUNTIF(Dashboard!$X$29:$X$42,F65)>1,5,IFERROR(G29*IF(INDEX(Dashboard!$X$29:$AC$42,MATCH($A65,Dashboard!$X$29:$X$42,0),5)*INDEX(Dashboard!$X$28:$AC$41,MATCH(G$40,Dashboard!$X$28:$X$41,0),5)=1,1,0),0))","v":0},{"$f":"IF(COUNTIF(Dashboard!$X$29:$X$42,G65)>1,5,IFERROR(H29*IF(INDEX(Dashboard!$X$29:$AC$42,MATCH($A65,Dashboard!$X$29:$X$42,0),5)*INDEX(Dashboard!$X$28:$AC$41,MATCH(H$40,Dashboard!$X$28:$X$41,0),5)=1,1,0),0))","v":0},{"$f":"IF(COUNTIF(Dashboard!$X$29:$X$42,H65)>1,5,IFERROR(I29*IF(INDEX(Dashboard!$X$29:$AC$42,MATCH($A65,Dashboard!$X$29:$X$42,0),5)*INDEX(Dashboard!$X$28:$AC$41,MATCH(I$40,Dashboard!$X$28:$X$41,0),5)=1,1,0),0))","v":0},{"$f":"IF(COUNTIF(Dashboard!$X$29:$X$42,I65)>1,5,IFERROR(J29*IF(INDEX(Dashboard!$X$29:$AC$42,MATCH($A65,Dashboard!$X$29:$X$42,0),5)*INDEX(Dashboard!$X$28:$AC$41,MATCH(J$40,Dashboard!$X$28:$X$41,0),5)=1,1,0),0))","v":0},{"$f":"IF(COUNTIF(Dashboard!$X$29:$X$42,J65)>1,5,IFERROR(K29*IF(INDEX(Dashboard!$X$29:$AC$42,MATCH($A65,Dashboard!$X$29:$X$42,0),5)*INDEX(Dashboard!$X$28:$AC$41,MATCH(K$40,Dashboard!$X$28:$X$41,0),5)=1,1,0),0))","v":0},{"$f":"IF(COUNTIF(Dashboard!$X$29:$X$42,K65)>1,5,IFERROR(L29*IF(INDEX(Dashboard!$X$29:$AC$42,MATCH($A65,Dashboard!$X$29:$X$42,0),5)*INDEX(Dashboard!$X$28:$AC$41,MATCH(L$40,Dashboard!$X$28:$X$41,0),5)=1,1,0),0))","v":0},{"$f":"IF(COUNTIF(Dashboard!$X$29:$X$42,L65)>1,5,IFERROR(M29*IF(INDEX(Dashboard!$X$29:$AC$42,MATCH($A65,Dashboard!$X$29:$X$42,0),5)*INDEX(Dashboard!$X$28:$AC$41,MATCH(M$40,Dashboard!$X$28:$X$41,0),5)=1,1,0),0))","v":0},{"$f":"IF(COUNTIF(Dashboard!$X$29:$X$42,M65)>1,5,IFERROR(N29*IF(INDEX(Dashboard!$X$29:$AC$42,MATCH($A65,Dashboard!$X$29:$X$42,0),5)*INDEX(Dashboard!$X$28:$AC$41,MATCH(N$40,Dashboard!$X$28:$X$41,0),5)=1,1,0),0))","v":0},{"$f":"IF(COUNTIF(Dashboard!$X$29:$X$42,N65)>1,5,IFERROR(O29*IF(INDEX(Dashboard!$X$29:$AC$42,MATCH($A65,Dashboard!$X$29:$X$42,0),5)*INDEX(Dashboard!$X$28:$AC$41,MATCH(O$40,Dashboard!$X$28:$X$41,0),5)=1,1,0),0))","v":0},{"$f":"IF(COUNTIF(Dashboard!$X$29:$X$42,O65)>1,5,IFERROR(P29*IF(INDEX(Dashboard!$X$29:$AC$42,MATCH($A65,Dashboard!$X$29:$X$42,0),5)*INDEX(Dashboard!$X$28:$AC$41,MATCH(P$40,Dashboard!$X$28:$X$41,0),5)=1,1,0),0))","v":0},{"$f":"IF(COUNTIF(Dashboard!$X$29:$X$42,P65)>1,5,IFERROR(Q29*IF(INDEX(Dashboard!$X$29:$AC$42,MATCH($A65,Dashboard!$X$29:$X$42,0),5)*INDEX(Dashboard!$X$28:$AC$41,MATCH(Q$40,Dashboard!$X$28:$X$41,0),5)=1,1,0),0))","v":0},{"$f":"IF(COUNTIF(Dashboard!$X$29:$X$42,Q65)>1,5,IFERROR(R29*IF(INDEX(Dashboard!$X$29:$AC$42,MATCH($A65,Dashboard!$X$29:$X$42,0),5)*INDEX(Dashboard!$X$28:$AC$41,MATCH(R$40,Dashboard!$X$28:$X$41,0),5)=1,1,0),0))","v":0},{"$f":"IF(COUNTIF(Dashboard!$X$29:$X$42,R65)>1,5,IFERROR(S29*IF(INDEX(Dashboard!$X$29:$AC$42,MATCH($A65,Dashboard!$X$29:$X$42,0),5)*INDEX(Dashboard!$X$28:$AC$41,MATCH(S$40,Dashboard!$X$28:$X$41,0),5)=1,1,0),0))","v":0},{"$f":"IF(COUNTIF(Dashboard!$X$29:$X$42,S65)>1,5,IFERROR(T29*IF(INDEX(Dashboard!$X$29:$AC$42,MATCH($A65,Dashboard!$X$29:$X$42,0),5)*INDEX(Dashboard!$X$28:$AC$41,MATCH(T$40,Dashboard!$X$28:$X$41,0),5)=1,1,0),0))","v":0},{"$f":"IF(COUNTIF(Dashboard!$X$29:$X$42,T65)>1,5,IFERROR(U29*IF(INDEX(Dashboard!$X$29:$AC$42,MATCH($A65,Dashboard!$X$29:$X$42,0),5)*INDEX(Dashboard!$X$28:$AC$41,MATCH(U$40,Dashboard!$X$28:$X$41,0),5)=1,1,0),0))","v":0},{"$f":"IF(COUNTIF(Dashboard!$X$29:$X$42,U65)>1,5,IFERROR(V29*IF(INDEX(Dashboard!$X$29:$AC$42,MATCH($A65,Dashboard!$X$29:$X$42,0),5)*INDEX(Dashboard!$X$28:$AC$41,MATCH(V$40,Dashboard!$X$28:$X$41,0),5)=1,1,0),0))","v":0},{"$f":"IF(COUNTIF(Dashboard!$X$29:$X$42,V65)>1,5,IFERROR(W29*IF(INDEX(Dashboard!$X$29:$AC$42,MATCH($A65,Dashboard!$X$29:$X$42,0),5)*INDEX(Dashboard!$X$28:$AC$41,MATCH(W$40,Dashboard!$X$28:$X$41,0),5)=1,1,0),0))","v":0},{"$f":"IF(COUNTIF(Dashboard!$X$29:$X$42,W65)>1,5,IFERROR(X29*IF(INDEX(Dashboard!$X$29:$AC$42,MATCH($A65,Dashboard!$X$29:$X$42,0),5)*INDEX(Dashboard!$X$28:$AC$41,MATCH(X$40,Dashboard!$X$28:$X$41,0),5)=1,1,0),0))","v":0},{"$f":"IF(COUNTIF(Dashboard!$X$29:$X$42,X65)>1,5,IFERROR(Y29*IF(INDEX(Dashboard!$X$29:$AC$42,MATCH($A65,Dashboard!$X$29:$X$42,0),5)*INDEX(Dashboard!$X$28:$AC$41,MATCH(Y$40,Dashboard!$X$28:$X$41,0),5)=1,1,0),0))","v":0},{"$f":"IF(COUNTIF(Dashboard!$X$29:$X$42,Y65)>1,5,IFERROR(Z29*IF(INDEX(Dashboard!$X$29:$AC$42,MATCH($A65,Dashboard!$X$29:$X$42,0),5)*INDEX(Dashboard!$X$28:$AC$41,MATCH(Z$40,Dashboard!$X$28:$X$41,0),5)=1,1,0),0))","v":0},{"$f":"IF(COUNTIF(Dashboard!$X$29:$X$42,Z65)>1,5,IFERROR(AA29*IF(INDEX(Dashboard!$X$29:$AC$42,MATCH($A65,Dashboard!$X$29:$X$42,0),5)*INDEX(Dashboard!$X$28:$AC$41,MATCH(AA$40,Dashboard!$X$28:$X$41,0),5)=1,1,0),0))","v":0},{"$f":"IF(COUNTIF(Dashboard!$X$29:$X$42,AA65)>1,5,IFERROR(AB29*IF(INDEX(Dashboard!$X$29:$AC$42,MATCH($A65,Dashboard!$X$29:$X$42,0),5)*INDEX(Dashboard!$X$28:$AC$41,MATCH(AB$40,Dashboard!$X$28:$X$41,0),5)=1,1,0),0))","v":0},{"$f":"IF(COUNTIF(Dashboard!$X$29:$X$42,AB65)>1,5,IFERROR(AC29*IF(INDEX(Dashboard!$X$29:$AC$42,MATCH($A65,Dashboard!$X$29:$X$42,0),5)*INDEX(Dashboard!$X$28:$AC$41,MATCH(AC$40,Dashboard!$X$28:$X$41,0),5)=1,1,0),0))","v":0},{"$f":"IF(COUNTIF(Dashboard!$X$29:$X$42,AC65)>1,5,IFERROR(AD29*IF(INDEX(Dashboard!$X$29:$AC$42,MATCH($A65,Dashboard!$X$29:$X$42,0),5)*INDEX(Dashboard!$X$28:$AC$41,MATCH(AD$40,Dashboard!$X$28:$X$41,0),5)=1,1,0),0))","v":0},{"$f":"IF(COUNTIF(Dashboard!$X$29:$X$42,AD65)>1,5,IFERROR(AE29*IF(INDEX(Dashboard!$X$29:$AC$42,MATCH($A65,Dashboard!$X$29:$X$42,0),5)*INDEX(Dashboard!$X$28:$AC$41,MATCH(AE$40,Dashboard!$X$28:$X$41,0),5)=1,1,0),0))","v":0},{"$f":"IF(COUNTIF(Dashboard!$X$29:$X$42,AE65)>1,5,IFERROR(AF29*IF(INDEX(Dashboard!$X$29:$AC$42,MATCH($A65,Dashboard!$X$29:$X$42,0),5)*INDEX(Dashboard!$X$28:$AC$41,MATCH(AF$40,Dashboard!$X$28:$X$41,0),5)=1,1,0),0))","v":0},0,0]
["Hull performance coating",{"$f":"IF(COUNTIF(Dashboard!$X$29:$X$42,#REF!)>1,5,IFERROR(B30*IF(INDEX(Dashboard!$X$29:$AC$42,MATCH($A66,Dashboard!$X$29:$X$42,0),5)*INDEX(Dashboard!$X$28:$AC$41,MATCH(B$40,Dashboard!$X$28:$X$41,0),5)=1,1,0),0))","v":0},{"$f":"IF(COUNTIF(Dashboard!$X$29:$X$42,B66)>1,5,IFERROR(C30*IF(INDEX(Dashboard!$X$29:$AC$42,MATCH($A66,Dashboard!$X$29:$X$42,0),5)*INDEX(Dashboard!$X$28:$AC$41,MATCH(C$40,Dashboard!$X$28:$X$41,0),5)=1,1,0),0))","v":0},{"$f":"IF(COUNTIF(Dashboard!$X$29:$X$42,C66)>1,5,IFERROR(D30*IF(INDEX(Dashboard!$X$29:$AC$42,MATCH($A66,Dashboard!$X$29:$X$42,0),5)*INDEX(Dashboard!$X$28:$AC$41,MATCH(D$40,Dashboard!$X$28:$X$41,0),5)=1,1,0),0))","v":0},{"$f":"IF(COUNTIF(Dashboard!$X$29:$X$42,D66)>1,5,IFERROR(E30*IF(INDEX(Dashboard!$X$29:$AC$42,MATCH($A66,Dashboard!$X$29:$X$42,0),5)*INDEX(Dashboard!$X$28:$AC$41,MATCH(E$40,Dashboard!$X$28:$X$41,0),5)=1,1,0),0))","v":0},{"$f":"IF(COUNTIF(Dashboard!$X$29:$X$42,E66)>1,5,IFERROR(F30*IF(INDEX(Dashboard!$X$29:$AC$42,MATCH($A66,Dashboard!$X$29:$X$42,0),5)*INDEX(Dashboard!$X$28:$AC$41,MATCH(F$40,Dashboard!$X$28:$X$41,0),5)=1,1,0),0))","v":0},{"$f":"IF(COUNTIF(Dashboard!$X$29:$X$42,F66)>1,5,IFERROR(G30*IF(INDEX(Dashboard!$X$29:$AC$42,MATCH($A66,Dashboard!$X$29:$X$42,0),5)*INDEX(Dashboard!$X$28:$AC$41,MATCH(G$40,Dashboard!$X$28:$X$41,0),5)=1,1,0),0))","v":0},{"$f":"IF(COUNTIF(Dashboard!$X$29:$X$42,G66)>1,5,IFERROR(H30*IF(INDEX(Dashboard!$X$29:$AC$42,MATCH($A66,Dashboard!$X$29:$X$42,0),5)*INDEX(Dashboard!$X$28:$AC$41,MATCH(H$40,Dashboard!$X$28:$X$41,0),5)=1,1,0),0))","v":0},{"$f":"IF(COUNTIF(Dashboard!$X$29:$X$42,H66)>1,5,IFERROR(I30*IF(INDEX(Dashboard!$X$29:$AC$42,MATCH($A66,Dashboard!$X$29:$X$42,0),5)*INDEX(Dashboard!$X$28:$AC$41,MATCH(I$40,Dashboard!$X$28:$X$41,0),5)=1,1,0),0))","v":0},{"$f":"IF(COUNTIF(Dashboard!$X$29:$X$42,I66)>1,5,IFERROR(J30*IF(INDEX(Dashboard!$X$29:$AC$42,MATCH($A66,Dashboard!$X$29:$X$42,0),5)*INDEX(Dashboard!$X$28:$AC$41,MATCH(J$40,Dashboard!$X$28:$X$41,0),5)=1,1,0),0))","v":0},{"$f":"IF(COUNTIF(Dashboard!$X$29:$X$42,J66)>1,5,IFERROR(K30*IF(INDEX(Dashboard!$X$29:$AC$42,MATCH($A66,Dashboard!$X$29:$X$42,0),5)*INDEX(Dashboard!$X$28:$AC$41,MATCH(K$40,Dashboard!$X$28:$X$41,0),5)=1,1,0),0))","v":0},{"$f":"IF(COUNTIF(Dashboard!$X$29:$X$42,K66)>1,5,IFERROR(L30*IF(INDEX(Dashboard!$X$29:$AC$42,MATCH($A66,Dashboard!$X$29:$X$42,0),5)*INDEX(Dashboard!$X$28:$AC$41,MATCH(L$40,Dashboard!$X$28:$X$41,0),5)=1,1,0),0))","v":0},{"$f":"IF(COUNTIF(Dashboard!$X$29:$X$42,L66)>1,5,IFERROR(M30*IF(INDEX(Dashboard!$X$29:$AC$42,MATCH($A66,Dashboard!$X$29:$X$42,0),5)*INDEX(Dashboard!$X$28:$AC$41,MATCH(M$40,Dashboard!$X$28:$X$41,0),5)=1,1,0),0))","v":0},{"$f":"IF(COUNTIF(Dashboard!$X$29:$X$42,M66)>1,5,IFERROR(N30*IF(INDEX(Dashboard!$X$29:$AC$42,MATCH($A66,Dashboard!$X$29:$X$42,0),5)*INDEX(Dashboard!$X$28:$AC$41,MATCH(N$40,Dashboard!$X$28:$X$41,0),5)=1,1,0),0))","v":0},{"$f":"IF(COUNTIF(Dashboard!$X$29:$X$42,N66)>1,5,IFERROR(O30*IF(INDEX(Dashboard!$X$29:$AC$42,MATCH($A66,Dashboard!$X$29:$X$42,0),5)*INDEX(Dashboard!$X$28:$AC$41,MATCH(O$40,Dashboard!$X$28:$X$41,0),5)=1,1,0),0))","v":0},{"$f":"IF(COUNTIF(Dashboard!$X$29:$X$42,O66)>1,5,IFERROR(P30*IF(INDEX(Dashboard!$X$29:$AC$42,MATCH($A66,Dashboard!$X$29:$X$42,0),5)*INDEX(Dashboard!$X$28:$AC$41,MATCH(P$40,Dashboard!$X$28:$X$41,0),5)=1,1,0),0))","v":0},{"$f":"IF(COUNTIF(Dashboard!$X$29:$X$42,P66)>1,5,IFERROR(Q30*IF(INDEX(Dashboard!$X$29:$AC$42,MATCH($A66,Dashboard!$X$29:$X$42,0),5)*INDEX(Dashboard!$X$28:$AC$41,MATCH(Q$40,Dashboard!$X$28:$X$41,0),5)=1,1,0),0))","v":0},{"$f":"IF(COUNTIF(Dashboard!$X$29:$X$42,Q66)>1,5,IFERROR(R30*IF(INDEX(Dashboard!$X$29:$AC$42,MATCH($A66,Dashboard!$X$29:$X$42,0),5)*INDEX(Dashboard!$X$28:$AC$41,MATCH(R$40,Dashboard!$X$28:$X$41,0),5)=1,1,0),0))","v":0},{"$f":"IF(COUNTIF(Dashboard!$X$29:$X$42,R66)>1,5,IFERROR(S30*IF(INDEX(Dashboard!$X$29:$AC$42,MATCH($A66,Dashboard!$X$29:$X$42,0),5)*INDEX(Dashboard!$X$28:$AC$41,MATCH(S$40,Dashboard!$X$28:$X$41,0),5)=1,1,0),0))","v":0},{"$f":"IF(COUNTIF(Dashboard!$X$29:$X$42,S66)>1,5,IFERROR(T30*IF(INDEX(Dashboard!$X$29:$AC$42,MATCH($A66,Dashboard!$X$29:$X$42,0),5)*INDEX(Dashboard!$X$28:$AC$41,MATCH(T$40,Dashboard!$X$28:$X$41,0),5)=1,1,0),0))","v":0},{"$f":"IF(COUNTIF(Dashboard!$X$29:$X$42,T66)>1,5,IFERROR(U30*IF(INDEX(Dashboard!$X$29:$AC$42,MATCH($A66,Dashboard!$X$29:$X$42,0),5)*INDEX(Dashboard!$X$28:$AC$41,MATCH(U$40,Dashboard!$X$28:$X$41,0),5)=1,1,0),0))","v":0},{"$f":"IF(COUNTIF(Dashboard!$X$29:$X$42,U66)>1,5,IFERROR(V30*IF(INDEX(Dashboard!$X$29:$AC$42,MATCH($A66,Dashboard!$X$29:$X$42,0),5)*INDEX(Dashboard!$X$28:$AC$41,MATCH(V$40,Dashboard!$X$28:$X$41,0),5)=1,1,0),0))","v":0},{"$f":"IF(COUNTIF(Dashboard!$X$29:$X$42,V66)>1,5,IFERROR(W30*IF(INDEX(Dashboard!$X$29:$AC$42,MATCH($A66,Dashboard!$X$29:$X$42,0),5)*INDEX(Dashboard!$X$28:$AC$41,MATCH(W$40,Dashboard!$X$28:$X$41,0),5)=1,1,0),0))","v":0},{"$f":"IF(COUNTIF(Dashboard!$X$29:$X$42,W66)>1,5,IFERROR(X30*IF(INDEX(Dashboard!$X$29:$AC$42,MATCH($A66,Dashboard!$X$29:$X$42,0),5)*INDEX(Dashboard!$X$28:$AC$41,MATCH(X$40,Dashboard!$X$28:$X$41,0),5)=1,1,0),0))","v":0},{"$f":"IF(COUNTIF(Dashboard!$X$29:$X$42,X66)>1,5,IFERROR(Y30*IF(INDEX(Dashboard!$X$29:$AC$42,MATCH($A66,Dashboard!$X$29:$X$42,0),5)*INDEX(Dashboard!$X$28:$AC$41,MATCH(Y$40,Dashboard!$X$28:$X$41,0),5)=1,1,0),0))","v":0},{"$f":"IF(COUNTIF(Dashboard!$X$29:$X$42,Y66)>1,5,IFERROR(Z30*IF(INDEX(Dashboard!$X$29:$AC$42,MATCH($A66,Dashboard!$X$29:$X$42,0),5)*INDEX(Dashboard!$X$28:$AC$41,MATCH(Z$40,Dashboard!$X$28:$X$41,0),5)=1,1,0),0))","v":0},{"$f":"IF(COUNTIF(Dashboard!$X$29:$X$42,Z66)>1,5,IFERROR(AA30*IF(INDEX(Dashboard!$X$29:$AC$42,MATCH($A66,Dashboard!$X$29:$X$42,0),5)*INDEX(Dashboard!$X$28:$AC$41,MATCH(AA$40,Dashboard!$X$28:$X$41,0),5)=1,1,0),0))","v":0},{"$f":"IF(COUNTIF(Dashboard!$X$29:$X$42,AA66)>1,5,IFERROR(AB30*IF(INDEX(Dashboard!$X$29:$AC$42,MATCH($A66,Dashboard!$X$29:$X$42,0),5)*INDEX(Dashboard!$X$28:$AC$41,MATCH(AB$40,Dashboard!$X$28:$X$41,0),5)=1,1,0),0))","v":0},{"$f":"IF(COUNTIF(Dashboard!$X$29:$X$42,AB66)>1,5,IFERROR(AC30*IF(INDEX(Dashboard!$X$29:$AC$42,MATCH($A66,Dashboard!$X$29:$X$42,0),5)*INDEX(Dashboard!$X$28:$AC$41,MATCH(AC$40,Dashboard!$X$28:$X$41,0),5)=1,1,0),0))","v":0},{"$f":"IF(COUNTIF(Dashboard!$X$29:$X$42,AC66)>1,5,IFERROR(AD30*IF(INDEX(Dashboard!$X$29:$AC$42,MATCH($A66,Dashboard!$X$29:$X$42,0),5)*INDEX(Dashboard!$X$28:$AC$41,MATCH(AD$40,Dashboard!$X$28:$X$41,0),5)=1,1,0),0))","v":0},{"$f":"IF(COUNTIF(Dashboard!$X$29:$X$42,AD66)>1,5,IFERROR(AE30*IF(INDEX(Dashboard!$X$29:$AC$42,MATCH($A66,Dashboard!$X$29:$X$42,0),5)*INDEX(Dashboard!$X$28:$AC$41,MATCH(AE$40,Dashboard!$X$28:$X$41,0),5)=1,1,0),0))","v":0},{"$f":"IF(COUNTIF(Dashboard!$X$29:$X$42,AE66)>1,5,IFERROR(AF30*IF(INDEX(Dashboard!$X$29:$AC$42,MATCH($A66,Dashboard!$X$29:$X$42,0),5)*INDEX(Dashboard!$X$28:$AC$41,MATCH(AF$40,Dashboard!$X$28:$X$41,0),5)=1,1,0),0))","v":0},0,0]
["Hull cleaning",{"$f":"IF(COUNTIF(Dashboard!$X$29:$X$42,#REF!)>1,5,IFERROR(B31*IF(INDEX(Dashboard!$X$29:$AC$42,MATCH($A67,Dashboard!$X$29:$X$42,0),5)*INDEX(Dashboard!$X$28:$AC$41,MATCH(B$40,Dashboard!$X$28:$X$41,0),5)=1,1,0),0))","v":0},{"$f":"IF(COUNTIF(Dashboard!$X$29:$X$42,B67)>1,5,IFERROR(C31*IF(INDEX(Dashboard!$X$29:$AC$42,MATCH($A67,Dashboard!$X$29:$X$42,0),5)*INDEX(Dashboard!$X$28:$AC$41,MATCH(C$40,Dashboard!$X$28:$X$41,0),5)=1,1,0),0))","v":0},{"$f":"IF(COUNTIF(Dashboard!$X$29:$X$42,C67)>1,5,IFERROR(D31*IF(INDEX(Dashboard!$X$29:$AC$42,MATCH($A67,Dashboard!$X$29:$X$42,0),5)*INDEX(Dashboard!$X$28:$AC$41,MATCH(D$40,Dashboard!$X$28:$X$41,0),5)=1,1,0),0))","v":0},{"$f":"IF(COUNTIF(Dashboard!$X$29:$X$42,D67)>1,5,IFERROR(E31*IF(INDEX(Dashboard!$X$29:$AC$42,MATCH($A67,Dashboard!$X$29:$X$42,0),5)*INDEX(Dashboard!$X$28:$AC$41,MATCH(E$40,Dashboard!$X$28:$X$41,0),5)=1,1,0),0))","v":0},{"$f":"IF(COUNTIF(Dashboard!$X$29:$X$42,E67)>1,5,IFERROR(F31*IF(INDEX(Dashboard!$X$29:$AC$42,MATCH($A67,Dashboard!$X$29:$X$42,0),5)*INDEX(Dashboard!$X$28:$AC$41,MATCH(F$40,Dashboard!$X$28:$X$41,0),5)=1,1,0),0))","v":0},{"$f":"IF(COUNTIF(Dashboard!$X$29:$X$42,F67)>1,5,IFERROR(G31*IF(INDEX(Dashboard!$X$29:$AC$42,MATCH($A67,Dashboard!$X$29:$X$42,0),5)*INDEX(Dashboard!$X$28:$AC$41,MATCH(G$40,Dashboard!$X$28:$X$41,0),5)=1,1,0),0))","v":0},{"$f":"IF(COUNTIF(Dashboard!$X$29:$X$42,G67)>1,5,IFERROR(H31*IF(INDEX(Dashboard!$X$29:$AC$42,MATCH($A67,Dashboard!$X$29:$X$42,0),5)*INDEX(Dashboard!$X$28:$AC$41,MATCH(H$40,Dashboard!$X$28:$X$41,0),5)=1,1,0),0))","v":0},{"$f":"IF(COUNTIF(Dashboard!$X$29:$X$42,H67)>1,5,IFERROR(I31*IF(INDEX(Dashboard!$X$29:$AC$42,MATCH($A67,Dashboard!$X$29:$X$42,0),5)*INDEX(Dashboard!$X$28:$AC$41,MATCH(I$40,Dashboard!$X$28:$X$41,0),5)=1,1,0),0))","v":0},{"$f":"IF(COUNTIF(Dashboard!$X$29:$X$42,I67)>1,5,IFERROR(J31*IF(INDEX(Dashboard!$X$29:$AC$42,MATCH($A67,Dashboard!$X$29:$X$42,0),5)*INDEX(Dashboard!$X$28:$AC$41,MATCH(J$40,Dashboard!$X$28:$X$41,0),5)=1,1,0),0))","v":0},{"$f":"IF(COUNTIF(Dashboard!$X$29:$X$42,J67)>1,5,IFERROR(K31*IF(INDEX(Dashboard!$X$29:$AC$42,MATCH($A67,Dashboard!$X$29:$X$42,0),5)*INDEX(Dashboard!$X$28:$AC$41,MATCH(K$40,Dashboard!$X$28:$X$41,0),5)=1,1,0),0))","v":0},{"$f":"IF(COUNTIF(Dashboard!$X$29:$X$42,K67)>1,5,IFERROR(L31*IF(INDEX(Dashboard!$X$29:$AC$42,MATCH($A67,Dashboard!$X$29:$X$42,0),5)*INDEX(Dashboard!$X$28:$AC$41,MATCH(L$40,Dashboard!$X$28:$X$41,0),5)=1,1,0),0))","v":0},{"$f":"IF(COUNTIF(Dashboard!$X$29:$X$42,L67)>1,5,IFERROR(M31*IF(INDEX(Dashboard!$X$29:$AC$42,MATCH($A67,Dashboard!$X$29:$X$42,0),5)*INDEX(Dashboard!$X$28:$AC$41,MATCH(M$40,Dashboard!$X$28:$X$41,0),5)=1,1,0),0))","v":0},{"$f":"IF(COUNTIF(Dashboard!$X$29:$X$42,M67)>1,5,IFERROR(N31*IF(INDEX(Dashboard!$X$29:$AC$42,MATCH($A67,Dashboard!$X$29:$X$42,0),5)*INDEX(Dashboard!$X$28:$AC$41,MATCH(N$40,Dashboard!$X$28:$X$41,0),5)=1,1,0),0))","v":0},{"$f":"IF(COUNTIF(Dashboard!$X$29:$X$42,N67)>1,5,IFERROR(O31*IF(INDEX(Dashboard!$X$29:$AC$42,MATCH($A67,Dashboard!$X$29:$X$42,0),5)*INDEX(Dashboard!$X$28:$AC$41,MATCH(O$40,Dashboard!$X$28:$X$41,0),5)=1,1,0),0))","v":0},{"$f":"IF(COUNTIF(Dashboard!$X$29:$X$42,O67)>1,5,IFERROR(P31*IF(INDEX(Dashboard!$X$29:$AC$42,MATCH($A67,Dashboard!$X$29:$X$42,0),5)*INDEX(Dashboard!$X$28:$AC$41,MATCH(P$40,Dashboard!$X$28:$X$41,0),5)=1,1,0),0))","v":0},{"$f":"IF(COUNTIF(Dashboard!$X$29:$X$42,P67)>1,5,IFERROR(Q31*IF(INDEX(Dashboard!$X$29:$AC$42,MATCH($A67,Dashboard!$X$29:$X$42,0),5)*INDEX(Dashboard!$X$28:$AC$41,MATCH(Q$40,Dashboard!$X$28:$X$41,0),5)=1,1,0),0))","v":0},{"$f":"IF(COUNTIF(Dashboard!$X$29:$X$42,Q67)>1,5,IFERROR(R31*IF(INDEX(Dashboard!$X$29:$AC$42,MATCH($A67,Dashboard!$X$29:$X$42,0),5)*INDEX(Dashboard!$X$28:$AC$41,MATCH(R$40,Dashboard!$X$28:$X$41,0),5)=1,1,0),0))","v":0},{"$f":"IF(COUNTIF(Dashboard!$X$29:$X$42,R67)>1,5,IFERROR(S31*IF(INDEX(Dashboard!$X$29:$AC$42,MATCH($A67,Dashboard!$X$29:$X$42,0),5)*INDEX(Dashboard!$X$28:$AC$41,MATCH(S$40,Dashboard!$X$28:$X$41,0),5)=1,1,0),0))","v":0},{"$f":"IF(COUNTIF(Dashboard!$X$29:$X$42,S67)>1,5,IFERROR(T31*IF(INDEX(Dashboard!$X$29:$AC$42,MATCH($A67,Dashboard!$X$29:$X$42,0),5)*INDEX(Dashboard!$X$28:$AC$41,MATCH(T$40,Dashboard!$X$28:$X$41,0),5)=1,1,0),0))","v":0},{"$f":"IF(COUNTIF(Dashboard!$X$29:$X$42,T67)>1,5,IFERROR(U31*IF(INDEX(Dashboard!$X$29:$AC$42,MATCH($A67,Dashboard!$X$29:$X$42,0),5)*INDEX(Dashboard!$X$28:$AC$41,MATCH(U$40,Dashboard!$X$28:$X$41,0),5)=1,1,0),0))","v":0},{"$f":"IF(COUNTIF(Dashboard!$X$29:$X$42,U67)>1,5,IFERROR(V31*IF(INDEX(Dashboard!$X$29:$AC$42,MATCH($A67,Dashboard!$X$29:$X$42,0),5)*INDEX(Dashboard!$X$28:$AC$41,MATCH(V$40,Dashboard!$X$28:$X$41,0),5)=1,1,0),0))","v":0},{"$f":"IF(COUNTIF(Dashboard!$X$29:$X$42,V67)>1,5,IFERROR(W31*IF(INDEX(Dashboard!$X$29:$AC$42,MATCH($A67,Dashboard!$X$29:$X$42,0),5)*INDEX(Dashboard!$X$28:$AC$41,MATCH(W$40,Dashboard!$X$28:$X$41,0),5)=1,1,0),0))","v":0},{"$f":"IF(COUNTIF(Dashboard!$X$29:$X$42,W67)>1,5,IFERROR(X31*IF(INDEX(Dashboard!$X$29:$AC$42,MATCH($A67,Dashboard!$X$29:$X$42,0),5)*INDEX(Dashboard!$X$28:$AC$41,MATCH(X$40,Dashboard!$X$28:$X$41,0),5)=1,1,0),0))","v":0},{"$f":"IF(COUNTIF(Dashboard!$X$29:$X$42,X67)>1,5,IFERROR(Y31*IF(INDEX(Dashboard!$X$29:$AC$42,MATCH($A67,Dashboard!$X$29:$X$42,0),5)*INDEX(Dashboard!$X$28:$AC$41,MATCH(Y$40,Dashboard!$X$28:$X$41,0),5)=1,1,0),0))","v":0},{"$f":"IF(COUNTIF(Dashboard!$X$29:$X$42,Y67)>1,5,IFERROR(Z31*IF(INDEX(Dashboard!$X$29:$AC$42,MATCH($A67,Dashboard!$X$29:$X$42,0),5)*INDEX(Dashboard!$X$28:$AC$41,MATCH(Z$40,Dashboard!$X$28:$X$41,0),5)=1,1,0),0))","v":0},{"$f":"IF(COUNTIF(Dashboard!$X$29:$X$42,Z67)>1,5,IFERROR(AA31*IF(INDEX(Dashboard!$X$29:$AC$42,MATCH($A67,Dashboard!$X$29:$X$42,0),5)*INDEX(Dashboard!$X$28:$AC$41,MATCH(AA$40,Dashboard!$X$28:$X$41,0),5)=1,1,0),0))","v":0},{"$f":"IF(COUNTIF(Dashboard!$X$29:$X$42,AA67)>1,5,IFERROR(AB31*IF(INDEX(Dashboard!$X$29:$AC$42,MATCH($A67,Dashboard!$X$29:$X$42,0),5)*INDEX(Dashboard!$X$28:$AC$41,MATCH(AB$40,Dashboard!$X$28:$X$41,0),5)=1,1,0),0))","v":0},{"$f":"IF(COUNTIF(Dashboard!$X$29:$X$42,AB67)>1,5,IFERROR(AC31*IF(INDEX(Dashboard!$X$29:$AC$42,MATCH($A67,Dashboard!$X$29:$X$42,0),5)*INDEX(Dashboard!$X$28:$AC$41,MATCH(AC$40,Dashboard!$X$28:$X$41,0),5)=1,1,0),0))","v":0},{"$f":"IF(COUNTIF(Dashboard!$X$29:$X$42,AC67)>1,5,IFERROR(AD31*IF(INDEX(Dashboard!$X$29:$AC$42,MATCH($A67,Dashboard!$X$29:$X$42,0),5)*INDEX(Dashboard!$X$28:$AC$41,MATCH(AD$40,Dashboard!$X$28:$X$41,0),5)=1,1,0),0))","v":0},{"$f":"IF(COUNTIF(Dashboard!$X$29:$X$42,AD67)>1,5,IFERROR(AE31*IF(INDEX(Dashboard!$X$29:$AC$42,MATCH($A67,Dashboard!$X$29:$X$42,0),5)*INDEX(Dashboard!$X$28:$AC$41,MATCH(AE$40,Dashboard!$X$28:$X$41,0),5)=1,1,0),0))","v":0},{"$f":"IF(COUNTIF(Dashboard!$X$29:$X$42,AE67)>1,5,IFERROR(AF31*IF(INDEX(Dashboard!$X$29:$AC$42,MATCH($A67,Dashboard!$X$29:$X$42,0),5)*INDEX(Dashboard!$X$28:$AC$41,MATCH(AF$40,Dashboard!$X$28:$X$41,0),5)=1,1,0),0))","v":0},0,0]
["Hull retrofitting",{"$f":"IF(COUNTIF(Dashboard!$X$29:$X$42,#REF!)>1,5,IFERROR(B32*IF(INDEX(Dashboard!$X$29:$AC$42,MATCH($A68,Dashboard!$X$29:$X$42,0),5)*INDEX(Dashboard!$X$28:$AC$41,MATCH(B$40,Dashboard!$X$28:$X$41,0),5)=1,1,0),0))","v":0},{"$f":"IF(COUNTIF(Dashboard!$X$29:$X$42,B68)>1,5,IFERROR(C32*IF(INDEX(Dashboard!$X$29:$AC$42,MATCH($A68,Dashboard!$X$29:$X$42,0),5)*INDEX(Dashboard!$X$28:$AC$41,MATCH(C$40,Dashboard!$X$28:$X$41,0),5)=1,1,0),0))","v":0},{"$f":"IF(COUNTIF(Dashboard!$X$29:$X$42,C68)>1,5,IFERROR(D32*IF(INDEX(Dashboard!$X$29:$AC$42,MATCH($A68,Dashboard!$X$29:$X$42,0),5)*INDEX(Dashboard!$X$28:$AC$41,MATCH(D$40,Dashboard!$X$28:$X$41,0),5)=1,1,0),0))","v":0},{"$f":"IF(COUNTIF(Dashboard!$X$29:$X$42,D68)>1,5,IFERROR(E32*IF(INDEX(Dashboard!$X$29:$AC$42,MATCH($A68,Dashboard!$X$29:$X$42,0),5)*INDEX(Dashboard!$X$28:$AC$41,MATCH(E$40,Dashboard!$X$28:$X$41,0),5)=1,1,0),0))","v":0},{"$f":"IF(COUNTIF(Dashboard!$X$29:$X$42,E68)>1,5,IFERROR(F32*IF(INDEX(Dashboard!$X$29:$AC$42,MATCH($A68,Dashboard!$X$29:$X$42,0),5)*INDEX(Dashboard!$X$28:$AC$41,MATCH(F$40,Dashboard!$X$28:$X$41,0),5)=1,1,0),0))","v":0},{"$f":"IF(COUNTIF(Dashboard!$X$29:$X$42,F68)>1,5,IFERROR(G32*IF(INDEX(Dashboard!$X$29:$AC$42,MATCH($A68,Dashboard!$X$29:$X$42,0),5)*INDEX(Dashboard!$X$28:$AC$41,MATCH(G$40,Dashboard!$X$28:$X$41,0),5)=1,1,0),0))","v":0},{"$f":"IF(COUNTIF(Dashboard!$X$29:$X$42,G68)>1,5,IFERROR(H32*IF(INDEX(Dashboard!$X$29:$AC$42,MATCH($A68,Dashboard!$X$29:$X$42,0),5)*INDEX(Dashboard!$X$28:$AC$41,MATCH(H$40,Dashboard!$X$28:$X$41,0),5)=1,1,0),0))","v":0},{"$f":"IF(COUNTIF(Dashboard!$X$29:$X$42,H68)>1,5,IFERROR(I32*IF(INDEX(Dashboard!$X$29:$AC$42,MATCH($A68,Dashboard!$X$29:$X$42,0),5)*INDEX(Dashboard!$X$28:$AC$41,MATCH(I$40,Dashboard!$X$28:$X$41,0),5)=1,1,0),0))","v":0},{"$f":"IF(COUNTIF(Dashboard!$X$29:$X$42,I68)>1,5,IFERROR(J32*IF(INDEX(Dashboard!$X$29:$AC$42,MATCH($A68,Dashboard!$X$29:$X$42,0),5)*INDEX(Dashboard!$X$28:$AC$41,MATCH(J$40,Dashboard!$X$28:$X$41,0),5)=1,1,0),0))","v":0},{"$f":"IF(COUNTIF(Dashboard!$X$29:$X$42,J68)>1,5,IFERROR(K32*IF(INDEX(Dashboard!$X$29:$AC$42,MATCH($A68,Dashboard!$X$29:$X$42,0),5)*INDEX(Dashboard!$X$28:$AC$41,MATCH(K$40,Dashboard!$X$28:$X$41,0),5)=1,1,0),0))","v":0},{"$f":"IF(COUNTIF(Dashboard!$X$29:$X$42,K68)>1,5,IFERROR(L32*IF(INDEX(Dashboard!$X$29:$AC$42,MATCH($A68,Dashboard!$X$29:$X$42,0),5)*INDEX(Dashboard!$X$28:$AC$41,MATCH(L$40,Dashboard!$X$28:$X$41,0),5)=1,1,0),0))","v":0},{"$f":"IF(COUNTIF(Dashboard!$X$29:$X$42,L68)>1,5,IFERROR(M32*IF(INDEX(Dashboard!$X$29:$AC$42,MATCH($A68,Dashboard!$X$29:$X$42,0),5)*INDEX(Dashboard!$X$28:$AC$41,MATCH(M$40,Dashboard!$X$28:$X$41,0),5)=1,1,0),0))","v":0},{"$f":"IF(COUNTIF(Dashboard!$X$29:$X$42,M68)>1,5,IFERROR(N32*IF(INDEX(Dashboard!$X$29:$AC$42,MATCH($A68,Dashboard!$X$29:$X$42,0),5)*INDEX(Dashboard!$X$28:$AC$41,MATCH(N$40,Dashboard!$X$28:$X$41,0),5)=1,1,0),0))","v":0},{"$f":"IF(COUNTIF(Dashboard!$X$29:$X$42,N68)>1,5,IFERROR(O32*IF(INDEX(Dashboard!$X$29:$AC$42,MATCH($A68,Dashboard!$X$29:$X$42,0),5)*INDEX(Dashboard!$X$28:$AC$41,MATCH(O$40,Dashboard!$X$28:$X$41,0),5)=1,1,0),0))","v":0},{"$f":"IF(COUNTIF(Dashboard!$X$29:$X$42,O68)>1,5,IFERROR(P32*IF(INDEX(Dashboard!$X$29:$AC$42,MATCH($A68,Dashboard!$X$29:$X$42,0),5)*INDEX(Dashboard!$X$28:$AC$41,MATCH(P$40,Dashboard!$X$28:$X$41,0),5)=1,1,0),0))","v":0},{"$f":"IF(COUNTIF(Dashboard!$X$29:$X$42,P68)>1,5,IFERROR(Q32*IF(INDEX(Dashboard!$X$29:$AC$42,MATCH($A68,Dashboard!$X$29:$X$42,0),5)*INDEX(Dashboard!$X$28:$AC$41,MATCH(Q$40,Dashboard!$X$28:$X$41,0),5)=1,1,0),0))","v":0},{"$f":"IF(COUNTIF(Dashboard!$X$29:$X$42,Q68)>1,5,IFERROR(R32*IF(INDEX(Dashboard!$X$29:$AC$42,MATCH($A68,Dashboard!$X$29:$X$42,0),5)*INDEX(Dashboard!$X$28:$AC$41,MATCH(R$40,Dashboard!$X$28:$X$41,0),5)=1,1,0),0))","v":0},{"$f":"IF(COUNTIF(Dashboard!$X$29:$X$42,R68)>1,5,IFERROR(S32*IF(INDEX(Dashboard!$X$29:$AC$42,MATCH($A68,Dashboard!$X$29:$X$42,0),5)*INDEX(Dashboard!$X$28:$AC$41,MATCH(S$40,Dashboard!$X$28:$X$41,0),5)=1,1,0),0))","v":0},{"$f":"IF(COUNTIF(Dashboard!$X$29:$X$42,S68)>1,5,IFERROR(T32*IF(INDEX(Dashboard!$X$29:$AC$42,MATCH($A68,Dashboard!$X$29:$X$42,0),5)*INDEX(Dashboard!$X$28:$AC$41,MATCH(T$40,Dashboard!$X$28:$X$41,0),5)=1,1,0),0))","v":0},{"$f":"IF(COUNTIF(Dashboard!$X$29:$X$42,T68)>1,5,IFERROR(U32*IF(INDEX(Dashboard!$X$29:$AC$42,MATCH($A68,Dashboard!$X$29:$X$42,0),5)*INDEX(Dashboard!$X$28:$AC$41,MATCH(U$40,Dashboard!$X$28:$X$41,0),5)=1,1,0),0))","v":0},{"$f":"IF(COUNTIF(Dashboard!$X$29:$X$42,U68)>1,5,IFERROR(V32*IF(INDEX(Dashboard!$X$29:$AC$42,MATCH($A68,Dashboard!$X$29:$X$42,0),5)*INDEX(Dashboard!$X$28:$AC$41,MATCH(V$40,Dashboard!$X$28:$X$41,0),5)=1,1,0),0))","v":0},{"$f":"IF(COUNTIF(Dashboard!$X$29:$X$42,V68)>1,5,IFERROR(W32*IF(INDEX(Dashboard!$X$29:$AC$42,MATCH($A68,Dashboard!$X$29:$X$42,0),5)*INDEX(Dashboard!$X$28:$AC$41,MATCH(W$40,Dashboard!$X$28:$X$41,0),5)=1,1,0),0))","v":0},{"$f":"IF(COUNTIF(Dashboard!$X$29:$X$42,W68)>1,5,IFERROR(X32*IF(INDEX(Dashboard!$X$29:$AC$42,MATCH($A68,Dashboard!$X$29:$X$42,0),5)*INDEX(Dashboard!$X$28:$AC$41,MATCH(X$40,Dashboard!$X$28:$X$41,0),5)=1,1,0),0))","v":0},{"$f":"IF(COUNTIF(Dashboard!$X$29:$X$42,X68)>1,5,IFERROR(Y32*IF(INDEX(Dashboard!$X$29:$AC$42,MATCH($A68,Dashboard!$X$29:$X$42,0),5)*INDEX(Dashboard!$X$28:$AC$41,MATCH(Y$40,Dashboard!$X$28:$X$41,0),5)=1,1,0),0))","v":0},{"$f":"IF(COUNTIF(Dashboard!$X$29:$X$42,Y68)>1,5,IFERROR(Z32*IF(INDEX(Dashboard!$X$29:$AC$42,MATCH($A68,Dashboard!$X$29:$X$42,0),5)*INDEX(Dashboard!$X$28:$AC$41,MATCH(Z$40,Dashboard!$X$28:$X$41,0),5)=1,1,0),0))","v":0},{"$f":"IF(COUNTIF(Dashboard!$X$29:$X$42,Z68)>1,5,IFERROR(AA32*IF(INDEX(Dashboard!$X$29:$AC$42,MATCH($A68,Dashboard!$X$29:$X$42,0),5)*INDEX(Dashboard!$X$28:$AC$41,MATCH(AA$40,Dashboard!$X$28:$X$41,0),5)=1,1,0),0))","v":0},{"$f":"IF(COUNTIF(Dashboard!$X$29:$X$42,AA68)>1,5,IFERROR(AB32*IF(INDEX(Dashboard!$X$29:$AC$42,MATCH($A68,Dashboard!$X$29:$X$42,0),5)*INDEX(Dashboard!$X$28:$AC$41,MATCH(AB$40,Dashboard!$X$28:$X$41,0),5)=1,1,0),0))","v":0},{"$f":"IF(COUNTIF(Dashboard!$X$29:$X$42,AB68)>1,5,IFERROR(AC32*IF(INDEX(Dashboard!$X$29:$AC$42,MATCH($A68,Dashboard!$X$29:$X$42,0),5)*INDEX(Dashboard!$X$28:$AC$41,MATCH(AC$40,Dashboard!$X$28:$X$41,0),5)=1,1,0),0))","v":0},{"$f":"IF(COUNTIF(Dashboard!$X$29:$X$42,AC68)>1,5,IFERROR(AD32*IF(INDEX(Dashboard!$X$29:$AC$42,MATCH($A68,Dashboard!$X$29:$X$42,0),5)*INDEX(Dashboard!$X$28:$AC$41,MATCH(AD$40,Dashboard!$X$28:$X$41,0),5)=1,1,0),0))","v":0},{"$f":"IF(COUNTIF(Dashboard!$X$29:$X$42,AD68)>1,5,IFERROR(AE32*IF(INDEX(Dashboard!$X$29:$AC$42,MATCH($A68,Dashboard!$X$29:$X$42,0),5)*INDEX(Dashboard!$X$28:$AC$41,MATCH(AE$40,Dashboard!$X$28:$X$41,0),5)=1,1,0),0))","v":0},{"$f":"IF(COUNTIF(Dashboard!$X$29:$X$42,AE68)>1,5,IFERROR(AF32*IF(INDEX(Dashboard!$X$29:$AC$42,MATCH($A68,Dashboard!$X$29:$X$42,0),5)*INDEX(Dashboard!$X$28:$AC$41,MATCH(AF$40,Dashboard!$X$28:$X$41,0),5)=1,1,0),0))","v":0},0,0]
["Hull form optimization",{"$f":"IF(COUNTIF(Dashboard!$X$29:$X$42,#REF!)>1,5,IFERROR(B33*IF(INDEX(Dashboard!$X$29:$AC$42,MATCH($A69,Dashboard!$X$29:$X$42,0),5)*INDEX(Dashboard!$X$28:$AC$41,MATCH(B$40,Dashboard!$X$28:$X$41,0),5)=1,1,0),0))","v":0},{"$f":"IF(COUNTIF(Dashboard!$X$29:$X$42,B69)>1,5,IFERROR(C33*IF(INDEX(Dashboard!$X$29:$AC$42,MATCH($A69,Dashboard!$X$29:$X$42,0),5)*INDEX(Dashboard!$X$28:$AC$41,MATCH(C$40,Dashboard!$X$28:$X$41,0),5)=1,1,0),0))","v":0},{"$f":"IF(COUNTIF(Dashboard!$X$29:$X$42,C69)>1,5,IFERROR(D33*IF(INDEX(Dashboard!$X$29:$AC$42,MATCH($A69,Dashboard!$X$29:$X$42,0),5)*INDEX(Dashboard!$X$28:$AC$41,MATCH(D$40,Dashboard!$X$28:$X$41,0),5)=1,1,0),0))","v":0},{"$f":"IF(COUNTIF(Dashboard!$X$29:$X$42,D69)>1,5,IFERROR(E33*IF(INDEX(Dashboard!$X$29:$AC$42,MATCH($A69,Dashboard!$X$29:$X$42,0),5)*INDEX(Dashboard!$X$28:$AC$41,MATCH(E$40,Dashboard!$X$28:$X$41,0),5)=1,1,0),0))","v":0},{"$f":"IF(COUNTIF(Dashboard!$X$29:$X$42,E69)>1,5,IFERROR(F33*IF(INDEX(Dashboard!$X$29:$AC$42,MATCH($A69,Dashboard!$X$29:$X$42,0),5)*INDEX(Dashboard!$X$28:$AC$41,MATCH(F$40,Dashboard!$X$28:$X$41,0),5)=1,1,0),0))","v":0},{"$f":"IF(COUNTIF(Dashboard!$X$29:$X$42,F69)>1,5,IFERROR(G33*IF(INDEX(Dashboard!$X$29:$AC$42,MATCH($A69,Dashboard!$X$29:$X$42,0),5)*INDEX(Dashboard!$X$28:$AC$41,MATCH(G$40,Dashboard!$X$28:$X$41,0),5)=1,1,0),0))","v":0},{"$f":"IF(COUNTIF(Dashboard!$X$29:$X$42,G69)>1,5,IFERROR(H33*IF(INDEX(Dashboard!$X$29:$AC$42,MATCH($A69,Dashboard!$X$29:$X$42,0),5)*INDEX(Dashboard!$X$28:$AC$41,MATCH(H$40,Dashboard!$X$28:$X$41,0),5)=1,1,0),0))","v":0},{"$f":"IF(COUNTIF(Dashboard!$X$29:$X$42,H69)>1,5,IFERROR(I33*IF(INDEX(Dashboard!$X$29:$AC$42,MATCH($A69,Dashboard!$X$29:$X$42,0),5)*INDEX(Dashboard!$X$28:$AC$41,MATCH(I$40,Dashboard!$X$28:$X$41,0),5)=1,1,0),0))","v":0},{"$f":"IF(COUNTIF(Dashboard!$X$29:$X$42,I69)>1,5,IFERROR(J33*IF(INDEX(Dashboard!$X$29:$AC$42,MATCH($A69,Dashboard!$X$29:$X$42,0),5)*INDEX(Dashboard!$X$28:$AC$41,MATCH(J$40,Dashboard!$X$28:$X$41,0),5)=1,1,0),0))","v":0},{"$f":"IF(COUNTIF(Dashboard!$X$29:$X$42,J69)>1,5,IFERROR(K33*IF(INDEX(Dashboard!$X$29:$AC$42,MATCH($A69,Dashboard!$X$29:$X$42,0),5)*INDEX(Dashboard!$X$28:$AC$41,MATCH(K$40,Dashboard!$X$28:$X$41,0),5)=1,1,0),0))","v":0},{"$f":"IF(COUNTIF(Dashboard!$X$29:$X$42,K69)>1,5,IFERROR(L33*IF(INDEX(Dashboard!$X$29:$AC$42,MATCH($A69,Dashboard!$X$29:$X$42,0),5)*INDEX(Dashboard!$X$28:$AC$41,MATCH(L$40,Dashboard!$X$28:$X$41,0),5)=1,1,0),0))","v":0},{"$f":"IF(COUNTIF(Dashboard!$X$29:$X$42,L69)>1,5,IFERROR(M33*IF(INDEX(Dashboard!$X$29:$AC$42,MATCH($A69,Dashboard!$X$29:$X$42,0),5)*INDEX(Dashboard!$X$28:$AC$41,MATCH(M$40,Dashboard!$X$28:$X$41,0),5)=1,1,0),0))","v":0},{"$f":"IF(COUNTIF(Dashboard!$X$29:$X$42,M69)>1,5,IFERROR(N33*IF(INDEX(Dashboard!$X$29:$AC$42,MATCH($A69,Dashboard!$X$29:$X$42,0),5)*INDEX(Dashboard!$X$28:$AC$41,MATCH(N$40,Dashboard!$X$28:$X$41,0),5)=1,1,0),0))","v":0},{"$f":"IF(COUNTIF(Dashboard!$X$29:$X$42,N69)>1,5,IFERROR(O33*IF(INDEX(Dashboard!$X$29:$AC$42,MATCH($A69,Dashboard!$X$29:$X$42,0),5)*INDEX(Dashboard!$X$28:$AC$41,MATCH(O$40,Dashboard!$X$28:$X$41,0),5)=1,1,0),0))","v":0},{"$f":"IF(COUNTIF(Dashboard!$X$29:$X$42,O69)>1,5,IFERROR(P33*IF(INDEX(Dashboard!$X$29:$AC$42,MATCH($A69,Dashboard!$X$29:$X$42,0),5)*INDEX(Dashboard!$X$28:$AC$41,MATCH(P$40,Dashboard!$X$28:$X$41,0),5)=1,1,0),0))","v":0},{"$f":"IF(COUNTIF(Dashboard!$X$29:$X$42,P69)>1,5,IFERROR(Q33*IF(INDEX(Dashboard!$X$29:$AC$42,MATCH($A69,Dashboard!$X$29:$X$42,0),5)*INDEX(Dashboard!$X$28:$AC$41,MATCH(Q$40,Dashboard!$X$28:$X$41,0),5)=1,1,0),0))","v":0},{"$f":"IF(COUNTIF(Dashboard!$X$29:$X$42,Q69)>1,5,IFERROR(R33*IF(INDEX(Dashboard!$X$29:$AC$42,MATCH($A69,Dashboard!$X$29:$X$42,0),5)*INDEX(Dashboard!$X$28:$AC$41,MATCH(R$40,Dashboard!$X$28:$X$41,0),5)=1,1,0),0))","v":0},{"$f":"IF(COUNTIF(Dashboard!$X$29:$X$42,R69)>1,5,IFERROR(S33*IF(INDEX(Dashboard!$X$29:$AC$42,MATCH($A69,Dashboard!$X$29:$X$42,0),5)*INDEX(Dashboard!$X$28:$AC$41,MATCH(S$40,Dashboard!$X$28:$X$41,0),5)=1,1,0),0))","v":0},{"$f":"IF(COUNTIF(Dashboard!$X$29:$X$42,S69)>1,5,IFERROR(T33*IF(INDEX(Dashboard!$X$29:$AC$42,MATCH($A69,Dashboard!$X$29:$X$42,0),5)*INDEX(Dashboard!$X$28:$AC$41,MATCH(T$40,Dashboard!$X$28:$X$41,0),5)=1,1,0),0))","v":0},{"$f":"IF(COUNTIF(Dashboard!$X$29:$X$42,T69)>1,5,IFERROR(U33*IF(INDEX(Dashboard!$X$29:$AC$42,MATCH($A69,Dashboard!$X$29:$X$42,0),5)*INDEX(Dashboard!$X$28:$AC$41,MATCH(U$40,Dashboard!$X$28:$X$41,0),5)=1,1,0),0))","v":0},{"$f":"IF(COUNTIF(Dashboard!$X$29:$X$42,U69)>1,5,IFERROR(V33*IF(INDEX(Dashboard!$X$29:$AC$42,MATCH($A69,Dashboard!$X$29:$X$42,0),5)*INDEX(Dashboard!$X$28:$AC$41,MATCH(V$40,Dashboard!$X$28:$X$41,0),5)=1,1,0),0))","v":0},{"$f":"IF(COUNTIF(Dashboard!$X$29:$X$42,V69)>1,5,IFERROR(W33*IF(INDEX(Dashboard!$X$29:$AC$42,MATCH($A69,Dashboard!$X$29:$X$42,0),5)*INDEX(Dashboard!$X$28:$AC$41,MATCH(W$40,Dashboard!$X$28:$X$41,0),5)=1,1,0),0))","v":0},{"$f":"IF(COUNTIF(Dashboard!$X$29:$X$42,W69)>1,5,IFERROR(X33*IF(INDEX(Dashboard!$X$29:$AC$42,MATCH($A69,Dashboard!$X$29:$X$42,0),5)*INDEX(Dashboard!$X$28:$AC$41,MATCH(X$40,Dashboard!$X$28:$X$41,0),5)=1,1,0),0))","v":0},{"$f":"IF(COUNTIF(Dashboard!$X$29:$X$42,X69)>1,5,IFERROR(Y33*IF(INDEX(Dashboard!$X$29:$AC$42,MATCH($A69,Dashboard!$X$29:$X$42,0),5)*INDEX(Dashboard!$X$28:$AC$41,MATCH(Y$40,Dashboard!$X$28:$X$41,0),5)=1,1,0),0))","v":0},{"$f":"IF(COUNTIF(Dashboard!$X$29:$X$42,Y69)>1,5,IFERROR(Z33*IF(INDEX(Dashboard!$X$29:$AC$42,MATCH($A69,Dashboard!$X$29:$X$42,0),5)*INDEX(Dashboard!$X$28:$AC$41,MATCH(Z$40,Dashboard!$X$28:$X$41,0),5)=1,1,0),0))","v":0},{"$f":"IF(COUNTIF(Dashboard!$X$29:$X$42,Z69)>1,5,IFERROR(AA33*IF(INDEX(Dashboard!$X$29:$AC$42,MATCH($A69,Dashboard!$X$29:$X$42,0),5)*INDEX(Dashboard!$X$28:$AC$41,MATCH(AA$40,Dashboard!$X$28:$X$41,0),5)=1,1,0),0))","v":0},{"$f":"IF(COUNTIF(Dashboard!$X$29:$X$42,AA69)>1,5,IFERROR(AB33*IF(INDEX(Dashboard!$X$29:$AC$42,MATCH($A69,Dashboard!$X$29:$X$42,0),5)*INDEX(Dashboard!$X$28:$AC$41,MATCH(AB$40,Dashboard!$X$28:$X$41,0),5)=1,1,0),0))","v":0},{"$f":"IF(COUNTIF(Dashboard!$X$29:$X$42,AB69)>1,5,IFERROR(AC33*IF(INDEX(Dashboard!$X$29:$AC$42,MATCH($A69,Dashboard!$X$29:$X$42,0),5)*INDEX(Dashboard!$X$28:$AC$41,MATCH(AC$40,Dashboard!$X$28:$X$41,0),5)=1,1,0),0))","v":0},{"$f":"IF(COUNTIF(Dashboard!$X$29:$X$42,AC69)>1,5,IFERROR(AD33*IF(INDEX(Dashboard!$X$29:$AC$42,MATCH($A69,Dashboard!$X$29:$X$42,0),5)*INDEX(Dashboard!$X$28:$AC$41,MATCH(AD$40,Dashboard!$X$28:$X$41,0),5)=1,1,0),0))","v":0},{"$f":"IF(COUNTIF(Dashboard!$X$29:$X$42,AD69)>1,5,IFERROR(AE33*IF(INDEX(Dashboard!$X$29:$AC$42,MATCH($A69,Dashboard!$X$29:$X$42,0),5)*INDEX(Dashboard!$X$28:$AC$41,MATCH(AE$40,Dashboard!$X$28:$X$41,0),5)=1,1,0),0))","v":0},{"$f":"IF(COUNTIF(Dashboard!$X$29:$X$42,AE69)>1,5,IFERROR(AF33*IF(INDEX(Dashboard!$X$29:$AC$42,MATCH($A69,Dashboard!$X$29:$X$42,0),5)*INDEX(Dashboard!$X$28:$AC$41,MATCH(AF$40,Dashboard!$X$28:$X$41,0),5)=1,1,0),0))","v":0},0,0]
["Propeller retrofitting",{"$f":"IF(COUNTIF(Dashboard!$X$29:$X$42,#REF!)>1,5,IFERROR(B34*IF(INDEX(Dashboard!$X$29:$AC$42,MATCH($A70,Dashboard!$X$29:$X$42,0),5)*INDEX(Dashboard!$X$28:$AC$41,MATCH(B$40,Dashboard!$X$28:$X$41,0),5)=1,1,0),0))","v":0},{"$f":"IF(COUNTIF(Dashboard!$X$29:$X$42,B70)>1,5,IFERROR(C34*IF(INDEX(Dashboard!$X$29:$AC$42,MATCH($A70,Dashboard!$X$29:$X$42,0),5)*INDEX(Dashboard!$X$28:$AC$41,MATCH(C$40,Dashboard!$X$28:$X$41,0),5)=1,1,0),0))","v":0},{"$f":"IF(COUNTIF(Dashboard!$X$29:$X$42,C70)>1,5,IFERROR(D34*IF(INDEX(Dashboard!$X$29:$AC$42,MATCH($A70,Dashboard!$X$29:$X$42,0),5)*INDEX(Dashboard!$X$28:$AC$41,MATCH(D$40,Dashboard!$X$28:$X$41,0),5)=1,1,0),0))","v":0},{"$f":"IF(COUNTIF(Dashboard!$X$29:$X$42,D70)>1,5,IFERROR(E34*IF(INDEX(Dashboard!$X$29:$AC$42,MATCH($A70,Dashboard!$X$29:$X$42,0),5)*INDEX(Dashboard!$X$28:$AC$41,MATCH(E$40,Dashboard!$X$28:$X$41,0),5)=1,1,0),0))","v":0},{"$f":"IF(COUNTIF(Dashboard!$X$29:$X$42,E70)>1,5,IFERROR(F34*IF(INDEX(Dashboard!$X$29:$AC$42,MATCH($A70,Dashboard!$X$29:$X$42,0),5)*INDEX(Dashboard!$X$28:$AC$41,MATCH(F$40,Dashboard!$X$28:$X$41,0),5)=1,1,0),0))","v":0},{"$f":"IF(COUNTIF(Dashboard!$X$29:$X$42,F70)>1,5,IFERROR(G34*IF(INDEX(Dashboard!$X$29:$AC$42,MATCH($A70,Dashboard!$X$29:$X$42,0),5)*INDEX(Dashboard!$X$28:$AC$41,MATCH(G$40,Dashboard!$X$28:$X$41,0),5)=1,1,0),0))","v":0},{"$f":"IF(COUNTIF(Dashboard!$X$29:$X$42,G70)>1,5,IFERROR(H34*IF(INDEX(Dashboard!$X$29:$AC$42,MATCH($A70,Dashboard!$X$29:$X$42,0),5)*INDEX(Dashboard!$X$28:$AC$41,MATCH(H$40,Dashboard!$X$28:$X$41,0),5)=1,1,0),0))","v":0},{"$f":"IF(COUNTIF(Dashboard!$X$29:$X$42,H70)>1,5,IFERROR(I34*IF(INDEX(Dashboard!$X$29:$AC$42,MATCH($A70,Dashboard!$X$29:$X$42,0),5)*INDEX(Dashboard!$X$28:$AC$41,MATCH(I$40,Dashboard!$X$28:$X$41,0),5)=1,1,0),0))","v":0},{"$f":"IF(COUNTIF(Dashboard!$X$29:$X$42,I70)>1,5,IFERROR(J34*IF(INDEX(Dashboard!$X$29:$AC$42,MATCH($A70,Dashboard!$X$29:$X$42,0),5)*INDEX(Dashboard!$X$28:$AC$41,MATCH(J$40,Dashboard!$X$28:$X$41,0),5)=1,1,0),0))","v":0},{"$f":"IF(COUNTIF(Dashboard!$X$29:$X$42,J70)>1,5,IFERROR(K34*IF(INDEX(Dashboard!$X$29:$AC$42,MATCH($A70,Dashboard!$X$29:$X$42,0),5)*INDEX(Dashboard!$X$28:$AC$41,MATCH(K$40,Dashboard!$X$28:$X$41,0),5)=1,1,0),0))","v":0},{"$f":"IF(COUNTIF(Dashboard!$X$29:$X$42,K70)>1,5,IFERROR(L34*IF(INDEX(Dashboard!$X$29:$AC$42,MATCH($A70,Dashboard!$X$29:$X$42,0),5)*INDEX(Dashboard!$X$28:$AC$41,MATCH(L$40,Dashboard!$X$28:$X$41,0),5)=1,1,0),0))","v":0},{"$f":"IF(COUNTIF(Dashboard!$X$29:$X$42,L70)>1,5,IFERROR(M34*IF(INDEX(Dashboard!$X$29:$AC$42,MATCH($A70,Dashboard!$X$29:$X$42,0),5)*INDEX(Dashboard!$X$28:$AC$41,MATCH(M$40,Dashboard!$X$28:$X$41,0),5)=1,1,0),0))","v":0},{"$f":"IF(COUNTIF(Dashboard!$X$29:$X$42,M70)>1,5,IFERROR(N34*IF(INDEX(Dashboard!$X$29:$AC$42,MATCH($A70,Dashboard!$X$29:$X$42,0),5)*INDEX(Dashboard!$X$28:$AC$41,MATCH(N$40,Dashboard!$X$28:$X$41,0),5)=1,1,0),0))","v":0},{"$f":"IF(COUNTIF(Dashboard!$X$29:$X$42,N70)>1,5,IFERROR(O34*IF(INDEX(Dashboard!$X$29:$AC$42,MATCH($A70,Dashboard!$X$29:$X$42,0),5)*INDEX(Dashboard!$X$28:$AC$41,MATCH(O$40,Dashboard!$X$28:$X$41,0),5)=1,1,0),0))","v":0},{"$f":"IF(COUNTIF(Dashboard!$X$29:$X$42,O70)>1,5,IFERROR(P34*IF(INDEX(Dashboard!$X$29:$AC$42,MATCH($A70,Dashboard!$X$29:$X$42,0),5)*INDEX(Dashboard!$X$28:$AC$41,MATCH(P$40,Dashboard!$X$28:$X$41,0),5)=1,1,0),0))","v":0},{"$f":"IF(COUNTIF(Dashboard!$X$29:$X$42,P70)>1,5,IFERROR(Q34*IF(INDEX(Dashboard!$X$29:$AC$42,MATCH($A70,Dashboard!$X$29:$X$42,0),5)*INDEX(Dashboard!$X$28:$AC$41,MATCH(Q$40,Dashboard!$X$28:$X$41,0),5)=1,1,0),0))","v":0},{"$f":"IF(COUNTIF(Dashboard!$X$29:$X$42,Q70)>1,5,IFERROR(R34*IF(INDEX(Dashboard!$X$29:$AC$42,MATCH($A70,Dashboard!$X$29:$X$42,0),5)*INDEX(Dashboard!$X$28:$AC$41,MATCH(R$40,Dashboard!$X$28:$X$41,0),5)=1,1,0),0))","v":0},{"$f":"IF(COUNTIF(Dashboard!$X$29:$X$42,R70)>1,5,IFERROR(S34*IF(INDEX(Dashboard!$X$29:$AC$42,MATCH($A70,Dashboard!$X$29:$X$42,0),5)*INDEX(Dashboard!$X$28:$AC$41,MATCH(S$40,Dashboard!$X$28:$X$41,0),5)=1,1,0),0))","v":0},{"$f":"IF(COUNTIF(Dashboard!$X$29:$X$42,S70)>1,5,IFERROR(T34*IF(INDEX(Dashboard!$X$29:$AC$42,MATCH($A70,Dashboard!$X$29:$X$42,0),5)*INDEX(Dashboard!$X$28:$AC$41,MATCH(T$40,Dashboard!$X$28:$X$41,0),5)=1,1,0),0))","v":0},{"$f":"IF(COUNTIF(Dashboard!$X$29:$X$42,T70)>1,5,IFERROR(U34*IF(INDEX(Dashboard!$X$29:$AC$42,MATCH($A70,Dashboard!$X$29:$X$42,0),5)*INDEX(Dashboard!$X$28:$AC$41,MATCH(U$40,Dashboard!$X$28:$X$41,0),5)=1,1,0),0))","v":0},{"$f":"IF(COUNTIF(Dashboard!$X$29:$X$42,U70)>1,5,IFERROR(V34*IF(INDEX(Dashboard!$X$29:$AC$42,MATCH($A70,Dashboard!$X$29:$X$42,0),5)*INDEX(Dashboard!$X$28:$AC$41,MATCH(V$40,Dashboard!$X$28:$X$41,0),5)=1,1,0),0))","v":0},{"$f":"IF(COUNTIF(Dashboard!$X$29:$X$42,V70)>1,5,IFERROR(W34*IF(INDEX(Dashboard!$X$29:$AC$42,MATCH($A70,Dashboard!$X$29:$X$42,0),5)*INDEX(Dashboard!$X$28:$AC$41,MATCH(W$40,Dashboard!$X$28:$X$41,0),5)=1,1,0),0))","v":0},{"$f":"IF(COUNTIF(Dashboard!$X$29:$X$42,W70)>1,5,IFERROR(X34*IF(INDEX(Dashboard!$X$29:$AC$42,MATCH($A70,Dashboard!$X$29:$X$42,0),5)*INDEX(Dashboard!$X$28:$AC$41,MATCH(X$40,Dashboard!$X$28:$X$41,0),5)=1,1,0),0))","v":0},{"$f":"IF(COUNTIF(Dashboard!$X$29:$X$42,X70)>1,5,IFERROR(Y34*IF(INDEX(Dashboard!$X$29:$AC$42,MATCH($A70,Dashboard!$X$29:$X$42,0),5)*INDEX(Dashboard!$X$28:$AC$41,MATCH(Y$40,Dashboard!$X$28:$X$41,0),5)=1,1,0),0))","v":0},{"$f":"IF(COUNTIF(Dashboard!$X$29:$X$42,Y70)>1,5,IFERROR(Z34*IF(INDEX(Dashboard!$X$29:$AC$42,MATCH($A70,Dashboard!$X$29:$X$42,0),5)*INDEX(Dashboard!$X$28:$AC$41,MATCH(Z$40,Dashboard!$X$28:$X$41,0),5)=1,1,0),0))","v":0},{"$f":"IF(COUNTIF(Dashboard!$X$29:$X$42,Z70)>1,5,IFERROR(AA34*IF(INDEX(Dashboard!$X$29:$AC$42,MATCH($A70,Dashboard!$X$29:$X$42,0),5)*INDEX(Dashboard!$X$28:$AC$41,MATCH(AA$40,Dashboard!$X$28:$X$41,0),5)=1,1,0),0))","v":0},{"$f":"IF(COUNTIF(Dashboard!$X$29:$X$42,AA70)>1,5,IFERROR(AB34*IF(INDEX(Dashboard!$X$29:$AC$42,MATCH($A70,Dashboard!$X$29:$X$42,0),5)*INDEX(Dashboard!$X$28:$AC$41,MATCH(AB$40,Dashboard!$X$28:$X$41,0),5)=1,1,0),0))","v":0},{"$f":"IF(COUNTIF(Dashboard!$X$29:$X$42,AB70)>1,5,IFERROR(AC34*IF(INDEX(Dashboard!$X$29:$AC$42,MATCH($A70,Dashboard!$X$29:$X$42,0),5)*INDEX(Dashboard!$X$28:$AC$41,MATCH(AC$40,Dashboard!$X$28:$X$41,0),5)=1,1,0),0))","v":0},{"$f":"IF(COUNTIF(Dashboard!$X$29:$X$42,AC70)>1,5,IFERROR(AD34*IF(INDEX(Dashboard!$X$29:$AC$42,MATCH($A70,Dashboard!$X$29:$X$42,0),5)*INDEX(Dashboard!$X$28:$AC$41,MATCH(AD$40,Dashboard!$X$28:$X$41,0),5)=1,1,0),0))","v":0},{"$f":"IF(COUNTIF(Dashboard!$X$29:$X$42,AD70)>1,5,IFERROR(AE34*IF(INDEX(Dashboard!$X$29:$AC$42,MATCH($A70,Dashboard!$X$29:$X$42,0),5)*INDEX(Dashboard!$X$28:$AC$41,MATCH(AE$40,Dashboard!$X$28:$X$41,0),5)=1,1,0),0))","v":0},{"$f":"IF(COUNTIF(Dashboard!$X$29:$X$42,AE70)>1,5,IFERROR(AF34*IF(INDEX(Dashboard!$X$29:$AC$42,MATCH($A70,Dashboard!$X$29:$X$42,0),5)*INDEX(Dashboard!$X$28:$AC$41,MATCH(AF$40,Dashboard!$X$28:$X$41,0),5)=1,1,0),0))","v":0},0,0]
["Propulsion improving devices (PIDs)",{"$f":"IF(COUNTIF(Dashboard!$X$29:$X$42,#REF!)>1,5,IFERROR(B35*IF(INDEX(Dashboard!$X$29:$AC$42,MATCH($A71,Dashboard!$X$29:$X$42,0),5)*INDEX(Dashboard!$X$28:$AC$41,MATCH(B$40,Dashboard!$X$28:$X$41,0),5)=1,1,0),0))","v":0},{"$f":"IF(COUNTIF(Dashboard!$X$29:$X$42,B71)>1,5,IFERROR(C35*IF(INDEX(Dashboard!$X$29:$AC$42,MATCH($A71,Dashboard!$X$29:$X$42,0),5)*INDEX(Dashboard!$X$28:$AC$41,MATCH(C$40,Dashboard!$X$28:$X$41,0),5)=1,1,0),0))","v":0},{"$f":"IF(COUNTIF(Dashboard!$X$29:$X$42,C71)>1,5,IFERROR(D35*IF(INDEX(Dashboard!$X$29:$AC$42,MATCH($A71,Dashboard!$X$29:$X$42,0),5)*INDEX(Dashboard!$X$28:$AC$41,MATCH(D$40,Dashboard!$X$28:$X$41,0),5)=1,1,0),0))","v":0},{"$f":"IF(COUNTIF(Dashboard!$X$29:$X$42,D71)>1,5,IFERROR(E35*IF(INDEX(Dashboard!$X$29:$AC$42,MATCH($A71,Dashboard!$X$29:$X$42,0),5)*INDEX(Dashboard!$X$28:$AC$41,MATCH(E$40,Dashboard!$X$28:$X$41,0),5)=1,1,0),0))","v":0},{"$f":"IF(COUNTIF(Dashboard!$X$29:$X$42,E71)>1,5,IFERROR(F35*IF(INDEX(Dashboard!$X$29:$AC$42,MATCH($A71,Dashboard!$X$29:$X$42,0),5)*INDEX(Dashboard!$X$28:$AC$41,MATCH(F$40,Dashboard!$X$28:$X$41,0),5)=1,1,0),0))","v":0},{"$f":"IF(COUNTIF(Dashboard!$X$29:$X$42,F71)>1,5,IFERROR(G35*IF(INDEX(Dashboard!$X$29:$AC$42,MATCH($A71,Dashboard!$X$29:$X$42,0),5)*INDEX(Dashboard!$X$28:$AC$41,MATCH(G$40,Dashboard!$X$28:$X$41,0),5)=1,1,0),0))","v":0},{"$f":"IF(COUNTIF(Dashboard!$X$29:$X$42,G71)>1,5,IFERROR(H35*IF(INDEX(Dashboard!$X$29:$AC$42,MATCH($A71,Dashboard!$X$29:$X$42,0),5)*INDEX(Dashboard!$X$28:$AC$41,MATCH(H$40,Dashboard!$X$28:$X$41,0),5)=1,1,0),0))","v":0},{"$f":"IF(COUNTIF(Dashboard!$X$29:$X$42,H71)>1,5,IFERROR(I35*IF(INDEX(Dashboard!$X$29:$AC$42,MATCH($A71,Dashboard!$X$29:$X$42,0),5)*INDEX(Dashboard!$X$28:$AC$41,MATCH(I$40,Dashboard!$X$28:$X$41,0),5)=1,1,0),0))","v":0},{"$f":"IF(COUNTIF(Dashboard!$X$29:$X$42,I71)>1,5,IFERROR(J35*IF(INDEX(Dashboard!$X$29:$AC$42,MATCH($A71,Dashboard!$X$29:$X$42,0),5)*INDEX(Dashboard!$X$28:$AC$41,MATCH(J$40,Dashboard!$X$28:$X$41,0),5)=1,1,0),0))","v":0},{"$f":"IF(COUNTIF(Dashboard!$X$29:$X$42,J71)>1,5,IFERROR(K35*IF(INDEX(Dashboard!$X$29:$AC$42,MATCH($A71,Dashboard!$X$29:$X$42,0),5)*INDEX(Dashboard!$X$28:$AC$41,MATCH(K$40,Dashboard!$X$28:$X$41,0),5)=1,1,0),0))","v":0},{"$f":"IF(COUNTIF(Dashboard!$X$29:$X$42,K71)>1,5,IFERROR(L35*IF(INDEX(Dashboard!$X$29:$AC$42,MATCH($A71,Dashboard!$X$29:$X$42,0),5)*INDEX(Dashboard!$X$28:$AC$41,MATCH(L$40,Dashboard!$X$28:$X$41,0),5)=1,1,0),0))","v":0},{"$f":"IF(COUNTIF(Dashboard!$X$29:$X$42,L71)>1,5,IFERROR(M35*IF(INDEX(Dashboard!$X$29:$AC$42,MATCH($A71,Dashboard!$X$29:$X$42,0),5)*INDEX(Dashboard!$X$28:$AC$41,MATCH(M$40,Dashboard!$X$28:$X$41,0),5)=1,1,0),0))","v":0},{"$f":"IF(COUNTIF(Dashboard!$X$29:$X$42,M71)>1,5,IFERROR(N35*IF(INDEX(Dashboard!$X$29:$AC$42,MATCH($A71,Dashboard!$X$29:$X$42,0),5)*INDEX(Dashboard!$X$28:$AC$41,MATCH(N$40,Dashboard!$X$28:$X$41,0),5)=1,1,0),0))","v":0},{"$f":"IF(COUNTIF(Dashboard!$X$29:$X$42,N71)>1,5,IFERROR(O35*IF(INDEX(Dashboard!$X$29:$AC$42,MATCH($A71,Dashboard!$X$29:$X$42,0),5)*INDEX(Dashboard!$X$28:$AC$41,MATCH(O$40,Dashboard!$X$28:$X$41,0),5)=1,1,0),0))","v":0},{"$f":"IF(COUNTIF(Dashboard!$X$29:$X$42,O71)>1,5,IFERROR(P35*IF(INDEX(Dashboard!$X$29:$AC$42,MATCH($A71,Dashboard!$X$29:$X$42,0),5)*INDEX(Dashboard!$X$28:$AC$41,MATCH(P$40,Dashboard!$X$28:$X$41,0),5)=1,1,0),0))","v":0},{"$f":"IF(COUNTIF(Dashboard!$X$29:$X$42,P71)>1,5,IFERROR(Q35*IF(INDEX(Dashboard!$X$29:$AC$42,MATCH($A71,Dashboard!$X$29:$X$42,0),5)*INDEX(Dashboard!$X$28:$AC$41,MATCH(Q$40,Dashboard!$X$28:$X$41,0),5)=1,1,0),0))","v":0},{"$f":"IF(COUNTIF(Dashboard!$X$29:$X$42,Q71)>1,5,IFERROR(R35*IF(INDEX(Dashboard!$X$29:$AC$42,MATCH($A71,Dashboard!$X$29:$X$42,0),5)*INDEX(Dashboard!$X$28:$AC$41,MATCH(R$40,Dashboard!$X$28:$X$41,0),5)=1,1,0),0))","v":0},{"$f":"IF(COUNTIF(Dashboard!$X$29:$X$42,R71)>1,5,IFERROR(S35*IF(INDEX(Dashboard!$X$29:$AC$42,MATCH($A71,Dashboard!$X$29:$X$42,0),5)*INDEX(Dashboard!$X$28:$AC$41,MATCH(S$40,Dashboard!$X$28:$X$41,0),5)=1,1,0),0))","v":0},{"$f":"IF(COUNTIF(Dashboard!$X$29:$X$42,S71)>1,5,IFERROR(T35*IF(INDEX(Dashboard!$X$29:$AC$42,MATCH($A71,Dashboard!$X$29:$X$42,0),5)*INDEX(Dashboard!$X$28:$AC$41,MATCH(T$40,Dashboard!$X$28:$X$41,0),5)=1,1,0),0))","v":0},{"$f":"IF(COUNTIF(Dashboard!$X$29:$X$42,T71)>1,5,IFERROR(U35*IF(INDEX(Dashboard!$X$29:$AC$42,MATCH($A71,Dashboard!$X$29:$X$42,0),5)*INDEX(Dashboard!$X$28:$AC$41,MATCH(U$40,Dashboard!$X$28:$X$41,0),5)=1,1,0),0))","v":0},{"$f":"IF(COUNTIF(Dashboard!$X$29:$X$42,U71)>1,5,IFERROR(V35*IF(INDEX(Dashboard!$X$29:$AC$42,MATCH($A71,Dashboard!$X$29:$X$42,0),5)*INDEX(Dashboard!$X$28:$AC$41,MATCH(V$40,Dashboard!$X$28:$X$41,0),5)=1,1,0),0))","v":0},{"$f":"IF(COUNTIF(Dashboard!$X$29:$X$42,V71)>1,5,IFERROR(W35*IF(INDEX(Dashboard!$X$29:$AC$42,MATCH($A71,Dashboard!$X$29:$X$42,0),5)*INDEX(Dashboard!$X$28:$AC$41,MATCH(W$40,Dashboard!$X$28:$X$41,0),5)=1,1,0),0))","v":0},{"$f":"IF(COUNTIF(Dashboard!$X$29:$X$42,W71)>1,5,IFERROR(X35*IF(INDEX(Dashboard!$X$29:$AC$42,MATCH($A71,Dashboard!$X$29:$X$42,0),5)*INDEX(Dashboard!$X$28:$AC$41,MATCH(X$40,Dashboard!$X$28:$X$41,0),5)=1,1,0),0))","v":0},{"$f":"IF(COUNTIF(Dashboard!$X$29:$X$42,X71)>1,5,IFERROR(Y35*IF(INDEX(Dashboard!$X$29:$AC$42,MATCH($A71,Dashboard!$X$29:$X$42,0),5)*INDEX(Dashboard!$X$28:$AC$41,MATCH(Y$40,Dashboard!$X$28:$X$41,0),5)=1,1,0),0))","v":0},{"$f":"IF(COUNTIF(Dashboard!$X$29:$X$42,Y71)>1,5,IFERROR(Z35*IF(INDEX(Dashboard!$X$29:$AC$42,MATCH($A71,Dashboard!$X$29:$X$42,0),5)*INDEX(Dashboard!$X$28:$AC$41,MATCH(Z$40,Dashboard!$X$28:$X$41,0),5)=1,1,0),0))","v":0},{"$f":"IF(COUNTIF(Dashboard!$X$29:$X$42,Z71)>1,5,IFERROR(AA35*IF(INDEX(Dashboard!$X$29:$AC$42,MATCH($A71,Dashboard!$X$29:$X$42,0),5)*INDEX(Dashboard!$X$28:$AC$41,MATCH(AA$40,Dashboard!$X$28:$X$41,0),5)=1,1,0),0))","v":0},{"$f":"IF(COUNTIF(Dashboard!$X$29:$X$42,AA71)>1,5,IFERROR(AB35*IF(INDEX(Dashboard!$X$29:$AC$42,MATCH($A71,Dashboard!$X$29:$X$42,0),5)*INDEX(Dashboard!$X$28:$AC$41,MATCH(AB$40,Dashboard!$X$28:$X$41,0),5)=1,1,0),0))","v":0},{"$f":"IF(COUNTIF(Dashboard!$X$29:$X$42,AB71)>1,5,IFERROR(AC35*IF(INDEX(Dashboard!$X$29:$AC$42,MATCH($A71,Dashboard!$X$29:$X$42,0),5)*INDEX(Dashboard!$X$28:$AC$41,MATCH(AC$40,Dashboard!$X$28:$X$41,0),5)=1,1,0),0))","v":0},{"$f":"IF(COUNTIF(Dashboard!$X$29:$X$42,AC71)>1,5,IFERROR(AD35*IF(INDEX(Dashboard!$X$29:$AC$42,MATCH($A71,Dashboard!$X$29:$X$42,0),5)*INDEX(Dashboard!$X$28:$AC$41,MATCH(AD$40,Dashboard!$X$28:$X$41,0),5)=1,1,0),0))","v":0},{"$f":"IF(COUNTIF(Dashboard!$X$29:$X$42,AD71)>1,5,IFERROR(AE35*IF(INDEX(Dashboard!$X$29:$AC$42,MATCH($A71,Dashboard!$X$29:$X$42,0),5)*INDEX(Dashboard!$X$28:$AC$41,MATCH(AE$40,Dashboard!$X$28:$X$41,0),5)=1,1,0),0))","v":0},{"$f":"IF(COUNTIF(Dashboard!$X$29:$X$42,AE71)>1,5,IFERROR(AF35*IF(INDEX(Dashboard!$X$29:$AC$42,MATCH($A71,Dashboard!$X$29:$X$42,0),5)*INDEX(Dashboard!$X$28:$AC$41,MATCH(AF$40,Dashboard!$X$28:$X$41,0),5)=1,1,0),0))","v":0},0,0]
["Propeller polishing",{"$f":"IF(COUNTIF(Dashboard!$X$29:$X$42,#REF!)>1,5,IFERROR(B36*IF(INDEX(Dashboard!$X$29:$AC$42,MATCH($A72,Dashboard!$X$29:$X$42,0),5)*INDEX(Dashboard!$X$28:$AC$41,MATCH(B$40,Dashboard!$X$28:$X$41,0),5)=1,1,0),0))","v":0},{"$f":"IF(COUNTIF(Dashboard!$X$29:$X$42,B72)>1,5,IFERROR(C36*IF(INDEX(Dashboard!$X$29:$AC$42,MATCH($A72,Dashboard!$X$29:$X$42,0),5)*INDEX(Dashboard!$X$28:$AC$41,MATCH(C$40,Dashboard!$X$28:$X$41,0),5)=1,1,0),0))","v":0},{"$f":"IF(COUNTIF(Dashboard!$X$29:$X$42,C72)>1,5,IFERROR(D36*IF(INDEX(Dashboard!$X$29:$AC$42,MATCH($A72,Dashboard!$X$29:$X$42,0),5)*INDEX(Dashboard!$X$28:$AC$41,MATCH(D$40,Dashboard!$X$28:$X$41,0),5)=1,1,0),0))","v":0},{"$f":"IF(COUNTIF(Dashboard!$X$29:$X$42,D72)>1,5,IFERROR(E36*IF(INDEX(Dashboard!$X$29:$AC$42,MATCH($A72,Dashboard!$X$29:$X$42,0),5)*INDEX(Dashboard!$X$28:$AC$41,MATCH(E$40,Dashboard!$X$28:$X$41,0),5)=1,1,0),0))","v":0},{"$f":"IF(COUNTIF(Dashboard!$X$29:$X$42,E72)>1,5,IFERROR(F36*IF(INDEX(Dashboard!$X$29:$AC$42,MATCH($A72,Dashboard!$X$29:$X$42,0),5)*INDEX(Dashboard!$X$28:$AC$41,MATCH(F$40,Dashboard!$X$28:$X$41,0),5)=1,1,0),0))","v":0},{"$f":"IF(COUNTIF(Dashboard!$X$29:$X$42,F72)>1,5,IFERROR(G36*IF(INDEX(Dashboard!$X$29:$AC$42,MATCH($A72,Dashboard!$X$29:$X$42,0),5)*INDEX(Dashboard!$X$28:$AC$41,MATCH(G$40,Dashboard!$X$28:$X$41,0),5)=1,1,0),0))","v":0},{"$f":"IF(COUNTIF(Dashboard!$X$29:$X$42,G72)>1,5,IFERROR(H36*IF(INDEX(Dashboard!$X$29:$AC$42,MATCH($A72,Dashboard!$X$29:$X$42,0),5)*INDEX(Dashboard!$X$28:$AC$41,MATCH(H$40,Dashboard!$X$28:$X$41,0),5)=1,1,0),0))","v":0},{"$f":"IF(COUNTIF(Dashboard!$X$29:$X$42,H72)>1,5,IFERROR(I36*IF(INDEX(Dashboard!$X$29:$AC$42,MATCH($A72,Dashboard!$X$29:$X$42,0),5)*INDEX(Dashboard!$X$28:$AC$41,MATCH(I$40,Dashboard!$X$28:$X$41,0),5)=1,1,0),0))","v":0},{"$f":"IF(COUNTIF(Dashboard!$X$29:$X$42,I72)>1,5,IFERROR(J36*IF(INDEX(Dashboard!$X$29:$AC$42,MATCH($A72,Dashboard!$X$29:$X$42,0),5)*INDEX(Dashboard!$X$28:$AC$41,MATCH(J$40,Dashboard!$X$28:$X$41,0),5)=1,1,0),0))","v":0},{"$f":"IF(COUNTIF(Dashboard!$X$29:$X$42,J72)>1,5,IFERROR(K36*IF(INDEX(Dashboard!$X$29:$AC$42,MATCH($A72,Dashboard!$X$29:$X$42,0),5)*INDEX(Dashboard!$X$28:$AC$41,MATCH(K$40,Dashboard!$X$28:$X$41,0),5)=1,1,0),0))","v":0},{"$f":"IF(COUNTIF(Dashboard!$X$29:$X$42,K72)>1,5,IFERROR(L36*IF(INDEX(Dashboard!$X$29:$AC$42,MATCH($A72,Dashboard!$X$29:$X$42,0),5)*INDEX(Dashboard!$X$28:$AC$41,MATCH(L$40,Dashboard!$X$28:$X$41,0),5)=1,1,0),0))","v":0},{"$f":"IF(COUNTIF(Dashboard!$X$29:$X$42,L72)>1,5,IFERROR(M36*IF(INDEX(Dashboard!$X$29:$AC$42,MATCH($A72,Dashboard!$X$29:$X$42,0),5)*INDEX(Dashboard!$X$28:$AC$41,MATCH(M$40,Dashboard!$X$28:$X$41,0),5)=1,1,0),0))","v":0},{"$f":"IF(COUNTIF(Dashboard!$X$29:$X$42,M72)>1,5,IFERROR(N36*IF(INDEX(Dashboard!$X$29:$AC$42,MATCH($A72,Dashboard!$X$29:$X$42,0),5)*INDEX(Dashboard!$X$28:$AC$41,MATCH(N$40,Dashboard!$X$28:$X$41,0),5)=1,1,0),0))","v":0},{"$f":"IF(COUNTIF(Dashboard!$X$29:$X$42,N72)>1,5,IFERROR(O36*IF(INDEX(Dashboard!$X$29:$AC$42,MATCH($A72,Dashboard!$X$29:$X$42,0),5)*INDEX(Dashboard!$X$28:$AC$41,MATCH(O$40,Dashboard!$X$28:$X$41,0),5)=1,1,0),0))","v":0},{"$f":"IF(COUNTIF(Dashboard!$X$29:$X$42,O72)>1,5,IFERROR(P36*IF(INDEX(Dashboard!$X$29:$AC$42,MATCH($A72,Dashboard!$X$29:$X$42,0),5)*INDEX(Dashboard!$X$28:$AC$41,MATCH(P$40,Dashboard!$X$28:$X$41,0),5)=1,1,0),0))","v":0},{"$f":"IF(COUNTIF(Dashboard!$X$29:$X$42,P72)>1,5,IFERROR(Q36*IF(INDEX(Dashboard!$X$29:$AC$42,MATCH($A72,Dashboard!$X$29:$X$42,0),5)*INDEX(Dashboard!$X$28:$AC$41,MATCH(Q$40,Dashboard!$X$28:$X$41,0),5)=1,1,0),0))","v":0},{"$f":"IF(COUNTIF(Dashboard!$X$29:$X$42,Q72)>1,5,IFERROR(R36*IF(INDEX(Dashboard!$X$29:$AC$42,MATCH($A72,Dashboard!$X$29:$X$42,0),5)*INDEX(Dashboard!$X$28:$AC$41,MATCH(R$40,Dashboard!$X$28:$X$41,0),5)=1,1,0),0))","v":0},{"$f":"IF(COUNTIF(Dashboard!$X$29:$X$42,R72)>1,5,IFERROR(S36*IF(INDEX(Dashboard!$X$29:$AC$42,MATCH($A72,Dashboard!$X$29:$X$42,0),5)*INDEX(Dashboard!$X$28:$AC$41,MATCH(S$40,Dashboard!$X$28:$X$41,0),5)=1,1,0),0))","v":0},{"$f":"IF(COUNTIF(Dashboard!$X$29:$X$42,S72)>1,5,IFERROR(T36*IF(INDEX(Dashboard!$X$29:$AC$42,MATCH($A72,Dashboard!$X$29:$X$42,0),5)*INDEX(Dashboard!$X$28:$AC$41,MATCH(T$40,Dashboard!$X$28:$X$41,0),5)=1,1,0),0))","v":0},{"$f":"IF(COUNTIF(Dashboard!$X$29:$X$42,T72)>1,5,IFERROR(U36*IF(INDEX(Dashboard!$X$29:$AC$42,MATCH($A72,Dashboard!$X$29:$X$42,0),5)*INDEX(Dashboard!$X$28:$AC$41,MATCH(U$40,Dashboard!$X$28:$X$41,0),5)=1,1,0),0))","v":0},{"$f":"IF(COUNTIF(Dashboard!$X$29:$X$42,U72)>1,5,IFERROR(V36*IF(INDEX(Dashboard!$X$29:$AC$42,MATCH($A72,Dashboard!$X$29:$X$42,0),5)*INDEX(Dashboard!$X$28:$AC$41,MATCH(V$40,Dashboard!$X$28:$X$41,0),5)=1,1,0),0))","v":0},{"$f":"IF(COUNTIF(Dashboard!$X$29:$X$42,V72)>1,5,IFERROR(W36*IF(INDEX(Dashboard!$X$29:$AC$42,MATCH($A72,Dashboard!$X$29:$X$42,0),5)*INDEX(Dashboard!$X$28:$AC$41,MATCH(W$40,Dashboard!$X$28:$X$41,0),5)=1,1,0),0))","v":0},{"$f":"IF(COUNTIF(Dashboard!$X$29:$X$42,W72)>1,5,IFERROR(X36*IF(INDEX(Dashboard!$X$29:$AC$42,MATCH($A72,Dashboard!$X$29:$X$42,0),5)*INDEX(Dashboard!$X$28:$AC$41,MATCH(X$40,Dashboard!$X$28:$X$41,0),5)=1,1,0),0))","v":0},{"$f":"IF(COUNTIF(Dashboard!$X$29:$X$42,X72)>1,5,IFERROR(Y36*IF(INDEX(Dashboard!$X$29:$AC$42,MATCH($A72,Dashboard!$X$29:$X$42,0),5)*INDEX(Dashboard!$X$28:$AC$41,MATCH(Y$40,Dashboard!$X$28:$X$41,0),5)=1,1,0),0))","v":0},{"$f":"IF(COUNTIF(Dashboard!$X$29:$X$42,Y72)>1,5,IFERROR(Z36*IF(INDEX(Dashboard!$X$29:$AC$42,MATCH($A72,Dashboard!$X$29:$X$42,0),5)*INDEX(Dashboard!$X$28:$AC$41,MATCH(Z$40,Dashboard!$X$28:$X$41,0),5)=1,1,0),0))","v":0},{"$f":"IF(COUNTIF(Dashboard!$X$29:$X$42,Z72)>1,5,IFERROR(AA36*IF(INDEX(Dashboard!$X$29:$AC$42,MATCH($A72,Dashboard!$X$29:$X$42,0),5)*INDEX(Dashboard!$X$28:$AC$41,MATCH(AA$40,Dashboard!$X$28:$X$41,0),5)=1,1,0),0))","v":0},{"$f":"IF(COUNTIF(Dashboard!$X$29:$X$42,AA72)>1,5,IFERROR(AB36*IF(INDEX(Dashboard!$X$29:$AC$42,MATCH($A72,Dashboard!$X$29:$X$42,0),5)*INDEX(Dashboard!$X$28:$AC$41,MATCH(AB$40,Dashboard!$X$28:$X$41,0),5)=1,1,0),0))","v":0},{"$f":"IF(COUNTIF(Dashboard!$X$29:$X$42,AB72)>1,5,IFERROR(AC36*IF(INDEX(Dashboard!$X$29:$AC$42,MATCH($A72,Dashboard!$X$29:$X$42,0),5)*INDEX(Dashboard!$X$28:$AC$41,MATCH(AC$40,Dashboard!$X$28:$X$41,0),5)=1,1,0),0))","v":0},{"$f":"IF(COUNTIF(Dashboard!$X$29:$X$42,AC72)>1,5,IFERROR(AD36*IF(INDEX(Dashboard!$X$29:$AC$42,MATCH($A72,Dashboard!$X$29:$X$42,0),5)*INDEX(Dashboard!$X$28:$AC$41,MATCH(AD$40,Dashboard!$X$28:$X$41,0),5)=1,1,0),0))","v":0},{"$f":"IF(COUNTIF(Dashboard!$X$29:$X$42,AD72)>1,5,IFERROR(AE36*IF(INDEX(Dashboard!$X$29:$AC$42,MATCH($A72,Dashboard!$X$29:$X$42,0),5)*INDEX(Dashboard!$X$28:$AC$41,MATCH(AE$40,Dashboard!$X$28:$X$41,0),5)=1,1,0),0))","v":0},{"$f":"IF(COUNTIF(Dashboard!$X$29:$X$42,AE72)>1,5,IFERROR(AF36*IF(INDEX(Dashboard!$X$29:$AC$42,MATCH($A72,Dashboard!$X$29:$X$42,0),5)*INDEX(Dashboard!$X$28:$AC$41,MATCH(AF$40,Dashboard!$X$28:$X$41,0),5)=1,1,0),0))","v":0},0,0]
["Dropdown to select measure",0,0,0,0,0,0,0,0,0,0,0,0,0,0,0,0,0,0,0,0,0,0,0,0,0,0,0,0,0,0,0,0,0]

{"sheet":"EEXI savings","index":5,"n_rows":32,"n_cols":4,"rows_kept":32,"cut":false,"hidden":true,"merged":[]}
[null,"EEXI reduction","EEXI Check","EEXI count"]
["Cargo handling systems",0]
["Energy efficient lighting system",2E-3,null,1]
["Frequency controlled electric motors ",2E-3,null,1]
["Fixed sails or wings",2.5000000000000001E-2,null,1]
["Kite",0.02,null,1]
["Solar panels",2E-3,null,1]
["Rotor sails",2.5000000000000001E-2,null,1]
["Auxiliary systems optimization",2E-3,null,1]
["Engine performance optimization (automatic)",0]
["Engine de-rating",0.03,null,1]
["Engine performance optimization (manual)",0]
["Exhaust gas boilers on auxiliary engines",0]
["Battery hybridization",0.02,null,1]
["Shaft generator PTO/PTI",0.02,null,1]
["Shore power",0]
["Improved auxiliary engine load",0]
["Steam plant operation improvement",0]
["Waste heat recovery systems",0.02,null,1]
["Autopilot adjustment and use",0]
["Combinator optimizing",0]
["Efficient DP operation",0]
["Trim and draft optimization",0]
["Weather routing",0]
["Speed management",0]
["Air lubrication",0.02,null,1]
["Hull performance coating",1.4999999999999999E-2,null,1]
["Hull cleaning",0]
["Hull form optimization",0]
["Propeller retrofitting",5.0000000000000001E-3,null,1]
["Propulsion improving devices (PIDs)",0.02,null,1]
["Propeller polishing",0]

{"sheet":"Tooltip","index":6,"n_rows":31,"n_cols":3,"rows_kept":31,"cut":false,"hidden":true,"merged":[]}
["Cargo handling systems","Technical and operational modifications when handling cargo for improving energy efficiency.",9]
["Energy efficient lighting system","LED light or similar to increase efficiency and reduce the energy consumption from the lighting system onboard",9]
["Frequency controlled electric motors ","Regulating the frequency of the motors in order to adapt the motor optimized load",9]
["Fixed sails or wings","Fixed installations on the ship in form of a flexible sail, rigid sail or turbosail can make use of the wind to replace some of the propulsion power needed",8]
["Kite","Kite uses wind to create a pulling force on the ship, reducing some of the propulsion power needed",8]
["Solar panels","Convert solar energy into electricity, stored in batteries and used to supplement diesel generators and thus reduce the power requirements from the engines",8]
["Rotor sails","Vertical cylinders which spin and develop lift due to the Magnus effect as the wind blows across them to generate power from wind energy",9]
["Auxiliary systems optimization","Optimizing auxiliary systems to vessel specific operational profiles, not design conditions",9]
["Engine performance optimization (automatic)","Automatic increase of engine efficiency through testing and tuning according to actual operational load and conditions",9]
["Engine de-rating","De-rating an engine for reduction of the vessel's maximum speed to increase its efficiency by limiting the potential power output",9]
["Engine performance optimization (manual)","Manual increase of engine efficiency through testing and tuning according to actual operational load and conditions",9]
["Exhaust gas boilers on auxiliary engines","Exhaust gas boilers recover the heat from the exhaust gas of auxiliary diesel engines to generate steam, hot water, or heat for process heating.",9]
["Shaft generator PTO","Produce electricity from the main propulsion engine",9]
["Shore power","Use of cold ironing in ports to reduce fuel consumption on power producing engines",9]
["Improved auxiliary engine load","Increase of the auxiliary engines' load and efficiency by reducing the number of auxiliary engines running",9]
["Steam plant operation improvement","Improve operations and maintenance of steam plant system saving fuel on oil fired boiler",9]
["Waste heat recovery systems","Recover thermal energy from the exhaust gas and convert it into electrical energy",9]
["Battery hybridization","A conventional hybrid ship uses batteries to increase its engine performance and does not use shore power to charge its batteries. ",9]
["Autopilot adjustment and use","Automatic system to control the vessel's rudder in a more energy efficient manner",9]
["Combinator optimizing","Use of optimized pitch settings and propeller speed for optimized efficiency of propulsion system",9]
["Trim and draft optimization","Actively planning cargo loading for optimizing the trim and draft to reduce the vessel’s resistance",9]
["Weather routing","Including weather (wind and waves) and ocean current into consideration when planning a voyage",9]
["Speed management","Includes different aspects of adjusting and planning for economical vessel speed (slow steaming) and engine load in the most efficient manner",9]
["Air lubrication","Use air injection on the wetted hull surfaces to improve a ship’s hydrodynamic performance",9]
["Hull performance coating","Coatings will reduce the resistance of the ship hull through water and reduce the needed engine power. This measure assumes that a basic coating is already implemented, and the effect given is the additional effect going from basic coating to low friction paint. There are several other coatings with varying reduction potential such as: ultra-low friction paint and highly effective anti-fouling, however this variation is not included in this tool.",9]
["Hull cleaning","Removal of fouling on the hull to increase the vessel's hydrodynamic performance",9]
["Hull retrofitting","Retrofitting the hull (bulbous bow, bilge keel- or thruster tunnel optimization) for the vessels actual operating profile to reduce resistance.",9]
["Hull form optimization","Optimizing the hull for lower resistance through water",9]
["Propeller retrofitting","Retrofitting the propeller suited the operating profile to increase efficiency",9]
["Propulsion improving devices (PIDs)","Different ducts, pre-swirl fins, fin on hull, rudders, caps, contra- rotating propeller (CRP) or other devices made to the hull or propeller in order to improve efficiency.",9]
["Propeller polishing","Removal of fouling on the propeller to improve the efficiency of the propeller.",9]

{"sheet":"DropDownList","index":7,"n_rows":66,"n_cols":13,"rows_kept":66,"cut":false,"hidden":true,"merged":[]}
[]
["Vessel type"]
["Bulk carrier","Chemical tanker","Container","General cargo","Liquefied gas tanker","Other liquids tankers","Ferry-pax only","Cruise","Ferry-RoPax","Refrigerated bulk","Ro-Ro","Vehicle","Oil tanker"]
["0  - 9,999 dwt","0 - 4,999 dwt","0-999 teu","0 - 4,999 dwt","0 - 49,999 cbm","0-999 dwt","0 - 299 GT","0 - 1,999 GT","0 - 1,999 GT","0 - 1,999 dwt","0 - 4,999 dwt","0 - 29,999 GT","0 - 4,999  dwt"]
["10,000 - 34,999 dwt","5,000 - 9,999 dwt","1,000 - 1,999 teu","5,000 - 9,999 dwt","40,000 - 99,999 cbm","1,000-+ dwt","300 - 999 GT","2,000 - 9,999 GT","2,000 - 4,999 GT","2,000 - 5,999 dwt","5,000 - 9,999 dwt","30,000 - 49,999 GT","5,000 - 9,999 dwt"]
["35,000 - 59,999 dwt","10,000 - 19,999 dwt","2,000 - 2,999 teu","10,000 - 19,999 dwt","100,000 - 199,999 cbm",null,"1,000 - 1,999 GT","10,000 - 59,999 GT","5,000 - 9,999 GT","6,000 - 9,999 dwt","10,000 - 14,999 dwt","50,000-+ GT","10,000 - 19,999 dwt"]
["60,000 - 99,999 dwt","20,000 - 39,999 dwt","3,000 - 4,999 teu","20,000-+ dwt","200,000-+ cbm",null,"2,000-+ GT","60,000 - 99,999 GT","10,000 - 19,999 GT","10,000-+ dwt","15,000-+ dwt",null,"20,000 - 59,999 dwt"]
["100,000 - 199,999 dwt","40,000-+ dwt","5,000 - 7,999 teu",null,null,null,null,"100,000 - 149,999 GT","20,000-+ GT",null,null,null,"60,000 - 79,999 dwt"]
["200,000-+ dwt",null,"8,000 - 11,999 teu",null,null,null,null,"150,000-+ GT",null,null,null,null,"80,000 - 119,999 dwt"]
[null,null,"12,000 - 14,499 teu",null,null,null,null,null,null,null,null,null,"120,000 - 199,999 dwt"]
[null,null,"14,500 - 19,999 teu",null,null,null,null,null,null,null,null,null,"200,000-+ dwt"]
[null,null,"20,000-+ teu"]
[]
[]
["Select","Vessel type"]
[null,"Select from list"]
["Yes","Newbuild"]
["No","Retrofit"]
[]
[null,null,null,"Dropdown list","CII vessel type","Unit","Limit comment","Limit value"]
["Measures type","Measure",null,"Select from list","Select from list"]
["Energy consumers","Dropdown to select measure",null,"Bulk carrier","Bulk carrier","dwt","279000 and above",279000]
["Energy consumers","Energy efficient lighting system",null,"Chemical tanker","Tanker","dwt"]
["Energy consumers","Frequency controlled electric motors ",null,"Container","Container ship","dwt"]
["Energy recovery","Dropdown to select measure",null,"Cruise","Cruise passenger ship","GT"]
["Energy recovery","Fixed sails or wings",null,"Ferry-RoPax","Ro-ro passenger ship","GT"]
["Energy recovery","Kite",null,"Ferry-pax only","Cruise passenger ship","GT"]
["Energy recovery","Solar panels",null,"General cargo","General cargo carrier","dwt"]
["Energy recovery","Rotor sails",null,"Liquefied gas tanker","LNG carrier","dwt","less than 65 000",65000]
["Machinery","Dropdown to select measure",null,"Oil tanker","Tanker","GT"]
["Machinery","Auxiliary systems optimization",null,"Other liquids tankers","Gas carrier","dwt"]
["Machinery","Engine performance optimization (automatic)",null,"Refrigerated bulk","Refrigerated cargo carrier","dwt"]
["Machinery","Engine de-rating",null,"Ro-Ro","Ro-ro cargo ship","GT"]
["Machinery","Engine performance optimization (manual)",null,"Vehicle","Ro-ro cargo ship (vehicle carrier)","GT","57700 and above",57700]
["Machinery","Exhaust gas boilers on auxiliary engines"]
["Machinery","Battery hybridization"]
["Machinery","Shaft generator PTO"]
["Machinery","Shore power"]
["Machinery","Improved auxiliary engine load"]
["Machinery","Steam plant operation improvement"]
["Machinery","Waste heat recovery systems"]
["General technical solutions","Dropdown to select measure",null,"Select from list"]
["General technical solutions","Autopilot adjustment and use"]
["General technical solutions","Combinator optimizing",null,null,null,"General technical solutions","Efficient DP operation"]
["General technical solutions","Trim and draft optimization"]
["General technical solutions","Weather routing"]
["General technical solutions","Speed management"]
["Propulsion and hull","Dropdown to select measure"]
["Propulsion and hull","Air lubrication"]
["Propulsion and hull","Hull performance coating"]
["Propulsion and hull","Hull cleaning"]
["Propulsion and hull","Hull form optimization"]
["Propulsion and hull","Propeller retrofitting"]
["Propulsion and hull","Propulsion improving devices (PIDs)"]
["Propulsion and hull","Propeller polishing"]
[]
["Fuel type","Emission factors (t-CO2/t-Fuel)","LCV (MJ/kg)"]
["Select from list"]
["Diesel / gas oil",3.206,42.7]
["Light fuel oil (LFO)",3.1509999999999998,41.2]
["Heavy fuel oil (HFO)",3.1139999999999999,40.200000000000003]
["LPG Propane",3,46.3]
["LPG Butane",3.03,45.7]
["Liquefied natrual gas (LNG)",2.75,48]
["Methanol",1.375,19.899999999999999]
["Biodiesel",0,37.200000000000003]

{"sheet":"Engine types","index":8,"n_rows":66,"n_cols":2,"rows_kept":66,"cut":false,"hidden":true,"merged":[[0,0,1,0],[0,1,1,1]]}
["Ship type and size","4/2-stroke engine"]
[null,"4/2-stroke"]
["Bulk carrier 0  - 9,999 dwt",4]
["Bulk carrier 10,000 - 34,999 dwt",2]
["Bulk carrier 35,000 - 59,999 dwt",2]
["Bulk carrier 60,000 - 99,999 dwt",2]
["Bulk carrier 100,000 - 199,999 dwt",2]
["Bulk carrier 200,000-+ dwt",2]
["Chemical tanker 0 - 4,999 dwt",4]
["Chemical tanker 5,000 - 9,999 dwt",4]
["Chemical tanker 10,000 - 19,999 dwt",2]
["Chemical tanker 20,000 - 39,999 dwt",2]
["Chemical tanker 40,000-+ dwt",2]
["Container 0-999 teu",4]
["Container 1,000 - 1,999 teu",4]
["Container 2,000 - 2,999 teu",2]
["Container 3,000 - 4,999 teu",2]
["Container 5,000 - 7,999 teu",2]
["Container 8,000 - 11,999 teu",2]
["Container 12,000 - 14,499 teu",2]
["Container 14,500 - 19,999 teu",2]
["Container 20,000-+ teu",2]
["General cargo 0 - 4,999 dwt",4]
["General cargo 5,000 - 9,999 dwt",4]
["General cargo 10,000 - 19,999 dwt",2]
["General cargo 20,000-+ dwt",2]
["Liquefied gas tanker 0 - 49,999 cbm",2]
["Liquefied gas tanker 40,000 - 99,999 cbm",2]
["Liquefied gas tanker 100,000 - 199,999 cbm",2]
["Liquefied gas tanker 200,000-+ cbm",2]
["Ferry-pax only 0 - 299 GT",4]
["Ferry-pax only 300 - 999 GT",4]
["Ferry-pax only 1,000 - 1,999 GT",4]
["Ferry-pax only 2,000-+ GT",4]
["Cruise 0 - 1,999 GT",4]
["Cruise 2,000 - 9,999 GT",4]
["Cruise 10,000 - 59,999 GT",4]
["Cruise 60,000 - 99,999 GT",4]
["Cruise 100,000 - 149,999 GT",4]
["Cruise 150,000-+ GT",4]
["Ferry-RoPax 0 - 1,999 GT",4]
["Ferry-RoPax 2,000 - 4,999 GT",4]
["Ferry-RoPax 5,000 - 9,999 GT",4]
["Ferry-RoPax 10,000 - 19,999 GT",4]
["Ferry-RoPax 20,000-+ GT",4]
["Refrigerated bulk 0 - 1,999 dwt",4]
["Refrigerated bulk 2,000 - 5,999 dwt",4]
["Refrigerated bulk 6,000 - 9,999 dwt",2]
["Refrigerated bulk 10,000-+ dwt",2]
["Ro-Ro 0 - 4,999 dwt",4]
["Ro-Ro 5,000 - 9,999 dwt",4]
["Ro-Ro 10,000 - 14,999 dwt",2]
["Ro-Ro 15,000-+ dwt",2]
["Vehicle 0 - 29,999 GT",2]
["Vehicle 30,000 - 49,999 GT",2]
["Vehicle 50,000-+ GT",2]
["Oil tanker 0 - 4,999 dwt",4]
["Oil tanker 5,000 - 9,999 dwt",4]
["Oil tanker 10,000 - 19,999 dwt",2]
["Oil tanker 20,000 - 59,999 dwt",2]
["Oil tanker 60,000 - 79,999 dwt",2]
["Oil tanker 80,000 - 119,999 dwt",2]
["Oil tanker 120,000 - 199,999 dwt",2]
["Oil tanker 200,000-+ dwt",2]
["Other liquids tankers 0-999 dwt",4]
["Other liquids tankers 1,000-+ dwt",4]

{"sheet":"CII_calculation","index":9,"n_rows":141,"n_cols":40,"rows_kept":141,"cut":false,"hidden":true,"merged":[[0,0,1,2],[89,0,90,2]]}
["CII trajectory development"]
[]
[]
["CII category","Bulk carrier","Tanker","Container ship","General cargo carrier","LNG carrier","Gas carrier","Ro-ro passenger ship","Cruise passenger ship","Ro-ro passenger ship","Refrigerated cargo carrier","Ro-ro cargo ship","Ro-ro cargo ship (vehicle carrier)","Tanker"]
[null,"dwt","dwt","dwt","dwt","dwt","dwt","GT","GT","GT","dwt","GT","GT","dwt"]
["4th study category","Bulk carrier","Chemical tanker","Container","General cargo","Liquefied gas tanker","Other liquids tankers","Ferry-pax only","Cruise","Ferry-RoPax","Refrigerated bulk","Ro-Ro","Vehicle","Oil tanker"]
["Unit","dwt","dwt","teu","dwt","cbm","dwt","GT","GT","GT","dwt","dwt","GT","dwt"]
[null,"0  - 9,999 dwt","0 - 4,999 dwt","0-999 teu","0 - 4,999 dwt","0 - 49,999 cbm","0-999 dwt","0 - 299 GT","0 - 1,999 GT","0 - 1,999 GT","0 - 1,999 dwt","0 - 4,999 dwt","0 - 29,999 GT","0 - 4,999  dwt"]
[null,"10,000 - 34,999 dwt","5,000 - 9,999 dwt","1,000 - 1,999 teu","5,000 - 9,999 dwt","40,000 - 99,999 cbm","1,000-+ dwt","300 - 999 GT","2,000 - 9,999 GT","2,000 - 4,999 GT","2,000 - 5,999 dwt","5,000 - 9,999 dwt","30,000 - 49,999 GT","5,000 - 9,999 dwt"]
[null,"35,000 - 59,999 dwt","10,000 - 19,999 dwt","2,000 - 2,999 teu","10,000 - 19,999 dwt","100,000 - 199,999 cbm",null,"1,000 - 1,999 GT","10,000 - 59,999 GT","5,000 - 9,999 GT","6,000 - 9,999 dwt","10,000 - 14,999 dwt","50,000-+ GT","10,000 - 19,999 dwt"]
[null,"60,000 - 99,999 dwt","20,000 - 39,999 dwt","3,000 - 4,999 teu","20,000-+ dwt","200,000-+ cbm",null,"2,000-+ GT","60,000 - 99,999 GT","10,000 - 19,999 GT","10,000-+ dwt","15,000-+ dwt",null,"20,000 - 59,999 dwt"]
[null,"100,000 - 199,999 dwt","40,000-+ dwt","5,000 - 7,999 teu",null,null,null,null,"100,000 - 149,999 GT","20,000-+ GT",null,null,null,"60,000 - 79,999 dwt"]
[null,"200,000-+ dwt",null,"8,000 - 11,999 teu",null,null,null,null,"150,000-+ GT",null,null,null,null,"80,000 - 119,999 dwt"]
[null,null,null,"12,000 - 14,499 teu",null,null,null,null,null,null,null,null,null,"120,000 - 199,999 dwt"]
[null,null,null,"14,500 - 19,999 teu",null,null,null,null,null,null,null,null,null,"200,000-+ dwt"]
[null,null,null,"20,000-+ teu"]
[]
[]
["CII calculations"]
["Ship type","Capacity","Unit","a","c","d1","d2","d3","d4","Unit calc","Capacity calc"]
["Bulk carrier","279,000 and above",279000,4745,0.622,0.86,0.94,1.06,1.18,"dwt",{"$f":"IF(J21=\"dwt\",Dashboard!$E$12,Dashboard!$E$14)","v":0}]
[null,"less than 279,000","dwt",4745,0.622,0.86,0.94,1.06,1.18,"dwt",{"$f":"IF(J22=\"dwt\",Dashboard!$E$12,Dashboard!$E$14)","v":0}]
["Gas carrier","65,000 and above","dwt",144050000000,2.0710000000000002,0.81,0.91,1.1200000000000001,1.44,"dwt",{"$f":"IF(J23=\"dwt\",Dashboard!$E$12,Dashboard!$E$14)","v":0}]
[null,"less than 65,000","dwt",8104,0.63900000000000001,0.85,0.95,1.06,1.25,"dwt",{"$f":"IF(J24=\"dwt\",Dashboard!$E$12,Dashboard!$E$14)","v":0}]
["Tanker",null,"dwt",5247,0.61,0.82,0.93,1.08,1.28,"dwt",{"$f":"IF(J25=\"dwt\",Dashboard!$E$12,Dashboard!$E$14)","v":0}]
["Container ship",null,"dwt",1984,0.48899999999999999,0.83,0.94,1.07,1.19,"dwt",{"$f":"IF(J26=\"dwt\",Dashboard!$E$12,Dashboard!$E$14)","v":0},null,null,"Input to change trajectory lines"]
["General cargo carrier","20,000 dwt and above","dwt",31948,0.79200000000000004,0.83,0.94,1.06,1.19,"dwt",{"$f":"IF(J27=\"dwt\",Dashboard!$E$12,Dashboard!$E$14)","v":0},null,null,null,"Year","Yearly reduction"]
[null,"less than 20,000 dwt","dwt",588,0.38850000000000001,0.83,0.94,1.06,1.19,"dwt",{"$f":"IF(J28=\"dwt\",Dashboard!$E$12,Dashboard!$E$14)","v":0},null,null,"Start",2030,{"$f":"_xlfn.XLOOKUP(O28,A46:A67,B46:B67)","v":21.5}]
["Refrigerated cargo carrier",null,"dwt",4600,0.55700000000000005,0.78,0.91,1.07,1.2,"dwt",{"$f":"IF(J29=\"dwt\",Dashboard!$E$12,Dashboard!$E$14)","v":0},null,null,"end",2050,100]
["Combination carrier",null,"dwt",5119,0.622,0.87,0.96,1.06,1.1399999999999999,"dwt",{"$f":"IF(J30=\"dwt\",Dashboard!$E$12,Dashboard!$E$14)","v":0}]
["LNG carrier","100,000 dwt and above","dwt",9.827,0,0.89,0.98,1.06,1.1299999999999999,"dwt",{"$f":"IF(J31=\"dwt\",Dashboard!$E$12,Dashboard!$E$14)","v":0},null,null,"Number of years",null,{"$f":"O29-O28","v":20}]
[null,"65,000 and above but less than 100,000 dwt","dwt",144790000000000,2.673,0.78,0.92,1.1000000000000001,1.37,"dwt",{"$f":"IF(J32=\"dwt\",Dashboard!$E$12,Dashboard!$E$14)","v":0},null,null,"New slope",null,{"$f":"(P29-P28)/P31","v":3.9249999999999998}]
[null,"less than 65,000 dwt",65000,144790000000000,2.673,0.78,0.92,1.1000000000000001,1.37,"GT",{"$f":"IF(J33=\"dwt\",Dashboard!$E$12,Dashboard!$E$14)","v":0}]
["Ro-ro cargo ship (vehicle carrier)","57,700 GT and above",57700,3627,0.59,0.86,0.94,1.06,1.1599999999999999,"GT",{"$f":"IF(J34=\"dwt\",Dashboard!$E$12,Dashboard!$E$14)","v":0}]
[null,"30,000 GT and above but less than 57,700 GT","GT",3627,0.59,0.86,0.94,1.06,1.1599999999999999,"GT",{"$f":"IF(J35=\"dwt\",Dashboard!$E$12,Dashboard!$E$14)","v":0}]
[null,"less than 30,000 GT","GT",330,0.32900000000000001,0.86,0.94,1.06,1.1599999999999999,"GT",{"$f":"IF(J36=\"dwt\",Dashboard!$E$12,Dashboard!$E$14)","v":0}]
["Ro-ro cargo ship",null,"GT",1967,0.48499999999999999,0.76,0.89,1.08,1.27,"GT",{"$f":"IF(J37=\"dwt\",Dashboard!$E$12,Dashboard!$E$14)","v":0}]
["Ro-ro passenger ship","Ro-ro passenger ship","GT",2023,0.46,0.76,0.92,1.1399999999999999,1.3,"GT",{"$f":"IF(J38=\"dwt\",Dashboard!$E$12,Dashboard!$E$14)","v":0}]
[null,"high speed craft designed to SOLAS Chapter x","GT",4196,0.46,0.76,0.92,1.1399999999999999,1.3,"GT",{"$f":"IF(J39=\"dwt\",Dashboard!$E$12,Dashboard!$E$14)","v":0}]
["Cruise passenger ship",null,"GT",930,0.38300000000000001,0.87,0.95,1.06,1.1599999999999999,"GT",{"$f":"IF(J40=\"dwt\",Dashboard!$E$12,Dashboard!$E$14)","v":0}]
[]
[]
[]
[null,null,null,null,null,null,null,null,null,null,null,null,null,null,"Category",{"$f":"INDEX(B4:N6,1,MATCH(Dashboard!E10,CII_calculation!B6:N6,0))","v":{"$error":"#N/A"}}]
["Year","IMO old traject yearly red [%]","IMO decarb yearly red [%]","CII Ref","Superior","d1*","Lower","d2*","Upper","d3*","Inferior","d4*",null,null,"Refrence row",{"$f":"IF(P44=A21,IF(Dashboard!E12>=279000,1,2),\nIF(P44=A23,IF(Dashboard!E12>=65000,3,4),\nIF(P44=A25,5,\nIF(P44=A26,6,\nIF(P44=A27,IF(Dashboard!E12>=20000,7,8),\nIF(P44=A29,9,\nIF(P44=A30,10,\nIF(P44=A31,IF(Dashboard!E12>=100000,11,IF(Dashboard!E12>=65000,12,13)),\nIF(P44=A34,IF(Dashboard!E18>=57700,14,IF(Dashboard!E18>=30000,15,16)),\nIF(P44=A37,17,\nIF(P44=A38,18,\nIF(P44=A40,20,\"ERROR\"))))))))))))","v":{"$error":"#N/A"}}]
[2019,null,null,{"$f":"P47*P46^(-P48)","v":{"$error":"#N/A"}},{"$f":"$P$49*D46","v":{"$error":"#N/A"}},null,{"$f":"$P$50*D46","v":{"$error":"#N/A"}},null,{"$f":"$P$51*D46","v":{"$error":"#N/A"}},null,{"$f":"$P$52*D46","v":{"$error":"#N/A"}},null,null,null,"Capacity ref",{"$f":"IF(AND(P45>=2,P45<13),Dashboard!E12,IF(P45>=15,Dashboard!E14,INDEX(C21:C40,P45)))","v":{"$error":"#N/A"}}]
[2020,1,{"$f":"IF(A47>$O$28,C46+$P$32,B47)","v":1},{"$f":"(1-C47/100)*$D$46","v":{"$error":"#N/A"}},{"$f":"$P$49*D47","v":{"$error":"#N/A"}},null,{"$f":"$P$50*D47","v":{"$error":"#N/A"}},null,{"$f":"$P$51*D47","v":{"$error":"#N/A"}},null,{"$f":"$P$52*D47","v":{"$error":"#N/A"}},null,null,null,"a",{"$f":"INDEX(A21:I40,P45,4)","v":{"$error":"#N/A"}}]
[2021,2,2,{"$f":"(1-C48/100)*$D$46","v":{"$error":"#N/A"}},{"$error":"#N/A"},null,{"$error":"#N/A"},null,{"$error":"#N/A"},null,{"$error":"#N/A"},null,null,null,"c",{"$f":"INDEX(A21:I40,P45,5)","v":{"$error":"#N/A"}}]
[2022,3,3,{"$error":"#N/A"},{"$error":"#N/A"},null,{"$error":"#N/A"},null,{"$error":"#N/A"},null,{"$error":"#N/A"},null,null,null,"d1",{"$f":"INDEX(A21:I40,P45,6)","v":{"$error":"#N/A"}}]
[2023,5,5,{"$error":"#N/A"},{"$error":"#N/A"},null,{"$error":"#N/A"},null,{"$error":"#N/A"},null,{"$error":"#N/A"},null,null,null,"d2",{"$f":"INDEX(A21:I40,P45,7)","v":{"$error":"#N/A"}}]
[2024,7,7,{"$f":"(1-C51/100)*$D$46","v":{"$error":"#N/A"}},{"$error":"#N/A"},null,{"$error":"#N/A"},null,{"$error":"#N/A"},null,{"$error":"#N/A"},null,null,null,"d3",{"$f":"INDEX(A21:I40,P45,8)","v":{"$error":"#N/A"}}]
[2025,9,9,{"$error":"#N/A"},{"$error":"#N/A"},null,{"$error":"#N/A"},null,{"$error":"#N/A"},null,{"$error":"#N/A"},null,null,null,"d4",{"$f":"INDEX(A21:I40,P45,9)","v":{"$error":"#N/A"}}]
[2026,11,11,{"$error":"#N/A"},{"$error":"#N/A"},{"$f":"E53","v":{"$error":"#N/A"}},{"$error":"#N/A"},{"$f":"G53","v":{"$error":"#N/A"}},{"$error":"#N/A"},{"$f":"I53","v":{"$error":"#N/A"}},{"$error":"#N/A"},{"$f":"K53","v":{"$error":"#N/A"}},null,null,"Capacity calc",{"$f":"INDEX(A21:K40,P45,11)","v":{"$error":"#N/A"}}]
[2027,13.625,{"$f":"IF(A54>$O$28,C53+$P$32,B54)","v":13.625},{"$error":"#N/A"},null,{"$f":"$P$49*D54","v":{"$error":"#N/A"}},null,{"$f":"$P$50*D54","v":{"$error":"#N/A"}},null,{"$f":"$P$51*D54","v":{"$error":"#N/A"}},null,{"$f":"$P$52*D54","v":{"$error":"#N/A"}}]
[2028,16.25,{"$f":"IF(A55>$O$28,C54+$P$32,B55)","v":16.25},{"$error":"#N/A"},null,{"$error":"#N/A"},null,{"$error":"#N/A"},null,{"$error":"#N/A"},null,{"$error":"#N/A"}]
[2029,18.875,18.875,{"$error":"#N/A"},null,{"$error":"#N/A"},null,{"$error":"#N/A"},null,{"$error":"#N/A"},null,{"$error":"#N/A"}]
[2030,21.5,21.5,{"$error":"#N/A"},null,{"$error":"#N/A"},null,{"$error":"#N/A"},null,{"$error":"#N/A"},null,{"$error":"#N/A"}]
[2031,24.15,25.425000000000001,{"$error":"#N/A"},null,{"$error":"#N/A"},null,{"$error":"#N/A"},null,{"$error":"#N/A"},null,{"$error":"#N/A"}]
[2032,26.799999999999997,29.35,{"$error":"#N/A"},null,{"$error":"#N/A"},null,{"$error":"#N/A"},null,{"$error":"#N/A"},null,{"$error":"#N/A"}]
[2033,29.449999999999996,33.274999999999999,{"$error":"#N/A"},null,{"$error":"#N/A"},null,{"$error":"#N/A"},null,{"$error":"#N/A"},null,{"$error":"#N/A"}]
[2034,32.099999999999994,37.199999999999996,{"$error":"#N/A"},null,{"$error":"#N/A"},null,{"$error":"#N/A"},null,{"$error":"#N/A"},null,{"$error":"#N/A"}]
[2035,34.749999999999993,41.124999999999993,{"$error":"#N/A"},null,{"$error":"#N/A"},null,{"$error":"#N/A"},null,{"$error":"#N/A"},null,{"$error":"#N/A"}]
[2036,37.399999999999991,45.04999999999999,{"$error":"#N/A"},null,{"$error":"#N/A"},null,{"$error":"#N/A"},null,{"$error":"#N/A"},null,{"$error":"#N/A"}]
[2037,40.04999999999999,48.974999999999987,{"$error":"#N/A"},null,{"$error":"#N/A"},null,{"$error":"#N/A"},null,{"$error":"#N/A"},null,{"$error":"#N/A"}]
[2038,42.699999999999989,52.899999999999984,{"$error":"#N/A"},null,{"$error":"#N/A"},null,{"$error":"#N/A"},null,{"$error":"#N/A"},null,{"$error":"#N/A"}]
[2039,45.349999999999987,56.824999999999982,{"$error":"#N/A"},null,{"$error":"#N/A"},null,{"$error":"#N/A"},null,{"$error":"#N/A"},null,{"$error":"#N/A"}]
[2040,47.999999999999986,60.749999999999979,{"$error":"#N/A"},null,{"$error":"#N/A"},null,{"$error":"#N/A"},null,{"$error":"#N/A"},null,{"$error":"#N/A"}]
[]
[null,"CII trajectory no measure","CII trajectory with measures","CII trajectory with measures - high","CII trajectory with measures - low"]
[2022,{"$f":"Dashboard!T16","v":0},{"$f":"Dashboard!T18","v":""},{"$f":"'Measure summary'!D58","v":5.8},{"$f":"'Measure summary'!E58","v":7.4}]
[2023,{"$f":"$B$70","v":0},{"$f":"$C$70","v":""},{"$f":"$D$70","v":5.8},{"$f":"$E$70","v":7.4}]
[2024,{"$f":"$B$70","v":0},{"$f":"$C$70","v":""},{"$f":"$D$70","v":5.8},{"$f":"$E$70","v":7.4}]
[2025,0,"",5.8,7.4]
[2026,0,"",5.8,7.4]
[2027,0,"",5.8,7.4]
[2028,0,"",5.8,7.4]
[2029,0,"",5.8,7.4]
[2030,0,"",5.8,7.4]
[2031,0,"",5.8,7.4]
[2032,0,"",5.8,7.4]
[2033,0,"",5.8,7.4]
[2034,0,"",5.8,7.4]
[2035,0,"",5.8,7.4]
[2036,0,"",5.8,7.4]
[2037,0,"",5.8,7.4]
[2038,0,"",5.8,7.4]
[2039,0,"",5.8,7.4]
[2040,0,"",5.8,7.4]
[]
["CII reduction calculation"]
[]
[]
["Vessel category",{"$f":"INDEX(H96:H114,MATCH(Dashboard!E10,CII_calculation!H96:H114,0))&\" \"&INDEX(CII_calculation!J96:J114,MATCH(Dashboard!E10,CII_calculation!H96:H114,0))","v":{"$error":"#N/A"}},null,"Bulk carrier 35,000-59,999 dwt"]
[]
["Category","Measure","Implemented?","Reduction",null,null,"CII vessel type","Vessel type","size ","size group"]
["Energy consumers","Cargo handling systems",{"$f":"IFERROR(MATCH(B96,Dashboard!$X$29,0)*Dashboard!$AB$29,0)","v":0},{"$f":"IFERROR(VLOOKUP(B96,Measures[],8,FALSE)*C96,0%)","v":0},null,null,null,"Bulk carrier",{"$f":"_xlfn.IFS(INDEX($B$6:$N$7,2,MATCH(H96,$B$6:$N$6,0))=\"dwt\",Dashboard!$E$12,INDEX($B$6:$N$7,2,MATCH(H96,$B$6:$N$6,0))=\"gt\",Dashboard!$E$14,INDEX($B$6:$N$7,2,MATCH(H96,$B$6:$N$6,0))=\"teu\",Dashboard!$E$16,INDEX($B$6:$N$7,2,MATCH(H96,$B$6:$N$6,0))=\"cbm\",Dashboard!$E$16)","v":0},{"$f":"LOOKUP(I96,B133:B138,D133:D138)","v":"0  - 9,999 dwt"}]
["Energy consumers","Energy efficient lighting system",{"$f":"IFERROR(MATCH(B97,Dashboard!$X$29,0)*Dashboard!$AB$29,0)","v":0},{"$f":"IFERROR(VLOOKUP(B97,Measures[],8,FALSE)*C97,0%)","v":0},null,null,null,"Chemical tanker",{"$f":"_xlfn.IFS(INDEX($B$6:$N$7,2,MATCH(H97,$B$6:$N$6,0))=\"dwt\",Dashboard!$E$12,INDEX($B$6:$N$7,2,MATCH(H97,$B$6:$N$6,0))=\"gt\",Dashboard!$E$14,INDEX($B$6:$N$7,2,MATCH(H97,$B$6:$N$6,0))=\"teu\",Dashboard!$E$16,INDEX($B$6:$N$7,2,MATCH(H97,$B$6:$N$6,0))=\"cbm\",Dashboard!$E$16)","v":0},{"$f":"LOOKUP(I97,E133:E137,G133:G137)","v":"0 - 4,999 dwt"}]
["Energy consumers","Frequency controlled electric motors ",{"$f":"IFERROR(MATCH(B98,Dashboard!$X$29,0)*Dashboard!$AB$29,0)","v":0},{"$f":"IFERROR(VLOOKUP(B98,Measures[],8,FALSE)*C98,0%)","v":0},null,null,null,"Container",{"$f":"_xlfn.IFS(INDEX($B$6:$N$7,2,MATCH(H98,$B$6:$N$6,0))=\"dwt\",Dashboard!$E$12,INDEX($B$6:$N$7,2,MATCH(H98,$B$6:$N$6,0))=\"gt\",Dashboard!$E$14,INDEX($B$6:$N$7,2,MATCH(H98,$B$6:$N$6,0))=\"teu\",Dashboard!$E$16,INDEX($B$6:$N$7,2,MATCH(H98,$B$6:$N$6,0))=\"cbm\",Dashboard!$E$16)","v":0},{"$f":"LOOKUP(I98,H133:H141,J133:J141)","v":"0-999 teu"}]
["Energy recovery","Fixed sails or wings",{"$f":"IFERROR(MATCH(B99,Dashboard!$X$30,0)*Dashboard!$AB$30,0)","v":0},{"$f":"IFERROR(VLOOKUP(B99,Measures[],8,FALSE)*C99,0%)","v":0},null,null,null,"General cargo",{"$f":"_xlfn.IFS(INDEX($B$6:$N$7,2,MATCH(H99,$B$6:$N$6,0))=\"dwt\",Dashboard!$E$12,INDEX($B$6:$N$7,2,MATCH(H99,$B$6:$N$6,0))=\"gt\",Dashboard!$E$14,INDEX($B$6:$N$7,2,MATCH(H99,$B$6:$N$6,0))=\"teu\",Dashboard!$E$16,INDEX($B$6:$N$7,2,MATCH(H99,$B$6:$N$6,0))=\"cbm\",Dashboard!$E$16)","v":0},{"$f":"LOOKUP(I99,K133:K136,M133:M136)","v":"0 - 4,999 dwt"}]
["Energy recovery","Kite",{"$f":"IFERROR(MATCH(B100,Dashboard!$X$30,0)*Dashboard!$AB$30,0)","v":0},{"$f":"IFERROR(VLOOKUP(B100,Measures[],8,FALSE)*C100,0%)","v":0},null,null,null,"Liquefied gas tanker",{"$f":"_xlfn.IFS(INDEX($B$6:$N$7,2,MATCH(H100,$B$6:$N$6,0))=\"dwt\",Dashboard!$E$12,INDEX($B$6:$N$7,2,MATCH(H100,$B$6:$N$6,0))=\"gt\",Dashboard!$E$14,INDEX($B$6:$N$7,2,MATCH(H100,$B$6:$N$6,0))=\"teu\",Dashboard!$E$16,INDEX($B$6:$N$7,2,MATCH(H100,$B$6:$N$6,0))=\"cbm\",Dashboard!$E$16)","v":0},{"$f":"LOOKUP(I100,Q133:Q136,S133:S136)","v":"0 - 49,999 cbm"}]
["Energy recovery","Solar panels",{"$f":"IFERROR(MATCH(B101,Dashboard!$X$30,0)*Dashboard!$AB$30,0)","v":0},{"$f":"IFERROR(VLOOKUP(B101,Measures[],8,FALSE)*C101,0%)","v":0},null,null,null,"Ferry-pax only",{"$f":"_xlfn.IFS(INDEX($B$6:$N$7,2,MATCH(H101,$B$6:$N$6,0))=\"dwt\",Dashboard!$E$12,INDEX($B$6:$N$7,2,MATCH(H101,$B$6:$N$6,0))=\"gt\",Dashboard!$E$14,INDEX($B$6:$N$7,2,MATCH(H101,$B$6:$N$6,0))=\"teu\",Dashboard!$E$16,INDEX($B$6:$N$7,2,MATCH(H101,$B$6:$N$6,0))=\"cbm\",Dashboard!$E$16)","v":0},{"$f":"LOOKUP(I101,W133:W136,Y133:Y136)","v":"0 - 299 GT"}]
["Energy recovery","Rotor sails",{"$f":"IFERROR(MATCH(B102,Dashboard!$X$30,0)*Dashboard!$AB$30,0)","v":0},{"$f":"IFERROR(VLOOKUP(B102,Measures[],8,FALSE)*C102,0%)","v":0},null,null,null,"Cruise",{"$f":"_xlfn.IFS(INDEX($B$6:$N$7,2,MATCH(H102,$B$6:$N$6,0))=\"dwt\",Dashboard!$E$12,INDEX($B$6:$N$7,2,MATCH(H102,$B$6:$N$6,0))=\"gt\",Dashboard!$E$14,INDEX($B$6:$N$7,2,MATCH(H102,$B$6:$N$6,0))=\"teu\",Dashboard!$E$16,INDEX($B$6:$N$7,2,MATCH(H102,$B$6:$N$6,0))=\"cbm\",Dashboard!$E$16)","v":0},{"$f":"LOOKUP(I102,Z133:Z138,AB133:AB138)","v":"0 - 1,999 GT"}]
["Machinery","Auxiliary systems optimization",{"$f":"IFERROR(MATCH(B103,Dashboard!$X$31,0)*Dashboard!$AB$31,0)+IFERROR(MATCH(B103,Dashboard!$X$32,0)*Dashboard!$AB$32,0)+IFERROR(MATCH(B103,Dashboard!$X$33,0)*Dashboard!$AB$33,0)","v":0},{"$f":"IFERROR(VLOOKUP(B103,Measures[],8,FALSE)*C103,0%)","v":0},null,null,null,"Ferry-RoPax",{"$f":"_xlfn.IFS(INDEX($B$6:$N$7,2,MATCH(H103,$B$6:$N$6,0))=\"dwt\",Dashboard!$E$12,INDEX($B$6:$N$7,2,MATCH(H103,$B$6:$N$6,0))=\"gt\",Dashboard!$E$14,INDEX($B$6:$N$7,2,MATCH(H103,$B$6:$N$6,0))=\"teu\",Dashboard!$E$16,INDEX($B$6:$N$7,2,MATCH(H103,$B$6:$N$6,0))=\"cbm\",Dashboard!$E$16)","v":0},{"$f":"LOOKUP(I103,AC133:AC137,AE133:AE137)","v":"0 - 1,999 GT"}]
["Machinery","Engine performance optimization (automatic)",{"$f":"IFERROR(MATCH(B104,Dashboard!$X$31,0)*Dashboard!$AB$31,0)+IFERROR(MATCH(B104,Dashboard!$X$32,0)*Dashboard!$AB$32,0)+IFERROR(MATCH(B104,Dashboard!$X$33,0)*Dashboard!$AB$33,0)","v":0},{"$f":"IFERROR(VLOOKUP(B104,Measures[],8,FALSE)*C104,0%)","v":0},null,null,null,"Refrigerated bulk",{"$f":"_xlfn.IFS(INDEX($B$6:$N$7,2,MATCH(H104,$B$6:$N$6,0))=\"dwt\",Dashboard!$E$12,INDEX($B$6:$N$7,2,MATCH(H104,$B$6:$N$6,0))=\"gt\",Dashboard!$E$14,INDEX($B$6:$N$7,2,MATCH(H104,$B$6:$N$6,0))=\"teu\",Dashboard!$E$16,INDEX($B$6:$N$7,2,MATCH(H104,$B$6:$N$6,0))=\"cbm\",Dashboard!$E$16)","v":0},{"$f":"LOOKUP(I104,AF133:AF136,AH133:AH136)","v":"0 - 1,999 dwt"}]
["Machinery","Engine de-rating",{"$f":"IFERROR(MATCH(B105,Dashboard!$X$31,0)*Dashboard!$AB$31,0)+IFERROR(MATCH(B105,Dashboard!$X$32,0)*Dashboard!$AB$32,0)+IFERROR(MATCH(B105,Dashboard!$X$33,0)*Dashboard!$AB$33,0)","v":0},{"$f":"IFERROR(VLOOKUP(B105,Measures[],8,FALSE)*C105,0%)","v":0},null,null,null,"Ro-Ro",{"$f":"_xlfn.IFS(INDEX($B$6:$N$7,2,MATCH(H105,$B$6:$N$6,0))=\"dwt\",Dashboard!$E$12,INDEX($B$6:$N$7,2,MATCH(H105,$B$6:$N$6,0))=\"gt\",Dashboard!$E$14,INDEX($B$6:$N$7,2,MATCH(H105,$B$6:$N$6,0))=\"teu\",Dashboard!$E$16,INDEX($B$6:$N$7,2,MATCH(H105,$B$6:$N$6,0))=\"cbm\",Dashboard!$E$16)","v":0},{"$f":"LOOKUP(I105,AI133:AI136,AK133:AK136)","v":"0 - 4,999 dwt"}]
["Machinery","Engine performance optimization (manual)",{"$f":"IFERROR(MATCH(B106,Dashboard!$X$31,0)*Dashboard!$AB$31,0)+IFERROR(MATCH(B106,Dashboard!$X$32,0)*Dashboard!$AB$32,0)+IFERROR(MATCH(B106,Dashboard!$X$33,0)*Dashboard!$AB$33,0)","v":0},{"$f":"IFERROR(VLOOKUP(B106,Measures[],8,FALSE)*C106,0%)","v":0},null,null,null,"Vehicle",{"$f":"_xlfn.IFS(INDEX($B$6:$N$7,2,MATCH(H106,$B$6:$N$6,0))=\"dwt\",Dashboard!$E$12,INDEX($B$6:$N$7,2,MATCH(H106,$B$6:$N$6,0))=\"gt\",Dashboard!$E$14,INDEX($B$6:$N$7,2,MATCH(H106,$B$6:$N$6,0))=\"teu\",Dashboard!$E$16,INDEX($B$6:$N$7,2,MATCH(H106,$B$6:$N$6,0))=\"cbm\",Dashboard!$E$16)","v":0},{"$f":"LOOKUP(I106,AL133:AL135,AN133:AN135)","v":"0 - 29,999 GT"}]
["Machinery","Exhaust gas boilers on auxiliary engines",{"$f":"IFERROR(MATCH(B107,Dashboard!$X$31,0)*Dashboard!$AB$31,0)+IFERROR(MATCH(B107,Dashboard!$X$32,0)*Dashboard!$AB$32,0)+IFERROR(MATCH(B107,Dashboard!$X$33,0)*Dashboard!$AB$33,0)","v":0},{"$f":"IFERROR(VLOOKUP(B107,Measures[],8,FALSE)*C107,0%)","v":0},null,null,null,"Oil tanker",{"$f":"_xlfn.IFS(INDEX($B$6:$N$7,2,MATCH(H107,$B$6:$N$6,0))=\"dwt\",Dashboard!$E$12,INDEX($B$6:$N$7,2,MATCH(H107,$B$6:$N$6,0))=\"gt\",Dashboard!$E$14,INDEX($B$6:$N$7,2,MATCH(H107,$B$6:$N$6,0))=\"teu\",Dashboard!$E$16,INDEX($B$6:$N$7,2,MATCH(H107,$B$6:$N$6,0))=\"cbm\",Dashboard!$E$16)","v":0},{"$f":"LOOKUP(I107,N133:N140,P133:P140)","v":"0 - 4,999  dwt"}]
["Machinery","Battery hybridization",{"$f":"IFERROR(MATCH(B108,Dashboard!$X$31,0)*Dashboard!$AB$31,0)+IFERROR(MATCH(B108,Dashboard!$X$32,0)*Dashboard!$AB$32,0)+IFERROR(MATCH(B108,Dashboard!$X$33,0)*Dashboard!$AB$33,0)","v":0},{"$f":"IFERROR(VLOOKUP(B108,Measures[],8,FALSE)*C108,0%)","v":0},null,null,null,"Cruise",{"$f":"_xlfn.IFS(INDEX($B$6:$N$7,2,MATCH(H108,$B$6:$N$6,0))=\"dwt\",Dashboard!$E$12,INDEX($B$6:$N$7,2,MATCH(H108,$B$6:$N$6,0))=\"gt\",Dashboard!$E$14,INDEX($B$6:$N$7,2,MATCH(H108,$B$6:$N$6,0))=\"teu\",Dashboard!$E$16,INDEX($B$6:$N$7,2,MATCH(H108,$B$6:$N$6,0))=\"cbm\",Dashboard!$E$16)","v":0},{"$f":"LOOKUP(I108,Z133:Z138,AB133:AB138)","v":"0 - 1,999 GT"}]
["Machinery","Shaft generator PTO/PTI",{"$f":"IFERROR(MATCH(B109,Dashboard!$X$31,0)*Dashboard!$AB$31,0)+IFERROR(MATCH(B109,Dashboard!$X$32,0)*Dashboard!$AB$32,0)+IFERROR(MATCH(B109,Dashboard!$X$33,0)*Dashboard!$AB$33,0)","v":0},{"$f":"IFERROR(VLOOKUP(B109,Measures[],8,FALSE)*C109,0%)","v":0},null,null,null,"Other liquids tankers",{"$f":"_xlfn.IFS(INDEX($B$6:$N$7,2,MATCH(H109,$B$6:$N$6,0))=\"dwt\",Dashboard!$E$12,INDEX($B$6:$N$7,2,MATCH(H109,$B$6:$N$6,0))=\"gt\",Dashboard!$E$14,INDEX($B$6:$N$7,2,MATCH(H109,$B$6:$N$6,0))=\"teu\",Dashboard!$E$16,INDEX($B$6:$N$7,2,MATCH(H109,$B$6:$N$6,0))=\"cbm\",Dashboard!$E$16)","v":0},{"$f":"LOOKUP(I109,T133:T138,V133:V138)","v":"0-999 dwt"}]
["Machinery","Shore power",{"$f":"IFERROR(MATCH(B110,Dashboard!$X$31,0)*Dashboard!$AB$31,0)+IFERROR(MATCH(B110,Dashboard!$X$32,0)*Dashboard!$AB$32,0)+IFERROR(MATCH(B110,Dashboard!$X$33,0)*Dashboard!$AB$33,0)","v":0},{"$f":"IFERROR(VLOOKUP(B110,Measures[],8,FALSE)*C110,0%)","v":0}]
["Machinery","Improved auxiliary engine load",{"$f":"IFERROR(MATCH(B111,Dashboard!$X$31,0)*Dashboard!$AB$31,0)+IFERROR(MATCH(B111,Dashboard!$X$32,0)*Dashboard!$AB$32,0)+IFERROR(MATCH(B111,Dashboard!$X$33,0)*Dashboard!$AB$33,0)","v":0},{"$f":"IFERROR(VLOOKUP(B111,Measures[],8,FALSE)*C111,0%)","v":0}]
["Machinery","Steam plant operation improvement",{"$f":"IFERROR(MATCH(B112,Dashboard!$X$31,0)*Dashboard!$AB$31,0)+IFERROR(MATCH(B112,Dashboard!$X$32,0)*Dashboard!$AB$32,0)+IFERROR(MATCH(B112,Dashboard!$X$33,0)*Dashboard!$AB$33,0)","v":0},{"$f":"IFERROR(VLOOKUP(B112,Measures[],8,FALSE)*C112,0%)","v":0}]
["Machinery","Waste heat recovery systems",{"$f":"IFERROR(MATCH(B113,Dashboard!$X$31,0)*Dashboard!$AB$31,0)+IFERROR(MATCH(B113,Dashboard!$X$32,0)*Dashboard!$AB$32,0)+IFERROR(MATCH(B113,Dashboard!$X$33,0)*Dashboard!$AB$33,0)","v":0},{"$f":"IFERROR(VLOOKUP(B113,Measures[],8,FALSE)*C113,0%)","v":0}]
["General technical solutions","Autopilot adjustment and use",{"$f":"IFERROR(MATCH(B114,Dashboard!$X$31,0)*Dashboard!$AB$31,0)+IFERROR(MATCH(B114,Dashboard!$X$32,0)*Dashboard!$AB$32,0)+IFERROR(MATCH(B114,Dashboard!$X$33,0)*Dashboard!$AB$33,0)","v":0},{"$f":"IFERROR(VLOOKUP(B114,Measures[],8,FALSE)*C114,0%)","v":0}]
["General technical solutions","Combinator optimizing",{"$f":"IFERROR(MATCH(B115,Dashboard!$X$31,0)*Dashboard!$AB$31,0)+IFERROR(MATCH(B115,Dashboard!$X$32,0)*Dashboard!$AB$32,0)+IFERROR(MATCH(B115,Dashboard!$X$33,0)*Dashboard!$AB$33,0)","v":0},{"$f":"IFERROR(VLOOKUP(B115,Measures[],8,FALSE)*C115,0%)","v":0}]
["General technical solutions","Efficient DP operation",{"$f":"IFERROR(MATCH(B116,Dashboard!$X$31,0)*Dashboard!$AB$31,0)+IFERROR(MATCH(B116,Dashboard!$X$32,0)*Dashboard!$AB$32,0)+IFERROR(MATCH(B116,Dashboard!$X$33,0)*Dashboard!$AB$33,0)","v":0},{"$f":"IFERROR(VLOOKUP(B116,Measures[],8,FALSE)*C116,0%)","v":0}]
["General technical solutions","Trim and draft optimization",{"$f":"IFERROR(MATCH(B117,Dashboard!$X$31,0)*Dashboard!$AB$31,0)+IFERROR(MATCH(B117,Dashboard!$X$32,0)*Dashboard!$AB$32,0)+IFERROR(MATCH(B117,Dashboard!$X$33,0)*Dashboard!$AB$33,0)","v":0},{"$f":"IFERROR(VLOOKUP(B117,Measures[],8,FALSE)*C117,0%)","v":0}]
["General technical solutions","Weather routing",{"$f":"IFERROR(MATCH(B118,Dashboard!$X$31,0)*Dashboard!$AB$31,0)+IFERROR(MATCH(B118,Dashboard!$X$32,0)*Dashboard!$AB$32,0)+IFERROR(MATCH(B118,Dashboard!$X$33,0)*Dashboard!$AB$33,0)","v":0},{"$f":"IFERROR(VLOOKUP(B118,Measures[],8,FALSE)*C118,0%)","v":0}]
["General technical solutions","Speed management",{"$f":"IFERROR(MATCH(B119,Dashboard!$X$31,0)*Dashboard!$AB$31,0)+IFERROR(MATCH(B119,Dashboard!$X$32,0)*Dashboard!$AB$32,0)+IFERROR(MATCH(B119,Dashboard!$X$33,0)*Dashboard!$AB$33,0)","v":0},{"$f":"IFERROR(VLOOKUP(B119,Measures[],8,FALSE)*C119,0%)","v":0}]
["Propulsion and hull","Air lubrication",{"$f":"IFERROR(MATCH(B120,Dashboard!$X$31,0)*Dashboard!$AB$31,0)+IFERROR(MATCH(B120,Dashboard!$X$32,0)*Dashboard!$AB$32,0)+IFERROR(MATCH(B120,Dashboard!$X$33,0)*Dashboard!$AB$33,0)","v":0},{"$f":"IFERROR(VLOOKUP(B120,Measures[],8,FALSE)*C120,0%)","v":0}]
["Propulsion and hull","Hull performance coating",{"$f":"IFERROR(MATCH(B121,Dashboard!$X$31,0)*Dashboard!$AB$31,0)+IFERROR(MATCH(B121,Dashboard!$X$32,0)*Dashboard!$AB$32,0)+IFERROR(MATCH(B121,Dashboard!$X$33,0)*Dashboard!$AB$33,0)","v":0},{"$f":"IFERROR(VLOOKUP(B121,Measures[],8,FALSE)*C121,0%)","v":0}]
["Propulsion and hull","Hull cleaning",{"$f":"IFERROR(MATCH(B122,Dashboard!$X$31,0)*Dashboard!$AB$31,0)+IFERROR(MATCH(B122,Dashboard!$X$32,0)*Dashboard!$AB$32,0)+IFERROR(MATCH(B122,Dashboard!$X$33,0)*Dashboard!$AB$33,0)","v":0},{"$f":"IFERROR(VLOOKUP(B122,Measures[],8,FALSE)*C122,0%)","v":0}]
["Propulsion and hull","Hull form optimization",{"$f":"IFERROR(MATCH(B123,Dashboard!$X$31,0)*Dashboard!$AB$31,0)+IFERROR(MATCH(B123,Dashboard!$X$32,0)*Dashboard!$AB$32,0)+IFERROR(MATCH(B123,Dashboard!$X$33,0)*Dashboard!$AB$33,0)","v":0},{"$f":"IFERROR(VLOOKUP(B123,Measures[],8,FALSE)*C123,0%)","v":0}]
["Propulsion and hull","Propeller retrofitting",{"$f":"IFERROR(MATCH(B124,Dashboard!$X$31,0)*Dashboard!$AB$31,0)+IFERROR(MATCH(B124,Dashboard!$X$32,0)*Dashboard!$AB$32,0)+IFERROR(MATCH(B124,Dashboard!$X$33,0)*Dashboard!$AB$33,0)","v":0},{"$f":"IFERROR(VLOOKUP(B124,Measures[],8,FALSE)*C124,0%)","v":0}]
["Propulsion and hull","Propulsion improving devices (PIDs)",{"$f":"IFERROR(MATCH(B125,Dashboard!$X$31,0)*Dashboard!$AB$31,0)+IFERROR(MATCH(B125,Dashboard!$X$32,0)*Dashboard!$AB$32,0)+IFERROR(MATCH(B125,Dashboard!$X$33,0)*Dashboard!$AB$33,0)","v":0},{"$f":"IFERROR(VLOOKUP(B125,Measures[],8,FALSE)*C125,0%)","v":0}]
["Propulsion and hull","Propeller polishing",{"$f":"IFERROR(MATCH(B126,Dashboard!$X$31,0)*Dashboard!$AB$31,0)+IFERROR(MATCH(B126,Dashboard!$X$32,0)*Dashboard!$AB$32,0)+IFERROR(MATCH(B126,Dashboard!$X$33,0)*Dashboard!$AB$33,0)","v":0},{"$f":"IFERROR(VLOOKUP(B126,Measures[],8,FALSE)*C126,0%)","v":0}]
["Totalt CO2 reduction",null,null,{"$f":"SUM(D96:D126)","v":0}]
[]
[]
[]
["4th study category","Bulk carrier",null,null,"Chemical tanker",null,null,"Container",null,null,"General cargo",null,null,"Oil tanker",null,null,"Liquefied gas tanker",null,null,"Other liquids tankers",null,null,"Ferry-pax only",null,null,"Cruise",null,null,"Ferry-RoPax",null,null,"Refrigerated bulk",null,null,"Ro-Ro",null,null,"Vehicle"]
["Unit","dwt",null,null,"dwt",null,null,"teu",null,null,"dwt",null,null,"dwt",null,null,"cbm",null,null,"dwt",null,null,"GT",null,null,"GT",null,null,"GT",null,null,"dwt",null,null,"dwt",null,null,"GT"]
[null,0,9999,"0  - 9,999 dwt",0,4999,"0 - 4,999 dwt",0,999,"0-999 teu",0,4999,"0 - 4,999 dwt",0,4999,"0 - 4,999  dwt",0,49999,"0 - 49,999 cbm",0,999,"0-999 dwt",0,299,"0 - 299 GT",0,1999,"0 - 1,999 GT",0,1999,"0 - 1,999 GT",0,1999,"0 - 1,999 dwt",0,4999,"0 - 4,999 dwt",0,29999,"0 - 29,999 GT"]
[null,10000,34999,"10,000 - 34,999 dwt",5000,9999,"5,000 - 9,999 dwt",1000,1999,"1,000 - 1,999 teu",5000,9999,"5,000 - 9,999 dwt",5000,9999,"5,000 - 9,999 dwt",40000,99999,"40,000 - 99,999 cbm",1000,100000000,"1,000-+ dwt",300,999,"300 - 999 GT",2000,9999,"2,000 - 9,999 GT",2000,4999,"2,000 - 4,999 GT",2000,5999,"2,000 - 5,999 dwt",5000,9999,"5,000 - 9,999 dwt",30000,49999,"30,000 - 49,999 GT"]
[null,35000,59999,"35,000 - 59,999 dwt",10000,19999,"10,000 - 19,999 dwt",2000,2999,"2,000 - 2,999 teu",10000,19999,"10,000 - 19,999 dwt",10000,19999,"10,000 - 19,999 dwt",100000,199999,"100,000 - 199,999 cbm",null,null,null,1000,1999,"1,000 - 1,999 GT",10000,59999,"10,000 - 59,999 GT",5000,9999,"5,000 - 9,999 GT",6000,9999,"6,000 - 9,999 dwt",10000,14999,"10,000 - 14,999 dwt",50000,10000000,"50,000-+ GT"]
[null,60000,99999,"60,000 - 99,999 dwt",20000,39999,"20,000 - 39,999 dwt",3000,4999,"3,000 - 4,999 teu",20000,1000000,"20,000-+ dwt",20000,59999,"20,000 - 59,999 dwt",200000,10000000,"200,000-+ cbm",null,null,null,2000,1000000,"2,000-+ GT",60000,99999,"60,000 - 99,999 GT",10000,19999,"10,000 - 19,999 GT",10000,100000000,"10,000-+ dwt",15000,10000000,"15,000-+ dwt"]
[null,100000,199999,"100,000 - 199,999 dwt",40000,1000000,"40,000-+ dwt",5000,7999,"5,000 - 7,999 teu",null,null,null,60000,79999,"60,000 - 79,999 dwt",null,null,null,null,null,null,null,null,null,100000,149999,"100,000 - 149,999 GT",20000,10000000,"20,000-+ GT"]
[null,200000,1000000,"200,000-+ dwt",null,null,null,8000,11999,"8,000 - 11,999 teu",null,null,null,80000,119999,"80,000 - 119,999 dwt",null,null,null,null,null,null,null,null,null,150000,1000000,"150,000-+ GT"]
[null,null,null,null,null,null,null,12000,14499,"12,000 - 14,499 teu",null,null,null,120000,199999,"120,000 - 199,999 dwt"]
[null,null,null,null,null,null,null,14500,19999,"14,500 - 19,999 teu",null,null,null,200000,10000000,"200,000-+ dwt"]
[null,null,null,null,null,null,null,20000,1000000,"20,000-+ teu"]

{"sheet":"MACC","index":10,"n_rows":1007,"n_cols":98,"rows_kept":1007,"cut":false,"hidden":true,"merged":[[5,65,5,97],[5,30,5,62],[5,13,5,19],[5,21,5,27]]}
["Our colour palette | Brand Central (dnv.com)",null,null,null,null,null,null,null,null,null,null,null,null,null,null,null,null,null,null,null,null,null,null,null,null,null,null,null,null,null,null,null,null,null,null,null,null,null,null,null,null,null,null,null,null,null,null,null,null,null,null,null,null,null,null,null,null,null,null,null,null,null,null,null,null,"Month","date"]
["Colors from",null,null,null,null,null,null,null,null,null,null,null,null,null,null,null,null,null,null,null,null,null,null,null,null,null,null,null,null,null,null,null,null,null,null,null,null,null,null,null,null,null,null,null,null,null,null,null,null,null,null,null,null,null,null,null,null,null,null,null,null,null,null,null,null,"jan",1]
[null,null,null,null,null,null,null,null,null,null,null,null,null,null,null,null,null,null,null,null,null,null,null,null,null,null,null,null,null,null,null,null,null,null,null,null,null,null,null,null,null,null,null,null,null,null,null,null,null,null,null,null,null,null,null,null,null,null,null,null,null,null,null,null,null,"feb",2]
[null,null,null,null,null,null,null,null,null,null,null,null,null,null,null,null,null,null,null,null,null,null,null,null,null,null,null,null,null,null," =TRANSPOSE(C9:C41)",null,null,null,null,null,null,null,null,null,null,null,null,null,null,null,null,null,null,null,null,null,null,null,null,null,null,null,null,null,null,null,null,null,null,"march",3]
[null,null,"AER",null,null,null,null,"EEDI"]
[null,null,"MACC",null,null,null,"Cost efficicency [$ / Ton CO2]","MACC","Cost efficicency [$ / Ton CO2]",null,null,null,null,"MACC AER",null,null,null,null,null,null,null,"MACC EEDI",null,null,null,null,null,null,null,null,"Series EEOI",null,null,null,null,null,null,null,null,null,null,null,null,null,null,null,null,null,null,null,null,null,null,null,null,null,null,null,null,null,null,null,null,null,null,"Series EEDI"]
[null,null,"Macc","ΔCO2 Cumulative\n[tons/year]","ΔAER Cumulative/year","ΔEEDI Cumulative/year","AER Catch = ΔCost level / ΔCO2 emission",null,"EEDI Catch = ΔCost level / ΔCO2 emission",null,null,null,null,0.1,"Steps","ΔAER Cumulative/year","Catch","Seperator","Filling","Measure",null,0.1,"Steps","ΔEEDI Cumulative/year","Catch","Seperator","Filling","Measure",null,null,{"$f":"TRANSPOSE(C9:C39)","v":0},0,0,0,0,0,0,0,0,0,0,0,0,0,0,0,0,0,0,0,0,0,0,0,0,0,0,0,0,0,0,null,null,null,null,{"$f":"AE7","v":0},{"$f":"AF7","v":0},0,0,0,0,0,0,0,0,0,0,0,0,0,0,0,0,0,0,0,0,{"$f":"BA7","v":0},{"$f":"BB7","v":0},{"$f":"BC7","v":0},{"$f":"BD7","v":0},{"$f":"BE7","v":0},{"$f":"BF7","v":0},{"$f":"BG7","v":0},{"$f":"BH7","v":0},{"$f":"BI7","v":0},{"$f":"BJ7","v":0},{"$f":"BK7","v":0}]
["Plain text",0,{"$f":"'Cost&CO2_Calc'!B129","v":"Baseline"},null,null,null,null,null,null,null,null,null,null,null,{"$f":"N7","v":0.1},{"$f":"(O8/$O$1007)*$P$1007","v":0},{"$f":"INDEX($G$9:$G$39,MATCH(P8,$E$9:$E$39,1))","v":""},{"$f":"IF(Q8<>Q6,Q8,0)","v":0},0,{"$f":"IF(S8=0,\"\",INDEX($C$9:$C$41,MATCH(S8,$G$9:$G$41,0)))","v":""},null,null,{"$f":"V7","v":0.1},{"$f":"(W8/$W$1007)*$X$1007","v":0},{"$f":"INDEX($I$9:$I$39,MATCH(X8,$F$9:$F$39,1))","v":""},{"$f":"IF(Y8<>Y6,Y8,0)","v":0},0,{"$f":"IF(AA8=0,\"\",INDEX($H$9:$H$41,MATCH(AA8,$I$9:$I$41,0)))","v":""},null,null,{"$f":"SUMIFS($Q8,$T8,AE$7)","v":0},0,0,0,0,0,0,0,0,0,0,0,0,0,0,0,{"$f":"SUMIFS($Q8,$T8,AU$7)","v":0},0,0,0,0,0,0,0,0,0,0,0,0,0,0,0,{"$f":"SUMIFS($Q8,$T8,BK$7)","v":0},null,null,{"$f":"SUMIFS($Y9,$AB9,AE$7)","v":0},{"$f":"SUMIFS($Y9,$AB9,AF$7)","v":0},{"$f":"SUMIFS($Y9,$AB9,AG$7)","v":0},{"$f":"SUMIFS($Y9,$AB9,AH$7)","v":0},{"$f":"SUMIFS($Y9,$AB9,AI$7)","v":0},{"$f":"SUMIFS($Y9,$AB9,AJ$7)","v":0},{"$f":"SUMIFS($Y9,$AB9,AK$7)","v":0},{"$f":"SUMIFS($Y9,$AB9,AL$7)","v":0},{"$f":"SUMIFS($Y9,$AB9,AM$7)","v":0},{"$f":"SUMIFS($Y9,$AB9,AN$7)","v":0},{"$f":"SUMIFS($Y9,$AB9,AO$7)","v":0},{"$f":"SUMIFS($Y9,$AB9,AP$7)","v":0},{"$f":"SUMIFS($Y9,$AB9,AQ$7)","v":0},{"$f":"SUMIFS($Y9,$AB9,AR$7)","v":0},{"$f":"SUMIFS($Y9,$AB9,AS$7)","v":0},{"$f":"SUMIFS($Y9,$AB9,AT$7)","v":0},{"$f":"SUMIFS($Y9,$AB9,AU$7)","v":0},{"$f":"SUMIFS($Y9,$AB9,AV$7)","v":0},{"$f":"SUMIFS($Y9,$AB9,AW$7)","v":0},{"$f":"SUMIFS($Y9,$AB9,AX$7)","v":0},{"$f":"SUMIFS($Y9,$AB9,AY$7)","v":0},{"$f":"SUMIFS($Y9,$AB9,AZ$7)","v":0},{"$f":"SUMIFS($Y9,$AB9,BA$7)","v":0},{"$f":"SUMIFS($Y9,$AB9,BB$7)","v":0},{"$f":"SUMIFS($Y9,$AB9,BC$7)","v":0},{"$f":"SUMIFS($Y9,$AB9,BD$7)","v":0},{"$f":"SUMIFS($Y9,$AB9,BE$7)","v":0},{"$f":"SUMIFS($Y9,$AB9,BF$7)","v":0},{"$f":"SUMIFS($Y9,$AB9,BG$7)","v":0},{"$f":"SUMIFS($Y9,$AB9,BH$7)","v":0},{"$f":"SUMIFS($Y9,$AB9,BI$7)","v":0},{"$f":"SUMIFS($Y9,$AB9,BJ$7)","v":0},{"$f":"SUMIFS($Y9,$AB9,BK$7)","v":0}]
[{"$f":"_xlfn._xlws.FILTER(C9:C22,C9:C22<>0)","v":{"$error":"#VALUE!"}},1,{"$f":"'Cost&CO2_Calc'!C130","v":0},null,{"$f":"'Cost&CO2_Calc'!W129","v":0},{"$f":"'Cost&CO2_Calc'!AY251","v":0},{"$f":"IF(OR('Cost&CO2_Calc'!Q130=\"No reduction from measure\",'Cost&CO2_Calc'!Q130=\"Not included measure\"),\"\",'Cost&CO2_Calc'!Q130)","v":""},{"$f":"'Cost&CO2_Calc'!C252","v":0},{"$f":"IF(OR('Cost&CO2_Calc'!$C$13=0,'Cost&CO2_Calc'!AV252=\"NA\",'Cost&CO2_Calc'!AV252=\"Not included measure\"),\"\",'Cost&CO2_Calc'!AV252)","v":""},null,null,null,null,null,{"$f":"O8+$N$7","v":0.2},{"$f":"(O9/$O$1007)*$P$1007","v":0},{"$f":"INDEX($G$9:$G$39,MATCH(P9,$E$9:$E$39,1))","v":""},{"$f":"IF(Q9<>Q7,Q9,0)","v":""},0,"",null,null,{"$f":"W8+$N$7","v":0.2},{"$f":"(W9/$W$1007)*$X$1007","v":0},{"$f":"INDEX($I$9:$I$39,MATCH(X9,$F$9:$F$39,1))","v":""},"",0,{"$f":"IF(AA9=0,\"\",INDEX($H$9:$H$41,MATCH(AA9,$I$9:$I$41,0)))","v":""},null,null,0,0,0,0,0,0,0,0,0,0,0,0,0,0,0,0,0,0,0,0,0,0,0,0,0,0,0,0,0,0,0,0,0,null,null,{"$f":"SUMIFS($Y10,$AB10,AE$7)","v":0},0,0,0,0,0,0,0,0,0,0,0,0,0,0,0,0,0,0,0,0,0,0,0,0,0,0,0,0,0,0,0,0]
[null,{"$f":"B9+1","v":2},{"$f":"'Cost&CO2_Calc'!C131","v":0},null,{"$f":"'Cost&CO2_Calc'!W130","v":0},{"$f":"'Cost&CO2_Calc'!AY252","v":"NA"},{"$f":"IF(OR('Cost&CO2_Calc'!Q131=\"No reduction from measure\",'Cost&CO2_Calc'!Q131=\"Not included measure\"),\"\",'Cost&CO2_Calc'!Q131)","v":""},{"$f":"'Cost&CO2_Calc'!C253","v":0},{"$f":"IF(OR('Cost&CO2_Calc'!$C$13=0,'Cost&CO2_Calc'!AV253=\"NA\",'Cost&CO2_Calc'!AV253=\"Not included measure\"),\"\",'Cost&CO2_Calc'!AV253)","v":""},null,null,null,null,null,0.30000000000000004,{"$f":"(O10/$O$1007)*$P$1007","v":0},{"$f":"INDEX($G$9:$G$39,MATCH(P10,$E$9:$E$39,1))","v":""},0,{"$f":"IF(R10=0,Q10,0)","v":""},0,null,null,0.30000000000000004,{"$f":"(W10/$W$1007)*$X$1007","v":0},"",0,{"$f":"IF(Z10=0,Y10,0)","v":""},{"$f":"IF(AA10=0,\"\",INDEX($H$9:$H$41,MATCH(AA10,$I$9:$I$41,0)))","v":0},null,null,{"$f":"SUMIFS($Q10,$T10,AE$7)","v":0},0,0,0,0,0,0,0,0,0,0,0,0,0,0,0,0,0,0,0,0,0,0,0,0,0,0,0,0,0,0,0,0,null,null,{"$f":"SUMIFS($Y11,$AB11,AE$7)","v":0},0,0,0,0,0,0,0,0,0,0,0,0,0,0,0,0,0,0,0,0,0,0,0,0,0,0,0,0,0,0,0,0]
[null,{"$f":"B10+1","v":3},{"$f":"'Cost&CO2_Calc'!C132","v":0},null,{"$f":"'Cost&CO2_Calc'!W131","v":0},{"$f":"'Cost&CO2_Calc'!AY253","v":"NA"},{"$f":"IF(OR('Cost&CO2_Calc'!Q132=\"No reduction from measure\",'Cost&CO2_Calc'!Q132=\"Not included measure\"),\"\",'Cost&CO2_Calc'!Q132)","v":""},{"$f":"'Cost&CO2_Calc'!C254","v":0},{"$f":"IF(OR('Cost&CO2_Calc'!$C$13=0,'Cost&CO2_Calc'!AV254=\"NA\",'Cost&CO2_Calc'!AV254=\"Not included measure\"),\"\",'Cost&CO2_Calc'!AV254)","v":""},null,null,null,null,null,{"$f":"O10+$N$7","v":0.4},0,"",0,"",0,null,null,0.4,0,"",0,"",0,null,null,{"$f":"SUMIFS($Q11,$T11,AE$7)","v":0},0,0,0,0,0,0,0,0,0,0,0,0,0,0,0,0,0,0,0,0,0,0,0,0,0,0,0,0,0,0,0,0,null,null,0,0,0,0,0,0,0,0,0,0,0,0,0,0,0,0,0,0,0,0,0,0,0,0,0,0,0,0,0,0,0,0,0]
[null,4,{"$f":"'Cost&CO2_Calc'!C133","v":0},null,{"$f":"'Cost&CO2_Calc'!W132","v":0},{"$f":"'Cost&CO2_Calc'!AY254","v":"NA"},{"$f":"IF(OR('Cost&CO2_Calc'!Q133=\"No reduction from measure\",'Cost&CO2_Calc'!Q133=\"Not included measure\"),\"\",'Cost&CO2_Calc'!Q133)","v":""},{"$f":"'Cost&CO2_Calc'!C255","v":0},{"$f":"IF(OR('Cost&CO2_Calc'!$C$13=0,'Cost&CO2_Calc'!AV255=\"NA\",'Cost&CO2_Calc'!AV255=\"Not included measure\"),\"\",'Cost&CO2_Calc'!AV255)","v":""},null,null,null,null,null,0.5,0,"",0,"",0,null,null,0.5,0,"",0,"",0,null,null,{"$f":"SUMIFS($Q12,$T12,AE$7)","v":0},0,0,0,0,0,0,0,0,0,0,0,0,0,0,0,0,0,0,0,0,0,0,0,0,0,0,0,0,0,0,0,0,null,null,0,0,0,0,0,0,0,0,0,0,0,0,0,0,0,0,0,0,0,0,0,0,0,0,0,0,0,0,0,0,0,0,0]
[null,5,{"$f":"'Cost&CO2_Calc'!C134","v":0},null,{"$f":"'Cost&CO2_Calc'!W133","v":0},{"$f":"'Cost&CO2_Calc'!AY255","v":"NA"},{"$f":"IF(OR('Cost&CO2_Calc'!Q134=\"No reduction from measure\",'Cost&CO2_Calc'!Q134=\"Not included measure\"),\"\",'Cost&CO2_Calc'!Q134)","v":""},{"$f":"'Cost&CO2_Calc'!C256","v":0},{"$f":"IF(OR('Cost&CO2_Calc'!$C$13=0,'Cost&CO2_Calc'!AV256=\"NA\",'Cost&CO2_Calc'!AV256=\"Not included measure\"),\"\",'Cost&CO2_Calc'!AV256)","v":""},null,null,null,null,null,0.6,0,"",0,"",0,null,null,0.6,{"$f":"(W13/$W$1007)*$X$1007","v":0},"",0,"",0,null,null,0,0,0,0,0,0,0,0,0,0,0,0,0,0,0,0,0,0,0,0,0,0,0,0,0,0,0,0,0,0,0,0,0,null,null,0,0,0,0,0,0,0,0,0,0,0,0,0,0,0,0,0,0,0,0,0,0,0,0,0,0,0,0,0,0,0,0,0]
[null,6,{"$f":"'Cost&CO2_Calc'!C135","v":0},null,{"$f":"'Cost&CO2_Calc'!W134","v":0},{"$f":"'Cost&CO2_Calc'!AY256","v":"NA"},{"$f":"IF(OR('Cost&CO2_Calc'!Q135=\"No reduction from measure\",'Cost&CO2_Calc'!Q135=\"Not included measure\"),\"\",'Cost&CO2_Calc'!Q135)","v":""},{"$f":"'Cost&CO2_Calc'!C257","v":0},{"$f":"IF(OR('Cost&CO2_Calc'!$C$13=0,'Cost&CO2_Calc'!AV257=\"NA\",'Cost&CO2_Calc'!AV257=\"Not included measure\"),\"\",'Cost&CO2_Calc'!AV257)","v":""},null,null,null,null,null,0.7,0,"",0,"",0,null,null,0.7,0,"",0,"",0,null,null,0,0,0,0,0,0,0,0,0,0,0,0,0,0,0,0,0,0,0,0,0,0,0,0,0,0,0,0,0,0,0,0,0,null,null,0,0,0,0,0,0,0,0,0,0,0,0,0,0,0,0,0,0,0,0,0,0,0,0,0,0,0,0,0,0,0,0,0]
[null,7,{"$f":"'Cost&CO2_Calc'!C136","v":0},null,{"$f":"'Cost&CO2_Calc'!W135","v":0},{"$f":"'Cost&CO2_Calc'!AY257","v":"NA"},{"$f":"IF(OR('Cost&CO2_Calc'!Q136=\"No reduction from measure\",'Cost&CO2_Calc'!Q136=\"Not included measure\"),\"\",'Cost&CO2_Calc'!Q136)","v":""},{"$f":"'Cost&CO2_Calc'!C258","v":0},{"$f":"IF(OR('Cost&CO2_Calc'!$C$13=0,'Cost&CO2_Calc'!AV258=\"NA\",'Cost&CO2_Calc'!AV258=\"Not included measure\"),\"\",'Cost&CO2_Calc'!AV258)","v":""},null,null,null,null,null,0.79999999999999993,0,"",0,"",0,null,null,0.79999999999999993,0,"",0,"",0,null,null,0,0,0,0,0,0,0,0,0,0,0,0,0,0,0,0,0,0,0,0,0,0,0,0,0,0,0,0,0,0,0,0,0,null,null,0,0,0,0,0,0,0,0,0,0,0,0,0,0,0,0,0,0,0,0,0,0,0,0,0,0,0,0,0,0,0,0,0]
[null,8,{"$f":"'Cost&CO2_Calc'!C137","v":0},null,{"$f":"'Cost&CO2_Calc'!W136","v":0},{"$f":"'Cost&CO2_Calc'!AY258","v":"NA"},{"$f":"IF(OR('Cost&CO2_Calc'!Q137=\"No reduction from measure\",'Cost&CO2_Calc'!Q137=\"Not included measure\"),\"\",'Cost&CO2_Calc'!Q137)","v":""},{"$f":"'Cost&CO2_Calc'!C259","v":0},{"$f":"IF(OR('Cost&CO2_Calc'!$C$13=0,'Cost&CO2_Calc'!AV259=\"NA\",'Cost&CO2_Calc'!AV259=\"Not included measure\"),\"\",'Cost&CO2_Calc'!AV259)","v":""},null,null,null,null,null,0.89999999999999991,0,"",0,"",0,null,null,0.89999999999999991,0,"",0,"",0,null,null,0,0,0,0,0,0,0,0,0,0,0,0,0,0,0,0,0,0,0,0,0,0,0,0,0,0,0,0,0,0,0,0,0,null,null,0,0,0,0,0,0,0,0,0,0,0,0,0,0,0,0,0,0,0,0,0,0,0,0,0,0,0,0,0,0,0,0,0]
[null,9,{"$f":"'Cost&CO2_Calc'!C138","v":0},null,{"$f":"'Cost&CO2_Calc'!W137","v":0},{"$f":"'Cost&CO2_Calc'!AY259","v":"NA"},{"$f":"IF(OR('Cost&CO2_Calc'!Q138=\"No reduction from measure\",'Cost&CO2_Calc'!Q138=\"Not included measure\"),\"\",'Cost&CO2_Calc'!Q138)","v":""},{"$f":"'Cost&CO2_Calc'!C260","v":0},{"$f":"IF(OR('Cost&CO2_Calc'!$C$13=0,'Cost&CO2_Calc'!AV260=\"NA\",'Cost&CO2_Calc'!AV260=\"Not included measure\"),\"\",'Cost&CO2_Calc'!AV260)","v":""},null,null,null,null,null,0.99999999999999989,0,"",0,"",0,null,null,0.99999999999999989,0,"",0,"",0,null,null,0,0,0,0,0,0,0,0,0,0,0,0,0,0,0,0,0,0,0,0,0,0,0,0,0,0,0,0,0,0,0,0,0,null,null,0,0,0,0,0,0,0,0,0,0,0,0,0,0,0,0,0,0,0,0,0,0,0,0,0,0,0,0,0,0,0,0,0]
[null,10,{"$f":"'Cost&CO2_Calc'!C139","v":0},null,{"$f":"'Cost&CO2_Calc'!W138","v":0},{"$f":"'Cost&CO2_Calc'!AY260","v":"NA"},{"$f":"IF(OR('Cost&CO2_Calc'!Q139=\"No reduction from measure\",'Cost&CO2_Calc'!Q139=\"Not included measure\"),\"\",'Cost&CO2_Calc'!Q139)","v":""},{"$f":"'Cost&CO2_Calc'!C261","v":0},{"$f":"IF(OR('Cost&CO2_Calc'!$C$13=0,'Cost&CO2_Calc'!AV261=\"NA\",'Cost&CO2_Calc'!AV261=\"Not included measure\"),\"\",'Cost&CO2_Calc'!AV261)","v":""},null,null,null,null,null,1.0999999999999999,0,"",0,"",0,null,null,1.0999999999999999,0,"",0,"",0,null,null,0,0,0,0,0,0,0,0,0,0,0,0,0,0,0,0,0,0,0,0,0,0,0,0,0,0,0,0,0,0,0,0,0,null,null,0,0,0,0,0,0,0,0,0,0,0,0,0,0,0,0,0,0,0,0,0,0,0,0,0,0,0,0,0,0,0,0,0]
[null,11,{"$f":"'Cost&CO2_Calc'!C140","v":0},null,{"$f":"'Cost&CO2_Calc'!W139","v":0},{"$f":"'Cost&CO2_Calc'!AY261","v":"NA"},{"$f":"IF(OR('Cost&CO2_Calc'!Q140=\"No reduction from measure\",'Cost&CO2_Calc'!Q140=\"Not included measure\"),\"\",'Cost&CO2_Calc'!Q140)","v":""},{"$f":"'Cost&CO2_Calc'!C262","v":0},{"$f":"IF(OR('Cost&CO2_Calc'!$C$13=0,'Cost&CO2_Calc'!AV262=\"NA\",'Cost&CO2_Calc'!AV262=\"Not included measure\"),\"\",'Cost&CO2_Calc'!AV262)","v":""},null,null,null,null,null,1.2,0,"",0,"",0,null,null,1.2,0,"",0,{"$f":"IF(Z19=0,Y19,0)","v":""},0,null,null,0,0,0,0,0,0,0,0,0,0,0,0,0,0,0,0,0,0,0,0,0,0,0,0,0,0,0,0,0,0,0,0,0,null,null,0,0,0,0,0,0,0,0,0,0,0,0,0,0,0,0,0,0,0,0,0,0,0,0,0,0,0,0,0,0,0,0,0]
[null,12,{"$f":"'Cost&CO2_Calc'!C141","v":0},null,{"$f":"'Cost&CO2_Calc'!W140","v":0},{"$f":"'Cost&CO2_Calc'!AY262","v":"NA"},{"$f":"IF(OR('Cost&CO2_Calc'!Q141=\"No reduction from measure\",'Cost&CO2_Calc'!Q141=\"Not included measure\"),\"\",'Cost&CO2_Calc'!Q141)","v":""},{"$f":"'Cost&CO2_Calc'!C263","v":0},{"$f":"IF(OR('Cost&CO2_Calc'!$C$13=0,'Cost&CO2_Calc'!AV263=\"NA\",'Cost&CO2_Calc'!AV263=\"Not included measure\"),\"\",'Cost&CO2_Calc'!AV263)","v":""},null,null,null,null,null,1.3,0,"",0,"",0,null,null,1.3,0,"",{"$f":"IF(Y20<>Y18,Y20,0)","v":0},"",0,null,null,0,0,0,0,0,0,0,0,0,0,0,0,0,0,0,0,0,0,0,0,0,0,0,0,0,0,0,0,0,0,0,0,0,null,null,0,0,0,0,0,0,0,0,0,0,0,0,0,0,0,0,0,0,0,0,0,0,0,0,0,0,0,0,0,0,0,0,0]
[null,13,{"$f":"'Cost&CO2_Calc'!C142","v":0},null,{"$f":"'Cost&CO2_Calc'!W141","v":0},{"$f":"'Cost&CO2_Calc'!AY263","v":"NA"},{"$f":"IF(OR('Cost&CO2_Calc'!Q142=\"No reduction from measure\",'Cost&CO2_Calc'!Q142=\"Not included measure\"),\"\",'Cost&CO2_Calc'!Q142)","v":""},{"$f":"'Cost&CO2_Calc'!C264","v":0},{"$f":"IF(OR('Cost&CO2_Calc'!$C$13=0,'Cost&CO2_Calc'!AV264=\"NA\",'Cost&CO2_Calc'!AV264=\"Not included measure\"),\"\",'Cost&CO2_Calc'!AV264)","v":""},null,null,null,null,null,1.4000000000000001,0,"",0,"",0,null,null,1.4000000000000001,0,"",0,"",0,null,null,0,0,0,0,0,0,0,0,0,0,0,0,0,0,0,0,0,0,0,0,0,0,0,0,0,0,0,0,0,0,0,0,0,null,null,0,0,0,0,0,0,0,0,0,0,0,0,0,0,0,0,0,0,0,0,0,0,0,0,0,0,0,0,0,0,0,0,0]
[null,14,{"$f":"'Cost&CO2_Calc'!C143","v":0},null,{"$f":"'Cost&CO2_Calc'!W142","v":0},{"$f":"'Cost&CO2_Calc'!AY264","v":"NA"},{"$f":"IF(OR('Cost&CO2_Calc'!Q143=\"No reduction from measure\",'Cost&CO2_Calc'!Q143=\"Not included measure\"),\"\",'Cost&CO2_Calc'!Q143)","v":""},{"$f":"'Cost&CO2_Calc'!C265","v":0},{"$f":"IF(OR('Cost&CO2_Calc'!$C$13=0,'Cost&CO2_Calc'!AV265=\"NA\",'Cost&CO2_Calc'!AV265=\"Not included measure\"),\"\",'Cost&CO2_Calc'!AV265)","v":""},null,null,null,null,null,1.5000000000000002,0,"",0,"",0,null,null,1.5000000000000002,0,"",0,"",0,null,null,0,0,0,0,0,0,0,0,0,0,0,0,0,0,0,0,0,0,0,0,0,0,0,0,0,0,0,0,0,0,0,0,0,null,null,0,0,0,0,0,0,0,0,0,0,0,0,0,0,0,0,0,0,0,0,0,0,0,0,0,0,0,0,0,0,0,0,0]
[null,15,{"$f":"'Cost&CO2_Calc'!C144","v":0},null,{"$f":"'Cost&CO2_Calc'!W143","v":0},{"$f":"'Cost&CO2_Calc'!AY265","v":"NA"},{"$f":"IF(OR('Cost&CO2_Calc'!Q144=\"No reduction from measure\",'Cost&CO2_Calc'!Q144=\"Not included measure\"),\"\",'Cost&CO2_Calc'!Q144)","v":""},null,{"$f":"IF(OR('Cost&CO2_Calc'!$C$13=0,'Cost&CO2_Calc'!AV266=\"NA\",'Cost&CO2_Calc'!AV266=\"Not included measure\"),\"\",'Cost&CO2_Calc'!AV266)","v":""},null,null,null,null,null,1.6000000000000003,0,"",0,{"$f":"IF(R23=0,Q23,0)","v":""},0,null,null,1.6000000000000003,0,"",{"$f":"IF(Y23<>Y21,Y23,0)","v":0},"",0,null,null,0,0,0,0,0,0,0,0,0,0,0,0,0,0,0,0,0,0,0,0,0,0,0,0,0,0,0,0,0,0,0,{"$f":"SUMIFS($Q23,$T23,BJ$7)","v":0},0,null,null,0,0,0,0,0,0,0,0,0,0,0,0,0,0,0,0,0,0,0,0,0,0,0,0,0,0,0,0,0,0,0,0,0]
[null,16,{"$f":"'Cost&CO2_Calc'!C145","v":0},null,{"$f":"'Cost&CO2_Calc'!W144","v":0},{"$f":"'Cost&CO2_Calc'!AY266","v":"NA"},{"$f":"IF(OR('Cost&CO2_Calc'!Q145=\"No reduction from measure\",'Cost&CO2_Calc'!Q145=\"Not included measure\"),\"\",'Cost&CO2_Calc'!Q145)","v":""},null,{"$f":"IF(OR('Cost&CO2_Calc'!$C$13=0,'Cost&CO2_Calc'!AV267=\"NA\",'Cost&CO2_Calc'!AV267=\"Not included measure\"),\"\",'Cost&CO2_Calc'!AV267)","v":""},null,null,null,null,null,1.7000000000000004,0,"",0,{"$f":"IF(R24=0,Q24,0)","v":""},0,null,null,1.7000000000000004,0,"",0,{"$f":"IF(Z24=0,Y24,0)","v":""},0,null,null,0,0,0,0,0,0,0,0,0,0,0,0,0,0,0,0,{"$f":"SUMIFS($Q24,$T24,AU$7)","v":0},0,0,0,0,0,0,0,0,0,0,0,0,0,0,0,0,null,null,0,0,0,0,0,0,0,0,0,0,0,0,0,0,0,0,0,0,0,0,0,0,0,0,0,0,0,0,0,0,0,0,0]
[null,17,{"$f":"'Cost&CO2_Calc'!C146","v":0},null,{"$f":"'Cost&CO2_Calc'!W145","v":0},{"$f":"'Cost&CO2_Calc'!AY267","v":"NA"},{"$f":"IF(OR('Cost&CO2_Calc'!Q146=\"No reduction from measure\",'Cost&CO2_Calc'!Q146=\"Not included measure\"),\"\",'Cost&CO2_Calc'!Q146)","v":""},null,{"$f":"IF(OR('Cost&CO2_Calc'!$C$13=0,'Cost&CO2_Calc'!AV268=\"NA\",'Cost&CO2_Calc'!AV268=\"Not included measure\"),\"\",'Cost&CO2_Calc'!AV268)","v":""},null,null,null,null,null,1.8000000000000005,0,"",0,"",0,null,null,1.8000000000000005,0,"",0,"",0,null,null,0,0,0,0,0,0,0,0,0,0,0,0,0,0,0,0,0,0,0,0,0,0,0,0,0,0,0,0,0,0,0,0,0,null,null,0,0,0,0,0,0,0,0,0,0,0,0,0,0,0,0,0,0,0,0,0,0,0,0,0,0,0,0,0,0,0,0,0]
[null,18,{"$f":"'Cost&CO2_Calc'!C147","v":0},null,{"$f":"'Cost&CO2_Calc'!W146","v":0},{"$f":"'Cost&CO2_Calc'!AY268","v":"NA"},{"$f":"IF(OR('Cost&CO2_Calc'!Q147=\"No reduction from measure\",'Cost&CO2_Calc'!Q147=\"Not included measure\"),\"\",'Cost&CO2_Calc'!Q147)","v":""},null,{"$f":"IF(OR('Cost&CO2_Calc'!$C$13=0,'Cost&CO2_Calc'!AV269=\"NA\",'Cost&CO2_Calc'!AV269=\"Not included measure\"),\"\",'Cost&CO2_Calc'!AV269)","v":""},null,null,null,null,null,1.9000000000000006,0,"",{"$f":"IF(Q26<>Q24,Q26,0)","v":0},"",0,null,null,1.9000000000000006,0,"",0,"",0,null,null,0,0,0,0,0,0,0,0,0,0,0,0,0,0,0,0,0,0,0,0,0,0,0,0,0,0,0,0,0,0,0,0,0,null,null,0,0,0,0,0,0,0,0,0,0,0,0,0,0,0,0,0,0,0,0,0,0,0,0,0,0,0,0,0,0,0,0,0]
[null,19,{"$f":"'Cost&CO2_Calc'!C148","v":0},null,{"$f":"'Cost&CO2_Calc'!W147","v":0},{"$f":"'Cost&CO2_Calc'!AY269","v":"NA"},{"$f":"IF(OR('Cost&CO2_Calc'!Q148=\"No reduction from measure\",'Cost&CO2_Calc'!Q148=\"Not included measure\"),\"\",'Cost&CO2_Calc'!Q148)","v":""},null,{"$f":"IF(OR('Cost&CO2_Calc'!$C$13=0,'Cost&CO2_Calc'!AV270=\"NA\",'Cost&CO2_Calc'!AV270=\"Not included measure\"),\"\",'Cost&CO2_Calc'!AV270)","v":""},null,null,null,null,null,2.0000000000000004,0,"",0,"",0,null,null,2.0000000000000004,0,"",0,"",0,null,null,{"$f":"SUMIFS($Q27,$T27,AE$7)","v":0},0,0,0,0,0,0,0,0,0,0,0,0,0,0,0,0,0,0,0,0,0,0,0,0,0,0,0,0,0,0,0,0,null,null,0,0,0,0,0,0,0,0,0,0,0,0,0,0,0,0,0,0,0,0,0,0,0,0,0,0,0,0,0,0,0,0,0]
[null,20,{"$f":"'Cost&CO2_Calc'!C149","v":0},null,{"$f":"'Cost&CO2_Calc'!W148","v":0},{"$f":"'Cost&CO2_Calc'!AY270","v":"NA"},{"$f":"IF(OR('Cost&CO2_Calc'!Q149=\"No reduction from measure\",'Cost&CO2_Calc'!Q149=\"Not included measure\"),\"\",'Cost&CO2_Calc'!Q149)","v":""},null,{"$f":"IF(OR('Cost&CO2_Calc'!$C$13=0,'Cost&CO2_Calc'!AV271=\"NA\",'Cost&CO2_Calc'!AV271=\"Not included measure\"),\"\",'Cost&CO2_Calc'!AV271)","v":""},null,null,null,null,null,2.1000000000000005,0,"",{"$f":"IF(Q28<>Q26,Q28,0)","v":0},"",0,null,null,2.1000000000000005,0,"",0,"",0,null,null,0,0,0,0,0,0,0,0,0,0,0,0,0,0,0,0,0,0,0,0,0,0,0,0,0,0,0,0,0,0,0,0,0,null,null,0,0,0,0,0,0,0,0,0,0,0,0,0,0,0,0,0,0,0,0,0,0,0,0,0,0,0,0,0,0,0,0,0]
[null,21,{"$f":"'Cost&CO2_Calc'!C150","v":0},null,{"$f":"'Cost&CO2_Calc'!W149","v":0},{"$f":"'Cost&CO2_Calc'!AY271","v":"NA"},{"$f":"IF(OR('Cost&CO2_Calc'!Q150=\"No reduction from measure\",'Cost&CO2_Calc'!Q150=\"Not included measure\"),\"\",'Cost&CO2_Calc'!Q150)","v":""},null,{"$f":"IF(OR('Cost&CO2_Calc'!$C$13=0,'Cost&CO2_Calc'!AV272=\"NA\",'Cost&CO2_Calc'!AV272=\"Not included measure\"),\"\",'Cost&CO2_Calc'!AV272)","v":""},null,null,null,null,null,2.2000000000000006,0,"",0,"",0,null,null,2.2000000000000006,0,"",0,"",0,null,null,0,0,0,0,0,0,0,0,0,0,0,0,0,0,0,0,0,0,0,0,0,0,0,0,0,0,0,0,0,0,0,0,0,null,null,0,0,0,0,0,0,0,0,0,0,0,0,0,0,0,0,0,0,0,0,0,0,0,0,0,0,0,0,0,0,0,0,0]
[null,22,{"$f":"'Cost&CO2_Calc'!C151","v":0},null,{"$f":"'Cost&CO2_Calc'!W150","v":0},{"$f":"'Cost&CO2_Calc'!AY272","v":"NA"},{"$f":"IF(OR('Cost&CO2_Calc'!Q151=\"No reduction from measure\",'Cost&CO2_Calc'!Q151=\"Not included measure\"),\"\",'Cost&CO2_Calc'!Q151)","v":""},null,{"$f":"IF(OR('Cost&CO2_Calc'!$C$13=0,'Cost&CO2_Calc'!AV273=\"NA\",'Cost&CO2_Calc'!AV273=\"Not included measure\"),\"\",'Cost&CO2_Calc'!AV273)","v":""},null,null,null,null,null,2.3000000000000007,0,"",0,"",0,null,null,2.3000000000000007,0,"",0,"",0,null,null,0,0,0,0,0,0,0,0,0,0,0,0,0,0,0,0,0,0,0,0,0,0,0,0,0,0,0,0,0,0,0,0,0,null,null,0,0,0,0,0,0,0,0,0,0,0,0,0,0,0,0,0,0,0,0,0,0,0,0,0,0,0,0,0,0,0,0,0]
[null,23,{"$f":"'Cost&CO2_Calc'!C152","v":0},null,{"$f":"'Cost&CO2_Calc'!W151","v":0},{"$f":"'Cost&CO2_Calc'!AY273","v":"NA"},{"$f":"IF(OR('Cost&CO2_Calc'!Q152=\"No reduction from measure\",'Cost&CO2_Calc'!Q152=\"Not included measure\"),\"\",'Cost&CO2_Calc'!Q152)","v":""},null,{"$f":"IF(OR('Cost&CO2_Calc'!$C$13=0,'Cost&CO2_Calc'!AV274=\"NA\",'Cost&CO2_Calc'!AV274=\"Not included measure\"),\"\",'Cost&CO2_Calc'!AV274)","v":""},null,null,null,null,null,2.4000000000000008,0,"",0,"",0,null,null,2.4000000000000008,0,"",0,"",0,null,null,0,0,0,0,0,0,0,0,0,0,0,0,0,0,0,0,0,0,0,0,0,0,0,0,0,0,0,0,0,0,0,0,0,null,null,0,0,0,0,0,0,0,0,0,0,0,0,0,0,0,0,0,0,0,0,0,0,0,0,0,0,0,0,0,0,0,0,0]
[null,24,{"$f":"'Cost&CO2_Calc'!C153","v":0},null,{"$f":"'Cost&CO2_Calc'!W152","v":0},{"$f":"'Cost&CO2_Calc'!AY274","v":"NA"},{"$f":"IF(OR('Cost&CO2_Calc'!Q153=\"No reduction from measure\",'Cost&CO2_Calc'!Q153=\"Not included measure\"),\"\",'Cost&CO2_Calc'!Q153)","v":""},null,{"$f":"IF(OR('Cost&CO2_Calc'!$C$13=0,'Cost&CO2_Calc'!AV275=\"NA\",'Cost&CO2_Calc'!AV275=\"Not included measure\"),\"\",'Cost&CO2_Calc'!AV275)","v":""},null,null,null,null,null,2.5000000000000009,0,"",0,"",0,null,null,2.5000000000000009,0,"",0,"",0,null,null,0,0,0,0,0,0,0,0,0,0,0,0,0,0,0,0,0,0,0,0,0,0,0,0,0,0,0,0,0,0,0,0,0,null,null,0,0,0,0,0,0,0,0,0,0,0,0,0,0,0,0,0,0,0,0,0,0,0,0,0,0,0,0,0,0,0,0,0]
[null,25,{"$f":"'Cost&CO2_Calc'!C154","v":0},null,{"$f":"'Cost&CO2_Calc'!W153","v":0},{"$f":"'Cost&CO2_Calc'!AY275","v":"NA"},{"$f":"IF(OR('Cost&CO2_Calc'!Q154=\"No reduction from measure\",'Cost&CO2_Calc'!Q154=\"Not included measure\"),\"\",'Cost&CO2_Calc'!Q154)","v":""},null,{"$f":"IF(OR('Cost&CO2_Calc'!$C$13=0,'Cost&CO2_Calc'!AV276=\"NA\",'Cost&CO2_Calc'!AV276=\"Not included measure\"),\"\",'Cost&CO2_Calc'!AV276)","v":""},null,null,null,null,null,2.600000000000001,0,"",0,"",0,null,null,2.600000000000001,0,"",0,"",0,null,null,0,0,0,0,0,0,0,0,0,0,0,0,0,0,0,0,0,0,0,0,0,0,0,0,0,0,0,0,0,0,0,0,0,null,null,0,0,0,0,0,0,0,0,0,0,0,0,0,0,0,0,0,0,0,0,0,0,0,0,0,0,0,0,0,0,0,0,0]
[null,26,{"$f":"'Cost&CO2_Calc'!C155","v":0},null,{"$f":"'Cost&CO2_Calc'!W154","v":0},{"$f":"'Cost&CO2_Calc'!AY276","v":"NA"},{"$f":"IF(OR('Cost&CO2_Calc'!Q155=\"No reduction from measure\",'Cost&CO2_Calc'!Q155=\"Not included measure\"),\"\",'Cost&CO2_Calc'!Q155)","v":""},null,{"$f":"IF(OR('Cost&CO2_Calc'!$C$13=0,'Cost&CO2_Calc'!AV277=\"NA\",'Cost&CO2_Calc'!AV277=\"Not included measure\"),\"\",'Cost&CO2_Calc'!AV277)","v":""},null,null,null,null,null,2.7000000000000011,0,"",0,"",0,null,null,2.7000000000000011,0,"",0,"",0,null,null,0,0,0,0,0,0,0,0,0,0,0,0,0,0,0,0,0,0,0,0,0,0,0,0,0,0,0,0,0,0,0,0,0,null,null,0,0,0,0,0,0,0,0,0,0,0,0,0,0,0,0,0,0,0,0,0,0,0,0,0,0,0,0,0,0,0,0,0]
[null,27,{"$f":"'Cost&CO2_Calc'!C156","v":0},null,{"$f":"'Cost&CO2_Calc'!W155","v":0},{"$f":"'Cost&CO2_Calc'!AY277","v":"NA"},{"$f":"IF(OR('Cost&CO2_Calc'!Q156=\"No reduction from measure\",'Cost&CO2_Calc'!Q156=\"Not included measure\"),\"\",'Cost&CO2_Calc'!Q156)","v":""},null,{"$f":"IF(OR('Cost&CO2_Calc'!$C$13=0,'Cost&CO2_Calc'!AV278=\"NA\",'Cost&CO2_Calc'!AV278=\"Not included measure\"),\"\",'Cost&CO2_Calc'!AV278)","v":""},null,null,null,null,null,2.8000000000000012,0,"",0,"",0,null,null,2.8000000000000012,0,"",0,"",0,null,null,0,0,0,0,0,0,0,0,0,0,0,0,0,0,0,0,0,0,0,0,0,0,0,0,0,0,0,0,0,0,0,0,0,null,null,0,0,0,0,0,0,0,0,0,0,0,0,0,0,0,0,0,0,0,0,0,0,0,0,0,0,0,0,0,0,0,0,0]
[null,28,{"$f":"'Cost&CO2_Calc'!C157","v":0},null,{"$f":"'Cost&CO2_Calc'!W156","v":0},{"$f":"'Cost&CO2_Calc'!AY278","v":"NA"},{"$f":"IF(OR('Cost&CO2_Calc'!Q157=\"No reduction from measure\",'Cost&CO2_Calc'!Q157=\"Not included measure\"),\"\",'Cost&CO2_Calc'!Q157)","v":""},null,{"$f":"IF(OR('Cost&CO2_Calc'!$C$13=0,'Cost&CO2_Calc'!AV279=\"NA\",'Cost&CO2_Calc'!AV279=\"Not included measure\"),\"\",'Cost&CO2_Calc'!AV279)","v":""},null,null,null,null,null,2.9000000000000012,0,"",0,"",0,null,null,2.9000000000000012,0,"",0,"",0,null,null,0,0,0,0,0,0,0,0,0,0,0,0,0,0,0,0,0,0,0,0,0,0,0,0,0,0,0,0,0,0,0,0,0,null,null,0,0,0,0,0,0,0,0,0,0,0,0,0,0,0,0,0,0,0,0,0,0,0,0,0,0,0,0,0,0,0,0,0]
[null,29,{"$f":"'Cost&CO2_Calc'!C158","v":0},null,{"$f":"'Cost&CO2_Calc'!W157","v":0},{"$f":"'Cost&CO2_Calc'!AY279","v":"NA"},{"$f":"IF(OR('Cost&CO2_Calc'!Q158=\"No reduction from measure\",'Cost&CO2_Calc'!Q158=\"Not included measure\"),\"\",'Cost&CO2_Calc'!Q158)","v":""},null,{"$f":"IF(OR('Cost&CO2_Calc'!$C$13=0,'Cost&CO2_Calc'!AV280=\"NA\",'Cost&CO2_Calc'!AV280=\"Not included measure\"),\"\",'Cost&CO2_Calc'!AV280)","v":""},null,null,null,null,null,3.0000000000000013,0,"",0,"",0,null,null,3.0000000000000013,0,"",0,"",0,null,null,0,0,0,0,0,0,0,0,0,0,0,0,0,0,0,0,0,0,0,0,0,0,0,0,0,0,0,0,0,0,0,0,0,null,null,0,0,0,0,0,0,0,0,0,0,0,0,0,0,0,0,0,0,0,0,0,0,0,0,0,0,0,0,0,0,0,0,0]
[null,30,{"$f":"'Cost&CO2_Calc'!C159","v":0},null,{"$f":"'Cost&CO2_Calc'!W158","v":0},{"$f":"'Cost&CO2_Calc'!AY280","v":"NA"},{"$f":"IF(OR('Cost&CO2_Calc'!Q159=\"No reduction from measure\",'Cost&CO2_Calc'!Q159=\"Not included measure\"),\"\",'Cost&CO2_Calc'!Q159)","v":""},null,{"$f":"IF(OR('Cost&CO2_Calc'!$C$13=0,'Cost&CO2_Calc'!AV281=\"NA\",'Cost&CO2_Calc'!AV281=\"Not included measure\"),\"\",'Cost&CO2_Calc'!AV281)","v":""},null,null,null,null,null,3.1000000000000014,0,"",0,"",{"$f":"IF(S38=0,\"\",INDEX($C$9:$C$41,MATCH(S38,$G$9:$G$41,0)))","v":0},null,null,3.1000000000000014,0,"",0,"",0,null,null,0,0,0,0,0,0,0,0,0,0,0,0,0,0,0,0,0,0,0,0,0,0,0,0,0,0,0,0,0,0,0,0,0,null,null,0,0,0,0,0,0,0,0,0,0,0,0,0,0,0,0,0,0,0,0,0,0,0,0,0,0,0,0,0,0,0,0,0]
[null,31,{"$f":"'Cost&CO2_Calc'!C160","v":0},null,{"$f":"'Cost&CO2_Calc'!W159","v":0},{"$f":"'Cost&CO2_Calc'!AY281","v":"NA"},{"$f":"IF(OR('Cost&CO2_Calc'!Q160=\"No reduction from measure\",'Cost&CO2_Calc'!Q160=\"Not included measure\"),\"\",'Cost&CO2_Calc'!Q160)","v":""},null,{"$f":"IF(OR('Cost&CO2_Calc'!$C$13=0,'Cost&CO2_Calc'!AV282=\"NA\",'Cost&CO2_Calc'!AV282=\"Not included measure\"),\"\",'Cost&CO2_Calc'!AV282)","v":""},null,null,null,null,null,3.2000000000000015,0,"",0,"",0,null,null,3.2000000000000015,0,"",0,"",0,null,null,0,0,0,0,0,0,0,0,0,0,0,0,0,0,0,0,0,0,0,0,0,0,0,0,0,0,0,0,0,0,0,0,0,null,null,0,0,0,0,0,0,0,0,0,0,0,0,0,0,0,0,0,0,0,0,0,0,0,0,0,0,0,0,0,0,0,0,0]
[null,null,null,null,null,null,null,null,null,null,null,null,null,null,3.3000000000000016,0,"",0,"",0,null,null,3.3000000000000016,0,"",0,"",0,null,null,0,0,0,0,0,0,0,0,0,0,0,0,0,0,0,0,{"$f":"SUMIFS($Q40,$T40,AU$7)","v":0},0,0,0,0,0,0,0,0,0,0,0,0,0,0,0,0,null,null,0,0,0,0,0,0,0,0,0,0,0,0,0,0,0,0,0,0,0,0,0,0,0,0,0,0,0,0,0,0,0,0,0]
[null,null,null,null,null,null,null,null,null,null,null,null,null,null,{"$f":"O40+$N$7","v":3.4000000000000017},0,"",0,"",0,null,null,{"$f":"W40+$N$7","v":3.4000000000000017},0,"",0,"",0,null,null,0,0,0,0,0,0,0,0,0,0,0,0,0,0,0,0,0,0,0,0,0,0,0,0,0,0,0,0,0,0,0,0,0,null,null,0,0,0,0,0,0,0,0,0,0,0,0,0,0,0,0,0,0,0,0,0,0,0,0,0,0,0,0,0,0,0,0,0]
[null,null,null,null,null,null,null,null,null,null,null,null,null,null,3.5000000000000018,0,"",0,"",0,null,null,3.5000000000000018,0,"",0,"",0,null,null,0,0,0,0,0,0,0,0,0,0,0,0,0,0,0,{"$f":"SUMIFS($Q42,$T42,AT$7)","v":0},0,0,0,0,0,0,0,0,0,0,0,0,0,0,0,0,0,null,null,0,0,0,0,0,0,0,0,0,0,0,0,0,0,0,0,0,0,0,0,0,0,0,0,0,0,0,0,0,0,0,0,0]
[null,null,null,null,null,null,null,null,null,null,null,null,null,null,3.6000000000000019,0,"",0,"",0,null,null,3.6000000000000019,0,"",0,"",0,null,null,{"$f":"SUMIFS($Q43,$T43,AE$7)","v":0},0,0,0,0,0,0,0,0,0,0,0,0,0,0,0,0,0,0,0,0,0,0,0,0,0,0,0,0,0,0,0,0,null,null,0,0,0,0,0,0,0,0,0,0,0,0,0,0,0,0,0,0,0,0,0,0,0,0,0,0,0,0,0,0,0,0,0]
[null,null,null,null,null,null,null,null,null,null,null,null,null,null,3.700000000000002,0,"",0,"",0,null,null,3.700000000000002,0,"",0,"",0,null,null,0,0,0,0,0,0,0,0,0,0,0,0,0,0,0,0,0,0,0,0,0,0,0,0,0,0,0,0,0,0,0,0,0,null,null,0,0,0,0,0,0,0,0,0,0,0,0,0,0,0,0,0,0,0,0,0,0,0,0,0,0,0,0,0,0,0,0,0]
[null,null,null,null,null,null,null,null,null,null,null,null,null,null,3.800000000000002,0,"",0,"",0,null,null,3.800000000000002,0,"",0,"",0,null,null,0,0,0,0,0,0,0,0,0,0,0,0,0,0,0,0,0,0,0,0,0,0,0,0,0,0,0,0,0,0,0,0,0,null,null,0,0,0,0,0,0,0,0,0,0,0,0,0,0,0,0,0,0,0,0,0,0,0,0,0,0,0,0,0,0,0,0,0]
[null,null,null,null,null,null,null,null,null,null,null,null,null,null,3.9000000000000021,0,"",0,"",0,null,null,3.9000000000000021,0,"",0,"",0,null,null,0,0,0,0,0,0,0,0,0,0,0,0,0,0,0,0,0,0,0,0,0,0,0,0,0,0,0,0,0,0,0,0,0,null,null,0,0,0,0,0,0,0,0,0,0,0,0,0,0,0,0,0,0,0,0,0,0,0,0,0,0,0,0,0,0,0,0,0]
[null,null,null,null,null,null,null,null,null,null,null,null,null,null,4.0000000000000018,0,"",0,"",0,null,null,4.0000000000000018,0,"",0,"",0,null,null,0,0,0,0,0,0,0,0,0,0,0,0,0,0,0,0,0,0,0,0,0,0,0,0,0,0,0,0,0,0,0,0,0,null,null,0,0,0,0,0,0,0,0,0,0,0,0,0,0,0,0,0,0,0,0,0,0,0,0,0,0,0,0,0,0,0,0,0]
[null,null,null,null,null,null,null,null,null,null,null,null,null,null,4.1000000000000014,0,"",0,"",0,null,null,4.1000000000000014,0,"",0,"",0,null,null,0,0,0,0,0,0,0,0,0,0,0,0,0,0,0,0,0,0,0,0,0,0,0,0,0,0,0,0,0,0,0,0,0,null,null,0,0,0,0,0,0,0,0,0,0,0,0,0,0,0,0,0,0,0,0,0,0,0,0,0,0,0,0,0,0,0,0,0]
[null,null,null,null,null,null,null,null,null,null,null,null,null,null,4.2000000000000011,0,"",0,"",0,null,null,4.2000000000000011,0,"",0,"",0,null,null,0,0,0,0,0,0,0,0,0,0,0,0,0,0,0,0,0,0,0,0,0,0,0,0,0,0,0,0,0,0,0,0,0,null,null,0,0,0,0,0,0,0,0,0,0,0,0,0,0,0,0,0,0,0,0,0,0,0,0,0,0,0,0,0,0,0,0,0]
[null,null,null,null,null,null,null,null,null,null,null,null,null,null,4.3000000000000007,0,"",0,"",0,null,null,4.3000000000000007,0,"",0,"",0,null,null,0,0,0,0,0,0,0,0,0,0,0,0,0,0,0,0,0,0,0,0,0,0,0,0,0,0,0,0,0,0,0,0,0,null,null,0,0,0,0,0,0,0,0,0,0,0,0,0,0,0,0,0,0,0,0,0,0,0,0,0,0,0,0,0,0,0,0,0]
[null,null,null,null,null,null,null,null,null,null,null,null,null,null,4.4000000000000004,0,"",0,"",0,null,null,4.4000000000000004,0,"",0,"",0,null,null,0,0,0,0,0,0,0,0,0,0,0,0,0,0,0,0,0,0,0,0,0,0,0,0,0,0,0,0,0,0,0,0,0,null,null,0,0,0,0,0,0,0,0,0,0,0,0,0,0,0,0,0,0,0,0,0,0,0,0,0,0,0,0,0,0,0,0,0]
[null,null,null,null,null,null,null,null,null,null,null,null,null,null,4.5,0,"",0,"",0,null,null,4.5,0,"",0,"",0,null,null,0,0,0,0,0,0,0,0,0,0,0,0,0,0,0,0,0,0,0,0,0,0,0,0,0,0,0,0,0,0,0,0,0,null,null,0,0,0,0,0,0,0,0,0,0,0,0,0,0,0,0,0,0,0,0,0,0,0,0,0,0,0,0,0,0,0,0,0]
[null,null,null,null,null,null,null,null,null,null,null,null,null,null,4.5999999999999996,0,"",0,"",0,null,null,4.5999999999999996,0,"",0,"",0,null,null,0,0,0,0,0,0,0,0,0,0,0,0,0,0,0,0,0,0,0,0,0,0,0,0,0,0,0,0,0,0,0,0,0,null,null,0,0,0,0,0,0,0,0,0,0,0,0,0,0,0,0,0,0,0,0,0,0,0,0,0,0,0,0,0,0,0,0,0]
[null,null,null,null,null,null,null,null,null,null,null,null,null,null,4.6999999999999993,0,"",0,"",0,null,null,4.6999999999999993,0,"",0,"",0,null,null,0,0,0,0,0,0,0,0,0,0,0,0,0,0,0,0,0,0,0,0,0,0,0,0,0,0,0,0,0,0,0,0,0,null,null,0,0,0,0,0,0,0,0,0,0,0,0,0,0,0,0,0,0,0,0,0,0,0,0,0,0,0,0,0,0,0,0,0]
[null,null,null,null,null,null,null,null,null,null,null,null,null,null,4.7999999999999989,0,"",0,"",0,null,null,4.7999999999999989,0,"",0,"",0,null,null,0,0,0,0,0,0,0,0,0,0,0,0,0,0,0,0,0,0,0,0,0,0,0,0,0,0,0,0,0,0,0,0,0,null,null,0,0,0,0,0,0,0,0,0,0,0,0,0,0,0,0,0,0,0,0,0,0,0,0,0,0,0,0,0,0,0,0,0]
[null,null,null,null,null,null,null,null,null,null,null,null,null,null,4.8999999999999986,0,"",0,"",0,null,null,4.8999999999999986,0,"",0,"",0,null,null,0,0,0,0,0,0,0,0,0,0,0,0,0,0,0,0,0,0,0,0,0,0,0,0,0,0,0,0,0,0,0,{"$f":"SUMIFS($Q56,$T56,BJ$7)","v":0},0,null,null,0,0,0,0,0,0,0,0,0,0,0,0,0,0,0,0,0,0,0,0,0,0,0,0,0,0,0,0,0,0,0,0,0]
[null,null,null,null,null,null,null,null,null,null,null,null,null,null,4.9999999999999982,0,"",0,"",0,null,null,4.9999999999999982,0,"",0,"",0,null,null,0,0,0,0,0,0,0,0,0,0,0,0,0,0,0,0,0,0,0,0,0,0,0,0,0,0,0,0,0,0,0,0,0,null,null,0,0,0,0,0,0,0,0,0,0,0,0,0,0,0,0,0,0,0,0,0,0,0,0,0,0,0,0,0,0,0,0,0]
[null,null,null,null,null,null,null,null,null,null,null,null,null,null,5.0999999999999979,0,"",0,"",0,null,null,5.0999999999999979,0,"",0,"",0,null,null,0,0,0,0,0,0,0,0,0,0,0,0,0,0,0,0,{"$f":"SUMIFS($Q58,$T58,AU$7)","v":0},0,0,0,0,0,0,0,0,0,0,0,0,0,0,0,0,null,null,0,0,0,0,0,0,0,0,0,0,0,0,0,0,0,0,0,0,0,0,0,0,0,0,0,0,0,0,0,0,0,0,0]
[null,null,null,null,null,null,null,null,null,null,null,null,null,null,5.1999999999999975,0,"",0,"",0,null,null,5.1999999999999975,0,"",0,"",0,null,null,{"$f":"SUMIFS($Q59,$T59,AE$7)","v":0},0,0,0,0,0,0,0,0,0,0,0,0,0,0,0,0,0,0,0,0,0,0,0,0,0,0,0,0,0,0,0,0,null,null,0,0,0,0,0,0,0,0,0,0,0,0,0,0,0,0,0,0,0,0,0,0,0,0,0,0,0,0,0,0,0,0,0]
[null,null,null,null,null,null,null,null,null,null,null,null,null,null,5.2999999999999972,0,"",0,"",0,null,null,5.2999999999999972,0,"",0,"",0,null,null,0,0,0,0,0,0,0,0,0,0,0,0,0,0,0,0,0,0,0,0,0,0,0,0,0,0,0,0,0,0,0,0,0,null,null,0,0,0,0,0,0,0,0,0,0,0,0,0,0,0,0,0,0,0,0,0,0,0,0,0,0,0,0,0,0,0,0,0]
[null,null,null,null,null,null,null,null,null,null,null,null,null,null,5.3999999999999968,0,"",0,"",0,null,null,5.3999999999999968,0,"",0,"",0,null,null,0,0,0,0,0,0,0,0,0,0,0,0,0,0,0,0,0,0,0,0,0,0,0,0,0,0,0,0,0,0,0,0,0,null,null,0,0,0,0,0,0,0,0,0,0,0,0,0,0,0,0,0,0,0,0,0,0,0,0,0,0,0,0,0,0,0,0,0]
[null,null,null,null,null,null,null,null,null,null,null,null,null,null,5.4999999999999964,0,"",0,"",0,null,null,5.4999999999999964,0,"",0,"",0,null,null,0,0,0,0,0,0,0,0,0,0,0,0,0,0,0,0,0,0,0,0,0,0,0,0,0,0,0,0,0,0,0,0,0,null,null,0,0,0,0,0,0,0,0,0,0,0,0,0,0,0,0,0,0,0,0,0,0,0,0,0,0,0,0,0,0,0,0,0]
[null,null,null,null,null,null,null,null,null,null,null,null,null,null,5.5999999999999961,0,"",0,"",0,null,null,5.5999999999999961,0,"",0,"",0,null,null,0,0,0,0,0,0,0,0,0,0,0,0,0,0,0,0,0,0,0,0,0,0,0,0,0,0,0,0,0,0,0,0,0,null,null,0,0,0,0,0,0,0,0,0,0,0,0,0,0,0,0,0,0,0,0,0,0,0,0,0,0,0,0,0,0,0,0,0]
[null,null,null,null,null,null,null,null,null,null,null,null,null,null,5.6999999999999957,0,"",0,"",0,null,null,5.6999999999999957,0,"",0,"",0,null,null,0,0,0,0,0,0,0,0,0,0,0,0,0,0,0,0,0,0,0,0,0,0,0,0,0,0,0,0,0,0,0,0,0,null,null,0,0,0,0,0,0,0,0,0,0,0,0,0,0,0,0,0,0,0,0,0,0,0,0,0,0,0,0,0,0,0,0,0]
[null,null,null,null,null,null,null,null,null,null,null,null,null,null,5.7999999999999954,0,"",0,"",0,null,null,5.7999999999999954,0,"",0,"",0,null,null,0,0,0,0,0,0,0,0,0,0,0,0,0,0,0,0,0,0,0,0,0,0,0,0,0,0,0,0,0,0,0,0,0,null,null,0,0,0,0,0,0,0,0,0,0,0,0,0,0,0,0,0,0,0,0,0,0,0,0,0,0,0,0,0,0,0,0,0]
[null,null,null,null,null,null,null,null,null,null,null,null,null,null,5.899999999999995,0,"",0,"",0,null,null,5.899999999999995,0,"",0,"",0,null,null,0,0,0,0,0,0,0,0,0,0,0,0,0,0,0,0,0,0,0,0,0,0,0,0,0,0,0,0,0,0,0,0,0,null,null,0,0,0,0,0,0,0,0,0,0,0,0,0,0,0,0,0,0,0,0,0,0,0,0,0,0,0,0,0,0,0,0,0]
[null,null,null,null,null,null,null,null,null,null,null,null,null,null,5.9999999999999947,0,"",0,"",0,null,null,5.9999999999999947,0,"",0,"",0,null,null,0,0,0,0,0,0,0,0,0,0,0,0,0,0,0,0,0,0,0,0,0,0,0,0,0,0,0,0,0,0,0,0,0,null,null,0,0,0,0,0,0,0,0,0,0,0,0,0,0,0,0,0,0,0,0,0,0,0,0,0,0,0,0,0,0,0,0,0]
[null,null,null,null,null,null,null,null,null,null,null,null,null,null,6.0999999999999943,0,"",0,"",0,null,null,6.0999999999999943,0,"",0,"",0,null,null,0,0,0,0,0,0,0,0,0,0,0,0,0,0,0,0,0,0,0,0,0,0,0,0,0,0,0,0,0,0,0,0,0,null,null,0,0,0,0,0,0,0,0,0,0,0,0,0,0,0,0,0,0,0,0,0,0,0,0,0,0,0,0,0,0,0,0,0]
[null,null,null,null,null,null,null,null,null,null,null,null,null,null,6.199999999999994,0,"",0,"",0,null,null,6.199999999999994,0,"",0,"",0,null,null,0,0,0,0,0,0,0,0,0,0,0,0,0,0,0,0,0,0,0,0,0,0,0,0,0,0,0,0,0,0,0,0,0,null,null,0,0,0,0,0,0,0,0,0,0,0,0,0,0,0,0,0,0,0,0,0,0,0,0,0,0,0,0,0,0,0,0,0]
[null,null,null,null,null,null,null,null,null,null,null,null,null,null,6.2999999999999936,0,"",0,"",0,null,null,6.2999999999999936,0,"",0,"",0,null,null,0,0,0,0,0,0,0,0,0,0,0,0,0,0,0,0,0,0,0,0,0,0,0,0,0,0,0,0,0,0,0,0,0,null,null,0,0,0,0,0,0,0,0,0,0,0,0,0,0,0,0,0,0,0,0,0,0,0,0,0,0,0,0,0,0,0,0,0]
[null,null,null,null,null,null,null,null,null,null,null,null,null,null,6.3999999999999932,0,"",0,"",0,null,null,6.3999999999999932,0,"",0,"",0,null,null,0,0,0,0,0,0,0,0,0,0,0,0,0,0,0,0,0,0,0,0,0,0,0,0,0,0,0,0,0,0,0,0,0,null,null,0,0,0,0,0,0,0,0,0,0,0,0,0,0,0,0,0,0,0,0,0,0,0,0,0,0,0,0,0,0,0,0,0]
[null,null,null,null,null,null,null,null,null,null,null,null,null,null,6.4999999999999929,0,{"$f":"INDEX($G$9:$G$39,MATCH(P72,$E$9:$E$39,1))","v":""},{"$f":"IF(Q72<>Q70,Q72,0)","v":0},"",0,null,null,6.4999999999999929,0,"",{"$f":"IF(Y72<>Y70,Y72,0)","v":0},"",0,null,null,0,0,0,0,0,0,0,0,0,0,0,0,0,0,0,0,0,0,0,0,0,0,0,0,0,0,0,0,0,0,0,0,0,null,null,0,{"$f":"SUMIFS($Y73,$AB73,AF$7)","v":0},{"$f":"SUMIFS($Y73,$AB73,AG$7)","v":0},{"$f":"SUMIFS($Y73,$AB73,AH$7)","v":0},{"$f":"SUMIFS($Y73,$AB73,AI$7)","v":0},{"$f":"SUMIFS($Y73,$AB73,AJ$7)","v":0},{"$f":"SUMIFS($Y73,$AB73,AK$7)","v":0},{"$f":"SUMIFS($Y73,$AB73,AL$7)","v":0},{"$f":"SUMIFS($Y73,$AB73,AM$7)","v":0},{"$f":"SUMIFS($Y73,$AB73,AN$7)","v":0},{"$f":"SUMIFS($Y73,$AB73,AO$7)","v":0},{"$f":"SUMIFS($Y73,$AB73,AP$7)","v":0},{"$f":"SUMIFS($Y73,$AB73,AQ$7)","v":0},{"$f":"SUMIFS($Y73,$AB73,AR$7)","v":0},{"$f":"SUMIFS($Y73,$AB73,AS$7)","v":0},{"$f":"SUMIFS($Y73,$AB73,AT$7)","v":0},{"$f":"SUMIFS($Y73,$AB73,AU$7)","v":0},{"$f":"SUMIFS($Y73,$AB73,AV$7)","v":0},{"$f":"SUMIFS($Y73,$AB73,AW$7)","v":0},{"$f":"SUMIFS($Y73,$AB73,AX$7)","v":0},{"$f":"SUMIFS($Y73,$AB73,AY$7)","v":0},{"$f":"SUMIFS($Y73,$AB73,AZ$7)","v":0},{"$f":"SUMIFS($Y73,$AB73,BA$7)","v":0},{"$f":"SUMIFS($Y73,$AB73,BB$7)","v":0},{"$f":"SUMIFS($Y73,$AB73,BC$7)","v":0},{"$f":"SUMIFS($Y73,$AB73,BD$7)","v":0},{"$f":"SUMIFS($Y73,$AB73,BE$7)","v":0},{"$f":"SUMIFS($Y73,$AB73,BF$7)","v":0},{"$f":"SUMIFS($Y73,$AB73,BG$7)","v":0},{"$f":"SUMIFS($Y73,$AB73,BH$7)","v":0},{"$f":"SUMIFS($Y73,$AB73,BI$7)","v":0},{"$f":"SUMIFS($Y73,$AB73,BJ$7)","v":0},{"$f":"SUMIFS($Y73,$AB73,BK$7)","v":0}]
[null,null,null,null,null,null,null,null,null,null,null,null,null,null,6.5999999999999925,{"$f":"(O73/$O$1007)*$P$1007","v":0},"",0,"",0,null,null,6.5999999999999925,{"$f":"(W73/$W$1007)*$X$1007","v":0},{"$f":"INDEX($I$9:$I$39,MATCH(X73,$F$9:$F$39,1))","v":""},0,"",{"$f":"IF(AA73=0,\"\",INDEX($H$9:$H$41,MATCH(AA73,$I$9:$I$41,0)))","v":0},null,null,0,0,0,0,0,0,0,{"$f":"SUMIFS($Q73,$T73,AL$7)","v":0},0,0,0,0,0,0,0,0,0,0,0,0,0,0,0,0,0,0,0,0,0,0,0,0,0,null,null,{"$f":"SUMIFS($Y74,$AB74,AE$7)","v":0},0,0,0,0,0,0,0,0,0,0,0,0,0,0,0,0,0,0,0,0,0,0,0,0,0,0,0,0,0,0,0,0]
[null,null,null,null,null,null,null,null,null,null,null,null,null,null,6.6999999999999922,0,"",0,{"$f":"IF(R74=0,Q74,0)","v":""},{"$f":"IF(S74=0,\"\",INDEX($C$9:$C$41,MATCH(S74,$G$9:$G$41,0)))","v":0},null,null,6.6999999999999922,0,"",0,{"$f":"IF(Z74=0,Y74,0)","v":""},0,null,null,0,0,0,0,0,0,0,0,0,0,0,0,0,0,0,{"$f":"SUMIFS($Q74,$T74,AT$7)","v":0},0,0,0,0,0,0,0,0,0,0,0,0,0,0,0,0,0,null,null,0,0,0,0,0,0,0,0,0,0,0,0,0,0,0,0,0,0,0,0,0,0,0,0,0,0,0,0,0,0,0,0,0]
[null,null,null,null,null,null,null,null,null,null,null,null,null,null,6.7999999999999918,0,"",0,"",0,null,null,6.7999999999999918,0,"",0,"",0,null,null,{"$f":"SUMIFS($Q75,$T75,AE$7)","v":0},0,0,0,0,0,0,0,0,0,0,0,0,0,0,0,0,0,0,0,0,0,0,0,0,0,0,0,0,0,0,0,0,null,null,0,0,0,0,0,0,0,0,0,0,0,0,0,0,0,0,0,0,0,0,0,0,0,0,0,0,0,0,0,0,0,0,0]
[null,null,null,null,null,null,null,null,null,null,null,null,null,null,6.8999999999999915,0,"",0,"",0,null,null,6.8999999999999915,0,"",0,"",0,null,null,{"$f":"SUMIFS($Q76,$T76,AE$7)","v":0},0,0,0,0,0,0,0,0,0,0,0,0,0,0,0,0,0,0,0,0,0,0,0,0,0,0,0,0,0,0,{"$f":"SUMIFS($Q76,$T76,BJ$7)","v":0},0,null,null,0,0,0,0,0,0,0,0,0,0,0,0,0,0,0,0,0,0,0,0,0,0,0,0,0,0,0,0,0,0,0,0,0]
[null,null,null,null,null,null,null,null,null,null,null,null,null,null,6.9999999999999911,0,"",0,"",0,null,null,6.9999999999999911,0,"",0,"",0,null,null,0,0,0,0,0,0,0,0,0,0,0,0,0,0,0,0,0,0,0,0,0,0,0,0,0,0,0,0,0,0,0,0,0,null,null,0,0,0,0,0,0,0,0,0,0,0,0,0,0,0,0,0,0,0,0,0,0,0,0,0,0,0,0,0,0,0,0,0]
[null,null,null,null,null,null,null,null,null,null,null,null,null,null,7.0999999999999908,0,"",0,"",0,null,null,7.0999999999999908,0,"",0,"",0,null,null,0,0,0,0,0,0,0,0,0,0,0,0,0,0,0,0,0,0,0,0,0,0,0,0,0,0,0,0,0,0,0,0,0,null,null,0,0,0,0,0,0,0,0,0,0,0,0,0,0,0,0,0,0,0,0,0,0,0,0,0,0,0,0,0,0,0,0,0]
[null,null,null,null,null,null,null,null,null,null,null,null,null,null,7.1999999999999904,0,"",0,"",0,null,null,7.1999999999999904,0,"",0,"",0,null,null,0,0,0,0,0,0,0,0,0,0,0,0,0,0,0,0,0,0,0,0,0,0,0,0,0,0,0,0,0,0,0,0,0,null,null,0,0,0,0,0,0,0,0,0,0,0,0,0,0,0,0,0,0,0,0,0,0,0,0,0,0,0,0,0,0,0,0,0]
[null,null,null,null,null,null,null,null,null,null,null,null,null,null,7.2999999999999901,0,"",0,"",0,null,null,7.2999999999999901,0,"",0,"",0,null,null,0,0,0,0,0,0,0,0,0,0,0,0,0,0,0,0,0,0,0,0,0,0,0,0,0,0,0,0,0,0,0,0,0,null,null,0,0,0,0,0,0,0,0,0,0,0,0,0,0,0,0,0,0,0,0,0,0,0,0,0,0,0,0,0,0,0,0,0]
[null,null,null,null,null,null,null,null,null,null,null,null,null,null,7.3999999999999897,0,"",0,"",0,null,null,7.3999999999999897,0,"",0,"",0,null,null,0,0,0,0,0,0,0,0,0,0,0,0,0,0,0,0,0,0,0,0,0,0,0,0,0,0,0,0,0,0,0,0,0,null,null,0,0,0,0,0,0,0,0,0,0,0,0,0,0,0,0,0,0,0,0,0,0,0,0,0,0,0,0,0,0,0,0,0]
[null,null,null,null,null,null,null,null,null,null,null,null,null,null,7.4999999999999893,0,"",0,"",0,null,null,7.4999999999999893,0,"",0,"",0,null,null,0,0,0,0,0,0,0,0,0,0,0,0,0,0,0,0,0,0,0,0,0,0,0,0,0,0,0,0,0,0,0,0,0,null,null,0,0,0,0,0,0,0,0,0,0,0,0,0,0,0,0,0,0,0,0,0,0,0,0,0,0,0,0,0,0,0,0,0]
[null,null,null,null,null,null,null,null,null,null,null,null,null,null,7.599999999999989,0,"",0,"",0,null,null,7.599999999999989,0,"",0,"",0,null,null,0,0,0,0,0,0,0,0,0,0,0,0,0,0,0,0,0,0,0,0,0,0,0,0,0,0,0,0,0,0,0,0,0,null,null,0,0,0,0,0,0,0,0,0,0,0,0,0,0,0,0,0,0,0,0,0,0,0,0,0,0,0,0,0,0,0,0,0]
[null,null,null,null,null,null,null,null,null,null,null,null,null,null,7.6999999999999886,0,"",0,"",0,null,null,7.6999999999999886,0,"",0,"",0,null,null,0,0,0,0,0,0,0,0,0,0,0,0,0,0,0,0,0,0,0,0,0,0,0,0,0,0,0,0,0,0,0,0,0,null,null,0,0,0,0,0,0,0,0,0,0,0,0,0,0,0,0,0,0,0,0,0,0,0,0,0,0,0,0,0,0,0,0,0]
[null,null,null,null,null,null,null,null,null,null,null,null,null,null,7.7999999999999883,0,"",0,"",0,null,null,7.7999999999999883,0,"",0,"",0,null,null,0,0,0,0,0,0,0,0,0,0,0,0,0,0,0,0,0,0,0,0,0,0,0,0,0,0,0,0,0,0,0,0,0,null,null,0,0,0,0,0,0,0,0,0,0,0,0,0,0,0,0,0,0,0,0,0,0,0,0,0,0,0,0,0,0,0,0,0]
[null,null,null,null,null,null,null,null,null,null,null,null,null,null,7.8999999999999879,0,"",0,"",0,null,null,7.8999999999999879,0,"",0,"",0,null,null,0,0,0,0,0,0,0,0,0,0,0,0,0,0,0,0,0,0,0,0,0,0,0,0,0,0,0,0,0,0,0,0,0,null,null,0,0,0,0,0,0,0,0,0,0,0,0,0,0,0,0,0,0,0,0,0,0,0,0,0,0,0,0,0,0,0,0,0]
[null,null,null,null,null,null,null,null,null,null,null,null,null,null,7.9999999999999876,0,"",0,"",0,null,null,7.9999999999999876,0,"",0,"",0,null,null,0,0,0,0,0,0,0,0,0,0,0,0,0,0,0,0,0,0,0,0,0,0,0,0,0,0,0,0,0,0,0,0,0,null,null,0,0,0,0,0,0,0,0,0,0,0,0,0,0,0,0,0,0,0,0,0,0,0,0,0,0,0,0,0,0,0,0,0]
[null,null,null,null,null,null,null,null,null,null,null,null,null,null,8.0999999999999872,0,"",0,"",0,null,null,8.0999999999999872,0,"",0,"",0,null,null,0,0,0,0,0,0,0,0,0,0,0,0,0,0,0,0,0,0,0,0,0,0,0,0,0,0,0,0,0,0,0,0,0,null,null,0,0,0,0,0,0,0,0,0,0,0,0,0,0,0,0,0,0,0,0,0,0,0,0,0,0,0,0,0,0,0,0,0]
[null,null,null,null,null,null,null,null,null,null,null,null,null,null,8.1999999999999869,0,"",0,"",0,null,null,8.1999999999999869,0,"",0,"",0,null,null,0,0,0,0,0,0,0,0,0,0,0,0,0,0,0,0,0,0,0,0,0,0,0,0,0,0,0,0,0,0,{"$f":"SUMIFS($Q89,$T89,BI$7)","v":0},0,0,null,null,0,0,0,0,0,0,0,0,0,0,0,0,0,0,0,0,0,0,0,0,0,0,0,0,0,0,0,0,0,0,0,0,0]
[null,null,null,null,null,null,null,null,null,null,null,null,null,null,8.2999999999999865,0,"",0,"",0,null,null,8.2999999999999865,0,"",0,"",0,null,null,0,0,0,0,0,0,0,0,0,0,0,0,0,0,0,0,{"$f":"SUMIFS($Q90,$T90,AU$7)","v":0},0,0,0,0,0,0,0,0,0,0,0,0,0,0,0,0,null,null,0,0,0,0,0,0,0,0,0,0,0,0,0,0,0,0,0,0,0,0,0,0,0,0,0,0,0,0,0,0,0,0,0]
[null,null,null,null,null,null,null,null,null,null,null,null,null,null,8.3999999999999861,0,"",0,"",0,null,null,8.3999999999999861,0,"",0,"",0,null,null,{"$f":"SUMIFS($Q91,$T91,AE$7)","v":0},0,0,0,0,0,0,0,0,0,0,0,0,0,0,0,0,0,0,0,0,0,0,0,0,0,0,0,0,0,0,0,0,null,null,0,0,0,0,0,0,0,0,0,0,0,0,0,0,0,0,0,0,0,0,0,0,0,0,0,0,0,0,0,0,0,0,0]
[null,null,null,null,null,null,null,null,null,null,null,null,null,null,8.4999999999999858,0,"",0,"",0,null,null,8.4999999999999858,0,"",0,"",0,null,null,0,0,0,0,0,0,0,0,0,0,0,0,0,0,0,0,0,0,0,0,0,0,0,0,0,0,0,0,0,0,0,0,0,null,null,0,0,0,0,0,0,0,0,0,0,0,0,0,0,0,0,0,0,0,0,0,0,0,0,0,0,0,0,0,0,0,0,0]
[null,null,null,null,null,null,null,null,null,null,null,null,null,null,8.5999999999999854,0,"",0,"",0,null,null,8.5999999999999854,0,"",0,"",0,null,null,0,0,0,0,0,0,0,0,0,0,0,0,0,0,0,0,0,0,0,0,0,0,0,0,0,0,0,0,0,0,0,0,0,null,null,0,0,0,0,0,0,0,0,0,0,0,0,0,0,0,0,0,0,0,0,0,0,0,0,0,0,0,0,0,0,0,0,0]
[null,null,null,null,null,null,null,null,null,null,null,null,null,null,8.6999999999999851,0,"",0,"",0,null,null,8.6999999999999851,0,"",0,"",0,null,null,0,0,0,0,0,0,0,0,0,0,0,0,0,0,0,0,0,0,0,0,0,0,0,0,0,0,0,0,0,0,0,0,0,null,null,0,0,0,0,0,0,0,0,0,0,0,0,0,0,0,0,0,0,0,0,0,0,0,0,0,0,0,0,0,0,0,0,0]
[null,null,null,null,null,null,null,null,null,null,null,null,null,null,8.7999999999999847,0,"",0,"",0,null,null,8.7999999999999847,0,"",0,"",0,null,null,0,0,0,0,0,0,0,0,0,0,0,0,0,0,0,0,0,0,0,0,0,0,0,0,0,0,0,0,0,0,0,0,0,null,null,0,0,0,0,0,0,0,0,0,0,0,0,0,0,0,0,0,0,0,0,0,0,0,0,0,0,0,0,0,0,0,0,0]
[null,null,null,null,null,null,null,null,null,null,null,null,null,null,8.8999999999999844,0,"",0,"",0,null,null,8.8999999999999844,0,"",0,"",0,null,null,0,0,0,0,0,0,0,0,0,0,0,0,0,0,0,0,0,0,0,0,0,0,0,0,0,0,0,0,0,0,0,0,0,null,null,0,0,0,0,0,0,0,0,0,0,0,0,0,0,0,0,0,0,0,0,0,0,0,0,0,0,0,0,0,0,0,0,0]
[null,null,null,null,null,null,null,null,null,null,null,null,null,null,8.999999999999984,0,"",0,"",0,null,null,8.999999999999984,0,"",0,"",0,null,null,0,0,0,0,0,0,0,0,0,0,0,0,0,0,0,0,0,0,0,0,0,0,0,0,0,0,0,0,0,0,0,0,0,null,null,0,0,0,0,0,0,0,0,0,0,0,0,0,0,0,0,0,0,0,0,0,0,0,0,0,0,0,0,0,0,0,0,0]
[null,null,null,null,null,null,null,null,null,null,null,null,null,null,9.0999999999999837,0,"",0,"",0,null,null,9.0999999999999837,0,"",0,"",0,null,null,0,0,0,0,0,0,0,0,0,0,0,0,0,0,0,0,0,0,0,0,0,0,0,0,0,0,0,0,0,0,0,0,0,null,null,0,0,0,0,0,0,0,0,0,0,0,0,0,0,0,0,0,0,0,0,0,0,0,0,0,0,0,0,0,0,0,0,0]
[null,null,null,null,null,null,null,null,null,null,null,null,null,null,9.1999999999999833,0,"",0,"",0,null,null,9.1999999999999833,0,"",0,"",0,null,null,0,0,0,0,0,0,0,0,0,0,0,0,0,0,0,0,0,0,0,0,0,0,0,0,0,0,0,0,0,0,0,0,0,null,null,0,0,0,0,0,0,0,0,0,0,0,0,0,0,0,0,0,0,0,0,0,0,0,0,0,0,0,0,0,0,0,0,0]
[null,null,null,null,null,null,null,null,null,null,null,null,null,null,9.2999999999999829,0,"",0,"",0,null,null,9.2999999999999829,0,"",0,"",0,null,null,0,0,0,0,0,0,0,0,0,0,0,0,0,0,0,0,0,0,0,0,0,0,0,0,0,0,0,0,0,0,0,0,0,null,null,0,0,0,0,0,0,0,0,0,0,0,0,0,0,0,0,0,0,0,0,0,0,0,0,0,0,0,0,0,0,0,0,0]
[null,null,null,null,null,null,null,null,null,null,null,null,null,null,9.3999999999999826,0,"",0,"",0,null,null,9.3999999999999826,0,"",0,"",0,null,null,0,0,0,0,0,0,0,0,0,0,0,0,0,0,0,0,0,0,0,0,0,0,0,0,0,0,0,0,0,0,0,0,0,null,null,0,0,0,0,0,0,0,0,0,0,0,0,0,0,0,0,0,0,0,0,0,0,0,0,0,0,0,0,0,0,0,0,0]
[null,null,null,null,null,null,null,null,null,null,null,null,null,null,9.4999999999999822,0,"",0,"",0,null,null,9.4999999999999822,0,"",0,"",0,null,null,0,0,0,0,0,0,0,0,0,0,0,0,0,0,0,0,0,0,0,0,0,0,0,0,0,0,0,0,0,0,0,0,0,null,null,0,0,0,0,0,0,0,0,0,0,0,0,0,0,0,0,0,0,0,0,0,0,0,0,0,0,0,0,0,0,0,0,0]
[null,null,null,null,null,null,null,null,null,null,null,null,null,null,9.5999999999999819,0,"",0,"",0,null,null,9.5999999999999819,0,"",0,"",0,null,null,0,0,0,0,0,0,0,0,0,0,0,0,0,0,0,0,0,0,0,0,0,0,0,0,0,0,0,0,0,0,0,0,0,null,null,0,0,0,0,0,0,0,0,0,0,0,0,0,0,0,0,0,0,0,0,0,0,0,0,0,0,0,0,0,0,0,0,0]
[null,null,null,null,null,null,null,null,null,null,null,null,null,null,9.6999999999999815,0,"",0,"",0,null,null,9.6999999999999815,0,"",0,"",0,null,null,0,0,0,0,0,0,0,0,0,0,0,0,0,0,0,0,0,0,0,0,0,0,0,0,0,0,0,0,0,0,0,0,0,null,null,0,0,0,0,0,0,0,0,0,0,0,0,0,0,0,0,0,0,0,0,0,0,0,0,0,0,0,0,0,0,0,0,0]
[null,null,null,null,null,null,null,null,null,null,null,null,null,null,{"$f":"O104+$N$7","v":9.7999999999999812},0,"",0,"",0,null,null,{"$f":"W104+$N$7","v":9.7999999999999812},0,"",0,"",0,null,null,0,0,0,0,0,0,0,0,0,0,0,0,0,0,0,0,0,0,0,0,0,0,0,0,0,0,0,0,0,0,0,0,0,null,null,0,0,0,0,0,0,0,0,0,0,0,0,0,0,0,0,0,0,0,0,0,0,0,0,0,0,0,0,0,0,0,0,0]
[null,null,null,null,null,null,null,null,null,null,null,null,null,null,9.8999999999999808,0,"",0,"",0,null,null,9.8999999999999808,0,"",0,"",0,null,null,0,0,0,0,0,0,0,0,0,0,0,0,0,0,0,{"$f":"SUMIFS($Q106,$T106,AT$7)","v":0},0,0,0,0,0,0,0,0,0,0,0,0,0,0,0,0,0,null,null,0,0,0,0,0,0,0,0,0,0,0,0,0,0,0,0,0,0,0,0,0,0,0,0,0,0,0,0,0,0,0,0,0]
[null,null,null,null,null,null,null,null,null,null,null,null,null,null,9.9999999999999805,0,"",0,"",0,null,null,9.9999999999999805,0,"",0,"",0,null,null,{"$f":"SUMIFS($Q107,$T107,AE$7)","v":0},0,0,0,0,0,0,0,0,0,0,0,0,0,0,0,0,0,0,0,0,0,0,0,0,0,0,0,0,0,0,0,0,null,null,0,0,0,0,0,0,0,0,0,0,0,0,0,0,0,0,0,0,0,0,0,0,0,0,0,0,0,0,0,0,0,0,0]
[null,null,null,null,null,null,null,null,null,null,null,null,null,null,10.09999999999998,0,"",0,"",0,null,null,10.09999999999998,0,"",0,"",0,null,null,0,0,0,0,0,0,0,0,0,0,0,0,0,0,0,0,0,0,0,0,0,0,0,0,0,0,0,0,0,0,0,0,0,null,null,0,0,0,0,0,0,0,0,0,0,0,0,0,0,0,0,0,0,0,0,0,0,0,0,0,0,0,0,0,0,0,0,0]
[null,null,null,null,null,null,null,null,null,null,null,null,null,null,10.19999999999998,0,"",0,"",0,null,null,10.19999999999998,0,"",0,"",0,null,null,0,0,0,0,0,0,0,0,0,0,0,0,0,0,0,0,0,0,0,0,0,0,0,0,0,0,0,0,0,0,0,{"$f":"SUMIFS($Q109,$T109,BJ$7)","v":0},0,null,null,0,0,0,0,0,0,0,0,0,0,0,0,0,0,0,0,0,0,0,0,0,0,0,0,0,0,0,0,0,0,0,0,0]
[null,null,null,null,null,null,null,null,null,null,null,null,null,null,10.299999999999979,0,"",0,"",0,null,null,10.299999999999979,0,"",0,"",0,null,null,0,0,0,0,0,0,0,0,0,0,0,0,0,0,0,0,0,0,0,0,0,0,0,0,0,0,0,0,0,0,0,0,0,null,null,0,0,0,0,0,0,0,0,0,0,0,0,0,0,0,0,0,0,0,0,0,0,0,0,0,0,0,0,0,0,0,0,0]
[null,null,null,null,null,null,null,null,null,null,null,null,null,null,10.399999999999979,0,"",0,"",0,null,null,10.399999999999979,0,"",0,"",0,null,null,0,0,0,0,0,0,0,0,0,0,0,0,0,0,0,0,0,0,0,0,0,0,0,0,0,0,0,0,0,0,0,0,0,null,null,0,0,0,0,0,0,0,0,0,0,0,0,0,0,0,0,0,0,0,0,0,0,0,0,0,0,0,0,0,0,0,0,0]
[null,null,null,null,null,null,null,null,null,null,null,null,null,null,10.499999999999979,0,"",0,"",0,null,null,10.499999999999979,0,"",0,"",0,null,null,0,0,0,0,0,0,0,0,0,0,0,0,0,0,0,0,0,0,0,0,0,0,0,0,0,0,0,0,0,0,0,0,0,null,null,0,0,0,0,0,0,0,0,0,0,0,0,0,0,0,0,0,0,0,0,0,0,0,0,0,0,0,0,0,0,0,0,0]
[null,null,null,null,null,null,null,null,null,null,null,null,null,null,10.599999999999978,0,"",0,"",0,null,null,10.599999999999978,0,"",0,"",0,null,null,0,0,0,0,0,0,0,0,0,0,0,0,0,0,0,0,0,0,0,0,0,0,0,0,0,0,0,0,0,0,0,0,0,null,null,0,0,0,0,0,0,0,0,0,0,0,0,0,0,0,0,0,0,0,0,0,0,0,0,0,0,0,0,0,0,0,0,0]
[null,null,null,null,null,null,null,null,null,null,null,null,null,null,10.699999999999978,0,"",0,"",0,null,null,10.699999999999978,0,"",0,"",0,null,null,0,0,0,0,0,0,0,0,0,0,0,0,0,0,0,0,0,0,0,0,0,0,0,0,0,0,0,0,0,0,0,0,0,null,null,0,0,0,0,0,0,0,0,0,0,0,0,0,0,0,0,0,0,0,0,0,0,0,0,0,0,0,0,0,0,0,0,0]
[null,null,null,null,null,null,null,null,null,null,null,null,null,null,10.799999999999978,0,"",0,"",0,null,null,10.799999999999978,0,"",0,"",0,null,null,0,0,0,0,0,0,0,0,0,0,0,0,0,0,0,0,0,0,0,0,0,0,0,0,0,0,0,0,0,0,0,0,0,null,null,0,0,0,0,0,0,0,0,0,0,0,0,0,0,0,0,0,0,0,0,0,0,0,0,0,0,0,0,0,0,0,0,0]
[null,null,null,null,null,null,null,null,null,null,null,null,null,null,10.899999999999977,0,"",0,"",0,null,null,10.899999999999977,0,"",0,"",0,null,null,0,0,0,0,0,0,0,0,0,0,0,0,0,0,0,0,0,0,0,0,0,0,0,0,0,0,0,0,0,0,0,0,0,null,null,0,0,0,0,0,0,0,0,0,0,0,0,0,0,0,0,0,0,0,0,0,0,0,0,0,0,0,0,0,0,0,0,0]
[null,null,null,null,null,null,null,null,null,null,null,null,null,null,10.999999999999977,0,"",0,"",0,null,null,10.999999999999977,0,"",0,"",0,null,null,0,0,0,0,0,0,0,0,0,0,0,0,0,0,0,0,0,0,0,0,0,0,0,0,0,0,0,0,0,0,0,0,0,null,null,0,0,0,0,0,0,0,0,0,0,0,0,0,0,0,0,0,0,0,0,0,0,0,0,0,0,0,0,0,0,0,0,0]
[null,null,null,null,null,null,null,null,null,null,null,null,null,null,11.099999999999977,0,"",0,"",0,null,null,11.099999999999977,0,"",0,"",0,null,null,0,0,0,0,0,0,0,0,0,0,0,0,0,0,0,0,0,0,0,0,0,0,0,0,0,0,0,0,0,0,0,0,0,null,null,0,0,0,0,0,0,0,0,0,0,0,0,0,0,0,0,0,0,0,0,0,0,0,0,0,0,0,0,0,0,0,0,0]
[null,null,null,null,null,null,null,null,null,null,null,null,null,null,11.199999999999976,0,"",0,"",0,null,null,11.199999999999976,0,"",0,"",0,null,null,0,0,0,0,0,0,0,0,0,0,0,0,0,0,0,0,0,0,0,0,0,0,0,0,0,0,0,0,0,0,0,0,0,null,null,0,0,0,0,0,0,0,0,0,0,0,0,0,0,0,0,0,0,0,0,0,0,0,0,0,0,0,0,0,0,0,0,0]
[null,null,null,null,null,null,null,null,null,null,null,null,null,null,11.299999999999976,0,"",0,"",{"$f":"IF(S120=0,\"\",INDEX($C$9:$C$41,MATCH(S120,$G$9:$G$41,0)))","v":0},null,null,11.299999999999976,0,"",0,"",0,null,null,0,0,0,0,0,0,0,0,0,0,0,0,0,0,0,0,0,0,0,0,0,0,0,0,0,0,0,0,0,0,0,0,0,null,null,0,0,0,0,0,0,0,0,0,0,0,0,0,0,0,0,0,0,0,0,0,0,0,0,0,0,0,0,0,0,0,0,0]
[null,null,null,null,null,null,null,null,null,null,null,null,null,null,11.399999999999975,0,"",0,"",0,null,null,11.399999999999975,0,"",0,"",0,null,null,0,0,0,0,0,0,0,0,0,0,0,0,0,0,0,0,0,0,0,0,0,0,0,0,0,0,0,0,0,0,0,0,0,null,null,0,0,0,0,0,0,0,0,0,0,0,0,0,0,0,0,0,0,0,0,0,0,0,0,0,0,0,0,0,0,0,0,0]
[null,null,null,null,null,null,null,null,null,null,null,null,null,null,11.499999999999975,0,"",0,"",0,null,null,11.499999999999975,0,"",0,"",0,null,null,0,0,0,0,0,0,0,0,0,0,0,0,0,0,0,0,{"$f":"SUMIFS($Q122,$T122,AU$7)","v":0},0,0,0,0,0,0,0,0,0,0,0,0,0,0,0,0,null,null,0,0,0,0,0,0,0,0,0,0,0,0,0,0,0,0,0,0,0,0,0,0,0,0,0,0,0,0,0,0,0,0,0]
[null,null,null,null,null,null,null,null,null,null,null,null,null,null,11.599999999999975,0,"",0,"",0,null,null,11.599999999999975,0,"",0,"",0,null,null,{"$f":"SUMIFS($Q123,$T123,AE$7)","v":0},0,0,0,0,0,0,0,0,0,0,0,0,0,0,0,0,0,0,0,0,0,0,0,0,0,0,0,0,0,0,0,0,null,null,0,0,0,0,0,0,0,0,0,0,0,0,0,0,0,0,0,0,0,0,0,0,0,0,0,0,0,0,0,0,0,0,0]
[null,null,null,null,null,null,null,null,null,null,null,null,null,null,11.699999999999974,0,"",0,"",0,null,null,11.699999999999974,0,"",0,"",0,null,null,0,0,0,0,0,0,0,0,0,0,0,0,0,0,0,0,0,0,0,0,0,0,0,0,0,0,0,0,0,0,0,0,0,null,null,0,0,0,0,0,0,0,0,0,0,0,0,0,0,0,0,0,0,0,0,0,0,0,0,0,0,0,0,0,0,0,0,0]
[null,null,null,null,null,null,null,null,null,null,null,null,null,null,11.799999999999974,0,"",0,"",0,null,null,11.799999999999974,0,"",0,"",0,null,null,0,0,0,0,0,0,0,0,0,0,0,0,0,0,0,0,0,0,0,0,0,0,0,0,0,0,0,0,0,0,0,0,0,null,null,0,0,0,0,0,0,0,0,0,0,0,0,0,0,0,0,0,0,0,0,0,0,0,0,0,0,0,0,0,0,0,0,0]
[null,null,null,null,null,null,null,null,null,null,null,null,null,null,11.899999999999974,0,"",0,"",0,null,null,11.899999999999974,0,"",0,"",0,null,null,0,0,0,0,0,0,0,0,0,0,0,0,0,0,0,0,0,0,0,0,0,0,0,0,0,0,0,0,0,0,0,0,0,null,null,0,0,0,0,0,0,0,0,0,0,0,0,0,0,0,0,0,0,0,0,0,0,0,0,0,0,0,0,0,0,0,0,0]
[null,null,null,null,null,null,null,null,null,null,null,null,null,null,11.999999999999973,0,"",0,"",0,null,null,11.999999999999973,0,"",0,"",0,null,null,0,0,0,0,0,0,0,0,0,0,0,0,0,0,0,0,0,0,0,0,0,0,0,0,0,0,0,0,0,0,0,0,0,null,null,0,0,0,0,0,0,0,0,0,0,0,0,0,0,0,0,0,0,0,0,0,0,0,0,0,0,0,0,0,0,0,0,0]
[null,null,null,null,null,null,null,null,null,null,null,null,null,null,12.099999999999973,0,"",0,"",0,null,null,12.099999999999973,0,"",0,"",0,null,null,0,0,0,0,0,0,0,0,0,0,0,0,0,0,0,0,0,0,0,0,0,0,0,0,0,0,0,0,0,0,0,0,0,null,null,0,0,0,0,0,0,0,0,0,0,0,0,0,0,0,0,0,0,0,0,0,0,0,0,0,0,0,0,0,0,0,0,0]
[null,null,null,null,null,null,null,null,null,null,null,null,null,null,12.199999999999973,0,"",0,"",0,null,null,12.199999999999973,0,"",0,"",0,null,null,0,0,0,0,0,0,0,0,0,0,0,0,0,0,0,0,0,0,0,0,0,0,0,0,0,0,0,0,0,0,0,0,{"$f":"SUMIFS($Q129,$T129,BK$7)","v":0},null,null,0,0,0,0,0,0,0,0,0,0,0,0,0,0,0,0,0,0,0,0,0,0,0,0,0,0,0,0,0,0,0,0,0]
[null,null,null,null,null,null,null,null,null,null,null,null,null,null,12.299999999999972,0,"",0,"",0,null,null,12.299999999999972,0,"",0,"",0,null,null,0,0,0,0,0,0,0,0,0,0,0,0,0,0,0,0,0,0,0,0,0,0,0,0,0,0,0,0,0,0,0,0,0,null,null,0,0,0,0,0,0,0,0,0,0,0,0,0,0,0,0,0,0,0,0,0,0,0,0,0,0,0,0,0,0,0,0,0]
[null,null,null,null,null,null,null,null,null,null,null,null,null,null,12.399999999999972,0,"",0,"",0,null,null,12.399999999999972,0,"",0,"",0,null,null,0,0,0,0,0,0,0,0,0,0,0,0,0,0,0,0,0,0,0,0,0,0,0,0,0,0,0,0,0,0,0,0,0,null,null,0,0,0,0,0,0,0,0,0,0,0,0,0,0,0,0,0,0,0,0,0,0,0,0,0,0,0,0,0,0,0,0,0]
[null,null,null,null,null,null,null,null,null,null,null,null,null,null,12.499999999999972,0,"",0,"",0,null,null,12.499999999999972,0,"",0,"",0,null,null,0,0,0,0,0,0,0,0,0,0,0,0,0,0,0,0,0,0,0,0,0,0,0,0,0,0,0,0,0,0,0,0,0,null,null,0,0,0,0,0,0,0,0,0,0,0,0,0,0,0,0,0,0,0,0,0,0,0,0,0,0,0,0,0,0,0,0,0]
[null,null,null,null,null,null,null,null,null,null,null,null,null,null,12.599999999999971,0,"",0,"",0,null,null,12.599999999999971,0,"",0,"",0,null,null,0,0,0,0,0,0,0,0,0,0,0,0,0,0,0,0,0,0,0,0,0,0,0,0,0,0,0,0,0,0,0,0,0,null,null,0,0,0,0,0,0,0,0,0,0,0,0,0,0,0,0,0,0,0,0,0,0,0,0,0,0,0,0,0,0,0,0,0]
[null,null,null,null,null,null,null,null,null,null,null,null,null,null,12.699999999999971,0,"",0,"",0,null,null,12.699999999999971,0,"",0,"",0,null,null,0,0,0,0,0,0,0,0,0,0,0,0,0,0,0,0,0,0,0,0,0,0,0,0,0,0,0,0,0,0,0,0,0,null,null,0,0,0,0,0,0,0,0,0,0,0,0,0,0,0,0,0,0,0,0,0,0,0,0,0,0,0,0,0,0,0,0,0]
[null,null,null,null,null,null,null,null,null,null,null,null,null,null,12.799999999999971,0,"",0,"",0,null,null,12.799999999999971,0,"",0,"",0,null,null,0,0,0,0,0,0,0,0,0,0,0,0,0,0,0,0,0,0,0,0,0,0,0,0,0,0,0,0,0,0,0,0,0,null,null,0,0,0,0,0,0,0,0,0,0,0,0,0,0,0,0,0,0,0,0,0,0,0,0,0,0,0,0,0,0,0,0,0]
[null,null,null,null,null,null,null,null,null,null,null,null,null,null,12.89999999999997,0,{"$f":"INDEX($G$9:$G$39,MATCH(P136,$E$9:$E$39,1))","v":""},{"$f":"IF(Q136<>Q134,Q136,0)","v":0},"",0,null,null,12.89999999999997,0,"",{"$f":"IF(Y136<>Y134,Y136,0)","v":0},"",0,null,null,0,0,0,0,0,0,0,0,0,0,0,0,0,0,0,0,0,0,0,0,0,0,0,0,0,0,0,0,0,0,0,0,0,null,null,0,{"$f":"SUMIFS($Y137,$AB137,AF$7)","v":0},{"$f":"SUMIFS($Y137,$AB137,AG$7)","v":0},{"$f":"SUMIFS($Y137,$AB137,AH$7)","v":0},{"$f":"SUMIFS($Y137,$AB137,AI$7)","v":0},{"$f":"SUMIFS($Y137,$AB137,AJ$7)","v":0},{"$f":"SUMIFS($Y137,$AB137,AK$7)","v":0},{"$f":"SUMIFS($Y137,$AB137,AL$7)","v":0},{"$f":"SUMIFS($Y137,$AB137,AM$7)","v":0},{"$f":"SUMIFS($Y137,$AB137,AN$7)","v":0},{"$f":"SUMIFS($Y137,$AB137,AO$7)","v":0},{"$f":"SUMIFS($Y137,$AB137,AP$7)","v":0},{"$f":"SUMIFS($Y137,$AB137,AQ$7)","v":0},{"$f":"SUMIFS($Y137,$AB137,AR$7)","v":0},{"$f":"SUMIFS($Y137,$AB137,AS$7)","v":0},{"$f":"SUMIFS($Y137,$AB137,AT$7)","v":0},{"$f":"SUMIFS($Y137,$AB137,AU$7)","v":0},{"$f":"SUMIFS($Y137,$AB137,AV$7)","v":0},{"$f":"SUMIFS($Y137,$AB137,AW$7)","v":0},{"$f":"SUMIFS($Y137,$AB137,AX$7)","v":0},{"$f":"SUMIFS($Y137,$AB137,AY$7)","v":0},{"$f":"SUMIFS($Y137,$AB137,AZ$7)","v":0},{"$f":"SUMIFS($Y137,$AB137,BA$7)","v":0},{"$f":"SUMIFS($Y137,$AB137,BB$7)","v":0},{"$f":"SUMIFS($Y137,$AB137,BC$7)","v":0},{"$f":"SUMIFS($Y137,$AB137,BD$7)","v":0},{"$f":"SUMIFS($Y137,$AB137,BE$7)","v":0},{"$f":"SUMIFS($Y137,$AB137,BF$7)","v":0},{"$f":"SUMIFS($Y137,$AB137,BG$7)","v":0},{"$f":"SUMIFS($Y137,$AB137,BH$7)","v":0},{"$f":"SUMIFS($Y137,$AB137,BI$7)","v":0},{"$f":"SUMIFS($Y137,$AB137,BJ$7)","v":0},{"$f":"SUMIFS($Y137,$AB137,BK$7)","v":0}]
[null,null,null,null,null,null,null,null,null,null,null,null,null,null,12.99999999999997,{"$f":"(O137/$O$1007)*$P$1007","v":0},"",0,"",0,null,null,12.99999999999997,{"$f":"(W137/$W$1007)*$X$1007","v":0},{"$f":"INDEX($I$9:$I$39,MATCH(X137,$F$9:$F$39,1))","v":""},0,"",{"$f":"IF(AA137=0,\"\",INDEX($H$9:$H$41,MATCH(AA137,$I$9:$I$41,0)))","v":0},null,null,0,0,0,0,0,0,0,0,0,0,0,0,0,0,0,0,0,0,0,0,0,0,0,0,0,0,0,0,0,0,0,0,0,null,null,{"$f":"SUMIFS($Y138,$AB138,AE$7)","v":0},0,0,0,0,0,0,0,0,0,0,0,0,0,0,0,0,0,0,0,0,0,0,0,0,0,0,0,0,0,0,0,0]
[null,null,null,null,null,null,null,null,null,null,null,null,null,null,13.099999999999969,0,"",0,{"$f":"IF(R138=0,Q138,0)","v":""},{"$f":"IF(S138=0,\"\",INDEX($C$9:$C$41,MATCH(S138,$G$9:$G$41,0)))","v":0},null,null,13.099999999999969,0,"",0,{"$f":"IF(Z138=0,Y138,0)","v":""},0,null,null,0,0,0,0,0,0,0,0,0,0,0,0,0,0,0,{"$f":"SUMIFS($Q138,$T138,AT$7)","v":0},0,0,0,0,0,0,0,0,0,0,0,0,0,0,0,{"$f":"SUMIFS($Q138,$T138,BJ$7)","v":0},0,null,null,0,0,0,0,0,0,0,0,0,0,0,0,0,0,0,0,0,0,0,0,0,0,0,0,0,0,0,0,0,0,0,0,0]
[null,null,null,null,null,null,null,null,null,null,null,null,null,null,13.199999999999969,0,"",0,"",0,null,null,13.199999999999969,0,"",0,"",0,null,null,{"$f":"SUMIFS($Q139,$T139,AE$7)","v":0},0,0,0,0,0,0,0,0,0,0,0,0,0,0,0,0,0,0,0,0,0,0,0,0,0,0,0,0,0,0,0,0,null,null,0,0,0,0,0,0,0,0,0,0,0,0,0,0,0,0,0,0,0,0,0,0,0,0,0,0,0,0,0,0,0,0,0]
[null,null,null,null,null,null,null,null,null,null,null,null,null,null,13.299999999999969,0,"",0,"",0,null,null,13.299999999999969,0,"",0,"",0,null,null,0,0,0,0,0,0,0,0,0,0,0,0,0,0,0,0,0,0,0,0,0,0,0,0,0,0,0,0,0,0,0,0,0,null,null,0,0,0,0,0,0,0,0,0,0,0,0,0,0,0,0,0,0,0,0,0,0,0,0,0,0,0,0,0,0,0,0,0]
[null,null,null,null,null,null,null,null,null,null,null,null,null,null,13.399999999999968,0,"",0,"",0,null,null,13.399999999999968,0,"",0,"",0,null,null,0,0,0,0,0,0,0,0,0,0,0,0,0,0,0,0,0,0,0,0,0,0,0,0,0,0,0,0,0,0,0,0,0,null,null,0,0,0,0,0,0,0,0,0,0,0,0,0,0,0,0,0,0,0,0,0,0,0,0,0,0,0,0,0,0,0,0,0]
[null,null,null,null,null,null,null,null,null,null,null,null,null,null,13.499999999999968,0,"",0,"",0,null,null,13.499999999999968,0,"",0,"",0,null,null,0,0,0,0,0,0,0,0,0,0,0,0,0,0,0,0,0,0,0,0,0,0,0,0,0,0,0,0,0,0,0,0,0,null,null,0,0,0,0,0,0,0,0,0,0,0,0,0,0,0,0,0,0,0,0,0,0,0,0,0,0,0,0,0,0,0,0,0]
[null,null,null,null,null,null,null,null,null,null,null,null,null,null,13.599999999999968,0,"",0,"",0,null,null,13.599999999999968,0,"",0,"",0,null,null,0,0,0,0,0,0,0,0,0,0,0,0,0,0,0,0,0,0,0,0,0,0,0,0,0,0,0,0,0,0,0,0,0,null,null,0,0,0,0,0,0,0,0,0,0,0,0,0,0,0,0,0,0,0,0,0,0,0,0,0,0,0,0,0,0,0,0,0]
[null,null,null,null,null,null,null,null,null,null,null,null,null,null,13.699999999999967,0,"",0,"",0,null,null,13.699999999999967,0,"",0,"",0,null,null,0,0,0,0,0,0,0,0,0,0,0,0,0,0,0,0,0,0,0,0,0,0,0,0,0,0,0,0,0,0,0,0,0,null,null,0,0,0,0,0,0,0,0,0,0,0,0,0,0,0,0,0,0,0,0,0,0,0,0,0,0,0,0,0,0,0,0,0]
[null,null,null,null,null,null,null,null,null,null,null,null,null,null,13.799999999999967,0,"",0,"",0,null,null,13.799999999999967,0,"",0,"",0,null,null,0,0,0,0,0,0,0,0,0,0,0,0,0,0,0,0,0,0,0,0,0,0,0,0,0,0,0,0,0,0,0,0,0,null,null,0,0,0,0,0,0,0,0,0,0,0,0,0,0,0,0,0,0,0,0,0,0,0,0,0,0,0,0,0,0,0,0,0]
[null,null,null,null,null,null,null,null,null,null,null,null,null,null,13.899999999999967,0,"",0,"",0,null,null,13.899999999999967,0,"",0,"",0,null,null,0,0,0,0,0,0,0,0,0,0,0,0,0,0,0,0,0,0,0,0,0,0,0,0,0,0,0,0,0,0,0,0,0,null,null,0,0,0,0,0,0,0,0,0,0,0,0,0,0,0,0,0,0,0,0,0,0,0,0,0,0,0,0,0,0,0,0,0]
[null,null,null,null,null,null,null,null,null,null,null,null,null,null,13.999999999999966,0,"",0,"",0,null,null,13.999999999999966,0,"",0,"",0,null,null,0,0,0,0,0,0,0,0,0,0,0,0,0,0,0,0,0,0,0,0,0,0,0,0,0,0,0,0,0,0,0,0,0,null,null,0,0,0,0,0,0,0,0,0,0,0,0,0,0,0,0,0,0,0,0,0,0,0,0,0,0,0,0,0,0,0,0,0]
[null,null,null,null,null,null,null,null,null,null,null,null,null,null,14.099999999999966,0,"",0,"",0,null,null,14.099999999999966,0,"",0,"",0,null,null,0,0,0,0,0,0,0,0,0,0,0,0,0,0,0,0,0,0,0,0,0,0,0,0,0,0,0,0,0,0,0,0,0,null,null,0,0,0,0,0,0,0,0,0,0,0,0,0,0,0,0,0,0,0,0,0,0,0,0,0,0,0,0,0,0,0,0,0]
[null,null,null,null,null,null,null,null,null,null,null,null,null,null,14.199999999999966,0,"",0,"",0,null,null,14.199999999999966,0,"",0,"",0,null,null,0,0,0,0,0,0,0,0,0,0,0,0,0,0,0,0,0,0,0,0,0,0,0,0,0,0,0,0,0,0,0,0,0,null,null,0,0,0,0,0,0,0,0,0,0,0,0,0,0,0,0,0,0,0,0,0,0,0,0,0,0,0,0,0,0,0,0,0]
[null,null,null,null,null,null,null,null,null,null,null,null,null,null,14.299999999999965,0,"",0,"",0,null,null,14.299999999999965,0,"",0,"",0,null,null,0,0,0,0,0,0,0,0,0,0,0,0,0,0,0,0,0,0,0,0,0,0,0,0,0,0,0,0,0,0,0,0,0,null,null,0,0,0,0,0,0,0,0,0,0,0,0,0,0,0,0,0,0,0,0,0,0,0,0,0,0,0,0,0,0,0,0,0]
[null,null,null,null,null,null,null,null,null,null,null,null,null,null,14.399999999999965,0,"",0,"",0,null,null,14.399999999999965,0,"",0,"",0,null,null,0,0,0,0,0,0,0,0,0,0,0,0,0,0,0,0,0,0,0,0,0,0,0,0,0,0,0,0,0,0,0,0,0,null,null,0,0,0,0,0,0,0,0,0,0,0,0,0,0,0,0,0,0,0,0,0,0,0,0,0,0,0,0,0,0,0,0,0]
[null,null,null,null,null,null,null,null,null,null,null,null,null,null,14.499999999999964,0,"",0,"",0,null,null,14.499999999999964,0,"",0,"",0,null,null,0,0,0,0,0,0,0,0,0,0,0,0,0,0,0,0,0,0,0,0,0,0,0,0,0,0,0,0,0,0,0,0,0,null,null,0,0,0,0,0,0,0,0,0,0,0,0,0,0,0,0,0,0,0,0,0,0,0,0,0,0,0,0,0,0,0,0,0]
[null,null,null,null,null,null,null,null,null,null,null,null,null,null,14.599999999999964,0,"",0,"",0,null,null,14.599999999999964,0,"",0,"",0,null,null,0,0,0,0,0,0,0,0,0,0,0,0,0,0,0,0,0,0,0,0,0,0,0,0,0,0,0,0,0,0,{"$f":"SUMIFS($Q153,$T153,BI$7)","v":0},0,0,null,null,0,0,0,0,0,0,0,0,0,0,0,0,0,0,0,0,0,0,0,0,0,0,0,0,0,0,0,0,0,0,0,0,0]
[null,null,null,null,null,null,null,null,null,null,null,null,null,null,14.699999999999964,0,"",0,"",0,null,null,14.699999999999964,0,"",0,"",0,null,null,0,0,0,0,0,0,0,0,0,0,0,0,0,0,0,0,{"$f":"SUMIFS($Q154,$T154,AU$7)","v":0},0,0,0,0,0,0,0,0,0,0,0,0,0,0,0,0,null,null,0,0,0,0,0,0,0,0,0,0,0,0,0,0,0,0,0,0,0,0,0,0,0,0,0,0,0,0,0,0,0,0,0]
[null,null,null,null,null,null,null,null,null,null,null,null,null,null,14.799999999999963,0,"",0,"",0,null,null,14.799999999999963,0,"",0,"",0,null,null,{"$f":"SUMIFS($Q155,$T155,AE$7)","v":0},0,0,0,0,0,0,0,0,0,0,0,0,0,0,0,0,0,0,0,0,0,0,0,0,0,0,0,0,0,0,0,0,null,null,0,0,0,0,0,0,0,0,0,0,0,0,0,0,0,0,0,0,0,0,0,0,0,0,0,0,0,0,0,0,0,0,0]
[null,null,null,null,null,null,null,null,null,null,null,null,null,null,14.899999999999963,0,"",0,"",0,null,null,14.899999999999963,0,"",0,"",0,null,null,0,0,0,0,0,0,0,0,0,0,0,0,0,0,0,0,0,0,0,0,0,0,0,0,0,0,0,0,0,0,0,0,0,null,null,0,0,0,0,0,0,0,0,0,0,0,0,0,0,0,0,0,0,0,0,0,0,0,0,0,0,0,0,0,0,0,0,0]
[null,null,null,null,null,null,null,null,null,null,null,null,null,null,14.999999999999963,0,"",0,"",0,null,null,14.999999999999963,0,"",0,"",0,null,null,0,0,0,0,0,0,0,0,0,0,0,0,0,0,0,0,0,0,0,0,0,0,0,0,0,0,0,0,0,0,0,0,0,null,null,0,0,0,0,0,0,0,0,0,0,0,0,0,0,0,0,0,0,0,0,0,0,0,0,0,0,0,0,0,0,0,0,0]
[null,null,null,null,null,null,null,null,null,null,null,null,null,null,15.099999999999962,0,"",0,"",0,null,null,15.099999999999962,0,"",0,"",0,null,null,0,0,0,0,0,0,0,0,0,0,0,0,0,0,0,0,0,0,0,0,0,0,0,0,0,0,0,0,0,0,0,0,0,null,null,0,0,0,0,0,0,0,0,0,0,0,0,0,0,0,0,0,0,0,0,0,0,0,0,0,0,0,0,0,0,0,0,0]
[null,null,null,null,null,null,null,null,null,null,null,null,null,null,15.199999999999962,0,"",0,"",0,null,null,15.199999999999962,0,"",0,"",0,null,null,0,0,0,0,0,0,0,0,0,0,0,0,0,0,0,0,0,0,0,0,0,0,0,0,0,0,0,0,0,0,0,0,0,null,null,0,0,0,0,0,0,0,0,0,0,0,0,0,0,0,0,0,0,0,0,0,0,0,0,0,0,0,0,0,0,0,0,0]
[null,null,null,null,null,null,null,null,null,null,null,null,null,null,15.299999999999962,0,"",0,"",0,null,null,15.299999999999962,0,"",0,"",0,null,null,0,0,0,0,0,0,0,0,0,0,0,0,0,0,0,0,0,0,0,0,0,0,0,0,0,0,0,0,0,0,0,0,0,null,null,0,0,0,0,0,0,0,0,0,0,0,0,0,0,0,0,0,0,0,0,0,0,0,0,0,0,0,0,0,0,0,0,0]
[null,null,null,null,null,null,null,null,null,null,null,null,null,null,15.399999999999961,0,"",0,"",0,null,null,15.399999999999961,0,"",0,"",0,null,null,0,0,0,0,0,0,0,0,0,0,0,0,0,0,0,0,0,0,0,0,0,0,0,0,0,0,0,0,0,0,0,0,0,null,null,0,0,0,0,0,0,0,0,0,0,0,0,0,0,0,0,0,0,0,0,0,0,0,0,0,0,0,0,0,0,0,0,0]
[null,null,null,null,null,null,null,null,null,null,null,null,null,null,15.499999999999961,0,"",0,"",0,null,null,15.499999999999961,0,"",0,"",0,null,null,0,0,0,0,0,0,0,0,0,0,0,0,0,0,0,0,0,0,0,0,0,0,0,0,0,0,0,0,0,0,0,0,0,null,null,0,0,0,0,0,0,0,0,0,0,0,0,0,0,0,0,0,0,0,0,0,0,0,0,0,0,0,0,0,0,0,0,0]
[null,null,null,null,null,null,null,null,null,null,null,null,null,null,15.599999999999961,0,"",0,"",0,null,null,15.599999999999961,0,"",0,"",0,null,null,0,0,0,0,0,0,0,0,0,0,0,0,0,0,0,0,0,0,0,0,0,0,0,0,0,0,0,0,0,0,0,0,0,null,null,0,0,0,0,0,0,0,0,0,0,0,0,0,0,0,0,0,0,0,0,0,0,0,0,0,0,0,0,0,0,0,0,0]
[null,null,null,null,null,null,null,null,null,null,null,null,null,null,15.69999999999996,0,"",0,"",0,null,null,15.69999999999996,0,"",0,"",0,null,null,0,0,0,0,0,0,0,0,0,0,0,0,0,0,0,0,0,0,0,0,0,0,0,0,0,0,0,0,0,0,0,0,0,null,null,0,0,0,0,0,0,0,0,0,0,0,0,0,0,0,0,0,0,0,0,0,0,0,0,0,0,0,0,0,0,0,0,0]
[null,null,null,null,null,null,null,null,null,null,null,null,null,null,15.79999999999996,0,"",0,"",0,null,null,15.79999999999996,0,"",0,"",0,null,null,0,0,0,0,0,0,0,0,0,0,0,0,0,0,0,0,0,0,0,0,0,0,0,0,0,0,0,0,0,0,0,0,0,null,null,0,0,0,0,0,0,0,0,0,0,0,0,0,0,0,0,0,0,0,0,0,0,0,0,0,0,0,0,0,0,0,0,0]
[null,null,null,null,null,null,null,null,null,null,null,null,null,null,15.899999999999959,0,"",0,"",0,null,null,15.899999999999959,0,"",0,"",0,null,null,0,0,0,0,0,0,0,0,0,0,0,0,0,0,0,0,0,0,0,0,0,0,0,0,0,0,0,0,0,0,0,0,0,null,null,0,0,0,0,0,0,0,0,0,0,0,0,0,0,0,0,0,0,0,0,0,0,0,0,0,0,0,0,0,0,0,0,0]
[null,null,null,null,null,null,null,null,null,null,null,null,null,null,15.999999999999959,0,"",0,"",0,null,null,15.999999999999959,0,"",0,"",0,null,null,0,0,0,0,0,0,0,0,0,0,0,0,0,0,0,0,0,0,0,0,0,0,0,0,0,0,0,0,0,0,0,0,0,null,null,0,0,0,0,0,0,0,0,0,0,0,0,0,0,0,0,0,0,0,0,0,0,0,0,0,0,0,0,0,0,0,0,0]
[null,null,null,null,null,null,null,null,null,null,null,null,null,null,16.099999999999959,0,"",0,"",0,null,null,16.099999999999959,0,"",0,"",0,null,null,0,0,0,0,0,0,0,0,0,0,0,0,0,0,0,0,0,0,0,0,0,0,0,0,0,0,0,0,0,0,0,0,0,null,null,0,0,0,0,0,0,0,0,0,0,0,0,0,0,0,0,0,0,0,0,0,0,0,0,0,0,0,0,0,0,0,0,0]
[null,null,null,null,null,null,null,null,null,null,null,null,null,null,{"$f":"O168+$N$7","v":16.19999999999996},0,"",0,"",0,null,null,{"$f":"W168+$N$7","v":16.19999999999996},0,"",0,"",0,null,null,0,0,0,0,0,0,0,0,0,0,0,0,0,0,0,0,0,0,0,0,0,0,0,0,0,0,0,0,0,0,0,0,0,null,null,0,0,0,0,0,0,0,0,0,0,0,0,0,0,0,0,0,0,0,0,0,0,0,0,0,0,0,0,0,0,0,0,0]
[null,null,null,null,null,null,null,null,null,null,null,null,null,null,16.299999999999962,0,"",0,"",0,null,null,16.299999999999962,0,"",0,"",0,null,null,0,0,0,0,0,0,0,0,0,0,0,0,0,0,0,{"$f":"SUMIFS($Q170,$T170,AT$7)","v":0},0,0,0,0,0,0,0,0,0,0,0,0,0,0,0,0,0,null,null,0,0,0,0,0,0,0,0,0,0,0,0,0,0,0,0,0,0,0,0,0,0,0,0,0,0,0,0,0,0,0,0,0]
[null,null,null,null,null,null,null,null,null,null,null,null,null,null,16.399999999999963,0,"",0,"",0,null,null,16.399999999999963,0,"",0,"",0,null,null,{"$f":"SUMIFS($Q171,$T171,AE$7)","v":0},0,0,0,0,0,0,0,0,0,0,0,0,0,0,0,0,0,0,0,0,0,0,0,0,0,0,0,0,0,0,0,0,null,null,0,0,0,0,0,0,0,0,0,0,0,0,0,0,0,0,0,0,0,0,0,0,0,0,0,0,0,0,0,0,0,0,0]
[null,null,null,null,null,null,null,null,null,null,null,null,null,null,16.499999999999964,0,"",0,"",0,null,null,16.499999999999964,0,"",0,"",0,null,null,0,0,0,0,0,0,0,0,0,0,0,0,0,0,0,0,0,0,0,0,0,0,0,0,0,0,0,0,0,0,0,0,0,null,null,0,0,0,0,0,0,0,0,0,0,0,0,0,0,0,0,0,0,0,0,0,0,0,0,0,0,0,0,0,0,0,0,0]
[null,null,null,null,null,null,null,null,null,null,null,null,null,null,16.599999999999966,0,"",0,"",0,null,null,16.599999999999966,0,"",0,"",0,null,null,0,0,0,0,0,0,0,0,0,0,0,0,0,0,0,0,0,0,0,0,0,0,0,0,0,0,0,0,0,0,0,{"$f":"SUMIFS($Q173,$T173,BJ$7)","v":0},0,null,null,0,0,0,0,0,0,0,0,0,0,0,0,0,0,0,0,0,0,0,0,0,0,0,0,0,0,0,0,0,0,0,0,0]
[null,null,null,null,null,null,null,null,null,null,null,null,null,null,16.699999999999967,0,"",0,"",0,null,null,16.699999999999967,0,"",0,"",0,null,null,0,0,0,0,0,0,0,0,0,0,0,0,0,0,0,0,0,0,0,0,0,0,0,0,0,0,0,0,0,0,0,0,0,null,null,0,0,0,0,0,0,0,0,0,0,0,0,0,0,0,0,0,0,0,0,0,0,0,0,0,0,0,0,0,0,0,0,0]
[null,null,null,null,null,null,null,null,null,null,null,null,null,null,16.799999999999969,0,"",0,"",0,null,null,16.799999999999969,0,"",0,"",0,null,null,0,0,0,0,0,0,0,0,0,0,0,0,0,0,0,0,0,0,0,0,0,0,0,0,0,0,0,0,0,0,0,0,0,null,null,0,0,0,0,0,0,0,0,0,0,0,0,0,0,0,0,0,0,0,0,0,0,0,0,0,0,0,0,0,0,0,0,0]
[null,null,null,null,null,null,null,null,null,null,null,null,null,null,16.89999999999997,0,"",0,"",0,null,null,16.89999999999997,0,"",0,"",0,null,null,0,0,0,0,0,0,0,0,0,0,0,0,0,0,0,0,0,0,0,0,0,0,0,0,0,0,0,0,0,0,0,0,0,null,null,0,0,0,0,0,0,0,0,0,0,0,0,0,0,0,0,0,0,0,0,0,0,0,0,0,0,0,0,0,0,0,0,0]
[null,null,null,null,null,null,null,null,null,null,null,null,null,null,16.999999999999972,0,"",0,"",0,null,null,16.999999999999972,0,"",0,"",0,null,null,0,0,0,0,0,0,0,0,0,0,0,0,0,0,0,0,0,0,0,0,0,0,0,0,0,0,0,0,0,0,0,0,0,null,null,0,0,0,0,0,0,0,0,0,0,0,0,0,0,0,0,0,0,0,0,0,0,0,0,0,0,0,0,0,0,0,0,0]
[null,null,null,null,null,null,null,null,null,null,null,null,null,null,17.099999999999973,0,"",0,"",0,null,null,17.099999999999973,0,"",0,"",0,null,null,0,0,0,0,0,0,0,0,0,0,0,0,0,0,0,0,0,0,0,0,0,0,0,0,0,0,0,0,0,0,0,0,0,null,null,0,0,0,0,0,0,0,0,0,0,0,0,0,0,0,0,0,0,0,0,0,0,0,0,0,0,0,0,0,0,0,0,0]
[null,null,null,null,null,null,null,null,null,null,null,null,null,null,17.199999999999974,0,"",0,"",0,null,null,17.199999999999974,0,"",0,"",0,null,null,0,0,0,0,0,0,0,0,0,0,0,0,0,0,0,0,0,0,0,0,0,0,0,0,0,0,0,0,0,0,0,0,0,null,null,0,0,0,0,0,0,0,0,0,0,0,0,0,0,0,0,0,0,0,0,0,0,0,0,0,0,0,0,0,0,0,0,0]
[null,null,null,null,null,null,null,null,null,null,null,null,null,null,17.299999999999976,0,"",0,"",0,null,null,17.299999999999976,0,"",0,"",0,null,null,0,0,0,0,0,0,0,0,0,0,0,0,0,0,0,0,0,0,0,0,0,0,0,0,0,0,0,0,0,0,0,0,0,null,null,0,0,0,0,0,0,0,0,0,0,0,0,0,0,0,0,0,0,0,0,0,0,0,0,0,0,0,0,0,0,0,0,0]
[null,null,null,null,null,null,null,null,null,null,null,null,null,null,17.399999999999977,0,"",0,"",0,null,null,17.399999999999977,0,"",0,"",0,null,null,0,0,0,0,0,0,0,0,0,0,0,0,0,0,0,0,0,0,0,0,0,0,0,0,0,0,0,0,0,0,0,0,0,null,null,0,0,0,0,0,0,0,0,0,0,0,0,0,0,0,0,0,0,0,0,0,0,0,0,0,0,0,0,0,0,0,0,0]
[null,null,null,null,null,null,null,null,null,null,null,null,null,null,17.499999999999979,0,"",0,"",0,null,null,17.499999999999979,0,"",0,"",0,null,null,0,0,0,0,0,0,0,0,0,0,0,0,0,0,0,0,0,0,0,0,0,0,0,0,0,0,0,0,0,0,0,0,0,null,null,0,0,0,0,0,0,0,0,0,0,0,0,0,0,0,0,0,0,0,0,0,0,0,0,0,0,0,0,0,0,0,0,0]
[null,null,null,null,null,null,null,null,null,null,null,null,null,null,17.59999999999998,0,"",0,"",0,null,null,17.59999999999998,0,"",0,"",0,null,null,0,0,0,0,0,0,0,0,0,0,0,0,0,0,0,0,0,0,0,0,0,0,0,0,0,0,0,0,0,0,0,0,0,null,null,0,0,0,0,0,0,0,0,0,0,0,0,0,0,0,0,0,0,0,0,0,0,0,0,0,0,0,0,0,0,0,0,0]
[null,null,null,null,null,null,null,null,null,null,null,null,null,null,17.699999999999982,0,"",0,"",0,null,null,17.699999999999982,0,"",0,"",0,null,null,0,0,0,0,0,0,0,0,0,0,0,0,0,0,0,0,0,0,0,0,0,0,0,0,0,0,0,0,0,0,0,0,0,null,null,0,0,0,0,0,0,0,0,0,0,0,0,0,0,0,0,0,0,0,0,0,0,0,0,0,0,0,0,0,0,0,0,0]
[null,null,null,null,null,null,null,null,null,null,null,null,null,null,17.799999999999983,0,"",0,"",0,null,null,17.799999999999983,0,"",0,"",0,null,null,0,0,0,0,0,0,0,0,0,0,0,0,0,0,0,0,0,0,0,0,0,0,0,0,0,0,0,0,0,0,0,0,0,null,null,0,0,0,0,0,0,0,0,0,0,0,0,0,0,0,0,0,0,0,0,0,0,0,0,0,0,0,0,0,0,0,0,0]
[null,null,null,null,null,null,null,null,null,null,null,null,null,null,17.899999999999984,0,"",0,"",0,null,null,17.899999999999984,0,"",0,"",0,null,null,0,0,0,0,0,0,0,0,0,0,0,0,0,0,0,0,{"$f":"SUMIFS($Q186,$T186,AU$7)","v":0},0,0,0,0,0,0,0,0,0,0,0,0,0,0,0,0,null,null,0,0,0,0,0,0,0,0,0,0,0,0,0,0,0,0,0,0,0,0,0,0,0,0,0,0,0,0,0,0,0,0,0]
[null,null,null,null,null,null,null,null,null,null,null,null,null,null,17.999999999999986,0,"",0,"",0,null,null,17.999999999999986,0,"",0,"",0,null,null,{"$f":"SUMIFS($Q187,$T187,AE$7)","v":0},0,0,0,0,0,0,0,0,0,0,0,0,0,0,0,0,0,0,0,0,0,0,0,0,0,0,0,0,0,0,0,0,null,null,0,0,0,0,0,0,0,0,0,0,0,0,0,0,0,0,0,0,0,0,0,0,0,0,0,0,0,0,0,0,0,0,0]
[null,null,null,null,null,null,null,null,null,null,null,null,null,null,18.099999999999987,0,"",0,"",0,null,null,18.099999999999987,0,"",0,"",0,null,null,0,0,0,0,0,0,0,0,0,0,0,0,0,0,0,0,0,0,0,0,0,0,0,0,0,0,0,0,0,0,0,0,0,null,null,0,0,0,0,0,0,0,0,0,0,0,0,0,0,0,0,0,0,0,0,0,0,0,0,0,0,0,0,0,0,0,0,0]
[null,null,null,null,null,null,null,null,null,null,null,null,null,null,18.199999999999989,0,"",0,"",0,null,null,18.199999999999989,0,"",0,"",0,null,null,0,0,0,0,0,0,0,0,0,0,0,0,0,0,0,0,0,0,0,0,0,0,0,0,0,0,0,0,0,0,0,0,0,null,null,0,0,0,0,0,0,0,0,0,0,0,0,0,0,0,0,0,0,0,0,0,0,0,0,0,0,0,0,0,0,0,0,0]
[null,null,null,null,null,null,null,null,null,null,null,null,null,null,18.29999999999999,0,"",0,"",0,null,null,18.29999999999999,0,"",0,"",0,null,null,0,0,0,0,0,0,0,0,0,0,0,0,0,0,0,0,0,0,0,0,0,0,0,0,0,0,0,0,0,0,0,0,0,null,null,0,0,0,0,0,0,0,0,0,0,0,0,0,0,0,0,0,0,0,0,0,0,0,0,0,0,0,0,0,0,0,0,0]
[null,null,null,null,null,null,null,null,null,null,null,null,null,null,18.399999999999991,0,"",0,"",0,null,null,18.399999999999991,0,"",0,"",0,null,null,0,0,0,0,0,0,0,0,0,0,0,0,0,0,0,0,0,0,0,0,0,0,0,0,0,0,0,0,0,0,0,0,0,null,null,0,0,0,0,0,0,0,0,0,0,0,0,0,0,0,0,0,0,0,0,0,0,0,0,0,0,0,0,0,0,0,0,0]
[null,null,null,null,null,null,null,null,null,null,null,null,null,null,18.499999999999993,0,"",0,"",0,null,null,18.499999999999993,0,"",0,"",0,null,null,0,0,0,0,0,0,0,0,0,0,0,0,0,0,0,0,0,0,0,0,0,0,0,0,0,0,0,0,0,0,0,0,0,null,null,0,0,0,0,0,0,0,0,0,0,0,0,0,0,0,0,0,0,0,0,0,0,0,0,0,0,0,0,0,0,0,0,0]
[null,null,null,null,null,null,null,null,null,null,null,null,null,null,18.599999999999994,0,"",0,"",0,null,null,18.599999999999994,0,"",0,"",0,null,null,0,0,0,0,0,0,0,0,0,0,0,0,0,0,0,0,0,0,0,0,0,0,0,0,0,0,0,0,0,0,0,0,{"$f":"SUMIFS($Q193,$T193,BK$7)","v":0},null,null,0,0,0,0,0,0,0,0,0,0,0,0,0,0,0,0,0,0,0,0,0,0,0,0,0,0,0,0,0,0,0,0,0]
[null,null,null,null,null,null,null,null,null,null,null,null,null,null,18.699999999999996,0,"",0,"",0,null,null,18.699999999999996,0,"",0,"",0,null,null,0,0,0,0,0,0,0,0,0,0,0,0,0,0,0,0,0,0,0,0,0,0,0,0,0,0,0,0,0,0,0,0,0,null,null,0,0,0,0,0,0,0,0,0,0,0,0,0,0,0,0,0,0,0,0,0,0,0,0,0,0,0,0,0,0,0,0,0]
[null,null,null,null,null,null,null,null,null,null,null,null,null,null,18.799999999999997,0,"",0,"",0,null,null,18.799999999999997,0,"",0,"",0,null,null,0,0,0,0,0,0,0,0,0,0,0,0,0,0,0,0,0,0,0,0,0,0,0,0,0,0,0,0,0,0,0,0,0,null,null,0,0,0,0,0,0,0,0,0,0,0,0,0,0,0,0,0,0,0,0,0,0,0,0,0,0,0,0,0,0,0,0,0]
[null,null,null,null,null,null,null,null,null,null,null,null,null,null,18.899999999999999,0,"",0,"",0,null,null,18.899999999999999,0,"",0,"",0,null,null,0,0,0,0,0,0,0,0,0,0,0,0,0,0,0,0,0,0,0,0,0,0,0,0,0,0,0,0,0,0,0,0,0,null,null,0,0,0,0,0,0,0,0,0,0,0,0,0,0,0,0,0,0,0,0,0,0,0,0,0,0,0,0,0,0,0,0,0]
[null,null,null,null,null,null,null,null,null,null,null,null,null,null,19,0,"",0,"",0,null,null,19,0,"",0,"",0,null,null,0,0,0,0,0,0,0,0,0,0,0,0,0,0,0,0,0,0,0,0,0,0,0,0,0,0,0,0,0,0,0,0,0,null,null,0,0,0,0,0,0,0,0,0,0,0,0,0,0,0,0,0,0,0,0,0,0,0,0,0,0,0,0,0,0,0,0,0]
[null,null,null,null,null,null,null,null,null,null,null,null,null,null,19.100000000000001,0,"",0,"",0,null,null,19.100000000000001,0,"",0,"",0,null,null,0,0,0,0,0,0,0,0,0,0,0,0,0,0,0,0,0,0,0,0,0,0,0,0,0,0,0,0,0,0,0,0,0,null,null,0,0,0,0,0,0,0,0,0,0,0,0,0,0,0,0,0,0,0,0,0,0,0,0,0,0,0,0,0,0,0,0,0]
[null,null,null,null,null,null,null,null,null,null,null,null,null,null,19.200000000000003,0,"",0,"",0,null,null,19.200000000000003,0,"",0,"",0,null,null,0,0,0,0,0,0,0,0,0,0,0,0,0,0,0,0,0,0,0,0,0,0,0,0,0,0,0,0,0,0,0,0,0,null,null,0,0,0,0,0,0,0,0,0,0,0,0,0,0,0,0,0,0,0,0,0,0,0,0,0,0,0,0,0,0,0,0,0]
[null,null,null,null,null,null,null,null,null,null,null,null,null,null,19.300000000000004,0,{"$f":"INDEX($G$9:$G$39,MATCH(P200,$E$9:$E$39,1))","v":""},{"$f":"IF(Q200<>Q198,Q200,0)","v":0},"",0,null,null,19.300000000000004,0,"",{"$f":"IF(Y200<>Y198,Y200,0)","v":0},"",0,null,null,0,0,0,0,0,0,0,0,0,0,0,0,0,0,0,0,0,0,0,0,0,0,0,0,0,0,0,0,0,0,0,0,0,null,null,0,{"$f":"SUMIFS($Y201,$AB201,AF$7)","v":0},{"$f":"SUMIFS($Y201,$AB201,AG$7)","v":0},{"$f":"SUMIFS($Y201,$AB201,AH$7)","v":0},{"$f":"SUMIFS($Y201,$AB201,AI$7)","v":0},{"$f":"SUMIFS($Y201,$AB201,AJ$7)","v":0},{"$f":"SUMIFS($Y201,$AB201,AK$7)","v":0},{"$f":"SUMIFS($Y201,$AB201,AL$7)","v":0},{"$f":"SUMIFS($Y201,$AB201,AM$7)","v":0},{"$f":"SUMIFS($Y201,$AB201,AN$7)","v":0},{"$f":"SUMIFS($Y201,$AB201,AO$7)","v":0},{"$f":"SUMIFS($Y201,$AB201,AP$7)","v":0},{"$f":"SUMIFS($Y201,$AB201,AQ$7)","v":0},{"$f":"SUMIFS($Y201,$AB201,AR$7)","v":0},{"$f":"SUMIFS($Y201,$AB201,AS$7)","v":0},{"$f":"SUMIFS($Y201,$AB201,AT$7)","v":0},{"$f":"SUMIFS($Y201,$AB201,AU$7)","v":0},{"$f":"SUMIFS($Y201,$AB201,AV$7)","v":0},{"$f":"SUMIFS($Y201,$AB201,AW$7)","v":0},{"$f":"SUMIFS($Y201,$AB201,AX$7)","v":0},{"$f":"SUMIFS($Y201,$AB201,AY$7)","v":0},{"$f":"SUMIFS($Y201,$AB201,AZ$7)","v":0},{"$f":"SUMIFS($Y201,$AB201,BA$7)","v":0},{"$f":"SUMIFS($Y201,$AB201,BB$7)","v":0},{"$f":"SUMIFS($Y201,$AB201,BC$7)","v":0},{"$f":"SUMIFS($Y201,$AB201,BD$7)","v":0},{"$f":"SUMIFS($Y201,$AB201,BE$7)","v":0},{"$f":"SUMIFS($Y201,$AB201,BF$7)","v":0},{"$f":"SUMIFS($Y201,$AB201,BG$7)","v":0},{"$f":"SUMIFS($Y201,$AB201,BH$7)","v":0},{"$f":"SUMIFS($Y201,$AB201,BI$7)","v":0},{"$f":"SUMIFS($Y201,$AB201,BJ$7)","v":0},{"$f":"SUMIFS($Y201,$AB201,BK$7)","v":0}]
[null,null,null,null,null,null,null,null,null,null,null,null,null,null,19.400000000000006,{"$f":"(O201/$O$1007)*$P$1007","v":0},"",0,"",0,null,null,19.400000000000006,{"$f":"(W201/$W$1007)*$X$1007","v":0},{"$f":"INDEX($I$9:$I$39,MATCH(X201,$F$9:$F$39,1))","v":""},0,"",{"$f":"IF(AA201=0,\"\",INDEX($H$9:$H$41,MATCH(AA201,$I$9:$I$41,0)))","v":0},null,null,0,0,0,0,0,0,0,0,0,0,0,0,0,0,0,0,0,0,0,0,0,0,0,0,0,0,0,0,0,0,0,0,0,null,null,{"$f":"SUMIFS($Y202,$AB202,AE$7)","v":0},0,0,0,0,0,0,0,0,0,0,0,0,0,0,0,0,0,0,0,0,0,0,0,0,0,0,0,0,0,0,0,0]
[null,null,null,null,null,null,null,null,null,null,null,null,null,null,19.500000000000007,0,"",0,{"$f":"IF(R202=0,Q202,0)","v":""},{"$f":"IF(S202=0,\"\",INDEX($C$9:$C$41,MATCH(S202,$G$9:$G$41,0)))","v":0},null,null,19.500000000000007,0,"",0,{"$f":"IF(Z202=0,Y202,0)","v":""},0,null,null,0,0,0,0,0,0,0,0,0,0,0,0,0,0,0,{"$f":"SUMIFS($Q202,$T202,AT$7)","v":0},0,0,0,0,0,0,0,0,0,0,0,0,0,0,0,{"$f":"SUMIFS($Q202,$T202,BJ$7)","v":0},0,null,null,0,0,0,0,0,0,0,0,0,0,0,0,0,0,0,0,0,0,0,0,0,0,0,0,0,0,0,0,0,0,0,0,0]
[null,null,null,null,null,null,null,null,null,null,null,null,null,null,19.600000000000009,0,"",0,"",0,null,null,19.600000000000009,0,"",0,"",0,null,null,{"$f":"SUMIFS($Q203,$T203,AE$7)","v":0},0,0,0,0,0,0,0,0,0,0,0,0,0,0,0,0,0,0,0,0,0,0,0,0,0,0,0,0,0,0,0,0,null,null,0,0,0,0,0,0,0,0,0,0,0,0,0,0,0,0,0,0,0,0,0,0,0,0,0,0,0,0,0,0,0,0,0]
[null,null,null,null,null,null,null,null,null,null,null,null,null,null,19.70000000000001,0,"",0,"",0,null,null,19.70000000000001,0,"",0,"",0,null,null,0,0,0,0,0,0,0,0,0,0,0,0,0,0,0,0,0,0,0,0,0,0,0,0,0,0,0,0,0,0,0,0,0,null,null,0,0,0,0,0,0,0,0,0,0,0,0,0,0,0,0,0,0,0,0,0,0,0,0,0,0,0,0,0,0,0,0,0]
[null,null,null,null,null,null,null,null,null,null,null,null,null,null,19.800000000000011,0,"",0,"",0,null,null,19.800000000000011,0,"",0,"",0,null,null,0,0,0,0,0,0,0,0,0,0,0,0,0,0,0,0,0,0,0,0,0,0,0,0,0,0,0,0,0,0,0,0,0,null,null,0,0,0,0,0,0,0,0,0,0,0,0,0,0,0,0,0,0,0,0,0,0,0,0,0,0,0,0,0,0,0,0,0]
[null,null,null,null,null,null,null,null,null,null,null,null,null,null,19.900000000000013,0,"",0,"",0,null,null,19.900000000000013,0,"",0,"",0,null,null,0,0,0,0,0,0,0,0,0,0,0,0,0,0,0,0,0,0,0,0,0,0,0,0,0,0,0,0,0,0,0,0,0,null,null,0,0,0,0,0,0,0,0,0,0,0,0,0,0,0,0,0,0,0,0,0,0,0,0,0,0,0,0,0,0,0,0,0]
[null,null,null,null,null,null,null,null,null,null,null,null,null,null,20.000000000000014,0,"",0,"",0,null,null,20.000000000000014,0,"",0,"",0,null,null,0,0,0,0,0,0,0,0,0,0,0,0,0,0,0,0,0,0,0,0,0,0,0,0,0,0,0,0,0,0,0,0,0,null,null,0,0,0,0,0,0,0,0,0,0,0,0,0,0,0,0,0,0,0,0,0,0,0,0,0,0,0,0,0,0,0,0,0]
[null,null,null,null,null,null,null,null,null,null,null,null,null,null,20.100000000000016,0,"",0,"",0,null,null,20.100000000000016,0,"",0,"",0,null,null,0,0,0,0,0,0,0,0,0,0,0,0,0,0,0,0,0,0,0,0,0,0,0,0,0,0,0,0,0,0,0,0,0,null,null,0,0,0,0,0,0,0,0,0,0,0,0,0,0,0,0,0,0,0,0,0,0,0,0,0,0,0,0,0,0,0,0,0]
[null,null,null,null,null,null,null,null,null,null,null,null,null,null,20.200000000000017,0,"",0,"",0,null,null,20.200000000000017,0,"",0,"",0,null,null,0,0,0,0,0,0,0,0,0,0,0,0,0,0,0,0,0,0,0,0,0,0,0,0,0,0,0,0,0,0,0,0,0,null,null,0,0,0,0,0,0,0,0,0,0,0,0,0,0,0,0,0,0,0,0,0,0,0,0,0,0,0,0,0,0,0,0,0]
[null,null,null,null,null,null,null,null,null,null,null,null,null,null,20.300000000000018,0,"",0,"",0,null,null,20.300000000000018,0,"",0,"",0,null,null,0,0,0,0,0,0,0,0,0,0,0,0,0,0,0,0,0,0,0,0,0,0,0,0,0,0,0,0,0,0,0,0,0,null,null,0,0,0,0,0,0,0,0,0,0,0,0,0,0,0,0,0,0,0,0,0,0,0,0,0,0,0,0,0,0,0,0,0]
[null,null,null,null,null,null,null,null,null,null,null,null,null,null,20.40000000000002,0,"",0,"",0,null,null,20.40000000000002,0,"",0,"",0,null,null,0,0,0,0,0,0,0,0,0,0,0,0,0,0,0,0,0,0,0,0,0,0,0,0,0,0,0,0,0,0,0,0,0,null,null,0,0,0,0,0,0,0,0,0,0,0,0,0,0,0,0,0,0,0,0,0,0,0,0,0,0,0,0,0,0,0,0,0]
[null,null,null,null,null,null,null,null,null,null,null,null,null,null,20.500000000000021,0,"",0,"",0,null,null,20.500000000000021,0,"",0,"",0,null,null,0,0,0,0,0,0,0,0,0,0,0,0,0,0,0,0,0,0,0,0,0,0,0,0,0,0,0,0,0,0,0,0,0,null,null,0,0,0,0,0,0,0,0,0,0,0,0,0,0,0,0,0,0,0,0,0,0,0,0,0,0,0,0,0,0,0,0,0]
[null,null,null,null,null,null,null,null,null,null,null,null,null,null,20.600000000000023,0,"",0,"",0,null,null,20.600000000000023,0,"",0,"",0,null,null,0,0,0,0,0,0,0,0,0,0,0,0,0,0,0,0,0,0,0,0,0,0,0,0,0,0,0,0,0,0,0,0,0,null,null,0,0,0,0,0,0,0,0,0,0,0,0,0,0,0,0,0,0,0,0,0,0,0,0,0,0,0,0,0,0,0,0,0]
[null,null,null,null,null,null,null,null,null,null,null,null,null,null,20.700000000000024,0,"",0,"",0,null,null,20.700000000000024,0,"",0,"",0,null,null,0,0,0,0,0,0,0,0,0,0,0,0,0,0,0,0,0,0,0,0,0,0,0,0,0,0,0,0,0,0,0,0,0,null,null,0,0,0,0,0,0,0,0,0,0,0,0,0,0,0,0,0,0,0,0,0,0,0,0,0,0,0,0,0,0,0,0,0]
[null,null,null,null,null,null,null,null,null,null,null,null,null,null,20.800000000000026,0,"",0,"",0,null,null,20.800000000000026,0,"",0,"",0,null,null,0,0,0,0,0,0,0,0,0,0,0,0,0,0,0,0,0,0,0,0,0,0,0,0,0,0,0,0,0,0,0,0,0,null,null,0,0,0,0,0,0,0,0,0,0,0,0,0,0,0,0,0,0,0,0,0,0,0,0,0,0,0,0,0,0,0,0,0]
[null,null,null,null,null,null,null,null,null,null,null,null,null,null,20.900000000000027,0,"",0,"",0,null,null,20.900000000000027,0,"",0,"",0,null,null,0,0,0,0,0,0,0,0,0,0,0,0,0,0,0,0,0,0,0,0,0,0,0,0,0,0,0,0,0,0,0,0,0,null,null,0,0,0,0,0,0,0,0,0,0,0,0,0,0,0,0,0,0,0,0,0,0,0,0,0,0,0,0,0,0,0,0,0]
[null,null,null,null,null,null,null,null,null,null,null,null,null,null,21.000000000000028,0,"",0,"",0,null,null,21.000000000000028,0,"",0,"",0,null,null,0,0,0,0,0,0,0,0,0,0,0,0,0,0,0,0,0,0,0,0,0,0,0,0,0,0,0,0,0,0,{"$f":"SUMIFS($Q217,$T217,BI$7)","v":0},0,0,null,null,0,0,0,0,0,0,0,0,0,0,0,0,0,0,0,0,0,0,0,0,0,0,0,0,0,0,0,0,0,0,0,0,0]
[null,null,null,null,null,null,null,null,null,null,null,null,null,null,21.10000000000003,0,"",0,"",0,null,null,21.10000000000003,0,"",0,"",0,null,null,0,0,0,0,0,0,0,0,0,0,0,0,0,0,0,0,{"$f":"SUMIFS($Q218,$T218,AU$7)","v":0},0,0,0,0,0,0,0,0,0,0,0,0,0,0,0,0,null,null,0,0,0,0,0,0,0,0,0,0,0,0,0,0,0,0,0,0,0,0,0,0,0,0,0,0,0,0,0,0,0,0,0]
[null,null,null,null,null,null,null,null,null,null,null,null,null,null,21.200000000000031,0,"",0,"",0,null,null,21.200000000000031,0,"",0,"",0,null,null,{"$f":"SUMIFS($Q219,$T219,AE$7)","v":0},0,0,0,0,0,0,0,0,0,0,0,0,0,0,0,0,0,0,0,0,0,0,0,0,0,0,0,0,0,0,0,0,null,null,0,0,0,0,0,0,0,0,0,0,0,0,0,0,0,0,0,0,0,0,0,0,0,0,0,0,0,0,0,0,0,0,0]
[null,null,null,null,null,null,null,null,null,null,null,null,null,null,21.300000000000033,0,"",0,"",0,null,null,21.300000000000033,0,"",0,"",0,null,null,0,0,0,0,0,0,0,0,0,0,0,0,0,0,0,0,0,0,0,0,0,0,0,0,0,0,0,0,0,0,0,0,0,null,null,0,0,0,0,0,0,0,0,0,0,0,0,0,0,0,0,0,0,0,0,0,0,0,0,0,0,0,0,0,0,0,0,0]
[null,null,null,null,null,null,null,null,null,null,null,null,null,null,21.400000000000034,0,"",0,"",0,null,null,21.400000000000034,0,"",0,"",0,null,null,0,0,0,0,0,0,0,0,0,0,0,0,0,0,0,0,0,0,0,0,0,0,0,0,0,0,0,0,0,0,0,0,0,null,null,0,0,0,0,0,0,0,0,0,0,0,0,0,0,0,0,0,0,0,0,0,0,0,0,0,0,0,0,0,0,0,0,0]
[null,null,null,null,null,null,null,null,null,null,null,null,null,null,21.500000000000036,0,"",0,"",0,null,null,21.500000000000036,0,"",0,"",0,null,null,0,0,0,0,0,0,0,0,0,0,0,0,0,0,0,0,0,0,0,0,0,0,0,0,0,0,0,0,0,0,0,0,0,null,null,0,0,0,0,0,0,0,0,0,0,0,0,0,0,0,0,0,0,0,0,0,0,0,0,0,0,0,0,0,0,0,0,0]
[null,null,null,null,null,null,null,null,null,null,null,null,null,null,21.600000000000037,0,"",0,"",0,null,null,21.600000000000037,0,"",0,"",0,null,null,0,0,0,0,0,0,0,0,0,0,0,0,0,0,0,0,0,0,0,0,0,0,0,0,0,0,0,0,0,0,0,0,0,null,null,0,0,0,0,0,0,0,0,0,0,0,0,0,0,0,0,0,0,0,0,0,0,0,0,0,0,0,0,0,0,0,0,0]
[null,null,null,null,null,null,null,null,null,null,null,null,null,null,21.700000000000038,0,"",0,"",0,null,null,21.700000000000038,0,"",0,"",0,null,null,0,0,0,0,0,0,0,0,0,0,0,0,0,0,0,0,0,0,0,0,0,0,0,0,0,0,0,0,0,0,0,0,0,null,null,0,0,0,0,0,0,0,0,0,0,0,0,0,0,0,0,0,0,0,0,0,0,0,0,0,0,0,0,0,0,0,0,0]
[null,null,null,null,null,null,null,null,null,null,null,null,null,null,21.80000000000004,0,"",0,"",0,null,null,21.80000000000004,0,"",0,"",0,null,null,0,0,0,0,0,0,0,0,0,0,0,0,0,0,0,0,0,0,0,0,0,0,0,0,0,0,0,0,0,0,0,0,0,null,null,0,0,0,0,0,0,0,0,0,0,0,0,0,0,0,0,0,0,0,0,0,0,0,0,0,0,0,0,0,0,0,0,0]
[null,null,null,null,null,null,null,null,null,null,null,null,null,null,21.900000000000041,0,"",0,"",0,null,null,21.900000000000041,0,"",0,"",0,null,null,0,0,0,0,0,0,0,0,0,0,0,0,0,0,0,0,0,0,0,0,0,0,0,0,0,0,0,0,0,0,0,0,0,null,null,0,0,0,0,0,0,0,0,0,0,0,0,0,0,0,0,0,0,0,0,0,0,0,0,0,0,0,0,0,0,0,0,0]
[null,null,null,null,null,null,null,null,null,null,null,null,null,null,22.000000000000043,0,"",0,"",0,null,null,22.000000000000043,0,"",0,"",0,null,null,0,0,0,0,0,0,0,0,0,0,0,0,0,0,0,0,0,0,0,0,0,0,0,0,0,0,0,0,0,0,0,0,0,null,null,0,0,0,0,0,0,0,0,0,0,0,0,0,0,0,0,0,0,0,0,0,0,0,0,0,0,0,0,0,0,0,0,0]
[null,null,null,null,null,null,null,null,null,null,null,null,null,null,22.100000000000044,0,"",0,"",0,null,null,22.100000000000044,0,"",0,"",0,null,null,0,0,0,0,0,0,0,0,0,0,0,0,0,0,0,0,0,0,0,0,0,0,0,0,0,0,0,0,0,0,0,0,0,null,null,0,0,0,0,0,0,0,0,0,0,0,0,0,0,0,0,0,0,0,0,0,0,0,0,0,0,0,0,0,0,0,0,0]
[null,null,null,null,null,null,null,null,null,null,null,null,null,null,22.200000000000045,0,"",0,"",0,null,null,22.200000000000045,0,"",0,"",0,null,null,0,0,0,0,0,0,0,0,0,0,0,0,0,0,0,0,0,0,0,0,0,0,0,0,0,0,0,0,0,0,0,0,0,null,null,0,0,0,0,0,0,0,0,0,0,0,0,0,0,0,0,0,0,0,0,0,0,0,0,0,0,0,0,0,0,0,0,0]
[null,null,null,null,null,null,null,null,null,null,null,null,null,null,22.300000000000047,0,"",0,"",0,null,null,22.300000000000047,0,"",0,"",0,null,null,0,0,0,0,0,0,0,0,0,0,0,0,0,0,0,0,0,0,0,0,0,0,0,0,0,0,0,0,0,0,0,0,0,null,null,0,0,0,0,0,0,0,0,0,0,0,0,0,0,0,0,0,0,0,0,0,0,0,0,0,0,0,0,0,0,0,0,0]
[null,null,null,null,null,null,null,null,null,null,null,null,null,null,22.400000000000048,0,"",0,"",0,null,null,22.400000000000048,0,"",0,"",0,null,null,0,0,0,0,0,0,0,0,0,0,0,0,0,0,0,0,0,0,0,0,0,0,0,0,0,0,0,0,0,0,0,0,0,null,null,0,0,0,0,0,0,0,0,0,0,0,0,0,0,0,0,0,0,0,0,0,0,0,0,0,0,0,0,0,0,0,0,0]
[null,null,null,null,null,null,null,null,null,null,null,null,null,null,22.50000000000005,0,"",0,"",0,null,null,22.50000000000005,0,"",0,"",0,null,null,0,0,0,0,0,0,0,0,0,0,0,0,0,0,0,0,0,0,0,0,0,0,0,0,0,0,0,0,0,0,0,0,0,null,null,0,0,0,0,0,0,0,0,0,0,0,0,0,0,0,0,0,0,0,0,0,0,0,0,0,0,0,0,0,0,0,0,0]
[null,null,null,null,null,null,null,null,null,null,null,null,null,null,{"$f":"O232+$N$7","v":22.600000000000051},0,"",0,"",0,null,null,{"$f":"W232+$N$7","v":22.600000000000051},0,"",0,"",0,null,null,0,0,0,0,0,0,0,0,0,0,0,0,0,0,0,0,0,0,0,0,0,0,0,0,0,0,0,0,0,0,0,0,0,null,null,0,0,0,0,0,0,0,0,0,0,0,0,0,0,0,0,0,0,0,0,0,0,0,0,0,0,0,0,0,0,0,0,0]
[null,null,null,null,null,null,null,null,null,null,null,null,null,null,22.700000000000053,0,"",0,"",0,null,null,22.700000000000053,0,"",0,"",0,null,null,0,0,0,0,0,0,0,0,0,0,0,0,0,0,0,{"$f":"SUMIFS($Q234,$T234,AT$7)","v":0},0,0,0,0,0,0,0,0,0,0,0,0,0,0,0,0,0,null,null,0,0,0,0,0,0,0,0,0,0,0,0,0,0,0,0,0,0,0,0,0,0,0,0,0,0,0,0,0,0,0,0,0]
[null,null,null,null,null,null,null,null,null,null,null,null,null,null,22.800000000000054,0,"",0,"",0,null,null,22.800000000000054,0,"",0,"",0,null,null,{"$f":"SUMIFS($Q235,$T235,AE$7)","v":0},0,0,0,0,0,0,0,0,0,0,0,0,0,0,0,0,0,0,0,0,0,0,0,0,0,0,0,0,0,0,0,0,null,null,0,0,0,0,0,0,0,0,0,0,0,0,0,0,0,0,0,0,0,0,0,0,0,0,0,0,0,0,0,0,0,0,0]
[null,null,null,null,null,null,null,null,null,null,null,null,null,null,22.900000000000055,0,"",0,"",0,null,null,22.900000000000055,0,"",0,"",0,null,null,0,0,0,0,0,0,0,0,0,0,0,0,0,0,0,0,0,0,0,0,0,0,0,0,0,0,0,0,0,0,0,0,0,null,null,0,0,0,0,0,0,0,0,0,0,0,0,0,0,0,0,0,0,0,0,0,0,0,0,0,0,0,0,0,0,0,0,0]
[null,null,null,null,null,null,null,null,null,null,null,null,null,null,23.000000000000057,0,"",0,"",0,null,null,23.000000000000057,0,"",0,"",0,null,null,0,0,0,0,0,0,0,0,0,0,0,0,0,0,0,0,0,0,0,0,0,0,0,0,0,0,0,0,0,0,0,{"$f":"SUMIFS($Q237,$T237,BJ$7)","v":0},0,null,null,0,0,0,0,0,0,0,0,0,0,0,0,0,0,0,0,0,0,0,0,0,0,0,0,0,0,0,0,0,0,0,0,0]
[null,null,null,null,null,null,null,null,null,null,null,null,null,null,23.100000000000058,0,"",0,"",0,null,null,23.100000000000058,0,"",0,"",0,null,null,0,0,0,0,0,0,0,0,0,0,0,0,0,0,0,0,0,0,0,0,0,0,0,0,0,0,0,0,0,0,0,0,0,null,null,0,0,0,0,0,0,0,0,0,0,0,0,0,0,0,0,0,0,0,0,0,0,0,0,0,0,0,0,0,0,0,0,0]
[null,null,null,null,null,null,null,null,null,null,null,null,null,null,23.20000000000006,0,"",0,"",0,null,null,23.20000000000006,0,"",0,"",0,null,null,0,0,0,0,0,0,0,0,0,0,0,0,0,0,0,0,0,0,0,0,0,0,0,0,0,0,0,0,0,0,0,0,0,null,null,0,0,0,0,0,0,0,0,0,0,0,0,0,0,0,0,0,0,0,0,0,0,0,0,0,0,0,0,0,0,0,0,0]
[null,null,null,null,null,null,null,null,null,null,null,null,null,null,23.300000000000061,0,"",0,"",0,null,null,23.300000000000061,0,"",0,"",0,null,null,0,0,0,0,0,0,0,0,0,0,0,0,0,0,0,0,0,0,0,0,0,0,0,0,0,0,0,0,0,0,0,0,0,null,null,0,0,0,0,0,0,0,0,0,0,0,0,0,0,0,0,0,0,0,0,0,0,0,0,0,0,0,0,0,0,0,0,0]
[null,null,null,null,null,null,null,null,null,null,null,null,null,null,23.400000000000063,0,"",0,"",0,null,null,23.400000000000063,0,"",0,"",0,null,null,0,0,0,0,0,0,0,0,0,0,0,0,0,0,0,0,0,0,0,0,0,0,0,0,0,0,0,0,0,0,0,0,0,null,null,0,0,0,0,0,0,0,0,0,0,0,0,0,0,0,0,0,0,0,0,0,0,0,0,0,0,0,0,0,0,0,0,0]
[null,null,null,null,null,null,null,null,null,null,null,null,null,null,23.500000000000064,0,"",0,"",0,null,null,23.500000000000064,0,"",0,"",0,null,null,0,0,0,0,0,0,0,0,0,0,0,0,0,0,0,0,0,0,0,0,0,0,0,0,0,0,0,0,0,0,0,0,0,null,null,0,0,0,0,0,0,0,0,0,0,0,0,0,0,0,0,0,0,0,0,0,0,0,0,0,0,0,0,0,0,0,0,0]
[null,null,null,null,null,null,null,null,null,null,null,null,null,null,23.600000000000065,0,"",0,"",0,null,null,23.600000000000065,0,"",0,"",0,null,null,0,0,0,0,0,0,0,0,0,0,0,0,0,0,0,0,0,0,0,0,0,0,0,0,0,0,0,0,0,0,0,0,0,null,null,0,0,0,0,0,0,0,0,0,0,0,0,0,0,0,0,0,0,0,0,0,0,0,0,0,0,0,0,0,0,0,0,0]
[null,null,null,null,null,null,null,null,null,null,null,null,null,null,23.700000000000067,0,"",0,"",0,null,null,23.700000000000067,0,"",0,"",0,null,null,0,0,0,0,0,0,0,0,0,0,0,0,0,0,0,0,0,0,0,0,0,0,0,0,0,0,0,0,0,0,0,0,0,null,null,0,0,0,0,0,0,0,0,0,0,0,0,0,0,0,0,0,0,0,0,0,0,0,0,0,0,0,0,0,0,0,0,0]
[null,null,null,null,null,null,null,null,null,null,null,null,null,null,23.800000000000068,0,"",0,"",0,null,null,23.800000000000068,0,"",0,"",0,null,null,0,0,0,0,0,0,0,0,0,0,0,0,0,0,0,0,0,0,0,0,0,0,0,0,0,0,0,0,0,0,0,0,0,null,null,0,0,0,0,0,0,0,0,0,0,0,0,0,0,0,0,0,0,0,0,0,0,0,0,0,0,0,0,0,0,0,0,0]
[null,null,null,null,null,null,null,null,null,null,null,null,null,null,23.90000000000007,0,"",0,"",0,null,null,23.90000000000007,0,"",0,"",0,null,null,0,0,0,0,0,0,0,0,0,0,0,0,0,0,0,0,0,0,0,0,0,0,0,0,0,0,0,0,0,0,0,0,0,null,null,0,0,0,0,0,0,0,0,0,0,0,0,0,0,0,0,0,0,0,0,0,0,0,0,0,0,0,0,0,0,0,0,0]
[null,null,null,null,null,null,null,null,null,null,null,null,null,null,24.000000000000071,0,"",0,"",0,null,null,24.000000000000071,0,"",0,"",0,null,null,0,0,0,0,0,0,0,0,0,0,0,0,0,0,0,0,0,0,0,0,0,0,0,0,0,0,0,0,0,0,0,0,0,null,null,0,0,0,0,0,0,0,0,0,0,0,0,0,0,0,0,0,0,0,0,0,0,0,0,0,0,0,0,0,0,0,0,0]
[null,null,null,null,null,null,null,null,null,null,null,null,null,null,24.100000000000072,0,"",0,"",0,null,null,24.100000000000072,0,"",0,"",0,null,null,0,0,0,0,0,0,0,0,0,0,0,0,0,0,0,0,0,0,0,0,0,0,0,0,0,0,0,0,0,0,0,0,0,null,null,0,0,0,0,0,0,0,0,0,0,0,0,0,0,0,0,0,0,0,0,0,0,0,0,0,0,0,0,0,0,0,0,0]
[null,null,null,null,null,null,null,null,null,null,null,null,null,null,24.200000000000074,0,"",0,"",0,null,null,24.200000000000074,0,"",0,"",0,null,null,0,0,0,0,0,0,0,0,0,0,0,0,0,0,0,0,0,0,0,0,0,0,0,0,0,0,0,0,0,0,0,0,0,null,null,0,0,0,0,0,0,0,0,0,0,0,0,0,0,0,0,0,0,0,0,0,0,0,0,0,0,0,0,0,0,0,0,0]
[null,null,null,null,null,null,null,null,null,null,null,null,null,null,24.300000000000075,0,"",0,"",0,null,null,24.300000000000075,0,"",0,"",0,null,null,0,0,0,0,0,0,0,0,0,0,0,0,0,0,0,0,{"$f":"SUMIFS($Q250,$T250,AU$7)","v":0},0,0,0,0,0,0,0,0,0,0,0,0,0,0,0,0,null,null,0,0,0,0,0,0,0,0,0,0,0,0,0,0,0,0,0,0,0,0,0,0,0,0,0,0,0,0,0,0,0,0,0]
[null,null,null,null,null,null,null,null,null,null,null,null,null,null,24.400000000000077,0,"",0,"",0,null,null,24.400000000000077,0,"",0,"",0,null,null,{"$f":"SUMIFS($Q251,$T251,AE$7)","v":0},0,0,0,0,0,0,0,0,0,0,0,0,0,0,0,0,0,0,0,0,0,0,0,0,0,0,0,0,0,0,0,0,null,null,0,0,0,0,0,0,0,0,0,0,0,0,0,0,0,0,0,0,0,0,0,0,0,0,0,0,0,0,0,0,0,0,0]
[null,null,null,null,null,null,null,null,null,null,null,null,null,null,24.500000000000078,0,"",0,"",0,null,null,24.500000000000078,0,"",0,"",0,null,null,0,0,0,0,0,0,0,0,0,0,0,0,0,0,0,0,0,0,0,0,0,0,0,0,0,0,0,0,0,0,0,0,0,null,null,0,0,0,0,0,0,0,0,0,0,0,0,0,0,0,0,0,0,0,0,0,0,0,0,0,0,0,0,0,0,0,0,0]
[null,null,null,null,null,null,null,null,null,null,null,null,null,null,24.60000000000008,0,"",0,"",0,null,null,24.60000000000008,0,"",0,"",0,null,null,0,0,0,0,0,0,0,0,0,0,0,0,0,0,0,0,0,0,0,0,0,0,0,0,0,0,0,0,0,0,0,0,0,null,null,0,0,0,0,0,0,0,0,0,0,0,0,0,0,0,0,0,0,0,0,0,0,0,0,0,0,0,0,0,0,0,0,0]
[null,null,null,null,null,null,null,null,null,null,null,null,null,null,24.700000000000081,0,"",0,"",0,null,null,24.700000000000081,0,"",0,"",0,null,null,0,0,0,0,0,0,0,0,0,0,0,0,0,0,0,0,0,0,0,0,0,0,0,0,0,0,0,0,0,0,0,0,0,null,null,0,0,0,0,0,0,0,0,0,0,0,0,0,0,0,0,0,0,0,0,0,0,0,0,0,0,0,0,0,0,0,0,0]
[null,null,null,null,null,null,null,null,null,null,null,null,null,null,24.800000000000082,0,"",0,"",0,null,null,24.800000000000082,0,"",0,"",0,null,null,0,0,0,0,0,0,0,0,0,0,0,0,0,0,0,0,0,0,0,0,0,0,0,0,0,0,0,0,0,0,0,0,0,null,null,0,0,0,0,0,0,0,0,0,0,0,0,0,0,0,0,0,0,0,0,0,0,0,0,0,0,0,0,0,0,0,0,0]
[null,null,null,null,null,null,null,null,null,null,null,null,null,null,24.900000000000084,0,"",0,"",0,null,null,24.900000000000084,0,"",0,"",0,null,null,0,0,0,0,0,0,0,0,0,0,0,0,0,0,0,0,0,0,0,0,0,0,0,0,0,0,0,0,0,0,0,0,0,null,null,0,0,0,0,0,0,0,0,0,0,0,0,0,0,0,0,0,0,0,0,0,0,0,0,0,0,0,0,0,0,0,0,0]
[null,null,null,null,null,null,null,null,null,null,null,null,null,null,25.000000000000085,0,"",0,"",0,null,null,25.000000000000085,0,"",0,"",0,null,null,0,0,0,0,0,0,0,0,0,0,0,0,0,0,0,0,0,0,0,0,0,0,0,0,0,0,0,0,0,0,0,0,{"$f":"SUMIFS($Q257,$T257,BK$7)","v":0},null,null,0,0,0,0,0,0,0,0,0,0,0,0,0,0,0,0,0,0,0,0,0,0,0,0,0,0,0,0,0,0,0,0,0]
[null,null,null,null,null,null,null,null,null,null,null,null,null,null,25.100000000000087,0,"",0,"",0,null,null,25.100000000000087,0,"",0,"",0,null,null,0,0,0,0,0,0,0,0,0,0,0,0,0,0,0,0,0,0,0,0,0,0,0,0,0,0,0,0,0,0,0,0,0,null,null,0,0,0,0,0,0,0,0,0,0,0,0,0,0,0,0,0,0,0,0,0,0,0,0,0,0,0,0,0,0,0,0,0]
[null,null,null,null,null,null,null,null,null,null,null,null,null,null,25.200000000000088,0,"",0,"",0,null,null,25.200000000000088,0,"",0,"",0,null,null,0,0,0,0,0,0,0,0,0,0,0,0,0,0,0,0,0,0,0,0,0,0,0,0,0,0,0,0,0,0,0,0,0,null,null,0,0,0,0,0,0,0,0,0,0,0,0,0,0,0,0,0,0,0,0,0,0,0,0,0,0,0,0,0,0,0,0,0]
[null,null,null,null,null,null,null,null,null,null,null,null,null,null,25.30000000000009,0,"",0,"",0,null,null,25.30000000000009,0,"",0,"",0,null,null,0,0,0,0,0,0,0,0,0,0,0,0,0,0,0,0,0,0,0,0,0,0,0,0,0,0,0,0,0,0,0,0,0,null,null,0,0,0,0,0,0,0,0,0,0,0,0,0,0,0,0,0,0,0,0,0,0,0,0,0,0,0,0,0,0,0,0,0]
[null,null,null,null,null,null,null,null,null,null,null,null,null,null,25.400000000000091,0,"",0,"",0,null,null,25.400000000000091,0,"",0,"",0,null,null,0,0,0,0,0,0,0,0,0,0,0,0,0,0,0,0,0,0,0,0,0,0,0,0,0,0,0,0,0,0,0,0,0,null,null,0,0,0,0,0,0,0,0,0,0,0,0,0,0,0,0,0,0,0,0,0,0,0,0,0,0,0,0,0,0,0,0,0]
[null,null,null,null,null,null,null,null,null,null,null,null,null,null,25.500000000000092,0,"",0,"",0,null,null,25.500000000000092,0,"",0,"",0,null,null,0,0,0,0,0,0,0,0,0,0,0,0,0,0,0,0,0,0,0,0,0,0,0,0,0,0,0,0,0,0,0,0,0,null,null,0,0,0,0,0,0,0,0,0,0,0,0,0,0,0,0,0,0,0,0,0,0,0,0,0,0,0,0,0,0,0,0,0]
[null,null,null,null,null,null,null,null,null,null,null,null,null,null,25.600000000000094,0,"",0,"",0,null,null,25.600000000000094,0,"",0,"",0,null,null,0,0,0,0,0,0,0,0,0,0,0,0,0,0,0,0,0,0,0,0,0,0,0,0,0,0,0,0,0,0,0,0,0,null,null,0,0,0,0,0,0,0,0,0,0,0,0,0,0,0,0,0,0,0,0,0,0,0,0,0,0,0,0,0,0,0,0,0]
[null,null,null,null,null,null,null,null,null,null,null,null,null,null,25.700000000000095,0,{"$f":"INDEX($G$9:$G$39,MATCH(P264,$E$9:$E$39,1))","v":""},{"$f":"IF(Q264<>Q262,Q264,0)","v":0},"",0,null,null,25.700000000000095,0,"",{"$f":"IF(Y264<>Y262,Y264,0)","v":0},"",0,null,null,0,0,0,0,0,0,0,0,0,0,0,0,0,0,0,0,0,0,0,0,0,0,0,0,0,0,0,0,0,0,0,0,0,null,null,0,{"$f":"SUMIFS($Y265,$AB265,AF$7)","v":0},{"$f":"SUMIFS($Y265,$AB265,AG$7)","v":0},{"$f":"SUMIFS($Y265,$AB265,AH$7)","v":0},{"$f":"SUMIFS($Y265,$AB265,AI$7)","v":0},{"$f":"SUMIFS($Y265,$AB265,AJ$7)","v":0},{"$f":"SUMIFS($Y265,$AB265,AK$7)","v":0},{"$f":"SUMIFS($Y265,$AB265,AL$7)","v":0},{"$f":"SUMIFS($Y265,$AB265,AM$7)","v":0},{"$f":"SUMIFS($Y265,$AB265,AN$7)","v":0},{"$f":"SUMIFS($Y265,$AB265,AO$7)","v":0},{"$f":"SUMIFS($Y265,$AB265,AP$7)","v":0},{"$f":"SUMIFS($Y265,$AB265,AQ$7)","v":0},{"$f":"SUMIFS($Y265,$AB265,AR$7)","v":0},{"$f":"SUMIFS($Y265,$AB265,AS$7)","v":0},{"$f":"SUMIFS($Y265,$AB265,AT$7)","v":0},{"$f":"SUMIFS($Y265,$AB265,AU$7)","v":0},{"$f":"SUMIFS($Y265,$AB265,AV$7)","v":0},{"$f":"SUMIFS($Y265,$AB265,AW$7)","v":0},{"$f":"SUMIFS($Y265,$AB265,AX$7)","v":0},{"$f":"SUMIFS($Y265,$AB265,AY$7)","v":0},{"$f":"SUMIFS($Y265,$AB265,AZ$7)","v":0},{"$f":"SUMIFS($Y265,$AB265,BA$7)","v":0},{"$f":"SUMIFS($Y265,$AB265,BB$7)","v":0},{"$f":"SUMIFS($Y265,$AB265,BC$7)","v":0},{"$f":"SUMIFS($Y265,$AB265,BD$7)","v":0},{"$f":"SUMIFS($Y265,$AB265,BE$7)","v":0},{"$f":"SUMIFS($Y265,$AB265,BF$7)","v":0},{"$f":"SUMIFS($Y265,$AB265,BG$7)","v":0},{"$f":"SUMIFS($Y265,$AB265,BH$7)","v":0},{"$f":"SUMIFS($Y265,$AB265,BI$7)","v":0},{"$f":"SUMIFS($Y265,$AB265,BJ$7)","v":0},{"$f":"SUMIFS($Y265,$AB265,BK$7)","v":0}]
[null,null,null,null,null,null,null,null,null,null,null,null,null,null,25.800000000000097,{"$f":"(O265/$O$1007)*$P$1007","v":0},"",0,"",0,null,null,25.800000000000097,{"$f":"(W265/$W$1007)*$X$1007","v":0},{"$f":"INDEX($I$9:$I$39,MATCH(X265,$F$9:$F$39,1))","v":""},0,"",{"$f":"IF(AA265=0,\"\",INDEX($H$9:$H$41,MATCH(AA265,$I$9:$I$41,0)))","v":0},null,null,0,0,0,0,0,0,0,0,0,0,0,0,0,0,0,0,0,0,0,0,0,0,0,0,0,0,0,0,0,0,0,0,0,null,null,{"$f":"SUMIFS($Y266,$AB266,AE$7)","v":0},0,0,0,0,0,0,0,0,0,0,0,0,0,0,0,0,0,0,0,0,0,0,0,0,0,0,0,0,0,0,0,0]
[null,null,null,null,null,null,null,null,null,null,null,null,null,null,25.900000000000098,0,"",0,{"$f":"IF(R266=0,Q266,0)","v":""},{"$f":"IF(S266=0,\"\",INDEX($C$9:$C$41,MATCH(S266,$G$9:$G$41,0)))","v":0},null,null,25.900000000000098,0,"",0,{"$f":"IF(Z266=0,Y266,0)","v":""},0,null,null,0,0,0,0,0,0,0,0,0,0,0,0,0,0,0,{"$f":"SUMIFS($Q266,$T266,AT$7)","v":0},0,0,0,0,0,0,0,0,0,0,0,0,0,0,0,{"$f":"SUMIFS($Q266,$T266,BJ$7)","v":0},0,null,null,0,0,0,0,0,0,0,0,0,0,0,0,0,0,0,0,0,0,0,0,0,0,0,0,0,0,0,0,0,0,0,0,0]
[null,null,null,null,null,null,null,null,null,null,null,null,null,null,26.000000000000099,0,"",0,"",0,null,null,26.000000000000099,0,"",0,"",0,null,null,{"$f":"SUMIFS($Q267,$T267,AE$7)","v":0},0,0,0,0,0,0,0,0,0,0,0,0,0,0,0,0,0,0,0,0,0,0,0,0,0,0,0,0,0,0,0,0,null,null,0,0,0,0,0,0,0,0,0,0,0,0,0,0,0,0,0,0,0,0,0,0,0,0,0,0,0,0,0,0,0,0,0]
[null,null,null,null,null,null,null,null,null,null,null,null,null,null,26.100000000000101,0,"",0,"",0,null,null,26.100000000000101,0,"",0,"",0,null,null,0,0,0,0,0,0,0,0,0,0,0,0,0,0,0,0,0,0,0,0,0,0,0,0,0,0,0,0,0,0,0,0,0,null,null,0,0,0,0,0,0,0,0,0,0,0,0,0,0,0,0,0,0,0,0,0,0,0,0,0,0,0,0,0,0,0,0,0]
[null,null,null,null,null,null,null,null,null,null,null,null,null,null,26.200000000000102,0,"",0,"",0,null,null,26.200000000000102,0,"",0,"",0,null,null,0,0,0,0,0,0,0,0,0,0,0,0,0,0,0,0,0,0,0,0,0,0,0,0,0,0,0,0,0,0,0,0,0,null,null,0,0,0,0,0,0,0,0,0,0,0,0,0,0,0,0,0,0,0,0,0,0,0,0,0,0,0,0,0,0,0,0,0]
[null,null,null,null,null,null,null,null,null,null,null,null,null,null,26.300000000000104,0,"",0,"",0,null,null,26.300000000000104,0,"",0,"",0,null,null,0,0,0,0,0,0,0,0,0,0,0,0,0,0,0,0,0,0,0,0,0,0,0,0,0,0,0,0,0,0,0,0,0,null,null,0,0,0,0,0,0,0,0,0,0,0,0,0,0,0,0,0,0,0,0,0,0,0,0,0,0,0,0,0,0,0,0,0]
[null,null,null,null,null,null,null,null,null,null,null,null,null,null,26.400000000000105,0,"",0,"",0,null,null,26.400000000000105,0,"",0,"",0,null,null,0,0,0,0,0,0,0,0,0,0,0,0,0,0,0,0,0,0,0,0,0,0,0,0,0,0,0,0,0,0,0,0,0,null,null,0,0,0,0,0,0,0,0,0,0,0,0,0,0,0,0,0,0,0,0,0,0,0,0,0,0,0,0,0,0,0,0,0]
[null,null,null,null,null,null,null,null,null,null,null,null,null,null,26.500000000000107,0,"",0,"",0,null,null,26.500000000000107,0,"",0,"",0,null,null,0,0,0,0,0,0,0,0,0,0,0,0,0,0,0,0,0,0,0,0,0,0,0,0,0,0,0,0,0,0,0,0,0,null,null,0,0,0,0,0,0,0,0,0,0,0,0,0,0,0,0,0,0,0,0,0,0,0,0,0,0,0,0,0,0,0,0,0]
[null,null,null,null,null,null,null,null,null,null,null,null,null,null,26.600000000000108,0,"",0,"",0,null,null,26.600000000000108,0,"",0,"",0,null,null,0,0,0,0,0,0,0,0,0,0,0,0,0,0,0,0,0,0,0,0,0,0,0,0,0,0,0,0,0,0,0,0,0,null,null,0,0,0,0,0,0,0,0,0,0,0,0,0,0,0,0,0,0,0,0,0,0,0,0,0,0,0,0,0,0,0,0,0]
[null,null,null,null,null,null,null,null,null,null,null,null,null,null,26.700000000000109,0,"",0,"",0,null,null,26.700000000000109,0,"",0,"",0,null,null,0,0,0,0,0,0,0,0,0,0,0,0,0,0,0,0,0,0,0,0,0,0,0,0,0,0,0,0,0,0,0,0,0,null,null,0,0,0,0,0,0,0,0,0,0,0,0,0,0,0,0,0,0,0,0,0,0,0,0,0,0,0,0,0,0,0,0,0]
[null,null,null,null,null,null,null,null,null,null,null,null,null,null,26.800000000000111,0,"",0,"",0,null,null,26.800000000000111,0,"",0,"",0,null,null,0,0,0,0,0,0,0,0,0,0,0,0,0,0,0,0,0,0,0,0,0,0,0,0,0,0,0,0,0,0,0,0,0,null,null,0,0,0,0,0,0,0,0,0,0,0,0,0,0,0,0,0,0,0,0,0,0,0,0,0,0,0,0,0,0,0,0,0]
[null,null,null,null,null,null,null,null,null,null,null,null,null,null,26.900000000000112,0,"",0,"",0,null,null,26.900000000000112,0,"",0,"",0,null,null,0,0,0,0,0,0,0,0,0,0,0,0,0,0,0,0,0,0,0,0,0,0,0,0,0,0,0,0,0,0,0,0,0,null,null,0,0,0,0,0,0,0,0,0,0,0,0,0,0,0,0,0,0,0,0,0,0,0,0,0,0,0,0,0,0,0,0,0]
[null,null,null,null,null,null,null,null,null,null,null,null,null,null,27.000000000000114,0,"",0,"",0,null,null,27.000000000000114,0,"",0,"",0,null,null,0,0,0,0,0,0,0,0,0,0,0,0,0,0,0,0,0,0,0,0,0,0,0,0,0,0,0,0,0,0,0,0,0,null,null,0,0,0,0,0,0,0,0,0,0,0,0,0,0,0,0,0,0,0,0,0,0,0,0,0,0,0,0,0,0,0,0,0]
[null,null,null,null,null,null,null,null,null,null,null,null,null,null,27.100000000000115,0,"",0,"",0,null,null,27.100000000000115,0,"",0,"",0,null,null,0,0,0,0,0,0,0,0,0,0,0,0,0,0,0,0,0,0,0,0,0,0,0,0,0,0,0,0,0,0,0,0,0,null,null,0,0,0,0,0,0,0,0,0,0,0,0,0,0,0,0,0,0,0,0,0,0,0,0,0,0,0,0,0,0,0,0,0]
[null,null,null,null,null,null,null,null,null,null,null,null,null,null,27.200000000000117,0,"",0,"",0,null,null,27.200000000000117,0,"",0,"",0,null,null,0,0,0,0,0,0,0,0,0,0,0,0,0,0,0,0,0,0,0,0,0,0,0,0,0,0,0,0,0,0,0,0,0,null,null,0,0,0,0,0,0,0,0,0,0,0,0,0,0,0,0,0,0,0,0,0,0,0,0,0,0,0,0,0,0,0,0,0]
[null,null,null,null,null,null,null,null,null,null,null,null,null,null,27.300000000000118,0,"",0,"",0,null,null,27.300000000000118,0,"",0,"",0,null,null,0,0,0,0,0,0,0,0,0,0,0,0,0,0,0,0,0,0,0,0,0,0,0,0,0,0,0,0,0,0,0,0,0,null,null,0,0,0,0,0,0,0,0,0,0,0,0,0,0,0,0,0,0,0,0,0,0,0,0,0,0,0,0,0,0,0,0,0]
[null,null,null,null,null,null,null,null,null,null,null,null,null,null,27.400000000000119,0,"",0,"",0,null,null,27.400000000000119,0,"",0,"",0,null,null,0,0,0,0,0,0,0,0,0,0,0,0,0,0,0,0,0,0,0,0,0,0,0,0,0,0,0,0,0,0,{"$f":"SUMIFS($Q281,$T281,BI$7)","v":0},0,0,null,null,0,0,0,0,0,0,0,0,0,0,0,0,0,0,0,0,0,0,0,0,0,0,0,0,0,0,0,0,0,0,0,0,0]
[null,null,null,null,null,null,null,null,null,null,null,null,null,null,27.500000000000121,0,"",0,"",0,null,null,27.500000000000121,0,"",0,"",0,null,null,0,0,0,0,0,0,0,0,0,0,0,0,0,0,0,0,{"$f":"SUMIFS($Q282,$T282,AU$7)","v":0},0,0,0,0,0,0,0,0,0,0,0,0,0,0,0,0,null,null,0,0,0,0,0,0,0,0,0,0,0,0,0,0,0,0,0,0,0,0,0,0,0,0,0,0,0,0,0,0,0,0,0]
[null,null,null,null,null,null,null,null,null,null,null,null,null,null,27.600000000000122,0,"",0,"",0,null,null,27.600000000000122,0,"",0,"",0,null,null,{"$f":"SUMIFS($Q283,$T283,AE$7)","v":0},0,0,0,0,0,0,0,0,0,0,0,0,0,0,0,0,0,0,0,0,0,0,0,0,0,0,0,0,0,0,0,0,null,null,0,0,0,0,0,0,0,0,0,0,0,0,0,0,0,0,0,0,0,0,0,0,0,0,0,0,0,0,0,0,0,0,0]
[null,null,null,null,null,null,null,null,null,null,null,null,null,null,27.700000000000124,0,"",0,"",0,null,null,27.700000000000124,0,"",0,"",0,null,null,0,0,0,0,0,0,0,0,0,0,0,0,0,0,0,0,0,0,0,0,0,0,0,0,0,0,0,0,0,0,0,0,0,null,null,0,0,0,0,0,0,0,0,0,0,0,0,0,0,0,0,0,0,0,0,0,0,0,0,0,0,0,0,0,0,0,0,0]
[null,null,null,null,null,null,null,null,null,null,null,null,null,null,27.800000000000125,0,"",0,"",0,null,null,27.800000000000125,0,"",0,"",0,null,null,0,0,0,0,0,0,0,0,0,0,0,0,0,0,0,0,0,0,0,0,0,0,0,0,0,0,0,0,0,0,0,0,0,null,null,0,0,0,0,0,0,0,0,0,0,0,0,0,0,0,0,0,0,0,0,0,0,0,0,0,0,0,0,0,0,0,0,0]
[null,null,null,null,null,null,null,null,null,null,null,null,null,null,27.900000000000126,0,"",0,"",0,null,null,27.900000000000126,0,"",0,"",0,null,null,0,0,0,0,0,0,0,0,0,0,0,0,0,0,0,0,0,0,0,0,0,0,0,0,0,0,0,0,0,0,0,0,0,null,null,0,0,0,0,0,0,0,0,0,0,0,0,0,0,0,0,0,0,0,0,0,0,0,0,0,0,0,0,0,0,0,0,0]
[null,null,null,null,null,null,null,null,null,null,null,null,null,null,28.000000000000128,0,"",0,"",0,null,null,28.000000000000128,0,"",0,"",0,null,null,0,0,0,0,0,0,0,0,0,0,0,0,0,0,0,0,0,0,0,0,0,0,0,0,0,0,0,0,0,0,0,0,0,null,null,0,0,0,0,0,0,0,0,0,0,0,0,0,0,0,0,0,0,0,0,0,0,0,0,0,0,0,0,0,0,0,0,0]
[null,null,null,null,null,null,null,null,null,null,null,null,null,null,28.100000000000129,0,"",0,"",0,null,null,28.100000000000129,0,"",0,"",0,null,null,0,0,0,0,0,0,0,0,0,0,0,0,0,0,0,0,0,0,0,0,0,0,0,0,0,0,0,0,0,0,0,0,0,null,null,0,0,0,0,0,0,0,0,0,0,0,0,0,0,0,0,0,0,0,0,0,0,0,0,0,0,0,0,0,0,0,0,0]
[null,null,null,null,null,null,null,null,null,null,null,null,null,null,28.200000000000131,0,"",0,"",0,null,null,28.200000000000131,0,"",0,"",0,null,null,0,0,0,0,0,0,0,0,0,0,0,0,0,0,0,0,0,0,0,0,0,0,0,0,0,0,0,0,0,0,0,0,0,null,null,0,0,0,0,0,0,0,0,0,0,0,0,0,0,0,0,0,0,0,0,0,0,0,0,0,0,0,0,0,0,0,0,0]
[null,null,null,null,null,null,null,null,null,null,null,null,null,null,28.300000000000132,0,"",0,"",0,null,null,28.300000000000132,0,"",0,"",0,null,null,0,0,0,0,0,0,0,0,0,0,0,0,0,0,0,0,0,0,0,0,0,0,0,0,0,0,0,0,0,0,0,0,0,null,null,0,0,0,0,0,0,0,0,0,0,0,0,0,0,0,0,0,0,0,0,0,0,0,0,0,0,0,0,0,0,0,0,0]
[null,null,null,null,null,null,null,null,null,null,null,null,null,null,28.400000000000134,0,"",0,"",0,null,null,28.400000000000134,0,"",0,"",0,null,null,0,0,0,0,0,0,0,0,0,0,0,0,0,0,0,0,0,0,0,0,0,0,0,0,0,0,0,0,0,0,0,0,0,null,null,0,0,0,0,0,0,0,0,0,0,0,0,0,0,0,0,0,0,0,0,0,0,0,0,0,0,0,0,0,0,0,0,0]
[null,null,null,null,null,null,null,null,null,null,null,null,null,null,28.500000000000135,0,"",0,"",0,null,null,28.500000000000135,0,"",0,"",0,null,null,0,0,0,0,0,0,0,0,0,0,0,0,0,0,0,0,0,0,0,0,0,0,0,0,0,0,0,0,0,0,0,0,0,null,null,0,0,0,0,0,0,0,0,0,0,0,0,0,0,0,0,0,0,0,0,0,0,0,0,0,0,0,0,0,0,0,0,0]
[null,null,null,null,null,null,null,null,null,null,null,null,null,null,28.600000000000136,0,"",0,"",0,null,null,28.600000000000136,0,"",0,"",0,null,null,0,0,0,0,0,0,0,0,0,0,0,0,0,0,0,0,0,0,0,0,0,0,0,0,0,0,0,0,0,0,0,0,0,null,null,0,0,0,0,0,0,0,0,0,0,0,0,0,0,0,0,0,0,0,0,0,0,0,0,0,0,0,0,0,0,0,0,0]
[null,null,null,null,null,null,null,null,null,null,null,null,null,null,28.700000000000138,0,"",0,"",0,null,null,28.700000000000138,0,"",0,"",0,null,null,0,0,0,0,0,0,0,0,0,0,0,0,0,0,0,0,0,0,0,0,0,0,0,0,0,0,0,0,0,0,0,0,0,null,null,0,0,0,0,0,0,0,0,0,0,0,0,0,0,0,0,0,0,0,0,0,0,0,0,0,0,0,0,0,0,0,0,0]
[null,null,null,null,null,null,null,null,null,null,null,null,null,null,28.800000000000139,0,"",0,"",0,null,null,28.800000000000139,0,"",0,"",0,null,null,0,0,0,0,0,0,0,0,0,0,0,0,0,0,0,0,0,0,0,0,0,0,0,0,0,0,0,0,0,0,0,0,0,null,null,0,0,0,0,0,0,0,0,0,0,0,0,0,0,0,0,0,0,0,0,0,0,0,0,0,0,0,0,0,0,0,0,0]
[null,null,null,null,null,null,null,null,null,null,null,null,null,null,28.900000000000141,0,"",0,"",0,null,null,28.900000000000141,0,"",0,"",0,null,null,0,0,0,0,0,0,0,0,0,0,0,0,0,0,0,0,0,0,0,0,0,0,0,0,0,0,0,0,0,0,0,0,0,null,null,0,0,0,0,0,0,0,0,0,0,0,0,0,0,0,0,0,0,0,0,0,0,0,0,0,0,0,0,0,0,0,0,0]
[null,null,null,null,null,null,null,null,null,null,null,null,null,null,{"$f":"O296+$N$7","v":29.000000000000142},0,"",0,"",0,null,null,{"$f":"W296+$N$7","v":29.000000000000142},0,"",0,"",0,null,null,0,0,0,0,0,0,0,0,0,0,0,0,0,0,0,0,0,0,0,0,0,0,0,0,0,0,0,0,0,0,0,0,0,null,null,0,0,0,0,0,0,0,0,0,0,0,0,0,0,0,0,0,0,0,0,0,0,0,0,0,0,0,0,0,0,0,0,0]
[null,null,null,null,null,null,null,null,null,null,null,null,null,null,29.100000000000144,0,"",0,"",0,null,null,29.100000000000144,0,"",0,"",0,null,null,0,0,0,0,0,0,0,0,0,0,0,0,0,0,0,{"$f":"SUMIFS($Q298,$T298,AT$7)","v":0},0,0,0,0,0,0,0,0,0,0,0,0,0,0,0,0,0,null,null,0,0,0,0,0,0,0,0,0,0,0,0,0,0,0,0,0,0,0,0,0,0,0,0,0,0,0,0,0,0,0,0,0]
[null,null,null,null,null,null,null,null,null,null,null,null,null,null,29.200000000000145,0,"",0,"",0,null,null,29.200000000000145,0,"",0,"",0,null,null,{"$f":"SUMIFS($Q299,$T299,AE$7)","v":0},0,0,0,0,0,0,0,0,0,0,0,0,0,0,0,0,0,0,0,0,0,0,0,0,0,0,0,0,0,0,0,0,null,null,0,0,0,0,0,0,0,0,0,0,0,0,0,0,0,0,0,0,0,0,0,0,0,0,0,0,0,0,0,0,0,0,0]
[null,null,null,null,null,null,null,null,null,null,null,null,null,null,29.300000000000146,0,"",0,"",0,null,null,29.300000000000146,0,"",0,"",0,null,null,0,0,0,0,0,0,0,0,0,0,0,0,0,0,0,0,0,0,0,0,0,0,0,0,0,0,0,0,0,0,0,0,0,null,null,0,0,0,0,0,0,0,0,0,0,0,0,0,0,0,0,0,0,0,0,0,0,0,0,0,0,0,0,0,0,0,0,0]
[null,null,null,null,null,null,null,null,null,null,null,null,null,null,29.400000000000148,0,"",0,"",0,null,null,29.400000000000148,0,"",0,"",0,null,null,0,0,0,0,0,0,0,0,0,0,0,0,0,0,0,0,0,0,0,0,0,0,0,0,0,0,0,0,0,0,0,{"$f":"SUMIFS($Q301,$T301,BJ$7)","v":0},0,null,null,0,0,0,0,0,0,0,0,0,0,0,0,0,0,0,0,0,0,0,0,0,0,0,0,0,0,0,0,0,0,0,0,0]
[null,null,null,null,null,null,null,null,null,null,null,null,null,null,29.500000000000149,0,"",0,"",0,null,null,29.500000000000149,0,"",0,"",0,null,null,0,0,0,0,0,0,0,0,0,0,0,0,0,0,0,0,0,0,0,0,0,0,0,0,0,0,0,0,0,0,0,0,0,null,null,0,0,0,0,0,0,0,0,0,0,0,0,0,0,0,0,0,0,0,0,0,0,0,0,0,0,0,0,0,0,0,0,0]
[null,null,null,null,null,null,null,null,null,null,null,null,null,null,29.600000000000151,0,"",0,"",0,null,null,29.600000000000151,0,"",0,"",0,null,null,0,0,0,0,0,0,0,0,0,0,0,0,0,0,0,0,0,0,0,0,0,0,0,0,0,0,0,0,0,0,0,0,0,null,null,0,0,0,0,0,0,0,0,0,0,0,0,0,0,0,0,0,0,0,0,0,0,0,0,0,0,0,0,0,0,0,0,0]
[null,null,null,null,null,null,null,null,null,null,null,null,null,null,29.700000000000152,0,"",0,"",0,null,null,29.700000000000152,0,"",0,"",0,null,null,0,0,0,0,0,0,0,0,0,0,0,0,0,0,0,0,0,0,0,0,0,0,0,0,0,0,0,0,0,0,0,0,0,null,null,0,0,0,0,0,0,0,0,0,0,0,0,0,0,0,0,0,0,0,0,0,0,0,0,0,0,0,0,0,0,0,0,0]
[null,null,null,null,null,null,null,null,null,null,null,null,null,null,29.800000000000153,0,"",0,"",0,null,null,29.800000000000153,0,"",0,"",0,null,null,0,0,0,0,0,0,0,0,0,0,0,0,0,0,0,0,0,0,0,0,0,0,0,0,0,0,0,0,0,0,0,0,0,null,null,0,0,0,0,0,0,0,0,0,0,0,0,0,0,0,0,0,0,0,0,0,0,0,0,0,0,0,0,0,0,0,0,0]
[null,null,null,null,null,null,null,null,null,null,null,null,null,null,29.900000000000155,0,"",0,"",0,null,null,29.900000000000155,0,"",0,"",0,null,null,0,0,0,0,0,0,0,0,0,0,0,0,0,0,0,0,0,0,0,0,0,0,0,0,0,0,0,0,0,0,0,0,0,null,null,0,0,0,0,0,0,0,0,0,0,0,0,0,0,0,0,0,0,0,0,0,0,0,0,0,0,0,0,0,0,0,0,0]
[null,null,null,null,null,null,null,null,null,null,null,null,null,null,30.000000000000156,0,"",0,"",0,null,null,30.000000000000156,0,"",0,"",0,null,null,0,0,0,0,0,0,0,0,0,0,0,0,0,0,0,0,0,0,0,0,0,0,0,0,0,0,0,0,0,0,0,0,0,null,null,0,0,0,0,0,0,0,0,0,0,0,0,0,0,0,0,0,0,0,0,0,0,0,0,0,0,0,0,0,0,0,0,0]
[null,null,null,null,null,null,null,null,null,null,null,null,null,null,30.100000000000158,0,"",0,"",0,null,null,30.100000000000158,0,"",0,"",0,null,null,0,0,0,0,0,0,0,0,0,0,0,0,0,0,0,0,0,0,0,0,0,0,0,0,0,0,0,0,0,0,0,0,0,null,null,0,0,0,0,0,0,0,0,0,0,0,0,0,0,0,0,0,0,0,0,0,0,0,0,0,0,0,0,0,0,0,0,0]
[null,null,null,null,null,null,null,null,null,null,null,null,null,null,30.200000000000159,0,"",0,"",0,null,null,30.200000000000159,0,"",0,"",0,null,null,0,0,0,0,0,0,0,0,0,0,0,0,0,0,0,0,0,0,0,0,0,0,0,0,0,0,0,0,0,0,0,0,0,null,null,0,0,0,0,0,0,0,0,0,0,0,0,0,0,0,0,0,0,0,0,0,0,0,0,0,0,0,0,0,0,0,0,0]
[null,null,null,null,null,null,null,null,null,null,null,null,null,null,30.300000000000161,0,"",0,"",0,null,null,30.300000000000161,0,"",0,"",0,null,null,0,0,0,0,0,0,0,0,0,0,0,0,0,0,0,0,0,0,0,0,0,0,0,0,0,0,0,0,0,0,0,0,0,null,null,0,0,0,0,0,0,0,0,0,0,0,0,0,0,0,0,0,0,0,0,0,0,0,0,0,0,0,0,0,0,0,0,0]
[null,null,null,null,null,null,null,null,null,null,null,null,null,null,30.400000000000162,0,"",0,"",0,null,null,30.400000000000162,0,"",0,"",0,null,null,0,0,0,0,0,0,0,0,0,0,0,0,0,0,0,0,0,0,0,0,0,0,0,0,0,0,0,0,0,0,0,0,0,null,null,0,0,0,0,0,0,0,0,0,0,0,0,0,0,0,0,0,0,0,0,0,0,0,0,0,0,0,0,0,0,0,0,0]
[null,null,null,null,null,null,null,null,null,null,null,null,null,null,30.500000000000163,0,"",0,"",0,null,null,30.500000000000163,0,"",0,"",0,null,null,0,0,0,0,0,0,0,0,0,0,0,0,0,0,0,0,0,0,0,0,0,0,0,0,0,0,0,0,0,0,0,0,0,null,null,0,0,0,0,0,0,0,0,0,0,0,0,0,0,0,0,0,0,0,0,0,0,0,0,0,0,0,0,0,0,0,0,0]
[null,null,null,null,null,null,null,null,null,null,null,null,null,null,30.600000000000165,0,"",0,"",0,null,null,30.600000000000165,0,"",0,"",0,null,null,0,0,0,0,0,0,0,0,0,0,0,0,0,0,0,0,0,0,0,0,0,0,0,0,0,0,0,0,0,0,0,0,0,null,null,0,0,0,0,0,0,0,0,0,0,0,0,0,0,0,0,0,0,0,0,0,0,0,0,0,0,0,0,0,0,0,0,0]
[null,null,null,null,null,null,null,null,null,null,null,null,null,null,30.700000000000166,0,"",0,"",0,null,null,30.700000000000166,0,"",0,"",0,null,null,0,0,0,0,0,0,0,0,0,0,0,0,0,0,0,0,{"$f":"SUMIFS($Q314,$T314,AU$7)","v":0},0,0,0,0,0,0,0,0,0,0,0,0,0,0,0,0,null,null,0,0,0,0,0,0,0,0,0,0,0,0,0,0,0,0,0,0,0,0,0,0,0,0,0,0,0,0,0,0,0,0,0]
[null,null,null,null,null,null,null,null,null,null,null,null,null,null,30.800000000000168,0,"",0,"",0,null,null,30.800000000000168,0,"",0,"",0,null,null,{"$f":"SUMIFS($Q315,$T315,AE$7)","v":0},0,0,0,0,0,0,0,0,0,0,0,0,0,0,0,0,0,0,0,0,0,0,0,0,0,0,0,0,0,0,0,0,null,null,0,0,0,0,0,0,0,0,0,0,0,0,0,0,0,0,0,0,0,0,0,0,0,0,0,0,0,0,0,0,0,0,0]
[null,null,null,null,null,null,null,null,null,null,null,null,null,null,30.900000000000169,0,"",0,"",0,null,null,30.900000000000169,0,"",0,"",0,null,null,0,0,0,0,0,0,0,0,0,0,0,0,0,0,0,0,0,0,0,0,0,0,0,0,0,0,0,0,0,0,0,0,0,null,null,0,0,0,0,0,0,0,0,0,0,0,0,0,0,0,0,0,0,0,0,0,0,0,0,0,0,0,0,0,0,0,0,0]
[null,null,null,null,null,null,null,null,null,null,null,null,null,null,31.000000000000171,0,"",0,"",0,null,null,31.000000000000171,0,"",0,"",0,null,null,0,0,0,0,0,0,0,0,0,0,0,0,0,0,0,0,0,0,0,0,0,0,0,0,0,0,0,0,0,0,0,0,0,null,null,0,0,0,0,0,0,0,0,0,0,0,0,0,0,0,0,0,0,0,0,0,0,0,0,0,0,0,0,0,0,0,0,0]
[null,null,null,null,null,null,null,null,null,null,null,null,null,null,31.100000000000172,0,"",0,"",0,null,null,31.100000000000172,0,"",0,"",0,null,null,0,0,0,0,0,0,0,0,0,0,0,0,0,0,0,0,0,0,0,0,0,0,0,0,0,0,0,0,0,0,0,0,0,null,null,0,0,0,0,0,0,0,0,0,0,0,0,0,0,0,0,0,0,0,0,0,0,0,0,0,0,0,0,0,0,0,0,0]
[null,null,null,null,null,null,null,null,null,null,null,null,null,null,31.200000000000173,0,"",0,"",0,null,null,31.200000000000173,0,"",0,"",0,null,null,0,0,0,0,0,0,0,0,0,0,0,0,0,0,0,0,0,0,0,0,0,0,0,0,0,0,0,0,0,0,0,0,0,null,null,0,0,0,0,0,0,0,0,0,0,0,0,0,0,0,0,0,0,0,0,0,0,0,0,0,0,0,0,0,0,0,0,0]
[null,null,null,null,null,null,null,null,null,null,null,null,null,null,31.300000000000175,0,"",0,"",0,null,null,31.300000000000175,0,"",0,"",0,null,null,0,0,0,0,0,0,0,0,0,0,0,0,0,0,0,0,0,0,0,0,0,0,0,0,0,0,0,0,0,0,0,0,0,null,null,0,0,0,0,0,0,0,0,0,0,0,0,0,0,0,0,0,0,0,0,0,0,0,0,0,0,0,0,0,0,0,0,0]
[null,null,null,null,null,null,null,null,null,null,null,null,null,null,31.400000000000176,0,"",0,"",0,null,null,31.400000000000176,0,"",0,"",0,null,null,0,0,0,0,0,0,0,0,0,0,0,0,0,0,0,0,0,0,0,0,0,0,0,0,0,0,0,0,0,0,0,0,{"$f":"SUMIFS($Q321,$T321,BK$7)","v":0},null,null,0,0,0,0,0,0,0,0,0,0,0,0,0,0,0,0,0,0,0,0,0,0,0,0,0,0,0,0,0,0,0,0,0]
[null,null,null,null,null,null,null,null,null,null,null,null,null,null,31.500000000000178,0,"",0,"",0,null,null,31.500000000000178,0,"",0,"",0,null,null,0,0,0,0,0,0,0,0,0,0,0,0,0,0,0,0,0,0,0,0,0,0,0,0,0,0,0,0,0,0,0,0,0,null,null,0,0,0,0,0,0,0,0,0,0,0,0,0,0,0,0,0,0,0,0,0,0,0,0,0,0,0,0,0,0,0,0,0]
[null,null,null,null,null,null,null,null,null,null,null,null,null,null,31.600000000000179,0,"",0,"",0,null,null,31.600000000000179,0,"",0,"",0,null,null,0,0,0,0,0,0,0,0,0,0,0,0,0,0,0,0,0,0,0,0,0,0,0,0,0,0,0,0,0,0,0,0,0,null,null,0,0,0,0,0,0,0,0,0,0,0,0,0,0,0,0,0,0,0,0,0,0,0,0,0,0,0,0,0,0,0,0,0]
[null,null,null,null,null,null,null,null,null,null,null,null,null,null,31.70000000000018,0,"",0,"",0,null,null,31.70000000000018,0,"",0,"",0,null,null,0,0,0,0,0,0,0,0,0,0,0,0,0,0,0,0,0,0,0,0,0,0,0,0,0,0,0,0,0,0,0,0,0,null,null,0,0,0,0,0,0,0,0,0,0,0,0,0,0,0,0,0,0,0,0,0,0,0,0,0,0,0,0,0,0,0,0,0]
[null,null,null,null,null,null,null,null,null,null,null,null,null,null,31.800000000000182,0,"",0,"",0,null,null,31.800000000000182,0,"",0,"",0,null,null,0,0,0,0,0,0,0,0,0,0,0,0,0,0,0,0,0,0,0,0,0,0,0,0,0,0,0,0,0,0,0,0,0,null,null,0,0,0,0,0,0,0,0,0,0,0,0,0,0,0,0,0,0,0,0,0,0,0,0,0,0,0,0,0,0,0,0,0]
[null,null,null,null,null,null,null,null,null,null,null,null,null,null,31.900000000000183,0,"",0,"",0,null,null,31.900000000000183,0,"",0,"",0,null,null,0,0,0,0,0,0,0,0,0,0,0,0,0,0,0,0,0,0,0,0,0,0,0,0,0,0,0,0,0,0,0,0,0,null,null,0,0,0,0,0,0,0,0,0,0,0,0,0,0,0,0,0,0,0,0,0,0,0,0,0,0,0,0,0,0,0,0,0]
[null,null,null,null,null,null,null,null,null,null,null,null,null,null,32.000000000000185,0,"",0,"",0,null,null,32.000000000000185,0,"",0,"",0,null,null,0,0,0,0,0,0,0,0,0,0,0,0,0,0,0,0,0,0,0,0,0,0,0,0,0,0,0,0,0,0,0,0,0,null,null,0,0,0,0,0,0,0,0,0,0,0,0,0,0,0,0,0,0,0,0,0,0,0,0,0,0,0,0,0,0,0,0,0]
[null,null,null,null,null,null,null,null,null,null,null,null,null,null,32.100000000000186,0,{"$f":"INDEX($G$9:$G$39,MATCH(P328,$E$9:$E$39,1))","v":""},{"$f":"IF(Q328<>Q326,Q328,0)","v":0},"",0,null,null,32.100000000000186,0,"",{"$f":"IF(Y328<>Y326,Y328,0)","v":0},"",0,null,null,0,0,0,0,0,0,0,0,0,0,0,0,0,0,0,0,0,0,0,0,0,0,0,0,0,0,0,0,0,0,0,0,0,null,null,0,{"$f":"SUMIFS($Y329,$AB329,AF$7)","v":0},{"$f":"SUMIFS($Y329,$AB329,AG$7)","v":0},{"$f":"SUMIFS($Y329,$AB329,AH$7)","v":0},{"$f":"SUMIFS($Y329,$AB329,AI$7)","v":0},{"$f":"SUMIFS($Y329,$AB329,AJ$7)","v":0},{"$f":"SUMIFS($Y329,$AB329,AK$7)","v":0},{"$f":"SUMIFS($Y329,$AB329,AL$7)","v":0},{"$f":"SUMIFS($Y329,$AB329,AM$7)","v":0},{"$f":"SUMIFS($Y329,$AB329,AN$7)","v":0},{"$f":"SUMIFS($Y329,$AB329,AO$7)","v":0},{"$f":"SUMIFS($Y329,$AB329,AP$7)","v":0},{"$f":"SUMIFS($Y329,$AB329,AQ$7)","v":0},{"$f":"SUMIFS($Y329,$AB329,AR$7)","v":0},{"$f":"SUMIFS($Y329,$AB329,AS$7)","v":0},{"$f":"SUMIFS($Y329,$AB329,AT$7)","v":0},{"$f":"SUMIFS($Y329,$AB329,AU$7)","v":0},{"$f":"SUMIFS($Y329,$AB329,AV$7)","v":0},{"$f":"SUMIFS($Y329,$AB329,AW$7)","v":0},{"$f":"SUMIFS($Y329,$AB329,AX$7)","v":0},{"$f":"SUMIFS($Y329,$AB329,AY$7)","v":0},{"$f":"SUMIFS($Y329,$AB329,AZ$7)","v":0},{"$f":"SUMIFS($Y329,$AB329,BA$7)","v":0},{"$f":"SUMIFS($Y329,$AB329,BB$7)","v":0},{"$f":"SUMIFS($Y329,$AB329,BC$7)","v":0},{"$f":"SUMIFS($Y329,$AB329,BD$7)","v":0},{"$f":"SUMIFS($Y329,$AB329,BE$7)","v":0},{"$f":"SUMIFS($Y329,$AB329,BF$7)","v":0},{"$f":"SUMIFS($Y329,$AB329,BG$7)","v":0},{"$f":"SUMIFS($Y329,$AB329,BH$7)","v":0},{"$f":"SUMIFS($Y329,$AB329,BI$7)","v":0},{"$f":"SUMIFS($Y329,$AB329,BJ$7)","v":0},{"$f":"SUMIFS($Y329,$AB329,BK$7)","v":0}]
[null,null,null,null,null,null,null,null,null,null,null,null,null,null,32.200000000000188,{"$f":"(O329/$O$1007)*$P$1007","v":0},"",0,"",0,null,null,32.200000000000188,{"$f":"(W329/$W$1007)*$X$1007","v":0},{"$f":"INDEX($I$9:$I$39,MATCH(X329,$F$9:$F$39,1))","v":""},0,"",{"$f":"IF(AA329=0,\"\",INDEX($H$9:$H$41,MATCH(AA329,$I$9:$I$41,0)))","v":0},null,null,0,0,0,0,0,0,0,0,0,0,0,0,0,0,0,0,0,0,0,0,0,0,0,0,0,0,0,0,0,0,0,0,0,null,null,{"$f":"SUMIFS($Y330,$AB330,AE$7)","v":0},0,0,0,0,0,0,0,0,0,0,0,0,0,0,0,0,0,0,0,0,0,0,0,0,0,0,0,0,0,0,0,0]
[null,null,null,null,null,null,null,null,null,null,null,null,null,null,32.300000000000189,0,"",0,{"$f":"IF(R330=0,Q330,0)","v":""},{"$f":"IF(S330=0,\"\",INDEX($C$9:$C$41,MATCH(S330,$G$9:$G$41,0)))","v":0},null,null,32.300000000000189,0,"",0,{"$f":"IF(Z330=0,Y330,0)","v":""},0,null,null,0,0,0,0,0,0,0,0,0,0,0,0,0,0,0,{"$f":"SUMIFS($Q330,$T330,AT$7)","v":0},0,0,0,0,0,0,0,0,0,0,0,0,0,0,0,{"$f":"SUMIFS($Q330,$T330,BJ$7)","v":0},0,null,null,0,0,0,0,0,0,0,0,0,0,0,0,0,0,0,0,0,0,0,0,0,0,0,0,0,0,0,0,0,0,0,0,0]
[null,null,null,null,null,null,null,null,null,null,null,null,null,null,32.40000000000019,0,"",0,"",0,null,null,32.40000000000019,0,"",0,"",0,null,null,{"$f":"SUMIFS($Q331,$T331,AE$7)","v":0},0,0,0,0,0,0,0,0,0,0,0,0,0,0,0,0,0,0,0,0,0,0,0,0,0,0,0,0,0,0,0,0,null,null,0,0,0,0,0,0,0,0,0,0,0,0,0,0,0,0,0,0,0,0,0,0,0,0,0,0,0,0,0,0,0,0,0]
[null,null,null,null,null,null,null,null,null,null,null,null,null,null,32.500000000000192,0,"",0,"",0,null,null,32.500000000000192,0,"",0,"",0,null,null,0,0,0,0,0,0,0,0,0,0,0,0,0,0,0,0,0,0,0,0,0,0,0,0,0,0,0,0,0,0,0,0,0,null,null,0,0,0,0,0,0,0,0,0,0,0,0,0,0,0,0,0,0,0,0,0,0,0,0,0,0,0,0,0,0,0,0,0]
[null,null,null,null,null,null,null,null,null,null,null,null,null,null,32.600000000000193,0,"",0,"",0,null,null,32.600000000000193,0,"",0,"",0,null,null,0,0,0,0,0,0,0,0,0,0,0,0,0,0,0,0,0,0,0,0,0,0,0,0,0,0,0,0,0,0,0,0,0,null,null,0,0,0,0,0,0,0,0,0,0,0,0,0,0,0,0,0,0,0,0,0,0,0,0,0,0,0,0,0,0,0,0,0]
[null,null,null,null,null,null,null,null,null,null,null,null,null,null,32.700000000000195,0,"",0,"",0,null,null,32.700000000000195,0,"",0,"",0,null,null,0,0,0,0,0,0,0,0,0,0,0,0,0,0,0,0,0,0,0,0,0,0,0,0,0,0,0,0,0,0,0,0,0,null,null,0,0,0,0,0,0,0,0,0,0,0,0,0,0,0,0,0,0,0,0,0,0,0,0,0,0,0,0,0,0,0,0,0]
[null,null,null,null,null,null,null,null,null,null,null,null,null,null,32.800000000000196,0,"",0,"",0,null,null,32.800000000000196,0,"",0,"",0,null,null,0,0,0,0,0,0,0,0,0,0,0,0,0,0,0,0,0,0,0,0,0,0,0,0,0,0,0,0,0,0,0,0,0,null,null,0,0,0,0,0,0,0,0,0,0,0,0,0,0,0,0,0,0,0,0,0,0,0,0,0,0,0,0,0,0,0,0,0]
[null,null,null,null,null,null,null,null,null,null,null,null,null,null,32.900000000000198,0,"",0,"",0,null,null,32.900000000000198,0,"",0,"",0,null,null,0,0,0,0,0,0,0,0,0,0,0,0,0,0,0,0,0,0,0,0,0,0,0,0,0,0,0,0,0,0,0,0,0,null,null,0,0,0,0,0,0,0,0,0,0,0,0,0,0,0,0,0,0,0,0,0,0,0,0,0,0,0,0,0,0,0,0,0]
[null,null,null,null,null,null,null,null,null,null,null,null,null,null,33.000000000000199,0,"",0,"",0,null,null,33.000000000000199,0,"",0,"",0,null,null,0,0,0,0,0,0,0,0,0,0,0,0,0,0,0,0,0,0,0,0,0,0,0,0,0,0,0,0,0,0,0,0,0,null,null,0,0,0,0,0,0,0,0,0,0,0,0,0,0,0,0,0,0,0,0,0,0,0,0,0,0,0,0,0,0,0,0,0]
[null,null,null,null,null,null,null,null,null,null,null,null,null,null,33.1000000000002,0,"",0,"",0,null,null,33.1000000000002,0,"",0,"",0,null,null,0,0,0,0,0,0,0,0,0,0,0,0,0,0,0,0,0,0,0,0,0,0,0,0,0,0,0,0,0,0,0,0,0,null,null,0,0,0,0,0,0,0,0,0,0,0,0,0,0,0,0,0,0,0,0,0,0,0,0,0,0,0,0,0,0,0,0,0]
[null,null,null,null,null,null,null,null,null,null,null,null,null,null,33.200000000000202,0,"",0,"",0,null,null,33.200000000000202,0,"",0,"",0,null,null,0,0,0,0,0,0,0,0,0,0,0,0,0,0,0,0,0,0,0,0,0,0,0,0,0,0,0,0,0,0,0,0,0,null,null,0,0,0,0,0,0,0,0,0,0,0,0,0,0,0,0,0,0,0,0,0,0,0,0,0,0,0,0,0,0,0,0,0]
[null,null,null,null,null,null,null,null,null,null,null,null,null,null,33.300000000000203,0,"",0,"",0,null,null,33.300000000000203,0,"",0,"",0,null,null,0,0,0,0,0,0,0,0,0,0,0,0,0,0,0,0,0,0,0,0,0,0,0,0,0,0,0,0,0,0,0,0,0,null,null,0,0,0,0,0,0,0,0,0,0,0,0,0,0,0,0,0,0,0,0,0,0,0,0,0,0,0,0,0,0,0,0,0]
[null,null,null,null,null,null,null,null,null,null,null,null,null,null,33.400000000000205,0,"",0,"",0,null,null,33.400000000000205,0,"",0,"",0,null,null,0,0,0,0,0,0,0,0,0,0,0,0,0,0,0,0,0,0,0,0,0,0,0,0,0,0,0,0,0,0,0,0,0,null,null,0,0,0,0,0,0,0,0,0,0,0,0,0,0,0,0,0,0,0,0,0,0,0,0,0,0,0,0,0,0,0,0,0]
[null,null,null,null,null,null,null,null,null,null,null,null,null,null,33.500000000000206,0,"",0,"",0,null,null,33.500000000000206,0,"",0,"",0,null,null,0,0,0,0,0,0,0,0,0,0,0,0,0,0,0,0,0,0,0,0,0,0,0,0,0,0,0,0,0,0,0,0,0,null,null,0,0,0,0,0,0,0,0,0,0,0,0,0,0,0,0,0,0,0,0,0,0,0,0,0,0,0,0,0,0,0,0,0]
[null,null,null,null,null,null,null,null,null,null,null,null,null,null,33.600000000000207,0,"",0,"",0,null,null,33.600000000000207,0,"",0,"",0,null,null,0,0,0,0,0,0,0,0,0,0,0,0,0,0,0,0,0,0,0,0,0,0,0,0,0,0,0,0,0,0,0,0,0,null,null,0,0,0,0,0,0,0,0,0,0,0,0,0,0,0,0,0,0,0,0,0,0,0,0,0,0,0,0,0,0,0,0,0]
[null,null,null,null,null,null,null,null,null,null,null,null,null,null,33.700000000000209,0,"",0,"",0,null,null,33.700000000000209,0,"",0,"",0,null,null,0,0,0,0,0,0,0,0,0,0,0,0,0,0,0,0,0,0,0,0,0,0,0,0,0,0,0,0,0,0,0,0,0,null,null,0,0,0,0,0,0,0,0,0,0,0,0,0,0,0,0,0,0,0,0,0,0,0,0,0,0,0,0,0,0,0,0,0]
[null,null,null,null,null,null,null,null,null,null,null,null,null,null,33.80000000000021,0,"",0,"",0,null,null,33.80000000000021,0,"",0,"",0,null,null,0,0,0,0,0,0,0,0,0,0,0,0,0,0,0,0,0,0,0,0,0,0,0,0,0,0,0,0,0,0,{"$f":"SUMIFS($Q345,$T345,BI$7)","v":0},0,0,null,null,0,0,0,0,0,0,0,0,0,0,0,0,0,0,0,0,0,0,0,0,0,0,0,0,0,0,0,0,0,0,0,0,0]
[null,null,null,null,null,null,null,null,null,null,null,null,null,null,33.900000000000212,0,"",0,"",0,null,null,33.900000000000212,0,"",0,"",0,null,null,0,0,0,0,0,0,0,0,0,0,0,0,0,0,0,0,{"$f":"SUMIFS($Q346,$T346,AU$7)","v":0},0,0,0,0,0,0,0,0,0,0,0,0,0,0,0,0,null,null,0,0,0,0,0,0,0,0,0,0,0,0,0,0,0,0,0,0,0,0,0,0,0,0,0,0,0,0,0,0,0,0,0]
[null,null,null,null,null,null,null,null,null,null,null,null,null,null,34.000000000000213,0,"",0,"",0,null,null,34.000000000000213,0,"",0,"",0,null,null,{"$f":"SUMIFS($Q347,$T347,AE$7)","v":0},0,0,0,0,0,0,0,0,0,0,0,0,0,0,0,0,0,0,0,0,0,0,0,0,0,0,0,0,0,0,0,0,null,null,0,0,0,0,0,0,0,0,0,0,0,0,0,0,0,0,0,0,0,0,0,0,0,0,0,0,0,0,0,0,0,0,0]
[null,null,null,null,null,null,null,null,null,null,null,null,null,null,34.100000000000215,0,"",0,"",0,null,null,34.100000000000215,0,"",0,"",0,null,null,0,0,0,0,0,0,0,0,0,0,0,0,0,0,0,0,0,0,0,0,0,0,0,0,0,0,0,0,0,0,0,0,0,null,null,0,0,0,0,0,0,0,0,0,0,0,0,0,0,0,0,0,0,0,0,0,0,0,0,0,0,0,0,0,0,0,0,0]
[null,null,null,null,null,null,null,null,null,null,null,null,null,null,34.200000000000216,0,"",0,"",0,null,null,34.200000000000216,0,"",0,"",0,null,null,0,0,0,0,0,0,0,0,0,0,0,0,0,0,0,0,0,0,0,0,0,0,0,0,0,0,0,0,0,0,0,0,0,null,null,0,0,0,0,0,0,0,0,0,0,0,0,0,0,0,0,0,0,0,0,0,0,0,0,0,0,0,0,0,0,0,0,0]
[null,null,null,null,null,null,null,null,null,null,null,null,null,null,34.300000000000217,0,"",0,"",0,null,null,34.300000000000217,0,"",0,"",0,null,null,0,0,0,0,0,0,0,0,0,0,0,0,0,0,0,0,0,0,0,0,0,0,0,0,0,0,0,0,0,0,0,0,0,null,null,0,0,0,0,0,0,0,0,0,0,0,0,0,0,0,0,0,0,0,0,0,0,0,0,0,0,0,0,0,0,0,0,0]
[null,null,null,null,null,null,null,null,null,null,null,null,null,null,34.400000000000219,0,"",0,"",0,null,null,34.400000000000219,0,"",0,"",0,null,null,0,0,0,0,0,0,0,0,0,0,0,0,0,0,0,0,0,0,0,0,0,0,0,0,0,0,0,0,0,0,0,0,0,null,null,0,0,0,0,0,0,0,0,0,0,0,0,0,0,0,0,0,0,0,0,0,0,0,0,0,0,0,0,0,0,0,0,0]
[null,null,null,null,null,null,null,null,null,null,null,null,null,null,34.50000000000022,0,"",0,"",0,null,null,34.50000000000022,0,"",0,"",0,null,null,0,0,0,0,0,0,0,0,0,0,0,0,0,0,0,0,0,0,0,0,0,0,0,0,0,0,0,0,0,0,0,0,0,null,null,0,0,0,0,0,0,0,0,0,0,0,0,0,0,0,0,0,0,0,0,0,0,0,0,0,0,0,0,0,0,0,0,0]
[null,null,null,null,null,null,null,null,null,null,null,null,null,null,34.600000000000222,0,"",0,"",0,null,null,34.600000000000222,0,"",0,"",0,null,null,0,0,0,0,0,0,0,0,0,0,0,0,0,0,0,0,0,0,0,0,0,0,0,0,0,0,0,0,0,0,0,0,0,null,null,0,0,0,0,0,0,0,0,0,0,0,0,0,0,0,0,0,0,0,0,0,0,0,0,0,0,0,0,0,0,0,0,0]
[null,null,null,null,null,null,null,null,null,null,null,null,null,null,34.700000000000223,0,"",0,"",0,null,null,34.700000000000223,0,"",0,"",0,null,null,0,0,0,0,0,0,0,0,0,0,0,0,0,0,0,0,0,0,0,0,0,0,0,0,0,0,0,0,0,0,0,0,0,null,null,0,0,0,0,0,0,0,0,0,0,0,0,0,0,0,0,0,0,0,0,0,0,0,0,0,0,0,0,0,0,0,0,0]
[null,null,null,null,null,null,null,null,null,null,null,null,null,null,34.800000000000225,0,"",0,"",0,null,null,34.800000000000225,0,"",0,"",0,null,null,0,0,0,0,0,0,0,0,0,0,0,0,0,0,0,0,0,0,0,0,0,0,0,0,0,0,0,0,0,0,0,0,0,null,null,0,0,0,0,0,0,0,0,0,0,0,0,0,0,0,0,0,0,0,0,0,0,0,0,0,0,0,0,0,0,0,0,0]
[null,null,null,null,null,null,null,null,null,null,null,null,null,null,34.900000000000226,0,"",0,"",0,null,null,34.900000000000226,0,"",0,"",0,null,null,0,0,0,0,0,0,0,0,0,0,0,0,0,0,0,0,0,0,0,0,0,0,0,0,0,0,0,0,0,0,0,0,0,null,null,0,0,0,0,0,0,0,0,0,0,0,0,0,0,0,0,0,0,0,0,0,0,0,0,0,0,0,0,0,0,0,0,0]
[null,null,null,null,null,null,null,null,null,null,null,null,null,null,35.000000000000227,0,"",0,"",0,null,null,35.000000000000227,0,"",0,"",0,null,null,0,0,0,0,0,0,0,0,0,0,0,0,0,0,0,0,0,0,0,0,0,0,0,0,0,0,0,0,0,0,0,0,0,null,null,0,0,0,0,0,0,0,0,0,0,0,0,0,0,0,0,0,0,0,0,0,0,0,0,0,0,0,0,0,0,0,0,0]
[null,null,null,null,null,null,null,null,null,null,null,null,null,null,35.100000000000229,0,"",0,"",0,null,null,35.100000000000229,0,"",0,"",0,null,null,0,0,0,0,0,0,0,0,0,0,0,0,0,0,0,0,0,0,0,0,0,0,0,0,0,0,0,0,0,0,0,0,0,null,null,0,0,0,0,0,0,0,0,0,0,0,0,0,0,0,0,0,0,0,0,0,0,0,0,0,0,0,0,0,0,0,0,0]
[null,null,null,null,null,null,null,null,null,null,null,null,null,null,35.20000000000023,0,"",0,"",0,null,null,35.20000000000023,0,"",0,"",0,null,null,0,0,0,0,0,0,0,0,0,0,0,0,0,0,0,0,0,0,0,0,0,0,0,0,0,0,0,0,0,0,0,0,0,null,null,0,0,0,0,0,0,0,0,0,0,0,0,0,0,0,0,0,0,0,0,0,0,0,0,0,0,0,0,0,0,0,0,0]
[null,null,null,null,null,null,null,null,null,null,null,null,null,null,35.300000000000232,0,"",0,"",0,null,null,35.300000000000232,0,"",0,"",0,null,null,0,0,0,0,0,0,0,0,0,0,0,0,0,0,0,0,0,0,0,0,0,0,0,0,0,0,0,0,0,0,0,0,0,null,null,0,0,0,0,0,0,0,0,0,0,0,0,0,0,0,0,0,0,0,0,0,0,0,0,0,0,0,0,0,0,0,0,0]
[null,null,null,null,null,null,null,null,null,null,null,null,null,null,{"$f":"O360+$N$7","v":35.400000000000233},0,"",0,"",0,null,null,{"$f":"W360+$N$7","v":35.400000000000233},0,"",0,"",0,null,null,0,0,0,0,0,0,0,0,0,0,0,0,0,0,0,0,0,0,0,0,0,0,0,0,0,0,0,0,0,0,0,0,0,null,null,0,0,0,0,0,0,0,0,0,0,0,0,0,0,0,0,0,0,0,0,0,0,0,0,0,0,0,0,0,0,0,0,0]
[null,null,null,null,null,null,null,null,null,null,null,null,null,null,35.500000000000234,0,"",0,"",0,null,null,35.500000000000234,0,"",0,"",0,null,null,0,0,0,0,0,0,0,0,0,0,0,0,0,0,0,{"$f":"SUMIFS($Q362,$T362,AT$7)","v":0},0,0,0,0,0,0,0,0,0,0,0,0,0,0,0,0,0,null,null,0,0,0,0,0,0,0,0,0,0,0,0,0,0,0,0,0,0,0,0,0,0,0,0,0,0,0,0,0,0,0,0,0]
[null,null,null,null,null,null,null,null,null,null,null,null,null,null,35.600000000000236,0,"",0,"",0,null,null,35.600000000000236,0,"",0,"",0,null,null,{"$f":"SUMIFS($Q363,$T363,AE$7)","v":0},0,0,0,0,0,0,0,0,0,0,0,0,0,0,0,0,0,0,0,0,0,0,0,0,0,0,0,0,0,0,0,0,null,null,0,0,0,0,0,0,0,0,0,0,0,0,0,0,0,0,0,0,0,0,0,0,0,0,0,0,0,0,0,0,0,0,0]
[null,null,null,null,null,null,null,null,null,null,null,null,null,null,35.700000000000237,0,"",0,"",0,null,null,35.700000000000237,0,"",0,"",0,null,null,0,0,0,0,0,0,0,0,0,0,0,0,0,0,0,0,0,0,0,0,0,0,0,0,0,0,0,0,0,0,0,0,0,null,null,0,0,0,0,0,0,0,0,0,0,0,0,0,0,0,0,0,0,0,0,0,0,0,0,0,0,0,0,0,0,0,0,0]
[null,null,null,null,null,null,null,null,null,null,null,null,null,null,35.800000000000239,0,"",0,"",0,null,null,35.800000000000239,0,"",0,"",0,null,null,0,0,0,0,0,0,0,0,0,0,0,0,0,0,0,0,0,0,0,0,0,0,0,0,0,0,0,0,0,0,0,{"$f":"SUMIFS($Q365,$T365,BJ$7)","v":0},0,null,null,0,0,0,0,0,0,0,0,0,0,0,0,0,0,0,0,0,0,0,0,0,0,0,0,0,0,0,0,0,0,0,0,0]
[null,null,null,null,null,null,null,null,null,null,null,null,null,null,35.90000000000024,0,"",0,"",0,null,null,35.90000000000024,0,"",0,"",0,null,null,0,0,0,0,0,0,0,0,0,0,0,0,0,0,0,0,0,0,0,0,0,0,0,0,0,0,0,0,0,0,0,0,0,null,null,0,0,0,0,0,0,0,0,0,0,0,0,0,0,0,0,0,0,0,0,0,0,0,0,0,0,0,0,0,0,0,0,0]
[null,null,null,null,null,null,null,null,null,null,null,null,null,null,36.000000000000242,0,"",0,"",0,null,null,36.000000000000242,0,"",0,"",0,null,null,0,0,0,0,0,0,0,0,0,0,0,0,0,0,0,0,0,0,0,0,0,0,0,0,0,0,0,0,0,0,0,0,0,null,null,0,0,0,0,0,0,0,0,0,0,0,0,0,0,0,0,0,0,0,0,0,0,0,0,0,0,0,0,0,0,0,0,0]
[null,null,null,null,null,null,null,null,null,null,null,null,null,null,36.100000000000243,0,"",0,"",0,null,null,36.100000000000243,0,"",0,"",0,null,null,0,0,0,0,0,0,0,0,0,0,0,0,0,0,0,0,0,0,0,0,0,0,0,0,0,0,0,0,0,0,0,0,0,null,null,0,0,0,0,0,0,0,0,0,0,0,0,0,0,0,0,0,0,0,0,0,0,0,0,0,0,0,0,0,0,0,0,0]
[null,null,null,null,null,null,null,null,null,null,null,null,null,null,36.200000000000244,0,"",0,"",0,null,null,36.200000000000244,0,"",0,"",0,null,null,0,0,0,0,0,0,0,0,0,0,0,0,0,0,0,0,0,0,0,0,0,0,0,0,0,0,0,0,0,0,0,0,0,null,null,0,0,0,0,0,0,0,0,0,0,0,0,0,0,0,0,0,0,0,0,0,0,0,0,0,0,0,0,0,0,0,0,0]
[null,null,null,null,null,null,null,null,null,null,null,null,null,null,36.300000000000246,0,"",0,"",0,null,null,36.300000000000246,0,"",0,"",0,null,null,0,0,0,0,0,0,0,0,0,0,0,0,0,0,0,0,0,0,0,0,0,0,0,0,0,0,0,0,0,0,0,0,0,null,null,0,0,0,0,0,0,0,0,0,0,0,0,0,0,0,0,0,0,0,0,0,0,0,0,0,0,0,0,0,0,0,0,0]
[null,null,null,null,null,null,null,null,null,null,null,null,null,null,36.400000000000247,0,"",0,"",0,null,null,36.400000000000247,0,"",0,"",0,null,null,0,0,0,0,0,0,0,0,0,0,0,0,0,0,0,0,0,0,0,0,0,0,0,0,0,0,0,0,0,0,0,0,0,null,null,0,0,0,0,0,0,0,0,0,0,0,0,0,0,0,0,0,0,0,0,0,0,0,0,0,0,0,0,0,0,0,0,0]
[null,null,null,null,null,null,null,null,null,null,null,null,null,null,36.500000000000249,0,"",0,"",0,null,null,36.500000000000249,0,"",0,"",0,null,null,0,0,0,0,0,0,0,0,0,0,0,0,0,0,0,0,0,0,0,0,0,0,0,0,0,0,0,0,0,0,0,0,0,null,null,0,0,0,0,0,0,0,0,0,0,0,0,0,0,0,0,0,0,0,0,0,0,0,0,0,0,0,0,0,0,0,0,0]
[null,null,null,null,null,null,null,null,null,null,null,null,null,null,36.60000000000025,0,"",0,"",0,null,null,36.60000000000025,0,"",0,"",0,null,null,0,0,0,0,0,0,0,0,0,0,0,0,0,0,0,0,0,0,0,0,0,0,0,0,0,0,0,0,0,0,0,0,0,null,null,0,0,0,0,0,0,0,0,0,0,0,0,0,0,0,0,0,0,0,0,0,0,0,0,0,0,0,0,0,0,0,0,0]
[null,null,null,null,null,null,null,null,null,null,null,null,null,null,36.700000000000252,0,"",0,"",0,null,null,36.700000000000252,0,"",0,"",0,null,null,0,0,0,0,0,0,0,0,0,0,0,0,0,0,0,0,0,0,0,0,0,0,0,0,0,0,0,0,0,0,0,0,0,null,null,0,0,0,0,0,0,0,0,0,0,0,0,0,0,0,0,0,0,0,0,0,0,0,0,0,0,0,0,0,0,0,0,0]
[null,null,null,null,null,null,null,null,null,null,null,null,null,null,36.800000000000253,0,"",0,"",0,null,null,36.800000000000253,0,"",0,"",0,null,null,0,0,0,0,0,0,0,0,0,0,0,0,0,0,0,0,0,0,0,0,0,0,0,0,0,0,0,0,0,0,0,0,0,null,null,0,0,0,0,0,0,0,0,0,0,0,0,0,0,0,0,0,0,0,0,0,0,0,0,0,0,0,0,0,0,0,0,0]
[null,null,null,null,null,null,null,null,null,null,null,null,null,null,36.900000000000254,0,"",0,"",0,null,null,36.900000000000254,0,"",0,"",0,null,null,0,0,0,0,0,0,0,0,0,0,0,0,0,0,0,0,0,0,0,0,0,0,0,0,0,0,0,0,0,0,0,0,0,null,null,0,0,0,0,0,0,0,0,0,0,0,0,0,0,0,0,0,0,0,0,0,0,0,0,0,0,0,0,0,0,0,0,0]
[null,null,null,null,null,null,null,null,null,null,null,null,null,null,37.000000000000256,0,"",0,"",0,null,null,37.000000000000256,0,"",0,"",0,null,null,0,0,0,0,0,0,0,0,0,0,0,0,0,0,0,0,0,0,0,0,0,0,0,0,0,0,0,0,0,0,0,0,0,null,null,0,0,0,0,0,0,0,0,0,0,0,0,0,0,0,0,0,0,0,0,0,0,0,0,0,0,0,0,0,0,0,0,0]
[null,null,null,null,null,null,null,null,null,null,null,null,null,null,37.100000000000257,0,"",0,"",0,null,null,37.100000000000257,0,"",0,"",0,null,null,0,0,0,0,0,0,0,0,0,0,0,0,0,0,0,0,{"$f":"SUMIFS($Q378,$T378,AU$7)","v":0},0,0,0,0,0,0,0,0,0,0,0,0,0,0,0,0,null,null,0,0,0,0,0,0,0,0,0,0,0,0,0,0,0,0,0,0,0,0,0,0,0,0,0,0,0,0,0,0,0,0,0]
[null,null,null,null,null,null,null,null,null,null,null,null,null,null,37.200000000000259,0,"",0,"",0,null,null,37.200000000000259,0,"",0,"",0,null,null,{"$f":"SUMIFS($Q379,$T379,AE$7)","v":0},0,0,0,0,0,0,0,0,0,0,0,0,0,0,0,0,0,0,0,0,0,0,0,0,0,0,0,0,0,0,0,0,null,null,0,0,0,0,0,0,0,0,0,0,0,0,0,0,0,0,0,0,0,0,0,0,0,0,0,0,0,0,0,0,0,0,0]
[null,null,null,null,null,null,null,null,null,null,null,null,null,null,37.30000000000026,0,"",0,"",0,null,null,37.30000000000026,0,"",0,"",0,null,null,0,0,0,0,0,0,0,0,0,0,0,0,0,0,0,0,0,0,0,0,0,0,0,0,0,0,0,0,0,0,0,0,0,null,null,0,0,0,0,0,0,0,0,0,0,0,0,0,0,0,0,0,0,0,0,0,0,0,0,0,0,0,0,0,0,0,0,0]
[null,null,null,null,null,null,null,null,null,null,null,null,null,null,37.400000000000261,0,"",0,"",0,null,null,37.400000000000261,0,"",0,"",0,null,null,0,0,0,0,0,0,0,0,0,0,0,0,0,0,0,0,0,0,0,0,0,0,0,0,0,0,0,0,0,0,0,0,0,null,null,0,0,0,0,0,0,0,0,0,0,0,0,0,0,0,0,0,0,0,0,0,0,0,0,0,0,0,0,0,0,0,0,0]
[null,null,null,null,null,null,null,null,null,null,null,null,null,null,37.500000000000263,0,"",0,"",0,null,null,37.500000000000263,0,"",0,"",0,null,null,0,0,0,0,0,0,0,0,0,0,0,0,0,0,0,0,0,0,0,0,0,0,0,0,0,0,0,0,0,0,0,0,0,null,null,0,0,0,0,0,0,0,0,0,0,0,0,0,0,0,0,0,0,0,0,0,0,0,0,0,0,0,0,0,0,0,0,0]
[null,null,null,null,null,null,null,null,null,null,null,null,null,null,37.600000000000264,0,"",0,"",0,null,null,37.600000000000264,0,"",0,"",0,null,null,0,0,0,0,0,0,0,0,0,0,0,0,0,0,0,0,0,0,0,0,0,0,0,0,0,0,0,0,0,0,0,0,0,null,null,0,0,0,0,0,0,0,0,0,0,0,0,0,0,0,0,0,0,0,0,0,0,0,0,0,0,0,0,0,0,0,0,0]
[null,null,null,null,null,null,null,null,null,null,null,null,null,null,37.700000000000266,0,"",0,"",0,null,null,37.700000000000266,0,"",0,"",0,null,null,0,0,0,0,0,0,0,0,0,0,0,0,0,0,0,0,0,0,0,0,0,0,0,0,0,0,0,0,0,0,0,0,0,null,null,0,0,0,0,0,0,0,0,0,0,0,0,0,0,0,0,0,0,0,0,0,0,0,0,0,0,0,0,0,0,0,0,0]
[null,null,null,null,null,null,null,null,null,null,null,null,null,null,37.800000000000267,0,"",0,"",0,null,null,37.800000000000267,0,"",0,"",0,null,null,0,0,0,0,0,0,0,0,0,0,0,0,0,0,0,0,0,0,0,0,0,0,0,0,0,0,0,0,0,0,0,0,{"$f":"SUMIFS($Q385,$T385,BK$7)","v":0},null,null,0,0,0,0,0,0,0,0,0,0,0,0,0,0,0,0,0,0,0,0,0,0,0,0,0,0,0,0,0,0,0,0,0]
[null,null,null,null,null,null,null,null,null,null,null,null,null,null,37.900000000000269,0,"",0,"",0,null,null,37.900000000000269,0,"",0,"",0,null,null,0,0,0,0,0,0,0,0,0,0,0,0,0,0,0,0,0,0,0,0,0,0,0,0,0,0,0,0,0,0,0,0,0,null,null,0,0,0,0,0,0,0,0,0,0,0,0,0,0,0,0,0,0,0,0,0,0,0,0,0,0,0,0,0,0,0,0,0]
[null,null,null,null,null,null,null,null,null,null,null,null,null,null,38.00000000000027,0,"",0,"",0,null,null,38.00000000000027,0,"",0,"",0,null,null,0,0,0,0,0,0,0,0,0,0,0,0,0,0,0,0,0,0,0,0,0,0,0,0,0,0,0,0,0,0,0,0,0,null,null,0,0,0,0,0,0,0,0,0,0,0,0,0,0,0,0,0,0,0,0,0,0,0,0,0,0,0,0,0,0,0,0,0]
[null,null,null,null,null,null,null,null,null,null,null,null,null,null,38.100000000000271,0,"",0,"",0,null,null,38.100000000000271,0,"",0,"",0,null,null,0,0,0,0,0,0,0,0,0,0,0,0,0,0,0,0,0,0,0,0,0,0,0,0,0,0,0,0,0,0,0,0,0,null,null,0,0,0,0,0,0,0,0,0,0,0,0,0,0,0,0,0,0,0,0,0,0,0,0,0,0,0,0,0,0,0,0,0]
[null,null,null,null,null,null,null,null,null,null,null,null,null,null,38.200000000000273,0,"",0,"",0,null,null,38.200000000000273,0,"",0,"",0,null,null,0,0,0,0,0,0,0,0,0,0,0,0,0,0,0,0,0,0,0,0,0,0,0,0,0,0,0,0,0,0,0,0,0,null,null,0,0,0,0,0,0,0,0,0,0,0,0,0,0,0,0,0,0,0,0,0,0,0,0,0,0,0,0,0,0,0,0,0]
[null,null,null,null,null,null,null,null,null,null,null,null,null,null,38.300000000000274,0,"",0,"",0,null,null,38.300000000000274,0,"",0,"",0,null,null,0,0,0,0,0,0,0,0,0,0,0,0,0,0,0,0,0,0,0,0,0,0,0,0,0,0,0,0,0,0,0,0,0,null,null,0,0,0,0,0,0,0,0,0,0,0,0,0,0,0,0,0,0,0,0,0,0,0,0,0,0,0,0,0,0,0,0,0]
[null,null,null,null,null,null,null,null,null,null,null,null,null,null,38.400000000000276,0,"",0,"",0,null,null,38.400000000000276,0,"",0,"",0,null,null,0,0,0,0,0,0,0,0,0,0,0,0,0,0,0,0,0,0,0,0,0,0,0,0,0,0,0,0,0,0,0,0,0,null,null,0,0,0,0,0,0,0,0,0,0,0,0,0,0,0,0,0,0,0,0,0,0,0,0,0,0,0,0,0,0,0,0,0]
[null,null,null,null,null,null,null,null,null,null,null,null,null,null,38.500000000000277,0,{"$f":"INDEX($G$9:$G$39,MATCH(P392,$E$9:$E$39,1))","v":""},{"$f":"IF(Q392<>Q390,Q392,0)","v":0},"",0,null,null,38.500000000000277,0,"",{"$f":"IF(Y392<>Y390,Y392,0)","v":0},"",0,null,null,0,0,0,0,0,0,0,0,0,0,0,0,0,0,0,0,0,0,0,0,0,0,0,0,0,0,0,0,0,0,0,0,0,null,null,0,{"$f":"SUMIFS($Y393,$AB393,AF$7)","v":0},{"$f":"SUMIFS($Y393,$AB393,AG$7)","v":0},{"$f":"SUMIFS($Y393,$AB393,AH$7)","v":0},{"$f":"SUMIFS($Y393,$AB393,AI$7)","v":0},{"$f":"SUMIFS($Y393,$AB393,AJ$7)","v":0},{"$f":"SUMIFS($Y393,$AB393,AK$7)","v":0},{"$f":"SUMIFS($Y393,$AB393,AL$7)","v":0},{"$f":"SUMIFS($Y393,$AB393,AM$7)","v":0},{"$f":"SUMIFS($Y393,$AB393,AN$7)","v":0},{"$f":"SUMIFS($Y393,$AB393,AO$7)","v":0},{"$f":"SUMIFS($Y393,$AB393,AP$7)","v":0},{"$f":"SUMIFS($Y393,$AB393,AQ$7)","v":0},{"$f":"SUMIFS($Y393,$AB393,AR$7)","v":0},{"$f":"SUMIFS($Y393,$AB393,AS$7)","v":0},{"$f":"SUMIFS($Y393,$AB393,AT$7)","v":0},{"$f":"SUMIFS($Y393,$AB393,AU$7)","v":0},{"$f":"SUMIFS($Y393,$AB393,AV$7)","v":0},{"$f":"SUMIFS($Y393,$AB393,AW$7)","v":0},{"$f":"SUMIFS($Y393,$AB393,AX$7)","v":0},{"$f":"SUMIFS($Y393,$AB393,AY$7)","v":0},{"$f":"SUMIFS($Y393,$AB393,AZ$7)","v":0},{"$f":"SUMIFS($Y393,$AB393,BA$7)","v":0},{"$f":"SUMIFS($Y393,$AB393,BB$7)","v":0},{"$f":"SUMIFS($Y393,$AB393,BC$7)","v":0},{"$f":"SUMIFS($Y393,$AB393,BD$7)","v":0},{"$f":"SUMIFS($Y393,$AB393,BE$7)","v":0},{"$f":"SUMIFS($Y393,$AB393,BF$7)","v":0},{"$f":"SUMIFS($Y393,$AB393,BG$7)","v":0},{"$f":"SUMIFS($Y393,$AB393,BH$7)","v":0},{"$f":"SUMIFS($Y393,$AB393,BI$7)","v":0},{"$f":"SUMIFS($Y393,$AB393,BJ$7)","v":0},{"$f":"SUMIFS($Y393,$AB393,BK$7)","v":0}]
[null,null,null,null,null,null,null,null,null,null,null,null,null,null,38.600000000000279,{"$f":"(O393/$O$1007)*$P$1007","v":0},"",0,"",0,null,null,38.600000000000279,{"$f":"(W393/$W$1007)*$X$1007","v":0},{"$f":"INDEX($I$9:$I$39,MATCH(X393,$F$9:$F$39,1))","v":""},0,"",{"$f":"IF(AA393=0,\"\",INDEX($H$9:$H$41,MATCH(AA393,$I$9:$I$41,0)))","v":0},null,null,0,0,0,0,0,0,0,0,0,0,0,0,0,0,0,0,0,0,0,0,0,0,0,0,0,0,0,0,0,0,0,0,0,null,null,{"$f":"SUMIFS($Y394,$AB394,AE$7)","v":0},0,0,0,0,0,0,0,0,0,0,0,0,0,0,0,0,0,0,0,0,0,0,0,0,0,0,0,0,0,0,0,0]
[null,null,null,null,null,null,null,null,null,null,null,null,null,null,38.70000000000028,0,"",0,{"$f":"IF(R394=0,Q394,0)","v":""},{"$f":"IF(S394=0,\"\",INDEX($C$9:$C$41,MATCH(S394,$G$9:$G$41,0)))","v":0},null,null,38.70000000000028,0,"",0,{"$f":"IF(Z394=0,Y394,0)","v":""},0,null,null,0,0,0,0,0,0,0,0,0,0,0,0,0,0,0,{"$f":"SUMIFS($Q394,$T394,AT$7)","v":0},0,0,0,0,0,0,0,0,0,0,0,0,0,0,0,{"$f":"SUMIFS($Q394,$T394,BJ$7)","v":0},0,null,null,0,0,0,0,0,0,0,0,0,0,0,0,0,0,0,0,0,0,0,0,0,0,0,0,0,0,0,0,0,0,0,0,0]
[null,null,null,null,null,null,null,null,null,null,null,null,null,null,38.800000000000281,0,"",0,"",0,null,null,38.800000000000281,0,"",0,"",0,null,null,{"$f":"SUMIFS($Q395,$T395,AE$7)","v":0},0,0,0,0,0,0,0,0,0,0,0,0,0,0,0,0,0,0,0,0,0,0,0,0,0,0,0,0,0,0,0,0,null,null,0,0,0,0,0,0,0,0,0,0,0,0,0,0,0,0,0,0,0,0,0,0,0,0,0,0,0,0,0,0,0,0,0]
[null,null,null,null,null,null,null,null,null,null,null,null,null,null,38.900000000000283,0,"",0,"",0,null,null,38.900000000000283,0,"",0,"",0,null,null,0,0,0,0,0,0,0,0,0,0,0,0,0,0,0,0,0,0,0,0,0,0,0,0,0,0,0,0,0,0,0,0,0,null,null,0,0,0,0,0,0,0,0,0,0,0,0,0,0,0,0,0,0,0,0,0,0,0,0,0,0,0,0,0,0,0,0,0]
[null,null,null,null,null,null,null,null,null,null,null,null,null,null,39.000000000000284,0,"",0,"",0,null,null,39.000000000000284,0,"",0,"",0,null,null,0,0,0,0,0,0,0,0,0,0,0,0,0,0,0,0,0,0,0,0,0,0,0,0,0,0,0,0,0,0,0,0,0,null,null,0,0,0,0,0,0,0,0,0,0,0,0,0,0,0,0,0,0,0,0,0,0,0,0,0,0,0,0,0,0,0,0,0]
[null,null,null,null,null,null,null,null,null,null,null,null,null,null,39.100000000000286,0,"",0,"",0,null,null,39.100000000000286,0,"",0,"",0,null,null,0,0,0,0,0,0,0,0,0,0,0,0,0,0,0,0,0,0,0,0,0,0,0,0,0,0,0,0,0,0,0,0,0,null,null,0,0,0,0,0,0,0,0,0,0,0,0,0,0,0,0,0,0,0,0,0,0,0,0,0,0,0,0,0,0,0,0,0]
[null,null,null,null,null,null,null,null,null,null,null,null,null,null,39.200000000000287,0,"",0,"",0,null,null,39.200000000000287,0,"",0,"",0,null,null,0,0,0,0,0,0,0,0,0,0,0,0,0,0,0,0,0,0,0,0,0,0,0,0,0,0,0,0,0,0,0,0,0,null,null,0,0,0,0,0,0,0,0,0,0,0,0,0,0,0,0,0,0,0,0,0,0,0,0,0,0,0,0,0,0,0,0,0]
[null,null,null,null,null,null,null,null,null,null,null,null,null,null,39.300000000000288,0,"",0,"",0,null,null,39.300000000000288,0,"",0,"",0,null,null,0,0,0,0,0,0,0,0,0,0,0,0,0,0,0,0,0,0,0,0,0,0,0,0,0,0,0,0,0,0,0,0,0,null,null,0,0,0,0,0,0,0,0,0,0,0,0,0,0,0,0,0,0,0,0,0,0,0,0,0,0,0,0,0,0,0,0,0]
[null,null,null,null,null,null,null,null,null,null,null,null,null,null,39.40000000000029,0,"",0,"",0,null,null,39.40000000000029,0,"",0,"",0,null,null,0,0,0,0,0,0,0,0,0,0,0,0,0,0,0,0,0,0,0,0,0,0,0,0,0,0,0,0,0,0,0,0,0,null,null,0,0,0,0,0,0,0,0,0,0,0,0,0,0,0,0,0,0,0,0,0,0,0,0,0,0,0,0,0,0,0,0,0]
[null,null,null,null,null,null,null,null,null,null,null,null,null,null,39.500000000000291,0,"",0,"",0,null,null,39.500000000000291,0,"",0,"",0,null,null,0,0,0,0,0,0,0,0,0,0,0,0,0,0,0,0,0,0,0,0,0,0,0,0,0,0,0,0,0,0,0,0,0,null,null,0,0,0,0,0,0,0,0,0,0,0,0,0,0,0,0,0,0,0,0,0,0,0,0,0,0,0,0,0,0,0,0,0]
[null,null,null,null,null,null,null,null,null,null,null,null,null,null,39.600000000000293,0,"",0,"",0,null,null,39.600000000000293,0,"",0,"",0,null,null,0,0,0,0,0,0,0,0,0,0,0,0,0,0,0,0,0,0,0,0,0,0,0,0,0,0,0,0,0,0,0,0,0,null,null,0,0,0,0,0,0,0,0,0,0,0,0,0,0,0,0,0,0,0,0,0,0,0,0,0,0,0,0,0,0,0,0,0]
[null,null,null,null,null,null,null,null,null,null,null,null,null,null,39.700000000000294,0,"",0,"",0,null,null,39.700000000000294,0,"",0,"",0,null,null,0,0,0,0,0,0,0,0,0,0,0,0,0,0,0,0,0,0,0,0,0,0,0,0,0,0,0,0,0,0,0,0,0,null,null,0,0,0,0,0,0,0,0,0,0,0,0,0,0,0,0,0,0,0,0,0,0,0,0,0,0,0,0,0,0,0,0,0]
[null,null,null,null,null,null,null,null,null,null,null,null,null,null,39.800000000000296,0,"",0,"",0,null,null,39.800000000000296,0,"",0,"",0,null,null,0,0,0,0,0,0,0,0,0,0,0,0,0,0,0,0,0,0,0,0,0,0,0,0,0,0,0,0,0,0,0,0,0,null,null,0,0,0,0,0,0,0,0,0,0,0,0,0,0,0,0,0,0,0,0,0,0,0,0,0,0,0,0,0,0,0,0,0]
[null,null,null,null,null,null,null,null,null,null,null,null,null,null,39.900000000000297,0,"",0,"",0,null,null,39.900000000000297,0,"",0,"",0,null,null,0,0,0,0,0,0,0,0,0,0,0,0,0,0,0,0,0,0,0,0,0,0,0,0,0,0,0,0,0,0,0,0,0,null,null,0,0,0,0,0,0,0,0,0,0,0,0,0,0,0,0,0,0,0,0,0,0,0,0,0,0,0,0,0,0,0,0,0]
[null,null,null,null,null,null,null,null,null,null,null,null,null,null,40.000000000000298,0,"",0,"",0,null,null,40.000000000000298,0,"",0,"",0,null,null,0,0,0,0,0,0,0,0,0,0,0,0,0,0,0,0,0,0,0,0,0,0,0,0,0,0,0,0,0,0,0,0,0,null,null,0,0,0,0,0,0,0,0,0,0,0,0,0,0,0,0,0,0,0,0,0,0,0,0,0,0,0,0,0,0,0,0,0]
[null,null,null,null,null,null,null,null,null,null,null,null,null,null,40.1000000000003,0,"",0,"",0,null,null,40.1000000000003,0,"",0,"",0,null,null,0,0,0,0,0,0,0,0,0,0,0,0,0,0,0,0,0,0,0,0,0,0,0,0,0,0,0,0,0,0,0,0,0,null,null,0,0,0,0,0,0,0,0,0,0,0,0,0,0,0,0,0,0,0,0,0,0,0,0,0,0,0,0,0,0,0,0,0]
[null,null,null,null,null,null,null,null,null,null,null,null,null,null,40.200000000000301,0,"",0,"",0,null,null,40.200000000000301,0,"",0,"",0,null,null,0,0,0,0,0,0,0,0,0,0,0,0,0,0,0,0,0,0,0,0,0,0,0,0,0,0,0,0,0,0,{"$f":"SUMIFS($Q409,$T409,BI$7)","v":0},0,0,null,null,0,0,0,0,0,0,0,0,0,0,0,0,0,0,0,0,0,0,0,0,0,0,0,0,0,0,0,0,0,0,0,0,0]
[null,null,null,null,null,null,null,null,null,null,null,null,null,null,40.300000000000303,0,"",0,"",0,null,null,40.300000000000303,0,"",0,"",0,null,null,0,0,0,0,0,0,0,0,0,0,0,0,0,0,0,0,{"$f":"SUMIFS($Q410,$T410,AU$7)","v":0},0,0,0,0,0,0,0,0,0,0,0,0,0,0,0,0,null,null,0,0,0,0,0,0,0,0,0,0,0,0,0,0,0,0,0,0,0,0,0,0,0,0,0,0,0,0,0,0,0,0,0]
[null,null,null,null,null,null,null,null,null,null,null,null,null,null,40.400000000000304,0,"",0,"",0,null,null,40.400000000000304,0,"",0,"",0,null,null,{"$f":"SUMIFS($Q411,$T411,AE$7)","v":0},0,0,0,0,0,0,0,0,0,0,0,0,0,0,0,0,0,0,0,0,0,0,0,0,0,0,0,0,0,0,0,0,null,null,0,0,0,0,0,0,0,0,0,0,0,0,0,0,0,0,0,0,0,0,0,0,0,0,0,0,0,0,0,0,0,0,0]
[null,null,null,null,null,null,null,null,null,null,null,null,null,null,40.500000000000306,0,"",0,"",0,null,null,40.500000000000306,0,"",0,"",0,null,null,0,0,0,0,0,0,0,0,0,0,0,0,0,0,0,0,0,0,0,0,0,0,0,0,0,0,0,0,0,0,0,0,0,null,null,0,0,0,0,0,0,0,0,0,0,0,0,0,0,0,0,0,0,0,0,0,0,0,0,0,0,0,0,0,0,0,0,0]
[null,null,null,null,null,null,null,null,null,null,null,null,null,null,40.600000000000307,0,"",0,"",0,null,null,40.600000000000307,0,"",0,"",0,null,null,0,0,0,0,0,0,0,0,0,0,0,0,0,0,0,0,0,0,0,0,0,0,0,0,0,0,0,0,0,0,0,0,0,null,null,0,0,0,0,0,0,0,0,0,0,0,0,0,0,0,0,0,0,0,0,0,0,0,0,0,0,0,0,0,0,0,0,0]
[null,null,null,null,null,null,null,null,null,null,null,null,null,null,40.700000000000308,0,"",0,"",0,null,null,40.700000000000308,0,"",0,"",0,null,null,0,0,0,0,0,0,0,0,0,0,0,0,0,0,0,0,0,0,0,0,0,0,0,0,0,0,0,0,0,0,0,0,0,null,null,0,0,0,0,0,0,0,0,0,0,0,0,0,0,0,0,0,0,0,0,0,0,0,0,0,0,0,0,0,0,0,0,0]
[null,null,null,null,null,null,null,null,null,null,null,null,null,null,40.80000000000031,0,"",0,"",0,null,null,40.80000000000031,0,"",0,"",0,null,null,0,0,0,0,0,0,0,0,0,0,0,0,0,0,0,0,0,0,0,0,0,0,0,0,0,0,0,0,0,0,0,0,0,null,null,0,0,0,0,0,0,0,0,0,0,0,0,0,0,0,0,0,0,0,0,0,0,0,0,0,0,0,0,0,0,0,0,0]
[null,null,null,null,null,null,null,null,null,null,null,null,null,null,40.900000000000311,0,"",0,"",0,null,null,40.900000000000311,0,"",0,"",0,null,null,0,0,0,0,0,0,0,0,0,0,0,0,0,0,0,0,0,0,0,0,0,0,0,0,0,0,0,0,0,0,0,0,0,null,null,0,0,0,0,0,0,0,0,0,0,0,0,0,0,0,0,0,0,0,0,0,0,0,0,0,0,0,0,0,0,0,0,0]
[null,null,null,null,null,null,null,null,null,null,null,null,null,null,41.000000000000313,0,"",0,"",0,null,null,41.000000000000313,0,"",0,"",0,null,null,0,0,0,0,0,0,0,0,0,0,0,0,0,0,0,0,0,0,0,0,0,0,0,0,0,0,0,0,0,0,0,0,0,null,null,0,0,0,0,0,0,0,0,0,0,0,0,0,0,0,0,0,0,0,0,0,0,0,0,0,0,0,0,0,0,0,0,0]
[null,null,null,null,null,null,null,null,null,null,null,null,null,null,41.100000000000314,0,"",0,"",0,null,null,41.100000000000314,0,"",0,"",0,null,null,0,0,0,0,0,0,0,0,0,0,0,0,0,0,0,0,0,0,0,0,0,0,0,0,0,0,0,0,0,0,0,0,0,null,null,0,0,0,0,0,0,0,0,0,0,0,0,0,0,0,0,0,0,0,0,0,0,0,0,0,0,0,0,0,0,0,0,0]
[null,null,null,null,null,null,null,null,null,null,null,null,null,null,41.200000000000315,0,"",0,"",0,null,null,41.200000000000315,0,"",0,"",0,null,null,0,0,0,0,0,0,0,0,0,0,0,0,0,0,0,0,0,0,0,0,0,0,0,0,0,0,0,0,0,0,0,0,0,null,null,0,0,0,0,0,0,0,0,0,0,0,0,0,0,0,0,0,0,0,0,0,0,0,0,0,0,0,0,0,0,0,0,0]
[null,null,null,null,null,null,null,null,null,null,null,null,null,null,41.300000000000317,0,"",0,"",0,null,null,41.300000000000317,0,"",0,"",0,null,null,0,0,0,0,0,0,0,0,0,0,0,0,0,0,0,0,0,0,0,0,0,0,0,0,0,0,0,0,0,0,0,0,0,null,null,0,0,0,0,0,0,0,0,0,0,0,0,0,0,0,0,0,0,0,0,0,0,0,0,0,0,0,0,0,0,0,0,0]
[null,null,null,null,null,null,null,null,null,null,null,null,null,null,41.400000000000318,0,"",0,"",0,null,null,41.400000000000318,0,"",0,"",0,null,null,0,0,0,0,0,0,0,0,0,0,0,0,0,0,0,0,0,0,0,0,0,0,0,0,0,0,0,0,0,0,0,0,0,null,null,0,0,0,0,0,0,0,0,0,0,0,0,0,0,0,0,0,0,0,0,0,0,0,0,0,0,0,0,0,0,0,0,0]
[null,null,null,null,null,null,null,null,null,null,null,null,null,null,41.50000000000032,0,"",0,"",0,null,null,41.50000000000032,0,"",0,"",0,null,null,0,0,0,0,0,0,0,0,0,0,0,0,0,0,0,0,0,0,0,0,0,0,0,0,0,0,0,0,0,0,0,0,0,null,null,0,0,0,0,0,0,0,0,0,0,0,0,0,0,0,0,0,0,0,0,0,0,0,0,0,0,0,0,0,0,0,0,0]
[null,null,null,null,null,null,null,null,null,null,null,null,null,null,41.600000000000321,0,"",0,"",0,null,null,41.600000000000321,0,"",0,"",0,null,null,0,0,0,0,0,0,0,0,0,0,0,0,0,0,0,0,0,0,0,0,0,0,0,0,0,0,0,0,0,0,0,0,0,null,null,0,0,0,0,0,0,0,0,0,0,0,0,0,0,0,0,0,0,0,0,0,0,0,0,0,0,0,0,0,0,0,0,0]
[null,null,null,null,null,null,null,null,null,null,null,null,null,null,41.700000000000323,0,"",0,"",0,null,null,41.700000000000323,0,"",0,"",0,null,null,0,0,0,0,0,0,0,0,0,0,0,0,0,0,0,0,0,0,0,0,0,0,0,0,0,0,0,0,0,0,0,0,0,null,null,0,0,0,0,0,0,0,0,0,0,0,0,0,0,0,0,0,0,0,0,0,0,0,0,0,0,0,0,0,0,0,0,0]
[null,null,null,null,null,null,null,null,null,null,null,null,null,null,{"$f":"O424+$N$7","v":41.800000000000324},0,"",0,"",0,null,null,{"$f":"W424+$N$7","v":41.800000000000324},0,"",0,"",0,null,null,0,0,0,0,0,0,0,0,0,0,0,0,0,0,0,0,0,0,0,0,0,0,0,0,0,0,0,0,0,0,0,0,0,null,null,0,0,0,0,0,0,0,0,0,0,0,0,0,0,0,0,0,0,0,0,0,0,0,0,0,0,0,0,0,0,0,0,0]
[null,null,null,null,null,null,null,null,null,null,null,null,null,null,41.900000000000325,0,"",0,"",0,null,null,41.900000000000325,0,"",0,"",0,null,null,0,0,0,0,0,0,0,0,0,0,0,0,0,0,0,{"$f":"SUMIFS($Q426,$T426,AT$7)","v":0},0,0,0,0,0,0,0,0,0,0,0,0,0,0,0,0,0,null,null,0,0,0,0,0,0,0,0,0,0,0,0,0,0,0,0,0,0,0,0,0,0,0,0,0,0,0,0,0,0,0,0,0]
[null,null,null,null,null,null,null,null,null,null,null,null,null,null,42.000000000000327,0,"",0,"",0,null,null,42.000000000000327,0,"",0,"",0,null,null,{"$f":"SUMIFS($Q427,$T427,AE$7)","v":0},0,0,0,0,0,0,0,0,0,0,0,0,0,0,0,0,0,0,0,0,0,0,0,0,0,0,0,0,0,0,0,0,null,null,0,0,0,0,0,0,0,0,0,0,0,0,0,0,0,0,0,0,0,0,0,0,0,0,0,0,0,0,0,0,0,0,0]
[null,null,null,null,null,null,null,null,null,null,null,null,null,null,42.100000000000328,0,"",0,"",0,null,null,42.100000000000328,0,"",0,"",0,null,null,0,0,0,0,0,0,0,0,0,0,0,0,0,0,0,0,0,0,0,0,0,0,0,0,0,0,0,0,0,0,0,0,0,null,null,0,0,0,0,0,0,0,0,0,0,0,0,0,0,0,0,0,0,0,0,0,0,0,0,0,0,0,0,0,0,0,0,0]
[null,null,null,null,null,null,null,null,null,null,null,null,null,null,42.20000000000033,0,"",0,"",0,null,null,42.20000000000033,0,"",0,"",0,null,null,0,0,0,0,0,0,0,0,0,0,0,0,0,0,0,0,0,0,0,0,0,0,0,0,0,0,0,0,0,0,0,{"$f":"SUMIFS($Q429,$T429,BJ$7)","v":0},0,null,null,0,0,0,0,0,0,0,0,0,0,0,0,0,0,0,0,0,0,0,0,0,0,0,0,0,0,0,0,0,0,0,0,0]
[null,null,null,null,null,null,null,null,null,null,null,null,null,null,42.300000000000331,0,"",0,"",0,null,null,42.300000000000331,0,"",0,"",0,null,null,0,0,0,0,0,0,0,0,0,0,0,0,0,0,0,0,0,0,0,0,0,0,0,0,0,0,0,0,0,0,0,0,0,null,null,0,0,0,0,0,0,0,0,0,0,0,0,0,0,0,0,0,0,0,0,0,0,0,0,0,0,0,0,0,0,0,0,0]
[null,null,null,null,null,null,null,null,null,null,null,null,null,null,42.400000000000333,0,"",0,"",0,null,null,42.400000000000333,0,"",0,"",0,null,null,0,0,0,0,0,0,0,0,0,0,0,0,0,0,0,0,0,0,0,0,0,0,0,0,0,0,0,0,0,0,0,0,0,null,null,0,0,0,0,0,0,0,0,0,0,0,0,0,0,0,0,0,0,0,0,0,0,0,0,0,0,0,0,0,0,0,0,0]
[null,null,null,null,null,null,null,null,null,null,null,null,null,null,42.500000000000334,0,"",0,"",0,null,null,42.500000000000334,0,"",0,"",0,null,null,0,0,0,0,0,0,0,0,0,0,0,0,0,0,0,0,0,0,0,0,0,0,0,0,0,0,0,0,0,0,0,0,0,null,null,0,0,0,0,0,0,0,0,0,0,0,0,0,0,0,0,0,0,0,0,0,0,0,0,0,0,0,0,0,0,0,0,0]
[null,null,null,null,null,null,null,null,null,null,null,null,null,null,42.600000000000335,0,"",0,"",0,null,null,42.600000000000335,0,"",0,"",0,null,null,0,0,0,0,0,0,0,0,0,0,0,0,0,0,0,0,0,0,0,0,0,0,0,0,0,0,0,0,0,0,0,0,0,null,null,0,0,0,0,0,0,0,0,0,0,0,0,0,0,0,0,0,0,0,0,0,0,0,0,0,0,0,0,0,0,0,0,0]
[null,null,null,null,null,null,null,null,null,null,null,null,null,null,42.700000000000337,0,"",0,"",0,null,null,42.700000000000337,0,"",0,"",0,null,null,0,0,0,0,0,0,0,0,0,0,0,0,0,0,0,0,0,0,0,0,0,0,0,0,0,0,0,0,0,0,0,0,0,null,null,0,0,0,0,0,0,0,0,0,0,0,0,0,0,0,0,0,0,0,0,0,0,0,0,0,0,0,0,0,0,0,0,0]
[null,null,null,null,null,null,null,null,null,null,null,null,null,null,42.800000000000338,0,"",0,"",0,null,null,42.800000000000338,0,"",0,"",0,null,null,0,0,0,0,0,0,0,0,0,0,0,0,0,0,0,0,0,0,0,0,0,0,0,0,0,0,0,0,0,0,0,0,0,null,null,0,0,0,0,0,0,0,0,0,0,0,0,0,0,0,0,0,0,0,0,0,0,0,0,0,0,0,0,0,0,0,0,0]
[null,null,null,null,null,null,null,null,null,null,null,null,null,null,42.90000000000034,0,"",0,"",0,null,null,42.90000000000034,0,"",0,"",0,null,null,0,0,0,0,0,0,0,0,0,0,0,0,0,0,0,0,0,0,0,0,0,0,0,0,0,0,0,0,0,0,0,0,0,null,null,0,0,0,0,0,0,0,0,0,0,0,0,0,0,0,0,0,0,0,0,0,0,0,0,0,0,0,0,0,0,0,0,0]
[null,null,null,null,null,null,null,null,null,null,null,null,null,null,43.000000000000341,0,"",0,"",0,null,null,43.000000000000341,0,"",0,"",0,null,null,0,0,0,0,0,0,0,0,0,0,0,0,0,0,0,0,0,0,0,0,0,0,0,0,0,0,0,0,0,0,0,0,0,null,null,0,0,0,0,0,0,0,0,0,0,0,0,0,0,0,0,0,0,0,0,0,0,0,0,0,0,0,0,0,0,0,0,0]
[null,null,null,null,null,null,null,null,null,null,null,null,null,null,43.100000000000342,0,"",0,"",0,null,null,43.100000000000342,0,"",0,"",0,null,null,0,0,0,0,0,0,0,0,0,0,0,0,0,0,0,0,0,0,0,0,0,0,0,0,0,0,0,0,0,0,0,0,0,null,null,0,0,0,0,0,0,0,0,0,0,0,0,0,0,0,0,0,0,0,0,0,0,0,0,0,0,0,0,0,0,0,0,0]
[null,null,null,null,null,null,null,null,null,null,null,null,null,null,43.200000000000344,0,"",0,"",0,null,null,43.200000000000344,0,"",0,"",0,null,null,0,0,0,0,0,0,0,0,0,0,0,0,0,0,0,0,0,0,0,0,0,0,0,0,0,0,0,0,0,0,0,0,0,null,null,0,0,0,0,0,0,0,0,0,0,0,0,0,0,0,0,0,0,0,0,0,0,0,0,0,0,0,0,0,0,0,0,0]
[null,null,null,null,null,null,null,null,null,null,null,null,null,null,43.300000000000345,0,"",0,"",0,null,null,43.300000000000345,0,"",0,"",0,null,null,0,0,0,0,0,0,0,0,0,0,0,0,0,0,0,0,0,0,0,0,0,0,0,0,0,0,0,0,0,0,0,0,0,null,null,0,0,0,0,0,0,0,0,0,0,0,0,0,0,0,0,0,0,0,0,0,0,0,0,0,0,0,0,0,0,0,0,0]
[null,null,null,null,null,null,null,null,null,null,null,null,null,null,43.400000000000347,0,"",0,"",0,null,null,43.400000000000347,0,"",0,"",0,null,null,0,0,0,0,0,0,0,0,0,0,0,0,0,0,0,0,0,0,0,0,0,0,0,0,0,0,0,0,0,0,0,0,0,null,null,0,0,0,0,0,0,0,0,0,0,0,0,0,0,0,0,0,0,0,0,0,0,0,0,0,0,0,0,0,0,0,0,0]
[null,null,null,null,null,null,null,null,null,null,null,null,null,null,43.500000000000348,0,"",0,"",0,null,null,43.500000000000348,0,"",0,"",0,null,null,0,0,0,0,0,0,0,0,0,0,0,0,0,0,0,0,{"$f":"SUMIFS($Q442,$T442,AU$7)","v":0},0,0,0,0,0,0,0,0,0,0,0,0,0,0,0,0,null,null,0,0,0,0,0,0,0,0,0,0,0,0,0,0,0,0,0,0,0,0,0,0,0,0,0,0,0,0,0,0,0,0,0]
[null,null,null,null,null,null,null,null,null,null,null,null,null,null,43.60000000000035,0,"",0,"",0,null,null,43.60000000000035,0,"",0,"",0,null,null,{"$f":"SUMIFS($Q443,$T443,AE$7)","v":0},0,0,0,0,0,0,0,0,0,0,0,0,0,0,0,0,0,0,0,0,0,0,0,0,0,0,0,0,0,0,0,0,null,null,0,0,0,0,0,0,0,0,0,0,0,0,0,0,0,0,0,0,0,0,0,0,0,0,0,0,0,0,0,0,0,0,0]
[null,null,null,null,null,null,null,null,null,null,null,null,null,null,43.700000000000351,0,"",0,"",0,null,null,43.700000000000351,0,"",0,"",0,null,null,0,0,0,0,0,0,0,0,0,0,0,0,0,0,0,0,0,0,0,0,0,0,0,0,0,0,0,0,0,0,0,0,0,null,null,0,0,0,0,0,0,0,0,0,0,0,0,0,0,0,0,0,0,0,0,0,0,0,0,0,0,0,0,0,0,0,0,0]
[null,null,null,null,null,null,null,null,null,null,null,null,null,null,43.800000000000352,0,"",0,"",0,null,null,43.800000000000352,0,"",0,"",0,null,null,0,0,0,0,0,0,0,0,0,0,0,0,0,0,0,0,0,0,0,0,0,0,0,0,0,0,0,0,0,0,0,0,0,null,null,0,0,0,0,0,0,0,0,0,0,0,0,0,0,0,0,0,0,0,0,0,0,0,0,0,0,0,0,0,0,0,0,0]
[null,null,null,null,null,null,null,null,null,null,null,null,null,null,43.900000000000354,0,"",0,"",0,null,null,43.900000000000354,0,"",0,"",0,null,null,0,0,0,0,0,0,0,0,0,0,0,0,0,0,0,0,0,0,0,0,0,0,0,0,0,0,0,0,0,0,0,0,0,null,null,0,0,0,0,0,0,0,0,0,0,0,0,0,0,0,0,0,0,0,0,0,0,0,0,0,0,0,0,0,0,0,0,0]
[null,null,null,null,null,null,null,null,null,null,null,null,null,null,44.000000000000355,0,"",0,"",0,null,null,44.000000000000355,0,"",0,"",0,null,null,0,0,0,0,0,0,0,0,0,0,0,0,0,0,0,0,0,0,0,0,0,0,0,0,0,0,0,0,0,0,0,0,0,null,null,0,0,0,0,0,0,0,0,0,0,0,0,0,0,0,0,0,0,0,0,0,0,0,0,0,0,0,0,0,0,0,0,0]
[null,null,null,null,null,null,null,null,null,null,null,null,null,null,44.100000000000357,0,"",0,"",0,null,null,44.100000000000357,0,"",0,"",0,null,null,0,0,0,0,0,0,0,0,0,0,0,0,0,0,0,0,0,0,0,0,0,0,0,0,0,0,0,0,0,0,0,0,0,null,null,0,0,0,0,0,0,0,0,0,0,0,0,0,0,0,0,0,0,0,0,0,0,0,0,0,0,0,0,0,0,0,0,0]
[null,null,null,null,null,null,null,null,null,null,null,null,null,null,44.200000000000358,0,"",0,"",0,null,null,44.200000000000358,0,"",0,"",0,null,null,0,0,0,0,0,0,0,0,0,0,0,0,0,0,0,0,0,0,0,0,0,0,0,0,0,0,0,0,0,0,0,0,{"$f":"SUMIFS($Q449,$T449,BK$7)","v":0},null,null,0,0,0,0,0,0,0,0,0,0,0,0,0,0,0,0,0,0,0,0,0,0,0,0,0,0,0,0,0,0,0,0,0]
[null,null,null,null,null,null,null,null,null,null,null,null,null,null,44.30000000000036,0,"",0,"",0,null,null,44.30000000000036,0,"",0,"",0,null,null,0,0,0,0,0,0,0,0,0,0,0,0,0,0,0,0,0,0,0,0,0,0,0,0,0,0,0,0,0,0,0,0,0,null,null,0,0,0,0,0,0,0,0,0,0,0,0,0,0,0,0,0,0,0,0,0,0,0,0,0,0,0,0,0,0,0,0,0]
[null,null,null,null,null,null,null,null,null,null,null,null,null,null,44.400000000000361,0,"",0,"",0,null,null,44.400000000000361,0,"",0,"",0,null,null,0,0,0,0,0,0,0,0,0,0,0,0,0,0,0,0,0,0,0,0,0,0,0,0,0,0,0,0,0,0,0,0,0,null,null,0,0,0,0,0,0,0,0,0,0,0,0,0,0,0,0,0,0,0,0,0,0,0,0,0,0,0,0,0,0,0,0,0]
[null,null,null,null,null,null,null,null,null,null,null,null,null,null,44.500000000000362,0,"",0,"",0,null,null,44.500000000000362,0,"",0,"",0,null,null,0,0,0,0,0,0,0,0,0,0,0,0,0,0,0,0,0,0,0,0,0,0,0,0,0,0,0,0,0,0,0,0,0,null,null,0,0,0,0,0,0,0,0,0,0,0,0,0,0,0,0,0,0,0,0,0,0,0,0,0,0,0,0,0,0,0,0,0]
[null,null,null,null,null,null,null,null,null,null,null,null,null,null,44.600000000000364,0,"",0,"",0,null,null,44.600000000000364,0,"",0,"",0,null,null,0,0,0,0,0,0,0,0,0,0,0,0,0,0,0,0,0,0,0,0,0,0,0,0,0,0,0,0,0,0,0,0,0,null,null,0,0,0,0,0,0,0,0,0,0,0,0,0,0,0,0,0,0,0,0,0,0,0,0,0,0,0,0,0,0,0,0,0]
[null,null,null,null,null,null,null,null,null,null,null,null,null,null,44.700000000000365,0,"",0,"",0,null,null,44.700000000000365,0,"",0,"",0,null,null,0,0,0,0,0,0,0,0,0,0,0,0,0,0,0,0,0,0,0,0,0,0,0,0,0,0,0,0,0,0,0,0,0,null,null,0,0,0,0,0,0,0,0,0,0,0,0,0,0,0,0,0,0,0,0,0,0,0,0,0,0,0,0,0,0,0,0,0]
[null,null,null,null,null,null,null,null,null,null,null,null,null,null,44.800000000000367,0,"",0,"",0,null,null,44.800000000000367,0,"",0,"",0,null,null,0,0,0,0,0,0,0,0,0,0,0,0,0,0,0,0,0,0,0,0,0,0,0,0,0,0,0,0,0,0,0,0,0,null,null,0,0,0,0,0,0,0,0,0,0,0,0,0,0,0,0,0,0,0,0,0,0,0,0,0,0,0,0,0,0,0,0,0]
[null,null,null,null,null,null,null,null,null,null,null,null,null,null,44.900000000000368,0,{"$f":"INDEX($G$9:$G$39,MATCH(P456,$E$9:$E$39,1))","v":""},{"$f":"IF(Q456<>Q454,Q456,0)","v":0},"",0,null,null,44.900000000000368,0,"",{"$f":"IF(Y456<>Y454,Y456,0)","v":0},"",0,null,null,0,0,0,0,0,0,0,0,0,0,0,0,0,0,0,0,0,0,0,0,0,0,0,0,0,0,0,0,0,0,0,0,0,null,null,0,{"$f":"SUMIFS($Y457,$AB457,AF$7)","v":0},{"$f":"SUMIFS($Y457,$AB457,AG$7)","v":0},{"$f":"SUMIFS($Y457,$AB457,AH$7)","v":0},{"$f":"SUMIFS($Y457,$AB457,AI$7)","v":0},{"$f":"SUMIFS($Y457,$AB457,AJ$7)","v":0},{"$f":"SUMIFS($Y457,$AB457,AK$7)","v":0},{"$f":"SUMIFS($Y457,$AB457,AL$7)","v":0},{"$f":"SUMIFS($Y457,$AB457,AM$7)","v":0},{"$f":"SUMIFS($Y457,$AB457,AN$7)","v":0},{"$f":"SUMIFS($Y457,$AB457,AO$7)","v":0},{"$f":"SUMIFS($Y457,$AB457,AP$7)","v":0},{"$f":"SUMIFS($Y457,$AB457,AQ$7)","v":0},{"$f":"SUMIFS($Y457,$AB457,AR$7)","v":0},{"$f":"SUMIFS($Y457,$AB457,AS$7)","v":0},{"$f":"SUMIFS($Y457,$AB457,AT$7)","v":0},{"$f":"SUMIFS($Y457,$AB457,AU$7)","v":0},{"$f":"SUMIFS($Y457,$AB457,AV$7)","v":0},{"$f":"SUMIFS($Y457,$AB457,AW$7)","v":0},{"$f":"SUMIFS($Y457,$AB457,AX$7)","v":0},{"$f":"SUMIFS($Y457,$AB457,AY$7)","v":0},{"$f":"SUMIFS($Y457,$AB457,AZ$7)","v":0},{"$f":"SUMIFS($Y457,$AB457,BA$7)","v":0},{"$f":"SUMIFS($Y457,$AB457,BB$7)","v":0},{"$f":"SUMIFS($Y457,$AB457,BC$7)","v":0},{"$f":"SUMIFS($Y457,$AB457,BD$7)","v":0},{"$f":"SUMIFS($Y457,$AB457,BE$7)","v":0},{"$f":"SUMIFS($Y457,$AB457,BF$7)","v":0},{"$f":"SUMIFS($Y457,$AB457,BG$7)","v":0},{"$f":"SUMIFS($Y457,$AB457,BH$7)","v":0},{"$f":"SUMIFS($Y457,$AB457,BI$7)","v":0},{"$f":"SUMIFS($Y457,$AB457,BJ$7)","v":0},{"$f":"SUMIFS($Y457,$AB457,BK$7)","v":0}]
[null,null,null,null,null,null,null,null,null,null,null,null,null,null,45.000000000000369,{"$f":"(O457/$O$1007)*$P$1007","v":0},"",0,"",0,null,null,45.000000000000369,{"$f":"(W457/$W$1007)*$X$1007","v":0},{"$f":"INDEX($I$9:$I$39,MATCH(X457,$F$9:$F$39,1))","v":""},0,"",{"$f":"IF(AA457=0,\"\",INDEX($H$9:$H$41,MATCH(AA457,$I$9:$I$41,0)))","v":0},null,null,0,0,0,0,0,0,0,0,0,0,0,0,0,0,0,0,0,0,0,0,0,0,0,0,0,0,0,0,0,0,0,0,0,null,null,{"$f":"SUMIFS($Y458,$AB458,AE$7)","v":0},0,0,0,0,0,0,0,0,0,0,0,0,0,0,0,0,0,0,0,0,0,0,0,0,0,0,0,0,0,0,0,0]
[null,null,null,null,null,null,null,null,null,null,null,null,null,null,45.100000000000371,0,"",0,{"$f":"IF(R458=0,Q458,0)","v":""},{"$f":"IF(S458=0,\"\",INDEX($C$9:$C$41,MATCH(S458,$G$9:$G$41,0)))","v":0},null,null,45.100000000000371,0,"",0,{"$f":"IF(Z458=0,Y458,0)","v":""},0,null,null,0,0,0,0,0,0,0,0,0,0,0,0,0,0,0,{"$f":"SUMIFS($Q458,$T458,AT$7)","v":0},0,0,0,0,0,0,0,0,0,0,0,0,0,0,0,{"$f":"SUMIFS($Q458,$T458,BJ$7)","v":0},0,null,null,0,0,0,0,0,0,0,0,0,0,0,0,0,0,0,0,0,0,0,0,0,0,0,0,0,0,0,0,0,0,0,0,0]
[null,null,null,null,null,null,null,null,null,null,null,null,null,null,45.200000000000372,0,"",0,"",0,null,null,45.200000000000372,0,"",0,"",0,null,null,{"$f":"SUMIFS($Q459,$T459,AE$7)","v":0},0,0,0,0,0,0,0,0,0,0,0,0,0,0,0,0,0,0,0,0,0,0,0,0,0,0,0,0,0,0,0,0,null,null,0,0,0,0,0,0,0,0,0,0,0,0,0,0,0,0,0,0,0,0,0,0,0,0,0,0,0,0,0,0,0,0,0]
[null,null,null,null,null,null,null,null,null,null,null,null,null,null,45.300000000000374,0,"",0,"",0,null,null,45.300000000000374,0,"",0,"",0,null,null,0,0,0,0,0,0,0,0,0,0,0,0,0,0,0,0,0,0,0,0,0,0,0,0,0,0,0,0,0,0,0,0,0,null,null,0,0,0,0,0,0,0,0,0,0,0,0,0,0,0,0,0,0,0,0,0,0,0,0,0,0,0,0,0,0,0,0,0]
[null,null,null,null,null,null,null,null,null,null,null,null,null,null,45.400000000000375,0,"",0,"",0,null,null,45.400000000000375,0,"",0,"",0,null,null,0,0,0,0,0,0,0,0,0,0,0,0,0,0,0,0,0,0,0,0,0,0,0,0,0,0,0,0,0,0,0,0,0,null,null,0,0,0,0,0,0,0,0,0,0,0,0,0,0,0,0,0,0,0,0,0,0,0,0,0,0,0,0,0,0,0,0,0]
[null,null,null,null,null,null,null,null,null,null,null,null,null,null,45.500000000000377,0,"",0,"",0,null,null,45.500000000000377,0,"",0,"",0,null,null,0,0,0,0,0,0,0,0,0,0,0,0,0,0,0,0,0,0,0,0,0,0,0,0,0,0,0,0,0,0,0,0,0,null,null,0,0,0,0,0,0,0,0,0,0,0,0,0,0,0,0,0,0,0,0,0,0,0,0,0,0,0,0,0,0,0,0,0]
[null,null,null,null,null,null,null,null,null,null,null,null,null,null,45.600000000000378,0,"",0,"",0,null,null,45.600000000000378,0,"",0,"",0,null,null,0,0,0,0,0,0,0,0,0,0,0,0,0,0,0,0,0,0,0,0,0,0,0,0,0,0,0,0,0,0,0,0,0,null,null,0,0,0,0,0,0,0,0,0,0,0,0,0,0,0,0,0,0,0,0,0,0,0,0,0,0,0,0,0,0,0,0,0]
[null,null,null,null,null,null,null,null,null,null,null,null,null,null,45.700000000000379,0,"",0,"",0,null,null,45.700000000000379,0,"",0,"",0,null,null,0,0,0,0,0,0,0,0,0,0,0,0,0,0,0,0,0,0,0,0,0,0,0,0,0,0,0,0,0,0,0,0,0,null,null,0,0,0,0,0,0,0,0,0,0,0,0,0,0,0,0,0,0,0,0,0,0,0,0,0,0,0,0,0,0,0,0,0]
[null,null,null,null,null,null,null,null,null,null,null,null,null,null,45.800000000000381,0,"",0,"",0,null,null,45.800000000000381,0,"",0,"",0,null,null,0,0,0,0,0,0,0,0,0,0,0,0,0,0,0,0,0,0,0,0,0,0,0,0,0,0,0,0,0,0,0,0,0,null,null,0,0,0,0,0,0,0,0,0,0,0,0,0,0,0,0,0,0,0,0,0,0,0,0,0,0,0,0,0,0,0,0,0]
[null,null,null,null,null,null,null,null,null,null,null,null,null,null,45.900000000000382,0,"",0,"",0,null,null,45.900000000000382,0,"",0,"",0,null,null,0,0,0,0,0,0,0,0,0,0,0,0,0,0,0,0,0,0,0,0,0,0,0,0,0,0,0,0,0,0,0,0,0,null,null,0,0,0,0,0,0,0,0,0,0,0,0,0,0,0,0,0,0,0,0,0,0,0,0,0,0,0,0,0,0,0,0,0]
[null,null,null,null,null,null,null,null,null,null,null,null,null,null,46.000000000000384,0,"",0,"",0,null,null,46.000000000000384,0,"",0,"",0,null,null,0,0,0,0,0,0,0,0,0,0,0,0,0,0,0,0,0,0,0,0,0,0,0,0,0,0,0,0,0,0,0,0,0,null,null,0,0,0,0,0,0,0,0,0,0,0,0,0,0,0,0,0,0,0,0,0,0,0,0,0,0,0,0,0,0,0,0,0]
[null,null,null,null,null,null,null,null,null,null,null,null,null,null,46.100000000000385,0,"",0,"",0,null,null,46.100000000000385,0,"",0,"",0,null,null,0,0,0,0,0,0,0,0,0,0,0,0,0,0,0,0,0,0,0,0,0,0,0,0,0,0,0,0,0,0,0,0,0,null,null,0,0,0,0,0,0,0,0,0,0,0,0,0,0,0,0,0,0,0,0,0,0,0,0,0,0,0,0,0,0,0,0,0]
[null,null,null,null,null,null,null,null,null,null,null,null,null,null,46.200000000000387,0,"",0,"",0,null,null,46.200000000000387,0,"",0,"",0,null,null,0,0,0,0,0,0,0,0,0,0,0,0,0,0,0,0,0,0,0,0,0,0,0,0,0,0,0,0,0,0,0,0,0,null,null,0,0,0,0,0,0,0,0,0,0,0,0,0,0,0,0,0,0,0,0,0,0,0,0,0,0,0,0,0,0,0,0,0]
[null,null,null,null,null,null,null,null,null,null,null,null,null,null,46.300000000000388,0,"",0,"",0,null,null,46.300000000000388,0,"",0,"",0,null,null,0,0,0,0,0,0,0,0,0,0,0,0,0,0,0,0,0,0,0,0,0,0,0,0,0,0,0,0,0,0,0,0,0,null,null,0,0,0,0,0,0,0,0,0,0,0,0,0,0,0,0,0,0,0,0,0,0,0,0,0,0,0,0,0,0,0,0,0]
[null,null,null,null,null,null,null,null,null,null,null,null,null,null,46.400000000000389,0,"",0,"",0,null,null,46.400000000000389,0,"",0,"",0,null,null,0,0,0,0,0,0,0,0,0,0,0,0,0,0,0,0,0,0,0,0,0,0,0,0,0,0,0,0,0,0,0,0,0,null,null,0,0,0,0,0,0,0,0,0,0,0,0,0,0,0,0,0,0,0,0,0,0,0,0,0,0,0,0,0,0,0,0,0]
[null,null,null,null,null,null,null,null,null,null,null,null,null,null,46.500000000000391,0,"",0,"",0,null,null,46.500000000000391,0,"",0,"",0,null,null,0,0,0,0,0,0,0,0,0,0,0,0,0,0,0,0,0,0,0,0,0,0,0,0,0,0,0,0,0,0,0,0,0,null,null,0,0,0,0,0,0,0,0,0,0,0,0,0,0,0,0,0,0,0,0,0,0,0,0,0,0,0,0,0,0,0,0,0]
[null,null,null,null,null,null,null,null,null,null,null,null,null,null,46.600000000000392,0,"",0,"",0,null,null,46.600000000000392,0,"",0,"",0,null,null,0,0,0,0,0,0,0,0,0,0,0,0,0,0,0,0,0,0,0,0,0,0,0,0,0,0,0,0,0,0,{"$f":"SUMIFS($Q473,$T473,BI$7)","v":0},0,0,null,null,0,0,0,0,0,0,0,0,0,0,0,0,0,0,0,0,0,0,0,0,0,0,0,0,0,0,0,0,0,0,0,0,0]
[null,null,null,null,null,null,null,null,null,null,null,null,null,null,46.700000000000394,0,"",0,"",0,null,null,46.700000000000394,0,"",0,"",0,null,null,0,0,0,0,0,0,0,0,0,0,0,0,0,0,0,0,{"$f":"SUMIFS($Q474,$T474,AU$7)","v":0},0,0,0,0,0,0,0,0,0,0,0,0,0,0,0,0,null,null,0,0,0,0,0,0,0,0,0,0,0,0,0,0,0,0,0,0,0,0,0,0,0,0,0,0,0,0,0,0,0,0,0]
[null,null,null,null,null,null,null,null,null,null,null,null,null,null,46.800000000000395,0,"",0,"",0,null,null,46.800000000000395,0,"",0,"",0,null,null,{"$f":"SUMIFS($Q475,$T475,AE$7)","v":0},0,0,0,0,0,0,0,0,0,0,0,0,0,0,0,0,0,0,0,0,0,0,0,0,0,0,0,0,0,0,0,0,null,null,0,0,0,0,0,0,0,0,0,0,0,0,0,0,0,0,0,0,0,0,0,0,0,0,0,0,0,0,0,0,0,0,0]
[null,null,null,null,null,null,null,null,null,null,null,null,null,null,46.900000000000396,0,"",0,"",0,null,null,46.900000000000396,0,"",0,"",0,null,null,0,0,0,0,0,0,0,0,0,0,0,0,0,0,0,0,0,0,0,0,0,0,0,0,0,0,0,0,0,0,0,0,0,null,null,0,0,0,0,0,0,0,0,0,0,0,0,0,0,0,0,0,0,0,0,0,0,0,0,0,0,0,0,0,0,0,0,0]
[null,null,null,null,null,null,null,null,null,null,null,null,null,null,47.000000000000398,0,"",0,"",0,null,null,47.000000000000398,0,"",0,"",0,null,null,0,0,0,0,0,0,0,0,0,0,0,0,0,0,0,0,0,0,0,0,0,0,0,0,0,0,0,0,0,0,0,0,0,null,null,0,0,0,0,0,0,0,0,0,0,0,0,0,0,0,0,0,0,0,0,0,0,0,0,0,0,0,0,0,0,0,0,0]
[null,null,null,null,null,null,null,null,null,null,null,null,null,null,47.100000000000399,0,"",0,"",0,null,null,47.100000000000399,0,"",0,"",0,null,null,0,0,0,0,0,0,0,0,0,0,0,0,0,0,0,0,0,0,0,0,0,0,0,0,0,0,0,0,0,0,0,0,0,null,null,0,0,0,0,0,0,0,0,0,0,0,0,0,0,0,0,0,0,0,0,0,0,0,0,0,0,0,0,0,0,0,0,0]
[null,null,null,null,null,null,null,null,null,null,null,null,null,null,47.200000000000401,0,"",0,"",0,null,null,47.200000000000401,0,"",0,"",0,null,null,0,0,0,0,0,0,0,0,0,0,0,0,0,0,0,0,0,0,0,0,0,0,0,0,0,0,0,0,0,0,0,0,0,null,null,0,0,0,0,0,0,0,0,0,0,0,0,0,0,0,0,0,0,0,0,0,0,0,0,0,0,0,0,0,0,0,0,0]
[null,null,null,null,null,null,null,null,null,null,null,null,null,null,47.300000000000402,0,"",0,"",0,null,null,47.300000000000402,0,"",0,"",0,null,null,0,0,0,0,0,0,0,0,0,0,0,0,0,0,0,0,0,0,0,0,0,0,0,0,0,0,0,0,0,0,0,0,0,null,null,0,0,0,0,0,0,0,0,0,0,0,0,0,0,0,0,0,0,0,0,0,0,0,0,0,0,0,0,0,0,0,0,0]
[null,null,null,null,null,null,null,null,null,null,null,null,null,null,47.400000000000404,0,"",0,"",0,null,null,47.400000000000404,0,"",0,"",0,null,null,0,0,0,0,0,0,0,0,0,0,0,0,0,0,0,0,0,0,0,0,0,0,0,0,0,0,0,0,0,0,0,0,0,null,null,0,0,0,0,0,0,0,0,0,0,0,0,0,0,0,0,0,0,0,0,0,0,0,0,0,0,0,0,0,0,0,0,0]
[null,null,null,null,null,null,null,null,null,null,null,null,null,null,47.500000000000405,0,"",0,"",0,null,null,47.500000000000405,0,"",0,"",0,null,null,0,0,0,0,0,0,0,0,0,0,0,0,0,0,0,0,0,0,0,0,0,0,0,0,0,0,0,0,0,0,0,0,0,null,null,0,0,0,0,0,0,0,0,0,0,0,0,0,0,0,0,0,0,0,0,0,0,0,0,0,0,0,0,0,0,0,0,0]
[null,null,null,null,null,null,null,null,null,null,null,null,null,null,47.600000000000406,0,"",0,"",0,null,null,47.600000000000406,0,"",0,"",0,null,null,0,0,0,0,0,0,0,0,0,0,0,0,0,0,0,0,0,0,0,0,0,0,0,0,0,0,0,0,0,0,0,0,0,null,null,0,0,0,0,0,0,0,0,0,0,0,0,0,0,0,0,0,0,0,0,0,0,0,0,0,0,0,0,0,0,0,0,0]
[null,null,null,null,null,null,null,null,null,null,null,null,null,null,47.700000000000408,0,"",0,"",0,null,null,47.700000000000408,0,"",0,"",0,null,null,0,0,0,0,0,0,0,0,0,0,0,0,0,0,0,0,0,0,0,0,0,0,0,0,0,0,0,0,0,0,0,0,0,null,null,0,0,0,0,0,0,0,0,0,0,0,0,0,0,0,0,0,0,0,0,0,0,0,0,0,0,0,0,0,0,0,0,0]
[null,null,null,null,null,null,null,null,null,null,null,null,null,null,47.800000000000409,0,"",0,"",0,null,null,47.800000000000409,0,"",0,"",0,null,null,0,0,0,0,0,0,0,0,0,0,0,0,0,0,0,0,0,0,0,0,0,0,0,0,0,0,0,0,0,0,0,0,0,null,null,0,0,0,0,0,0,0,0,0,0,0,0,0,0,0,0,0,0,0,0,0,0,0,0,0,0,0,0,0,0,0,0,0]
[null,null,null,null,null,null,null,null,null,null,null,null,null,null,47.900000000000411,0,"",0,"",0,null,null,47.900000000000411,0,"",0,"",0,null,null,0,0,0,0,0,0,0,0,0,0,0,0,0,0,0,0,0,0,0,0,0,0,0,0,0,0,0,0,0,0,0,0,0,null,null,0,0,0,0,0,0,0,0,0,0,0,0,0,0,0,0,0,0,0,0,0,0,0,0,0,0,0,0,0,0,0,0,0]
[null,null,null,null,null,null,null,null,null,null,null,null,null,null,48.000000000000412,0,"",0,"",0,null,null,48.000000000000412,0,"",0,"",0,null,null,0,0,0,0,0,0,0,0,0,0,0,0,0,0,0,0,0,0,0,0,0,0,0,0,0,0,0,0,0,0,0,0,0,null,null,0,0,0,0,0,0,0,0,0,0,0,0,0,0,0,0,0,0,0,0,0,0,0,0,0,0,0,0,0,0,0,0,0]
[null,null,null,null,null,null,null,null,null,null,null,null,null,null,48.100000000000414,0,"",0,"",0,null,null,48.100000000000414,0,"",0,"",0,null,null,0,0,0,0,0,0,0,0,0,0,0,0,0,0,0,0,0,0,0,0,0,0,0,0,0,0,0,0,0,0,0,0,0,null,null,0,0,0,0,0,0,0,0,0,0,0,0,0,0,0,0,0,0,0,0,0,0,0,0,0,0,0,0,0,0,0,0,0]
[null,null,null,null,null,null,null,null,null,null,null,null,null,null,{"$f":"O488+$N$7","v":48.200000000000415},0,"",0,"",0,null,null,{"$f":"W488+$N$7","v":48.200000000000415},0,"",0,"",0,null,null,0,0,0,0,0,0,0,0,0,0,0,0,0,0,0,0,0,0,0,0,0,0,0,0,0,0,0,0,0,0,0,0,0,null,null,0,0,0,0,0,0,0,0,0,0,0,0,0,0,0,0,0,0,0,0,0,0,0,0,0,0,0,0,0,0,0,0,0]
[null,null,null,null,null,null,null,null,null,null,null,null,null,null,48.300000000000416,0,"",0,"",0,null,null,48.300000000000416,0,"",0,"",0,null,null,0,0,0,0,0,0,0,0,0,0,0,0,0,0,0,{"$f":"SUMIFS($Q490,$T490,AT$7)","v":0},0,0,0,0,0,0,0,0,0,0,0,0,0,0,0,0,0,null,null,0,0,0,0,0,0,0,0,0,0,0,0,0,0,0,0,0,0,0,0,0,0,0,0,0,0,0,0,0,0,0,0,0]
[null,null,null,null,null,null,null,null,null,null,null,null,null,null,48.400000000000418,0,"",0,"",0,null,null,48.400000000000418,0,"",0,"",0,null,null,{"$f":"SUMIFS($Q491,$T491,AE$7)","v":0},0,0,0,0,0,0,0,0,0,0,0,0,0,0,0,0,0,0,0,0,0,0,0,0,0,0,0,0,0,0,0,0,null,null,0,0,0,0,0,0,0,0,0,0,0,0,0,0,0,0,0,0,0,0,0,0,0,0,0,0,0,0,0,0,0,0,0]
[null,null,null,null,null,null,null,null,null,null,null,null,null,null,48.500000000000419,0,"",0,"",0,null,null,48.500000000000419,0,"",0,"",0,null,null,0,0,0,0,0,0,0,0,0,0,0,0,0,0,0,0,0,0,0,0,0,0,0,0,0,0,0,0,0,0,0,0,0,null,null,0,0,0,0,0,0,0,0,0,0,0,0,0,0,0,0,0,0,0,0,0,0,0,0,0,0,0,0,0,0,0,0,0]
[null,null,null,null,null,null,null,null,null,null,null,null,null,null,48.600000000000421,0,"",0,"",0,null,null,48.600000000000421,0,"",0,"",0,null,null,0,0,0,0,0,0,0,0,0,0,0,0,0,0,0,0,0,0,0,0,0,0,0,0,0,0,0,0,0,0,0,{"$f":"SUMIFS($Q493,$T493,BJ$7)","v":0},0,null,null,0,0,0,0,0,0,0,0,0,0,0,0,0,0,0,0,0,0,0,0,0,0,0,0,0,0,0,0,0,0,0,0,0]
[null,null,null,null,null,null,null,null,null,null,null,null,null,null,48.700000000000422,0,"",0,"",0,null,null,48.700000000000422,0,"",0,"",0,null,null,0,0,0,0,0,0,0,0,0,0,0,0,0,0,0,0,0,0,0,0,0,0,0,0,0,0,0,0,0,0,0,0,0,null,null,0,0,0,0,0,0,0,0,0,0,0,0,0,0,0,0,0,0,0,0,0,0,0,0,0,0,0,0,0,0,0,0,0]
[null,null,null,null,null,null,null,null,null,null,null,null,null,null,48.800000000000423,0,"",0,"",0,null,null,48.800000000000423,0,"",0,"",0,null,null,0,0,0,0,0,0,0,0,0,0,0,0,0,0,0,0,0,0,0,0,0,0,0,0,0,0,0,0,0,0,0,0,0,null,null,0,0,0,0,0,0,0,0,0,0,0,0,0,0,0,0,0,0,0,0,0,0,0,0,0,0,0,0,0,0,0,0,0]
[null,null,null,null,null,null,null,null,null,null,null,null,null,null,48.900000000000425,0,"",0,"",0,null,null,48.900000000000425,0,"",0,"",0,null,null,0,0,0,0,0,0,0,0,0,0,0,0,0,0,0,0,0,0,0,0,0,0,0,0,0,0,0,0,0,0,0,0,0,null,null,0,0,0,0,0,0,0,0,0,0,0,0,0,0,0,0,0,0,0,0,0,0,0,0,0,0,0,0,0,0,0,0,0]
[null,null,null,null,null,null,null,null,null,null,null,null,null,null,49.000000000000426,0,"",0,"",0,null,null,49.000000000000426,0,"",0,"",0,null,null,0,0,0,0,0,0,0,0,0,0,0,0,0,0,0,0,0,0,0,0,0,0,0,0,0,0,0,0,0,0,0,0,0,null,null,0,0,0,0,0,0,0,0,0,0,0,0,0,0,0,0,0,0,0,0,0,0,0,0,0,0,0,0,0,0,0,0,0]
[null,null,null,null,null,null,null,null,null,null,null,null,null,null,49.100000000000428,0,"",0,"",0,null,null,49.100000000000428,0,"",0,"",0,null,null,0,0,0,0,0,0,0,0,0,0,0,0,0,0,0,0,0,0,0,0,0,0,0,0,0,0,0,0,0,0,0,0,0,null,null,0,0,0,0,0,0,0,0,0,0,0,0,0,0,0,0,0,0,0,0,0,0,0,0,0,0,0,0,0,0,0,0,0]
[null,null,null,null,null,null,null,null,null,null,null,null,null,null,49.200000000000429,0,"",0,"",0,null,null,49.200000000000429,0,"",0,"",0,null,null,0,0,0,0,0,0,0,0,0,0,0,0,0,0,0,0,0,0,0,0,0,0,0,0,0,0,0,0,0,0,0,0,0,null,null,0,0,0,0,0,0,0,0,0,0,0,0,0,0,0,0,0,0,0,0,0,0,0,0,0,0,0,0,0,0,0,0,0]
[null,null,null,null,null,null,null,null,null,null,null,null,null,null,49.300000000000431,0,"",0,"",0,null,null,49.300000000000431,0,"",0,"",0,null,null,0,0,0,0,0,0,0,0,0,0,0,0,0,0,0,0,0,0,0,0,0,0,0,0,0,0,0,0,0,0,0,0,0,null,null,0,0,0,0,0,0,0,0,0,0,0,0,0,0,0,0,0,0,0,0,0,0,0,0,0,0,0,0,0,0,0,0,0]
[null,null,null,null,null,null,null,null,null,null,null,null,null,null,49.400000000000432,0,"",0,"",0,null,null,49.400000000000432,0,"",0,"",0,null,null,0,0,0,0,0,0,0,0,0,0,0,0,0,0,0,0,0,0,0,0,0,0,0,0,0,0,0,0,0,0,0,0,0,null,null,0,0,0,0,0,0,0,0,0,0,0,0,0,0,0,0,0,0,0,0,0,0,0,0,0,0,0,0,0,0,0,0,0]
[null,null,null,null,null,null,null,null,null,null,null,null,null,null,49.500000000000433,0,"",0,"",0,null,null,49.500000000000433,0,"",0,"",0,null,null,0,0,0,0,0,0,0,0,0,0,0,0,0,0,0,0,0,0,0,0,0,0,0,0,0,0,0,0,0,0,0,0,0,null,null,0,0,0,0,0,0,0,0,0,0,0,0,0,0,0,0,0,0,0,0,0,0,0,0,0,0,0,0,0,0,0,0,0]
[null,null,null,null,null,null,null,null,null,null,null,null,null,null,49.600000000000435,0,"",0,"",0,null,null,49.600000000000435,0,"",0,"",0,null,null,0,0,0,0,0,0,0,0,0,0,0,0,0,0,0,0,0,0,0,0,0,0,0,0,0,0,0,0,0,0,0,0,0,null,null,0,0,0,0,0,0,0,0,0,0,0,0,0,0,0,0,0,0,0,0,0,0,0,0,0,0,0,0,0,0,0,0,0]
[null,null,null,null,null,null,null,null,null,null,null,null,null,null,49.700000000000436,0,"",0,"",0,null,null,49.700000000000436,0,"",0,"",0,null,null,0,0,0,0,0,0,0,0,0,0,0,0,0,0,0,0,0,0,0,0,0,0,0,0,0,0,0,0,0,0,0,0,0,null,null,0,0,0,0,0,0,0,0,0,0,0,0,0,0,0,0,0,0,0,0,0,0,0,0,0,0,0,0,0,0,0,0,0]
[null,null,null,null,null,null,null,null,null,null,null,null,null,null,49.800000000000438,0,"",0,"",0,null,null,49.800000000000438,0,"",0,"",0,null,null,0,0,0,0,0,0,0,0,0,0,0,0,0,0,0,0,0,0,0,0,0,0,0,0,0,0,0,0,0,0,0,0,0,null,null,0,0,0,0,0,0,0,0,0,0,0,0,0,0,0,0,0,0,0,0,0,0,0,0,0,0,0,0,0,0,0,0,0]
[null,null,null,null,null,null,null,null,null,null,null,null,null,null,49.900000000000439,0,"",0,"",0,null,null,49.900000000000439,0,"",0,"",0,null,null,0,0,0,0,0,0,0,0,0,0,0,0,0,0,0,0,{"$f":"SUMIFS($Q506,$T506,AU$7)","v":0},0,0,0,0,0,0,0,0,0,0,0,0,0,0,0,0,null,null,0,0,0,0,0,0,0,0,0,0,0,0,0,0,0,0,0,0,0,0,0,0,0,0,0,0,0,0,0,0,0,0,0]
[null,null,null,null,null,null,null,null,null,null,null,null,null,null,50.000000000000441,0,"",0,"",0,null,null,50.000000000000441,0,"",0,"",0,null,null,{"$f":"SUMIFS($Q507,$T507,AE$7)","v":0},0,0,0,0,0,0,0,0,0,0,0,0,0,0,0,0,0,0,0,0,0,0,0,0,0,0,0,0,0,0,0,0,null,null,0,0,0,0,0,0,0,0,0,0,0,0,0,0,0,0,0,0,0,0,0,0,0,0,0,0,0,0,0,0,0,0,0]
[null,null,null,null,null,null,null,null,null,null,null,null,null,null,50.100000000000442,0,"",0,"",0,null,null,50.100000000000442,0,"",0,"",0,null,null,0,0,0,0,0,0,0,0,0,0,0,0,0,0,0,0,0,0,0,0,0,0,0,0,0,0,0,0,0,0,0,0,0,null,null,0,0,0,0,0,0,0,0,0,0,0,0,0,0,0,0,0,0,0,0,0,0,0,0,0,0,0,0,0,0,0,0,0]
[null,null,null,null,null,null,null,null,null,null,null,null,null,null,50.200000000000443,0,"",0,"",0,null,null,50.200000000000443,0,"",0,"",0,null,null,0,0,0,0,0,0,0,0,0,0,0,0,0,0,0,0,0,0,0,0,0,0,0,0,0,0,0,0,0,0,0,0,0,null,null,0,0,0,0,0,0,0,0,0,0,0,0,0,0,0,0,0,0,0,0,0,0,0,0,0,0,0,0,0,0,0,0,0]
[null,null,null,null,null,null,null,null,null,null,null,null,null,null,50.300000000000445,0,"",0,"",0,null,null,50.300000000000445,0,"",0,"",0,null,null,0,0,0,0,0,0,0,0,0,0,0,0,0,0,0,0,0,0,0,0,0,0,0,0,0,0,0,0,0,0,0,0,0,null,null,0,0,0,0,0,0,0,0,0,0,0,0,0,0,0,0,0,0,0,0,0,0,0,0,0,0,0,0,0,0,0,0,0]
[null,null,null,null,null,null,null,null,null,null,null,null,null,null,50.400000000000446,0,"",0,"",0,null,null,50.400000000000446,0,"",0,"",0,null,null,0,0,0,0,0,0,0,0,0,0,0,0,0,0,0,0,0,0,0,0,0,0,0,0,0,0,0,0,0,0,0,0,0,null,null,0,0,0,0,0,0,0,0,0,0,0,0,0,0,0,0,0,0,0,0,0,0,0,0,0,0,0,0,0,0,0,0,0]
[null,null,null,null,null,null,null,null,null,null,null,null,null,null,50.500000000000448,0,"",0,"",0,null,null,50.500000000000448,0,"",0,"",0,null,null,0,0,0,0,0,0,0,0,0,0,0,0,0,0,0,0,0,0,0,0,0,0,0,0,0,0,0,0,0,0,0,0,0,null,null,0,0,0,0,0,0,0,0,0,0,0,0,0,0,0,0,0,0,0,0,0,0,0,0,0,0,0,0,0,0,0,0,0]
[null,null,null,null,null,null,null,null,null,null,null,null,null,null,50.600000000000449,0,"",0,"",0,null,null,50.600000000000449,0,"",0,"",0,null,null,0,0,0,0,0,0,0,0,0,0,0,0,0,0,0,0,0,0,0,0,0,0,0,0,0,0,0,0,0,0,0,0,{"$f":"SUMIFS($Q513,$T513,BK$7)","v":0},null,null,0,0,0,0,0,0,0,0,0,0,0,0,0,0,0,0,0,0,0,0,0,0,0,0,0,0,0,0,0,0,0,0,0]
[null,null,null,null,null,null,null,null,null,null,null,null,null,null,50.70000000000045,0,"",0,"",0,null,null,50.70000000000045,0,"",0,"",0,null,null,0,0,0,0,0,0,0,0,0,0,0,0,0,0,0,0,0,0,0,0,0,0,0,0,0,0,0,0,0,0,0,0,0,null,null,0,0,0,0,0,0,0,0,0,0,0,0,0,0,0,0,0,0,0,0,0,0,0,0,0,0,0,0,0,0,0,0,0]
[null,null,null,null,null,null,null,null,null,null,null,null,null,null,50.800000000000452,0,"",0,"",0,null,null,50.800000000000452,0,"",0,"",0,null,null,0,0,0,0,0,0,0,0,0,0,0,0,0,0,0,0,0,0,0,0,0,0,0,0,0,0,0,0,0,0,0,0,0,null,null,0,0,0,0,0,0,0,0,0,0,0,0,0,0,0,0,0,0,0,0,0,0,0,0,0,0,0,0,0,0,0,0,0]
[null,null,null,null,null,null,null,null,null,null,null,null,null,null,50.900000000000453,0,"",0,"",0,null,null,50.900000000000453,0,"",0,"",0,null,null,0,0,0,0,0,0,0,0,0,0,0,0,0,0,0,0,0,0,0,0,0,0,0,0,0,0,0,0,0,0,0,0,0,null,null,0,0,0,0,0,0,0,0,0,0,0,0,0,0,0,0,0,0,0,0,0,0,0,0,0,0,0,0,0,0,0,0,0]
[null,null,null,null,null,null,null,null,null,null,null,null,null,null,51.000000000000455,0,"",0,"",0,null,null,51.000000000000455,0,"",0,"",0,null,null,0,0,0,0,0,0,0,0,0,0,0,0,0,0,0,0,0,0,0,0,0,0,0,0,0,0,0,0,0,0,0,0,0,null,null,0,0,0,0,0,0,0,0,0,0,0,0,0,0,0,0,0,0,0,0,0,0,0,0,0,0,0,0,0,0,0,0,0]
[null,null,null,null,null,null,null,null,null,null,null,null,null,null,51.100000000000456,0,"",0,"",0,null,null,51.100000000000456,0,"",0,"",0,null,null,0,0,0,0,0,0,0,0,0,0,0,0,0,0,0,0,0,0,0,0,0,0,0,0,0,0,0,0,0,0,0,0,0,null,null,0,0,0,0,0,0,0,0,0,0,0,0,0,0,0,0,0,0,0,0,0,0,0,0,0,0,0,0,0,0,0,0,0]
[null,null,null,null,null,null,null,null,null,null,null,null,null,null,51.200000000000458,0,"",0,"",0,null,null,51.200000000000458,0,"",0,"",0,null,null,0,0,0,0,0,0,0,0,0,0,0,0,0,0,0,0,0,0,0,0,0,0,0,0,0,0,0,0,0,0,0,0,0,null,null,0,0,0,0,0,0,0,0,0,0,0,0,0,0,0,0,0,0,0,0,0,0,0,0,0,0,0,0,0,0,0,0,0]
[null,null,null,null,null,null,null,null,null,null,null,null,null,null,51.300000000000459,0,{"$f":"INDEX($G$9:$G$39,MATCH(P520,$E$9:$E$39,1))","v":""},{"$f":"IF(Q520<>Q518,Q520,0)","v":0},"",0,null,null,51.300000000000459,0,"",{"$f":"IF(Y520<>Y518,Y520,0)","v":0},"",0,null,null,0,0,0,0,0,0,0,0,0,0,0,0,0,0,0,0,0,0,0,0,0,0,0,0,0,0,0,0,0,0,0,0,0,null,null,0,{"$f":"SUMIFS($Y521,$AB521,AF$7)","v":0},{"$f":"SUMIFS($Y521,$AB521,AG$7)","v":0},{"$f":"SUMIFS($Y521,$AB521,AH$7)","v":0},{"$f":"SUMIFS($Y521,$AB521,AI$7)","v":0},{"$f":"SUMIFS($Y521,$AB521,AJ$7)","v":0},{"$f":"SUMIFS($Y521,$AB521,AK$7)","v":0},{"$f":"SUMIFS($Y521,$AB521,AL$7)","v":0},{"$f":"SUMIFS($Y521,$AB521,AM$7)","v":0},{"$f":"SUMIFS($Y521,$AB521,AN$7)","v":0},{"$f":"SUMIFS($Y521,$AB521,AO$7)","v":0},{"$f":"SUMIFS($Y521,$AB521,AP$7)","v":0},{"$f":"SUMIFS($Y521,$AB521,AQ$7)","v":0},{"$f":"SUMIFS($Y521,$AB521,AR$7)","v":0},{"$f":"SUMIFS($Y521,$AB521,AS$7)","v":0},{"$f":"SUMIFS($Y521,$AB521,AT$7)","v":0},{"$f":"SUMIFS($Y521,$AB521,AU$7)","v":0},{"$f":"SUMIFS($Y521,$AB521,AV$7)","v":0},{"$f":"SUMIFS($Y521,$AB521,AW$7)","v":0},{"$f":"SUMIFS($Y521,$AB521,AX$7)","v":0},{"$f":"SUMIFS($Y521,$AB521,AY$7)","v":0},{"$f":"SUMIFS($Y521,$AB521,AZ$7)","v":0},{"$f":"SUMIFS($Y521,$AB521,BA$7)","v":0},{"$f":"SUMIFS($Y521,$AB521,BB$7)","v":0},{"$f":"SUMIFS($Y521,$AB521,BC$7)","v":0},{"$f":"SUMIFS($Y521,$AB521,BD$7)","v":0},{"$f":"SUMIFS($Y521,$AB521,BE$7)","v":0},{"$f":"SUMIFS($Y521,$AB521,BF$7)","v":0},{"$f":"SUMIFS($Y521,$AB521,BG$7)","v":0},{"$f":"SUMIFS($Y521,$AB521,BH$7)","v":0},{"$f":"SUMIFS($Y521,$AB521,BI$7)","v":0},{"$f":"SUMIFS($Y521,$AB521,BJ$7)","v":0},{"$f":"SUMIFS($Y521,$AB521,BK$7)","v":0}]
[null,null,null,null,null,null,null,null,null,null,null,null,null,null,51.40000000000046,{"$f":"(O521/$O$1007)*$P$1007","v":0},"",0,"",0,null,null,51.40000000000046,{"$f":"(W521/$W$1007)*$X$1007","v":0},{"$f":"INDEX($I$9:$I$39,MATCH(X521,$F$9:$F$39,1))","v":""},0,"",{"$f":"IF(AA521=0,\"\",INDEX($H$9:$H$41,MATCH(AA521,$I$9:$I$41,0)))","v":0},null,null,0,0,0,0,0,0,0,0,0,0,0,0,0,0,0,0,0,0,0,0,0,0,0,0,0,0,0,0,0,0,0,0,0,null,null,{"$f":"SUMIFS($Y522,$AB522,AE$7)","v":0},0,0,0,0,0,0,0,0,0,0,0,0,0,0,0,0,0,0,0,0,0,0,0,0,0,0,0,0,0,0,0,0]
[null,null,null,null,null,null,null,null,null,null,null,null,null,null,51.500000000000462,0,"",0,{"$f":"IF(R522=0,Q522,0)","v":""},{"$f":"IF(S522=0,\"\",INDEX($C$9:$C$41,MATCH(S522,$G$9:$G$41,0)))","v":0},null,null,51.500000000000462,0,"",0,{"$f":"IF(Z522=0,Y522,0)","v":""},0,null,null,0,0,0,0,0,0,0,0,0,0,0,0,0,0,0,{"$f":"SUMIFS($Q522,$T522,AT$7)","v":0},0,0,0,0,0,0,0,0,0,0,0,0,0,0,0,{"$f":"SUMIFS($Q522,$T522,BJ$7)","v":0},0,null,null,0,0,0,0,0,0,0,0,0,0,0,0,0,0,0,0,0,0,0,0,0,0,0,0,0,0,0,0,0,0,0,0,0]
[null,null,null,null,null,null,null,null,null,null,null,null,null,null,51.600000000000463,0,"",0,"",0,null,null,51.600000000000463,0,"",0,"",0,null,null,{"$f":"SUMIFS($Q523,$T523,AE$7)","v":0},0,0,0,0,0,0,0,0,0,0,0,0,0,0,0,0,0,0,0,0,0,0,0,0,0,0,0,0,0,0,0,0,null,null,0,0,0,0,0,0,0,0,0,0,0,0,0,0,0,0,0,0,0,0,0,0,0,0,0,0,0,0,0,0,0,0,0]
[null,null,null,null,null,null,null,null,null,null,null,null,null,null,51.700000000000465,0,"",0,"",0,null,null,51.700000000000465,0,"",0,"",0,null,null,0,0,0,0,0,0,0,0,0,0,0,0,0,0,0,0,0,0,0,0,0,0,0,0,0,0,0,0,0,0,0,0,0,null,null,0,0,0,0,0,0,0,0,0,0,0,0,0,0,0,0,0,0,0,0,0,0,0,0,0,0,0,0,0,0,0,0,0]
[null,null,null,null,null,null,null,null,null,null,null,null,null,null,51.800000000000466,0,"",0,"",0,null,null,51.800000000000466,0,"",0,"",0,null,null,0,0,0,0,0,0,0,0,0,0,0,0,0,0,0,0,0,0,0,0,0,0,0,0,0,0,0,0,0,0,0,0,0,null,null,0,0,0,0,0,0,0,0,0,0,0,0,0,0,0,0,0,0,0,0,0,0,0,0,0,0,0,0,0,0,0,0,0]
[null,null,null,null,null,null,null,null,null,null,null,null,null,null,51.900000000000468,0,"",0,"",0,null,null,51.900000000000468,0,"",0,"",0,null,null,0,0,0,0,0,0,0,0,0,0,0,0,0,0,0,0,0,0,0,0,0,0,0,0,0,0,0,0,0,0,0,0,0,null,null,0,0,0,0,0,0,0,0,0,0,0,0,0,0,0,0,0,0,0,0,0,0,0,0,0,0,0,0,0,0,0,0,0]
[null,null,null,null,null,null,null,null,null,null,null,null,null,null,52.000000000000469,0,"",0,"",0,null,null,52.000000000000469,0,"",0,"",0,null,null,0,0,0,0,0,0,0,0,0,0,0,0,0,0,0,0,0,0,0,0,0,0,0,0,0,0,0,0,0,0,0,0,0,null,null,0,0,0,0,0,0,0,0,0,0,0,0,0,0,0,0,0,0,0,0,0,0,0,0,0,0,0,0,0,0,0,0,0]
[null,null,null,null,null,null,null,null,null,null,null,null,null,null,52.10000000000047,0,"",0,"",0,null,null,52.10000000000047,0,"",0,"",0,null,null,0,0,0,0,0,0,0,0,0,0,0,0,0,0,0,0,0,0,0,0,0,0,0,0,0,0,0,0,0,0,0,0,0,null,null,0,0,0,0,0,0,0,0,0,0,0,0,0,0,0,0,0,0,0,0,0,0,0,0,0,0,0,0,0,0,0,0,0]
[null,null,null,null,null,null,null,null,null,null,null,null,null,null,52.200000000000472,0,"",0,"",0,null,null,52.200000000000472,0,"",0,"",0,null,null,0,0,0,0,0,0,0,0,0,0,0,0,0,0,0,0,0,0,0,0,0,0,0,0,0,0,0,0,0,0,0,0,0,null,null,0,0,0,0,0,0,0,0,0,0,0,0,0,0,0,0,0,0,0,0,0,0,0,0,0,0,0,0,0,0,0,0,0]
[null,null,null,null,null,null,null,null,null,null,null,null,null,null,52.300000000000473,0,"",0,"",0,null,null,52.300000000000473,0,"",0,"",0,null,null,0,0,0,0,0,0,0,0,0,0,0,0,0,0,0,0,0,0,0,0,0,0,0,0,0,0,0,0,0,0,0,0,0,null,null,0,0,0,0,0,0,0,0,0,0,0,0,0,0,0,0,0,0,0,0,0,0,0,0,0,0,0,0,0,0,0,0,0]
[null,null,null,null,null,null,null,null,null,null,null,null,null,null,52.400000000000475,0,"",0,"",0,null,null,52.400000000000475,0,"",0,"",0,null,null,0,0,0,0,0,0,0,0,0,0,0,0,0,0,0,0,0,0,0,0,0,0,0,0,0,0,0,0,0,0,0,0,0,null,null,0,0,0,0,0,0,0,0,0,0,0,0,0,0,0,0,0,0,0,0,0,0,0,0,0,0,0,0,0,0,0,0,0]
[null,null,null,null,null,null,null,null,null,null,null,null,null,null,52.500000000000476,0,"",0,"",0,null,null,52.500000000000476,0,"",0,"",0,null,null,0,0,0,0,0,0,0,0,0,0,0,0,0,0,0,0,0,0,0,0,0,0,0,0,0,0,0,0,0,0,0,0,0,null,null,0,0,0,0,0,0,0,0,0,0,0,0,0,0,0,0,0,0,0,0,0,0,0,0,0,0,0,0,0,0,0,0,0]
[null,null,null,null,null,null,null,null,null,null,null,null,null,null,52.600000000000477,0,"",0,"",0,null,null,52.600000000000477,0,"",0,"",0,null,null,0,0,0,0,0,0,0,0,0,0,0,0,0,0,0,0,0,0,0,0,0,0,0,0,0,0,0,0,0,0,0,0,0,null,null,0,0,0,0,0,0,0,0,0,0,0,0,0,0,0,0,0,0,0,0,0,0,0,0,0,0,0,0,0,0,0,0,0]
[null,null,null,null,null,null,null,null,null,null,null,null,null,null,52.700000000000479,0,"",0,"",0,null,null,52.700000000000479,0,"",0,"",0,null,null,0,0,0,0,0,0,0,0,0,0,0,0,0,0,0,0,0,0,0,0,0,0,0,0,0,0,0,0,0,0,0,0,0,null,null,0,0,0,0,0,0,0,0,0,0,0,0,0,0,0,0,0,0,0,0,0,0,0,0,0,0,0,0,0,0,0,0,0]
[null,null,null,null,null,null,null,null,null,null,null,null,null,null,52.80000000000048,0,"",0,"",0,null,null,52.80000000000048,0,"",0,"",0,null,null,0,0,0,0,0,0,0,0,0,0,0,0,0,0,0,0,0,0,0,0,0,0,0,0,0,0,0,0,0,0,0,0,0,null,null,0,0,0,0,0,0,0,0,0,0,0,0,0,0,0,0,0,0,0,0,0,0,0,0,0,0,0,0,0,0,0,0,0]
[null,null,null,null,null,null,null,null,null,null,null,null,null,null,52.900000000000482,0,"",0,"",0,null,null,52.900000000000482,0,"",0,"",0,null,null,0,0,0,0,0,0,0,0,0,0,0,0,0,0,0,0,0,0,0,0,0,0,0,0,0,0,0,0,0,0,0,0,0,null,null,0,0,0,0,0,0,0,0,0,0,0,0,0,0,0,0,0,0,0,0,0,0,0,0,0,0,0,0,0,0,0,0,0]
[null,null,null,null,null,null,null,null,null,null,null,null,null,null,53.000000000000483,0,"",0,"",0,null,null,53.000000000000483,0,"",0,"",0,null,null,0,0,0,0,0,0,0,0,0,0,0,0,0,0,0,0,0,0,0,0,0,0,0,0,0,0,0,0,0,0,{"$f":"SUMIFS($Q537,$T537,BI$7)","v":0},0,0,null,null,0,0,0,0,0,0,0,0,0,0,0,0,0,0,0,0,0,0,0,0,0,0,0,0,0,0,0,0,0,0,0,0,0]
[null,null,null,null,null,null,null,null,null,null,null,null,null,null,53.100000000000485,0,"",0,"",0,null,null,53.100000000000485,0,"",0,"",0,null,null,0,0,0,0,0,0,0,0,0,0,0,0,0,0,0,0,{"$f":"SUMIFS($Q538,$T538,AU$7)","v":0},0,0,0,0,0,0,0,0,0,0,0,0,0,0,0,0,null,null,0,0,0,0,0,0,0,0,0,0,0,0,0,0,0,0,0,0,0,0,0,0,0,0,0,0,0,0,0,0,0,0,0]
[null,null,null,null,null,null,null,null,null,null,null,null,null,null,53.200000000000486,0,"",0,"",0,null,null,53.200000000000486,0,"",0,"",0,null,null,{"$f":"SUMIFS($Q539,$T539,AE$7)","v":0},0,0,0,0,0,0,0,0,0,0,0,0,0,0,0,0,0,0,0,0,0,0,0,0,0,0,0,0,0,0,0,0,null,null,0,0,0,0,0,0,0,0,0,0,0,0,0,0,0,0,0,0,0,0,0,0,0,0,0,0,0,0,0,0,0,0,0]
[null,null,null,null,null,null,null,null,null,null,null,null,null,null,53.300000000000487,0,"",0,"",0,null,null,53.300000000000487,0,"",0,"",0,null,null,0,0,0,0,0,0,0,0,0,0,0,0,0,0,0,0,0,0,0,0,0,0,0,0,0,0,0,0,0,0,0,0,0,null,null,0,0,0,0,0,0,0,0,0,0,0,0,0,0,0,0,0,0,0,0,0,0,0,0,0,0,0,0,0,0,0,0,0]
[null,null,null,null,null,null,null,null,null,null,null,null,null,null,53.400000000000489,0,"",0,"",0,null,null,53.400000000000489,0,"",0,"",0,null,null,0,0,0,0,0,0,0,0,0,0,0,0,0,0,0,0,0,0,0,0,0,0,0,0,0,0,0,0,0,0,0,0,0,null,null,0,0,0,0,0,0,0,0,0,0,0,0,0,0,0,0,0,0,0,0,0,0,0,0,0,0,0,0,0,0,0,0,0]
[null,null,null,null,null,null,null,null,null,null,null,null,null,null,53.50000000000049,0,"",0,"",0,null,null,53.50000000000049,0,"",0,"",0,null,null,0,0,0,0,0,0,0,0,0,0,0,0,0,0,0,0,0,0,0,0,0,0,0,0,0,0,0,0,0,0,0,0,0,null,null,0,0,0,0,0,0,0,0,0,0,0,0,0,0,0,0,0,0,0,0,0,0,0,0,0,0,0,0,0,0,0,0,0]
[null,null,null,null,null,null,null,null,null,null,null,null,null,null,53.600000000000492,0,"",0,"",0,null,null,53.600000000000492,0,"",0,"",0,null,null,0,0,0,0,0,0,0,0,0,0,0,0,0,0,0,0,0,0,0,0,0,0,0,0,0,0,0,0,0,0,0,0,0,null,null,0,0,0,0,0,0,0,0,0,0,0,0,0,0,0,0,0,0,0,0,0,0,0,0,0,0,0,0,0,0,0,0,0]
[null,null,null,null,null,null,null,null,null,null,null,null,null,null,53.700000000000493,0,"",0,"",0,null,null,53.700000000000493,0,"",0,"",0,null,null,0,0,0,0,0,0,0,0,0,0,0,0,0,0,0,0,0,0,0,0,0,0,0,0,0,0,0,0,0,0,0,0,0,null,null,0,0,0,0,0,0,0,0,0,0,0,0,0,0,0,0,0,0,0,0,0,0,0,0,0,0,0,0,0,0,0,0,0]
[null,null,null,null,null,null,null,null,null,null,null,null,null,null,53.800000000000495,0,"",0,"",0,null,null,53.800000000000495,0,"",0,"",0,null,null,0,0,0,0,0,0,0,0,0,0,0,0,0,0,0,0,0,0,0,0,0,0,0,0,0,0,0,0,0,0,0,0,0,null,null,0,0,0,0,0,0,0,0,0,0,0,0,0,0,0,0,0,0,0,0,0,0,0,0,0,0,0,0,0,0,0,0,0]
[null,null,null,null,null,null,null,null,null,null,null,null,null,null,53.900000000000496,0,"",0,"",0,null,null,53.900000000000496,0,"",0,"",0,null,null,0,0,0,0,0,0,0,0,0,0,0,0,0,0,0,0,0,0,0,0,0,0,0,0,0,0,0,0,0,0,0,0,0,null,null,0,0,0,0,0,0,0,0,0,0,0,0,0,0,0,0,0,0,0,0,0,0,0,0,0,0,0,0,0,0,0,0,0]
[null,null,null,null,null,null,null,null,null,null,null,null,null,null,54.000000000000497,0,"",0,"",0,null,null,54.000000000000497,0,"",0,"",0,null,null,0,0,0,0,0,0,0,0,0,0,0,0,0,0,0,0,0,0,0,0,0,0,0,0,0,0,0,0,0,0,0,0,0,null,null,0,0,0,0,0,0,0,0,0,0,0,0,0,0,0,0,0,0,0,0,0,0,0,0,0,0,0,0,0,0,0,0,0]
[null,null,null,null,null,null,null,null,null,null,null,null,null,null,54.100000000000499,0,"",0,"",0,null,null,54.100000000000499,0,"",0,"",0,null,null,0,0,0,0,0,0,0,0,0,0,0,0,0,0,0,0,0,0,0,0,0,0,0,0,0,0,0,0,0,0,0,0,0,null,null,0,0,0,0,0,0,0,0,0,0,0,0,0,0,0,0,0,0,0,0,0,0,0,0,0,0,0,0,0,0,0,0,0]
[null,null,null,null,null,null,null,null,null,null,null,null,null,null,54.2000000000005,0,"",0,"",0,null,null,54.2000000000005,0,"",0,"",0,null,null,0,0,0,0,0,0,0,0,0,0,0,0,0,0,0,0,0,0,0,0,0,0,0,0,0,0,0,0,0,0,0,0,0,null,null,0,0,0,0,0,0,0,0,0,0,0,0,0,0,0,0,0,0,0,0,0,0,0,0,0,0,0,0,0,0,0,0,0]
[null,null,null,null,null,null,null,null,null,null,null,null,null,null,54.300000000000502,0,"",0,"",0,null,null,54.300000000000502,0,"",0,"",0,null,null,0,0,0,0,0,0,0,0,0,0,0,0,0,0,0,0,0,0,0,0,0,0,0,0,0,0,0,0,0,0,0,0,0,null,null,0,0,0,0,0,0,0,0,0,0,0,0,0,0,0,0,0,0,0,0,0,0,0,0,0,0,0,0,0,0,0,0,0]
[null,null,null,null,null,null,null,null,null,null,null,null,null,null,54.400000000000503,0,"",0,"",0,null,null,54.400000000000503,0,"",0,"",0,null,null,0,0,0,0,0,0,0,0,0,0,0,0,0,0,0,0,0,0,0,0,0,0,0,0,0,0,0,0,0,0,0,0,0,null,null,0,0,0,0,0,0,0,0,0,0,0,0,0,0,0,0,0,0,0,0,0,0,0,0,0,0,0,0,0,0,0,0,0]
[null,null,null,null,null,null,null,null,null,null,null,null,null,null,54.500000000000504,0,"",0,"",0,null,null,54.500000000000504,0,"",0,"",0,null,null,0,0,0,0,0,0,0,0,0,0,0,0,0,0,0,0,0,0,0,0,0,0,0,0,0,0,0,0,0,0,0,0,0,null,null,0,0,0,0,0,0,0,0,0,0,0,0,0,0,0,0,0,0,0,0,0,0,0,0,0,0,0,0,0,0,0,0,0]
[null,null,null,null,null,null,null,null,null,null,null,null,null,null,{"$f":"O552+$N$7","v":54.600000000000506},0,"",0,"",0,null,null,{"$f":"W552+$N$7","v":54.600000000000506},0,"",0,"",0,null,null,0,0,0,0,0,0,0,0,0,0,0,0,0,0,0,0,0,0,0,0,0,0,0,0,0,0,0,0,0,0,0,0,0,null,null,0,0,0,0,0,0,0,0,0,0,0,0,0,0,0,0,0,0,0,0,0,0,0,0,0,0,0,0,0,0,0,0,0]
[null,null,null,null,null,null,null,null,null,null,null,null,null,null,54.700000000000507,0,"",0,"",0,null,null,54.700000000000507,0,"",0,"",0,null,null,0,0,0,0,0,0,0,0,0,0,0,0,0,0,0,{"$f":"SUMIFS($Q554,$T554,AT$7)","v":0},0,0,0,0,0,0,0,0,0,0,0,0,0,0,0,0,0,null,null,0,0,0,0,0,0,0,0,0,0,0,0,0,0,0,0,0,0,0,0,0,0,0,0,0,0,0,0,0,0,0,0,0]
[null,null,null,null,null,null,null,null,null,null,null,null,null,null,54.800000000000509,0,"",0,"",0,null,null,54.800000000000509,0,"",0,"",0,null,null,{"$f":"SUMIFS($Q555,$T555,AE$7)","v":0},0,0,0,0,0,0,0,0,0,0,0,0,0,0,0,0,0,0,0,0,0,0,0,0,0,0,0,0,0,0,0,0,null,null,0,0,0,0,0,0,0,0,0,0,0,0,0,0,0,0,0,0,0,0,0,0,0,0,0,0,0,0,0,0,0,0,0]
[null,null,null,null,null,null,null,null,null,null,null,null,null,null,54.90000000000051,0,"",0,"",0,null,null,54.90000000000051,0,"",0,"",0,null,null,0,0,0,0,0,0,0,0,0,0,0,0,0,0,0,0,0,0,0,0,0,0,0,0,0,0,0,0,0,0,0,0,0,null,null,0,0,0,0,0,0,0,0,0,0,0,0,0,0,0,0,0,0,0,0,0,0,0,0,0,0,0,0,0,0,0,0,0]
[null,null,null,null,null,null,null,null,null,null,null,null,null,null,55.000000000000512,0,"",0,"",0,null,null,55.000000000000512,0,"",0,"",0,null,null,0,0,0,0,0,0,0,0,0,0,0,0,0,0,0,0,0,0,0,0,0,0,0,0,0,0,0,0,0,0,0,{"$f":"SUMIFS($Q557,$T557,BJ$7)","v":0},0,null,null,0,0,0,0,0,0,0,0,0,0,0,0,0,0,0,0,0,0,0,0,0,0,0,0,0,0,0,0,0,0,0,0,0]
[null,null,null,null,null,null,null,null,null,null,null,null,null,null,55.100000000000513,0,"",0,"",0,null,null,55.100000000000513,0,"",0,"",0,null,null,0,0,0,0,0,0,0,0,0,0,0,0,0,0,0,0,0,0,0,0,0,0,0,0,0,0,0,0,0,0,0,0,0,null,null,0,0,0,0,0,0,0,0,0,0,0,0,0,0,0,0,0,0,0,0,0,0,0,0,0,0,0,0,0,0,0,0,0]
[null,null,null,null,null,null,null,null,null,null,null,null,null,null,55.200000000000514,0,"",0,"",0,null,null,55.200000000000514,0,"",0,"",0,null,null,0,0,0,0,0,0,0,0,0,0,0,0,0,0,0,0,0,0,0,0,0,0,0,0,0,0,0,0,0,0,0,0,0,null,null,0,0,0,0,0,0,0,0,0,0,0,0,0,0,0,0,0,0,0,0,0,0,0,0,0,0,0,0,0,0,0,0,0]
[null,null,null,null,null,null,null,null,null,null,null,null,null,null,55.300000000000516,0,"",0,"",0,null,null,55.300000000000516,0,"",0,"",0,null,null,0,0,0,0,0,0,0,0,0,0,0,0,0,0,0,0,0,0,0,0,0,0,0,0,0,0,0,0,0,0,0,0,0,null,null,0,0,0,0,0,0,0,0,0,0,0,0,0,0,0,0,0,0,0,0,0,0,0,0,0,0,0,0,0,0,0,0,0]
[null,null,null,null,null,null,null,null,null,null,null,null,null,null,55.400000000000517,0,"",0,"",0,null,null,55.400000000000517,0,"",0,"",0,null,null,0,0,0,0,0,0,0,0,0,0,0,0,0,0,0,0,0,0,0,0,0,0,0,0,0,0,0,0,0,0,0,0,0,null,null,0,0,0,0,0,0,0,0,0,0,0,0,0,0,0,0,0,0,0,0,0,0,0,0,0,0,0,0,0,0,0,0,0]
[null,null,null,null,null,null,null,null,null,null,null,null,null,null,55.500000000000519,0,"",0,"",0,null,null,55.500000000000519,0,"",0,"",0,null,null,0,0,0,0,0,0,0,0,0,0,0,0,0,0,0,0,0,0,0,0,0,0,0,0,0,0,0,0,0,0,0,0,0,null,null,0,0,0,0,0,0,0,0,0,0,0,0,0,0,0,0,0,0,0,0,0,0,0,0,0,0,0,0,0,0,0,0,0]
[null,null,null,null,null,null,null,null,null,null,null,null,null,null,55.60000000000052,0,"",0,"",0,null,null,55.60000000000052,0,"",0,"",0,null,null,0,0,0,0,0,0,0,0,0,0,0,0,0,0,0,0,0,0,0,0,0,0,0,0,0,0,0,0,0,0,0,0,0,null,null,0,0,0,0,0,0,0,0,0,0,0,0,0,0,0,0,0,0,0,0,0,0,0,0,0,0,0,0,0,0,0,0,0]
[null,null,null,null,null,null,null,null,null,null,null,null,null,null,55.700000000000522,0,"",0,"",0,null,null,55.700000000000522,0,"",0,"",0,null,null,0,0,0,0,0,0,0,0,0,0,0,0,0,0,0,0,0,0,0,0,0,0,0,0,0,0,0,0,0,0,0,0,0,null,null,0,0,0,0,0,0,0,0,0,0,0,0,0,0,0,0,0,0,0,0,0,0,0,0,0,0,0,0,0,0,0,0,0]
[null,null,null,null,null,null,null,null,null,null,null,null,null,null,55.800000000000523,0,"",0,"",0,null,null,55.800000000000523,0,"",0,"",0,null,null,0,0,0,0,0,0,0,0,0,0,0,0,0,0,0,0,0,0,0,0,0,0,0,0,0,0,0,0,0,0,0,0,0,null,null,0,0,0,0,0,0,0,0,0,0,0,0,0,0,0,0,0,0,0,0,0,0,0,0,0,0,0,0,0,0,0,0,0]
[null,null,null,null,null,null,null,null,null,null,null,null,null,null,55.900000000000524,0,"",0,"",0,null,null,55.900000000000524,0,"",0,"",0,null,null,0,0,0,0,0,0,0,0,0,0,0,0,0,0,0,0,0,0,0,0,0,0,0,0,0,0,0,0,0,0,0,0,0,null,null,0,0,0,0,0,0,0,0,0,0,0,0,0,0,0,0,0,0,0,0,0,0,0,0,0,0,0,0,0,0,0,0,0]
[null,null,null,null,null,null,null,null,null,null,null,null,null,null,56.000000000000526,0,"",0,"",0,null,null,56.000000000000526,0,"",0,"",0,null,null,0,0,0,0,0,0,0,0,0,0,0,0,0,0,0,0,0,0,0,0,0,0,0,0,0,0,0,0,0,0,0,0,0,null,null,0,0,0,0,0,0,0,0,0,0,0,0,0,0,0,0,0,0,0,0,0,0,0,0,0,0,0,0,0,0,0,0,0]
[null,null,null,null,null,null,null,null,null,null,null,null,null,null,56.100000000000527,0,"",0,"",0,null,null,56.100000000000527,0,"",0,"",0,null,null,0,0,0,0,0,0,0,0,0,0,0,0,0,0,0,0,0,0,0,0,0,0,0,0,0,0,0,0,0,0,0,0,0,null,null,0,0,0,0,0,0,0,0,0,0,0,0,0,0,0,0,0,0,0,0,0,0,0,0,0,0,0,0,0,0,0,0,0]
[null,null,null,null,null,null,null,null,null,null,null,null,null,null,56.200000000000529,0,"",0,"",0,null,null,56.200000000000529,0,"",0,"",0,null,null,0,0,0,0,0,0,0,0,0,0,0,0,0,0,0,0,0,0,0,0,0,0,0,0,0,0,0,0,0,0,0,0,0,null,null,0,0,0,0,0,0,0,0,0,0,0,0,0,0,0,0,0,0,0,0,0,0,0,0,0,0,0,0,0,0,0,0,0]
[null,null,null,null,null,null,null,null,null,null,null,null,null,null,56.30000000000053,0,"",0,"",0,null,null,56.30000000000053,0,"",0,"",0,null,null,0,0,0,0,0,0,0,0,0,0,0,0,0,0,0,0,{"$f":"SUMIFS($Q570,$T570,AU$7)","v":0},0,0,0,0,0,0,0,0,0,0,0,0,0,0,0,0,null,null,0,0,0,0,0,0,0,0,0,0,0,0,0,0,0,0,0,0,0,0,0,0,0,0,0,0,0,0,0,0,0,0,0]
[null,null,null,null,null,null,null,null,null,null,null,null,null,null,56.400000000000531,0,"",0,"",0,null,null,56.400000000000531,0,"",0,"",0,null,null,{"$f":"SUMIFS($Q571,$T571,AE$7)","v":0},0,0,0,0,0,0,0,0,0,0,0,0,0,0,0,0,0,0,0,0,0,0,0,0,0,0,0,0,0,0,0,0,null,null,0,0,0,0,0,0,0,0,0,0,0,0,0,0,0,0,0,0,0,0,0,0,0,0,0,0,0,0,0,0,0,0,0]
[null,null,null,null,null,null,null,null,null,null,null,null,null,null,56.500000000000533,0,"",0,"",0,null,null,56.500000000000533,0,"",0,"",0,null,null,0,0,0,0,0,0,0,0,0,0,0,0,0,0,0,0,0,0,0,0,0,0,0,0,0,0,0,0,0,0,0,0,0,null,null,0,0,0,0,0,0,0,0,0,0,0,0,0,0,0,0,0,0,0,0,0,0,0,0,0,0,0,0,0,0,0,0,0]
[null,null,null,null,null,null,null,null,null,null,null,null,null,null,56.600000000000534,0,"",0,"",0,null,null,56.600000000000534,0,"",0,"",0,null,null,0,0,0,0,0,0,0,0,0,0,0,0,0,0,0,0,0,0,0,0,0,0,0,0,0,0,0,0,0,0,0,0,0,null,null,0,0,0,0,0,0,0,0,0,0,0,0,0,0,0,0,0,0,0,0,0,0,0,0,0,0,0,0,0,0,0,0,0]
[null,null,null,null,null,null,null,null,null,null,null,null,null,null,56.700000000000536,0,"",0,"",0,null,null,56.700000000000536,0,"",0,"",0,null,null,0,0,0,0,0,0,0,0,0,0,0,0,0,0,0,0,0,0,0,0,0,0,0,0,0,0,0,0,0,0,0,0,0,null,null,0,0,0,0,0,0,0,0,0,0,0,0,0,0,0,0,0,0,0,0,0,0,0,0,0,0,0,0,0,0,0,0,0]
[null,null,null,null,null,null,null,null,null,null,null,null,null,null,56.800000000000537,0,"",0,"",0,null,null,56.800000000000537,0,"",0,"",0,null,null,0,0,0,0,0,0,0,0,0,0,0,0,0,0,0,0,0,0,0,0,0,0,0,0,0,0,0,0,0,0,0,0,0,null,null,0,0,0,0,0,0,0,0,0,0,0,0,0,0,0,0,0,0,0,0,0,0,0,0,0,0,0,0,0,0,0,0,0]
[null,null,null,null,null,null,null,null,null,null,null,null,null,null,56.900000000000539,0,"",0,"",0,null,null,56.900000000000539,0,"",0,"",0,null,null,0,0,0,0,0,0,0,0,0,0,0,0,0,0,0,0,0,0,0,0,0,0,0,0,0,0,0,0,0,0,0,0,0,null,null,0,0,0,0,0,0,0,0,0,0,0,0,0,0,0,0,0,0,0,0,0,0,0,0,0,0,0,0,0,0,0,0,0]
[null,null,null,null,null,null,null,null,null,null,null,null,null,null,57.00000000000054,0,"",0,"",0,null,null,57.00000000000054,0,"",0,"",0,null,null,0,0,0,0,0,0,0,0,0,0,0,0,0,0,0,0,0,0,0,0,0,0,0,0,0,0,0,0,0,0,0,0,{"$f":"SUMIFS($Q577,$T577,BK$7)","v":0},null,null,0,0,0,0,0,0,0,0,0,0,0,0,0,0,0,0,0,0,0,0,0,0,0,0,0,0,0,0,0,0,0,0,0]
[null,null,null,null,null,null,null,null,null,null,null,null,null,null,57.100000000000541,0,"",0,"",0,null,null,57.100000000000541,0,"",0,"",0,null,null,0,0,0,0,0,0,0,0,0,0,0,0,0,0,0,0,0,0,0,0,0,0,0,0,0,0,0,0,0,0,0,0,0,null,null,0,0,0,0,0,0,0,0,0,0,0,0,0,0,0,0,0,0,0,0,0,0,0,0,0,0,0,0,0,0,0,0,0]
[null,null,null,null,null,null,null,null,null,null,null,null,null,null,57.200000000000543,0,"",0,"",0,null,null,57.200000000000543,0,"",0,"",0,null,null,0,0,0,0,0,0,0,0,0,0,0,0,0,0,0,0,0,0,0,0,0,0,0,0,0,0,0,0,0,0,0,0,0,null,null,0,0,0,0,0,0,0,0,0,0,0,0,0,0,0,0,0,0,0,0,0,0,0,0,0,0,0,0,0,0,0,0,0]
[null,null,null,null,null,null,null,null,null,null,null,null,null,null,57.300000000000544,0,"",0,"",0,null,null,57.300000000000544,0,"",0,"",0,null,null,0,0,0,0,0,0,0,0,0,0,0,0,0,0,0,0,0,0,0,0,0,0,0,0,0,0,0,0,0,0,0,0,0,null,null,0,0,0,0,0,0,0,0,0,0,0,0,0,0,0,0,0,0,0,0,0,0,0,0,0,0,0,0,0,0,0,0,0]
[null,null,null,null,null,null,null,null,null,null,null,null,null,null,57.400000000000546,0,"",0,"",0,null,null,57.400000000000546,0,"",0,"",0,null,null,0,0,0,0,0,0,0,0,0,0,0,0,0,0,0,0,0,0,0,0,0,0,0,0,0,0,0,0,0,0,0,0,0,null,null,0,0,0,0,0,0,0,0,0,0,0,0,0,0,0,0,0,0,0,0,0,0,0,0,0,0,0,0,0,0,0,0,0]
[null,null,null,null,null,null,null,null,null,null,null,null,null,null,57.500000000000547,0,"",0,"",0,null,null,57.500000000000547,0,"",0,"",0,null,null,0,0,0,0,0,0,0,0,0,0,0,0,0,0,0,0,0,0,0,0,0,0,0,0,0,0,0,0,0,0,0,0,0,null,null,0,0,0,0,0,0,0,0,0,0,0,0,0,0,0,0,0,0,0,0,0,0,0,0,0,0,0,0,0,0,0,0,0]
[null,null,null,null,null,null,null,null,null,null,null,null,null,null,57.600000000000549,0,"",0,"",0,null,null,57.600000000000549,0,"",0,"",0,null,null,0,0,0,0,0,0,0,0,0,0,0,0,0,0,0,0,0,0,0,0,0,0,0,0,0,0,0,0,0,0,0,0,0,null,null,0,0,0,0,0,0,0,0,0,0,0,0,0,0,0,0,0,0,0,0,0,0,0,0,0,0,0,0,0,0,0,0,0]
[null,null,null,null,null,null,null,null,null,null,null,null,null,null,57.70000000000055,0,{"$f":"INDEX($G$9:$G$39,MATCH(P584,$E$9:$E$39,1))","v":""},{"$f":"IF(Q584<>Q582,Q584,0)","v":0},"",0,null,null,57.70000000000055,0,"",{"$f":"IF(Y584<>Y582,Y584,0)","v":0},"",0,null,null,0,0,0,0,0,0,0,0,0,0,0,0,0,0,0,0,0,0,0,0,0,0,0,0,0,0,0,0,0,0,0,0,0,null,null,0,{"$f":"SUMIFS($Y585,$AB585,AF$7)","v":0},{"$f":"SUMIFS($Y585,$AB585,AG$7)","v":0},{"$f":"SUMIFS($Y585,$AB585,AH$7)","v":0},{"$f":"SUMIFS($Y585,$AB585,AI$7)","v":0},{"$f":"SUMIFS($Y585,$AB585,AJ$7)","v":0},{"$f":"SUMIFS($Y585,$AB585,AK$7)","v":0},{"$f":"SUMIFS($Y585,$AB585,AL$7)","v":0},{"$f":"SUMIFS($Y585,$AB585,AM$7)","v":0},{"$f":"SUMIFS($Y585,$AB585,AN$7)","v":0},{"$f":"SUMIFS($Y585,$AB585,AO$7)","v":0},{"$f":"SUMIFS($Y585,$AB585,AP$7)","v":0},{"$f":"SUMIFS($Y585,$AB585,AQ$7)","v":0},{"$f":"SUMIFS($Y585,$AB585,AR$7)","v":0},{"$f":"SUMIFS($Y585,$AB585,AS$7)","v":0},{"$f":"SUMIFS($Y585,$AB585,AT$7)","v":0},{"$f":"SUMIFS($Y585,$AB585,AU$7)","v":0},{"$f":"SUMIFS($Y585,$AB585,AV$7)","v":0},{"$f":"SUMIFS($Y585,$AB585,AW$7)","v":0},{"$f":"SUMIFS($Y585,$AB585,AX$7)","v":0},{"$f":"SUMIFS($Y585,$AB585,AY$7)","v":0},{"$f":"SUMIFS($Y585,$AB585,AZ$7)","v":0},{"$f":"SUMIFS($Y585,$AB585,BA$7)","v":0},{"$f":"SUMIFS($Y585,$AB585,BB$7)","v":0},{"$f":"SUMIFS($Y585,$AB585,BC$7)","v":0},{"$f":"SUMIFS($Y585,$AB585,BD$7)","v":0},{"$f":"SUMIFS($Y585,$AB585,BE$7)","v":0},{"$f":"SUMIFS($Y585,$AB585,BF$7)","v":0},{"$f":"SUMIFS($Y585,$AB585,BG$7)","v":0},{"$f":"SUMIFS($Y585,$AB585,BH$7)","v":0},{"$f":"SUMIFS($Y585,$AB585,BI$7)","v":0},{"$f":"SUMIFS($Y585,$AB585,BJ$7)","v":0},{"$f":"SUMIFS($Y585,$AB585,BK$7)","v":0}]
[null,null,null,null,null,null,null,null,null,null,null,null,null,null,57.800000000000551,{"$f":"(O585/$O$1007)*$P$1007","v":0},"",0,"",0,null,null,57.800000000000551,{"$f":"(W585/$W$1007)*$X$1007","v":0},{"$f":"INDEX($I$9:$I$39,MATCH(X585,$F$9:$F$39,1))","v":""},0,"",{"$f":"IF(AA585=0,\"\",INDEX($H$9:$H$41,MATCH(AA585,$I$9:$I$41,0)))","v":0},null,null,0,0,0,0,0,0,0,0,0,0,0,0,0,0,0,0,0,0,0,0,0,0,0,0,0,0,0,0,0,0,0,0,0,null,null,{"$f":"SUMIFS($Y586,$AB586,AE$7)","v":0},0,0,0,0,0,0,0,0,0,0,0,0,0,0,0,0,0,0,0,0,0,0,0,0,0,0,0,0,0,0,0,0]
[null,null,null,null,null,null,null,null,null,null,null,null,null,null,57.900000000000553,0,"",0,{"$f":"IF(R586=0,Q586,0)","v":""},{"$f":"IF(S586=0,\"\",INDEX($C$9:$C$41,MATCH(S586,$G$9:$G$41,0)))","v":0},null,null,57.900000000000553,0,"",0,{"$f":"IF(Z586=0,Y586,0)","v":""},0,null,null,0,0,0,0,0,0,0,0,0,0,0,0,0,0,0,{"$f":"SUMIFS($Q586,$T586,AT$7)","v":0},0,0,0,0,0,0,0,0,0,0,0,0,0,0,0,{"$f":"SUMIFS($Q586,$T586,BJ$7)","v":0},0,null,null,0,0,0,0,0,0,0,0,0,0,0,0,0,0,0,0,0,0,0,0,0,0,0,0,0,0,0,0,0,0,0,0,0]
[null,null,null,null,null,null,null,null,null,null,null,null,null,null,58.000000000000554,0,"",0,"",0,null,null,58.000000000000554,0,"",0,"",0,null,null,{"$f":"SUMIFS($Q587,$T587,AE$7)","v":0},0,0,0,0,0,0,0,0,0,0,0,0,0,0,0,0,0,0,0,0,0,0,0,0,0,0,0,0,0,0,0,0,null,null,0,0,0,0,0,0,0,0,0,0,0,0,0,0,0,0,0,0,0,0,0,0,0,0,0,0,0,0,0,0,0,0,0]
[null,null,null,null,null,null,null,null,null,null,null,null,null,null,58.100000000000556,0,"",0,"",0,null,null,58.100000000000556,0,"",0,"",0,null,null,0,0,0,0,0,0,0,0,0,0,0,0,0,0,0,0,0,0,0,0,0,0,0,0,0,0,0,0,0,0,0,0,0,null,null,0,0,0,0,0,0,0,0,0,0,0,0,0,0,0,0,0,0,0,0,0,0,0,0,0,0,0,0,0,0,0,0,0]
[null,null,null,null,null,null,null,null,null,null,null,null,null,null,58.200000000000557,0,"",0,"",0,null,null,58.200000000000557,0,"",0,"",0,null,null,0,0,0,0,0,0,0,0,0,0,0,0,0,0,0,0,0,0,0,0,0,0,0,0,0,0,0,0,0,0,0,0,0,null,null,0,0,0,0,0,0,0,0,0,0,0,0,0,0,0,0,0,0,0,0,0,0,0,0,0,0,0,0,0,0,0,0,0]
[null,null,null,null,null,null,null,null,null,null,null,null,null,null,58.300000000000558,0,"",0,"",0,null,null,58.300000000000558,0,"",0,"",0,null,null,0,0,0,0,0,0,0,0,0,0,0,0,0,0,0,0,0,0,0,0,0,0,0,0,0,0,0,0,0,0,0,0,0,null,null,0,0,0,0,0,0,0,0,0,0,0,0,0,0,0,0,0,0,0,0,0,0,0,0,0,0,0,0,0,0,0,0,0]
[null,null,null,null,null,null,null,null,null,null,null,null,null,null,58.40000000000056,0,"",0,"",0,null,null,58.40000000000056,0,"",0,"",0,null,null,0,0,0,0,0,0,0,0,0,0,0,0,0,0,0,0,0,0,0,0,0,0,0,0,0,0,0,0,0,0,0,0,0,null,null,0,0,0,0,0,0,0,0,0,0,0,0,0,0,0,0,0,0,0,0,0,0,0,0,0,0,0,0,0,0,0,0,0]
[null,null,null,null,null,null,null,null,null,null,null,null,null,null,58.500000000000561,0,"",0,"",0,null,null,58.500000000000561,0,"",0,"",0,null,null,0,0,0,0,0,0,0,0,0,0,0,0,0,0,0,0,0,0,0,0,0,0,0,0,0,0,0,0,0,0,0,0,0,null,null,0,0,0,0,0,0,0,0,0,0,0,0,0,0,0,0,0,0,0,0,0,0,0,0,0,0,0,0,0,0,0,0,0]
[null,null,null,null,null,null,null,null,null,null,null,null,null,null,58.600000000000563,0,"",0,"",0,null,null,58.600000000000563,0,"",0,"",0,null,null,0,0,0,0,0,0,0,0,0,0,0,0,0,0,0,0,0,0,0,0,0,0,0,0,0,0,0,0,0,0,0,0,0,null,null,0,0,0,0,0,0,0,0,0,0,0,0,0,0,0,0,0,0,0,0,0,0,0,0,0,0,0,0,0,0,0,0,0]
[null,null,null,null,null,null,null,null,null,null,null,null,null,null,58.700000000000564,0,"",0,"",0,null,null,58.700000000000564,0,"",0,"",0,null,null,0,0,0,0,0,0,0,0,0,0,0,0,0,0,0,0,0,0,0,0,0,0,0,0,0,0,0,0,0,0,0,0,0,null,null,0,0,0,0,0,0,0,0,0,0,0,0,0,0,0,0,0,0,0,0,0,0,0,0,0,0,0,0,0,0,0,0,0]
[null,null,null,null,null,null,null,null,null,null,null,null,null,null,58.800000000000566,0,"",0,"",0,null,null,58.800000000000566,0,"",0,"",0,null,null,0,0,0,0,0,0,0,0,0,0,0,0,0,0,0,0,0,0,0,0,0,0,0,0,0,0,0,0,0,0,0,0,0,null,null,0,0,0,0,0,0,0,0,0,0,0,0,0,0,0,0,0,0,0,0,0,0,0,0,0,0,0,0,0,0,0,0,0]
[null,null,null,null,null,null,null,null,null,null,null,null,null,null,58.900000000000567,0,"",0,"",0,null,null,58.900000000000567,0,"",0,"",0,null,null,0,0,0,0,0,0,0,0,0,0,0,0,0,0,0,0,0,0,0,0,0,0,0,0,0,0,0,0,0,0,0,0,0,null,null,0,0,0,0,0,0,0,0,0,0,0,0,0,0,0,0,0,0,0,0,0,0,0,0,0,0,0,0,0,0,0,0,0]
[null,null,null,null,null,null,null,null,null,null,null,null,null,null,59.000000000000568,0,"",0,"",0,null,null,59.000000000000568,0,"",0,"",0,null,null,0,0,0,0,0,0,0,0,0,0,0,0,0,0,0,0,0,0,0,0,0,0,0,0,0,0,0,0,0,0,0,0,0,null,null,0,0,0,0,0,0,0,0,0,0,0,0,0,0,0,0,0,0,0,0,0,0,0,0,0,0,0,0,0,0,0,0,0]
[null,null,null,null,null,null,null,null,null,null,null,null,null,null,59.10000000000057,0,"",0,"",0,null,null,59.10000000000057,0,"",0,"",0,null,null,0,0,0,0,0,0,0,0,0,0,0,0,0,0,0,0,0,0,0,0,0,0,0,0,0,0,0,0,0,0,0,0,0,null,null,0,0,0,0,0,0,0,0,0,0,0,0,0,0,0,0,0,0,0,0,0,0,0,0,0,0,0,0,0,0,0,0,0]
[null,null,null,null,null,null,null,null,null,null,null,null,null,null,59.200000000000571,0,"",0,"",0,null,null,59.200000000000571,0,"",0,"",0,null,null,0,0,0,0,0,0,0,0,0,0,0,0,0,0,0,0,0,0,0,0,0,0,0,0,0,0,0,0,0,0,0,0,0,null,null,0,0,0,0,0,0,0,0,0,0,0,0,0,0,0,0,0,0,0,0,0,0,0,0,0,0,0,0,0,0,0,0,0]
[null,null,null,null,null,null,null,null,null,null,null,null,null,null,59.300000000000573,0,"",0,"",0,null,null,59.300000000000573,0,"",0,"",0,null,null,0,0,0,0,0,0,0,0,0,0,0,0,0,0,0,0,0,0,0,0,0,0,0,0,0,0,0,0,0,0,0,0,0,null,null,0,0,0,0,0,0,0,0,0,0,0,0,0,0,0,0,0,0,0,0,0,0,0,0,0,0,0,0,0,0,0,0,0]
[null,null,null,null,null,null,null,null,null,null,null,null,null,null,59.400000000000574,0,"",0,"",0,null,null,59.400000000000574,0,"",0,"",0,null,null,0,0,0,0,0,0,0,0,0,0,0,0,0,0,0,0,0,0,0,0,0,0,0,0,0,0,0,0,0,0,{"$f":"SUMIFS($Q601,$T601,BI$7)","v":0},0,0,null,null,0,0,0,0,0,0,0,0,0,0,0,0,0,0,0,0,0,0,0,0,0,0,0,0,0,0,0,0,0,0,0,0,0]
[null,null,null,null,null,null,null,null,null,null,null,null,null,null,59.500000000000576,0,"",0,"",0,null,null,59.500000000000576,0,"",0,"",0,null,null,0,0,0,0,0,0,0,0,0,0,0,0,0,0,0,0,{"$f":"SUMIFS($Q602,$T602,AU$7)","v":0},0,0,0,0,0,0,0,0,0,0,0,0,0,0,0,0,null,null,0,0,0,0,0,0,0,0,0,0,0,0,0,0,0,0,0,0,0,0,0,0,0,0,0,0,0,0,0,0,0,0,0]
[null,null,null,null,null,null,null,null,null,null,null,null,null,null,59.600000000000577,0,"",0,"",0,null,null,59.600000000000577,0,"",0,"",0,null,null,{"$f":"SUMIFS($Q603,$T603,AE$7)","v":0},0,0,0,0,0,0,0,0,0,0,0,0,0,0,0,0,0,0,0,0,0,0,0,0,0,0,0,0,0,0,0,0,null,null,0,0,0,0,0,0,0,0,0,0,0,0,0,0,0,0,0,0,0,0,0,0,0,0,0,0,0,0,0,0,0,0,0]
[null,null,null,null,null,null,null,null,null,null,null,null,null,null,59.700000000000578,0,"",0,"",0,null,null,59.700000000000578,0,"",0,"",0,null,null,0,0,0,0,0,0,0,0,0,0,0,0,0,0,0,0,0,0,0,0,0,0,0,0,0,0,0,0,0,0,0,0,0,null,null,0,0,0,0,0,0,0,0,0,0,0,0,0,0,0,0,0,0,0,0,0,0,0,0,0,0,0,0,0,0,0,0,0]
[null,null,null,null,null,null,null,null,null,null,null,null,null,null,59.80000000000058,0,"",0,"",0,null,null,59.80000000000058,0,"",0,"",0,null,null,0,0,0,0,0,0,0,0,0,0,0,0,0,0,0,0,0,0,0,0,0,0,0,0,0,0,0,0,0,0,0,0,0,null,null,0,0,0,0,0,0,0,0,0,0,0,0,0,0,0,0,0,0,0,0,0,0,0,0,0,0,0,0,0,0,0,0,0]
[null,null,null,null,null,null,null,null,null,null,null,null,null,null,59.900000000000581,0,"",0,"",0,null,null,59.900000000000581,0,"",0,"",0,null,null,0,0,0,0,0,0,0,0,0,0,0,0,0,0,0,0,0,0,0,0,0,0,0,0,0,0,0,0,0,0,0,0,0,null,null,0,0,0,0,0,0,0,0,0,0,0,0,0,0,0,0,0,0,0,0,0,0,0,0,0,0,0,0,0,0,0,0,0]
[null,null,null,null,null,null,null,null,null,null,null,null,null,null,60.000000000000583,0,"",0,"",0,null,null,60.000000000000583,0,"",0,"",0,null,null,0,0,0,0,0,0,0,0,0,0,0,0,0,0,0,0,0,0,0,0,0,0,0,0,0,0,0,0,0,0,0,0,0,null,null,0,0,0,0,0,0,0,0,0,0,0,0,0,0,0,0,0,0,0,0,0,0,0,0,0,0,0,0,0,0,0,0,0]
[null,null,null,null,null,null,null,null,null,null,null,null,null,null,60.100000000000584,0,"",0,"",0,null,null,60.100000000000584,0,"",0,"",0,null,null,0,0,0,0,0,0,0,0,0,0,0,0,0,0,0,0,0,0,0,0,0,0,0,0,0,0,0,0,0,0,0,0,0,null,null,0,0,0,0,0,0,0,0,0,0,0,0,0,0,0,0,0,0,0,0,0,0,0,0,0,0,0,0,0,0,0,0,0]
[null,null,null,null,null,null,null,null,null,null,null,null,null,null,60.200000000000585,0,"",0,"",0,null,null,60.200000000000585,0,"",0,"",0,null,null,0,0,0,0,0,0,0,0,0,0,0,0,0,0,0,0,0,0,0,0,0,0,0,0,0,0,0,0,0,0,0,0,0,null,null,0,0,0,0,0,0,0,0,0,0,0,0,0,0,0,0,0,0,0,0,0,0,0,0,0,0,0,0,0,0,0,0,0]
[null,null,null,null,null,null,null,null,null,null,null,null,null,null,60.300000000000587,0,"",0,"",0,null,null,60.300000000000587,0,"",0,"",0,null,null,0,0,0,0,0,0,0,0,0,0,0,0,0,0,0,0,0,0,0,0,0,0,0,0,0,0,0,0,0,0,0,0,0,null,null,0,0,0,0,0,0,0,0,0,0,0,0,0,0,0,0,0,0,0,0,0,0,0,0,0,0,0,0,0,0,0,0,0]
[null,null,null,null,null,null,null,null,null,null,null,null,null,null,60.400000000000588,0,"",0,"",0,null,null,60.400000000000588,0,"",0,"",0,null,null,0,0,0,0,0,0,0,0,0,0,0,0,0,0,0,0,0,0,0,0,0,0,0,0,0,0,0,0,0,0,0,0,0,null,null,0,0,0,0,0,0,0,0,0,0,0,0,0,0,0,0,0,0,0,0,0,0,0,0,0,0,0,0,0,0,0,0,0]
[null,null,null,null,null,null,null,null,null,null,null,null,null,null,60.50000000000059,0,"",0,"",0,null,null,60.50000000000059,0,"",0,"",0,null,null,0,0,0,0,0,0,0,0,0,0,0,0,0,0,0,0,0,0,0,0,0,0,0,0,0,0,0,0,0,0,0,0,0,null,null,0,0,0,0,0,0,0,0,0,0,0,0,0,0,0,0,0,0,0,0,0,0,0,0,0,0,0,0,0,0,0,0,0]
[null,null,null,null,null,null,null,null,null,null,null,null,null,null,60.600000000000591,0,"",0,"",0,null,null,60.600000000000591,0,"",0,"",0,null,null,0,0,0,0,0,0,0,0,0,0,0,0,0,0,0,0,0,0,0,0,0,0,0,0,0,0,0,0,0,0,0,0,0,null,null,0,0,0,0,0,0,0,0,0,0,0,0,0,0,0,0,0,0,0,0,0,0,0,0,0,0,0,0,0,0,0,0,0]
[null,null,null,null,null,null,null,null,null,null,null,null,null,null,60.700000000000593,0,"",0,"",0,null,null,60.700000000000593,0,"",0,"",0,null,null,0,0,0,0,0,0,0,0,0,0,0,0,0,0,0,0,0,0,0,0,0,0,0,0,0,0,0,0,0,0,0,0,0,null,null,0,0,0,0,0,0,0,0,0,0,0,0,0,0,0,0,0,0,0,0,0,0,0,0,0,0,0,0,0,0,0,0,0]
[null,null,null,null,null,null,null,null,null,null,null,null,null,null,60.800000000000594,0,"",0,"",0,null,null,60.800000000000594,0,"",0,"",0,null,null,0,0,0,0,0,0,0,0,0,0,0,0,0,0,0,0,0,0,0,0,0,0,0,0,0,0,0,0,0,0,0,0,0,null,null,0,0,0,0,0,0,0,0,0,0,0,0,0,0,0,0,0,0,0,0,0,0,0,0,0,0,0,0,0,0,0,0,0]
[null,null,null,null,null,null,null,null,null,null,null,null,null,null,60.900000000000595,0,"",0,"",0,null,null,60.900000000000595,0,"",0,"",0,null,null,0,0,0,0,0,0,0,0,0,0,0,0,0,0,0,0,0,0,0,0,0,0,0,0,0,0,0,0,0,0,0,0,0,null,null,0,0,0,0,0,0,0,0,0,0,0,0,0,0,0,0,0,0,0,0,0,0,0,0,0,0,0,0,0,0,0,0,0]
[null,null,null,null,null,null,null,null,null,null,null,null,null,null,{"$f":"O616+$N$7","v":61.000000000000597},0,"",0,"",0,null,null,{"$f":"W616+$N$7","v":61.000000000000597},0,"",0,"",0,null,null,0,0,0,0,0,0,0,0,0,0,0,0,0,0,0,0,0,0,0,0,0,0,0,0,0,0,0,0,0,0,0,0,0,null,null,0,0,0,0,0,0,0,0,0,0,0,0,0,0,0,0,0,0,0,0,0,0,0,0,0,0,0,0,0,0,0,0,0]
[null,null,null,null,null,null,null,null,null,null,null,null,null,null,61.100000000000598,0,"",0,"",0,null,null,61.100000000000598,0,"",0,"",0,null,null,0,0,0,0,0,0,0,0,0,0,0,0,0,0,0,{"$f":"SUMIFS($Q618,$T618,AT$7)","v":0},0,0,0,0,0,0,0,0,0,0,0,0,0,0,0,0,0,null,null,0,0,0,0,0,0,0,0,0,0,0,0,0,0,0,0,0,0,0,0,0,0,0,0,0,0,0,0,0,0,0,0,0]
[null,null,null,null,null,null,null,null,null,null,null,null,null,null,61.2000000000006,0,"",0,"",0,null,null,61.2000000000006,0,"",0,"",0,null,null,{"$f":"SUMIFS($Q619,$T619,AE$7)","v":0},0,0,0,0,0,0,0,0,0,0,0,0,0,0,0,0,0,0,0,0,0,0,0,0,0,0,0,0,0,0,0,0,null,null,0,0,0,0,0,0,0,0,0,0,0,0,0,0,0,0,0,0,0,0,0,0,0,0,0,0,0,0,0,0,0,0,0]
[null,null,null,null,null,null,null,null,null,null,null,null,null,null,61.300000000000601,0,"",0,"",0,null,null,61.300000000000601,0,"",0,"",0,null,null,0,0,0,0,0,0,0,0,0,0,0,0,0,0,0,0,0,0,0,0,0,0,0,0,0,0,0,0,0,0,0,0,0,null,null,0,0,0,0,0,0,0,0,0,0,0,0,0,0,0,0,0,0,0,0,0,0,0,0,0,0,0,0,0,0,0,0,0]
[null,null,null,null,null,null,null,null,null,null,null,null,null,null,61.400000000000603,0,"",0,"",0,null,null,61.400000000000603,0,"",0,"",0,null,null,0,0,0,0,0,0,0,0,0,0,0,0,0,0,0,0,0,0,0,0,0,0,0,0,0,0,0,0,0,0,0,{"$f":"SUMIFS($Q621,$T621,BJ$7)","v":0},0,null,null,0,0,0,0,0,0,0,0,0,0,0,0,0,0,0,0,0,0,0,0,0,0,0,0,0,0,0,0,0,0,0,0,0]
[null,null,null,null,null,null,null,null,null,null,null,null,null,null,61.500000000000604,0,"",0,"",0,null,null,61.500000000000604,0,"",0,"",0,null,null,0,0,0,0,0,0,0,0,0,0,0,0,0,0,0,0,0,0,0,0,0,0,0,0,0,0,0,0,0,0,0,0,0,null,null,0,0,0,0,0,0,0,0,0,0,0,0,0,0,0,0,0,0,0,0,0,0,0,0,0,0,0,0,0,0,0,0,0]
[null,null,null,null,null,null,null,null,null,null,null,null,null,null,61.600000000000605,0,"",0,"",0,null,null,61.600000000000605,0,"",0,"",0,null,null,0,0,0,0,0,0,0,0,0,0,0,0,0,0,0,0,0,0,0,0,0,0,0,0,0,0,0,0,0,0,0,0,0,null,null,0,0,0,0,0,0,0,0,0,0,0,0,0,0,0,0,0,0,0,0,0,0,0,0,0,0,0,0,0,0,0,0,0]
[null,null,null,null,null,null,null,null,null,null,null,null,null,null,61.700000000000607,0,"",0,"",0,null,null,61.700000000000607,0,"",0,"",0,null,null,0,0,0,0,0,0,0,0,0,0,0,0,0,0,0,0,0,0,0,0,0,0,0,0,0,0,0,0,0,0,0,0,0,null,null,0,0,0,0,0,0,0,0,0,0,0,0,0,0,0,0,0,0,0,0,0,0,0,0,0,0,0,0,0,0,0,0,0]
[null,null,null,null,null,null,null,null,null,null,null,null,null,null,61.800000000000608,0,"",0,"",0,null,null,61.800000000000608,0,"",0,"",0,null,null,0,0,0,0,0,0,0,0,0,0,0,0,0,0,0,0,0,0,0,0,0,0,0,0,0,0,0,0,0,0,0,0,0,null,null,0,0,0,0,0,0,0,0,0,0,0,0,0,0,0,0,0,0,0,0,0,0,0,0,0,0,0,0,0,0,0,0,0]
[null,null,null,null,null,null,null,null,null,null,null,null,null,null,61.90000000000061,0,"",0,"",0,null,null,61.90000000000061,0,"",0,"",0,null,null,0,0,0,0,0,0,0,0,0,0,0,0,0,0,0,0,0,0,0,0,0,0,0,0,0,0,0,0,0,0,0,0,0,null,null,0,0,0,0,0,0,0,0,0,0,0,0,0,0,0,0,0,0,0,0,0,0,0,0,0,0,0,0,0,0,0,0,0]
[null,null,null,null,null,null,null,null,null,null,null,null,null,null,62.000000000000611,0,"",0,"",0,null,null,62.000000000000611,0,"",0,"",0,null,null,0,0,0,0,0,0,0,0,0,0,0,0,0,0,0,0,0,0,0,0,0,0,0,0,0,0,0,0,0,0,0,0,0,null,null,0,0,0,0,0,0,0,0,0,0,0,0,0,0,0,0,0,0,0,0,0,0,0,0,0,0,0,0,0,0,0,0,0]
[null,null,null,null,null,null,null,null,null,null,null,null,null,null,62.100000000000612,0,"",0,"",0,null,null,62.100000000000612,0,"",0,"",0,null,null,0,0,0,0,0,0,0,0,0,0,0,0,0,0,0,0,0,0,0,0,0,0,0,0,0,0,0,0,0,0,0,0,0,null,null,0,0,0,0,0,0,0,0,0,0,0,0,0,0,0,0,0,0,0,0,0,0,0,0,0,0,0,0,0,0,0,0,0]
[null,null,null,null,null,null,null,null,null,null,null,null,null,null,62.200000000000614,0,"",0,"",0,null,null,62.200000000000614,0,"",0,"",0,null,null,0,0,0,0,0,0,0,0,0,0,0,0,0,0,0,0,0,0,0,0,0,0,0,0,0,0,0,0,0,0,0,0,0,null,null,0,0,0,0,0,0,0,0,0,0,0,0,0,0,0,0,0,0,0,0,0,0,0,0,0,0,0,0,0,0,0,0,0]
[null,null,null,null,null,null,null,null,null,null,null,null,null,null,62.300000000000615,0,"",0,"",0,null,null,62.300000000000615,0,"",0,"",0,null,null,0,0,0,0,0,0,0,0,0,0,0,0,0,0,0,0,0,0,0,0,0,0,0,0,0,0,0,0,0,0,0,0,0,null,null,0,0,0,0,0,0,0,0,0,0,0,0,0,0,0,0,0,0,0,0,0,0,0,0,0,0,0,0,0,0,0,0,0]
[null,null,null,null,null,null,null,null,null,null,null,null,null,null,62.400000000000617,0,"",0,"",0,null,null,62.400000000000617,0,"",0,"",0,null,null,0,0,0,0,0,0,0,0,0,0,0,0,0,0,0,0,0,0,0,0,0,0,0,0,0,0,0,0,0,0,0,0,0,null,null,0,0,0,0,0,0,0,0,0,0,0,0,0,0,0,0,0,0,0,0,0,0,0,0,0,0,0,0,0,0,0,0,0]
[null,null,null,null,null,null,null,null,null,null,null,null,null,null,62.500000000000618,0,"",0,"",0,null,null,62.500000000000618,0,"",0,"",0,null,null,0,0,0,0,0,0,0,0,0,0,0,0,0,0,0,0,0,0,0,0,0,0,0,0,0,0,0,0,0,0,0,0,0,null,null,0,0,0,0,0,0,0,0,0,0,0,0,0,0,0,0,0,0,0,0,0,0,0,0,0,0,0,0,0,0,0,0,0]
[null,null,null,null,null,null,null,null,null,null,null,null,null,null,62.60000000000062,0,"",0,"",0,null,null,62.60000000000062,0,"",0,"",0,null,null,0,0,0,0,0,0,0,0,0,0,0,0,0,0,0,0,0,0,0,0,0,0,0,0,0,0,0,0,0,0,0,0,0,null,null,0,0,0,0,0,0,0,0,0,0,0,0,0,0,0,0,0,0,0,0,0,0,0,0,0,0,0,0,0,0,0,0,0]
[null,null,null,null,null,null,null,null,null,null,null,null,null,null,62.700000000000621,0,"",0,"",0,null,null,62.700000000000621,0,"",0,"",0,null,null,0,0,0,0,0,0,0,0,0,0,0,0,0,0,0,0,{"$f":"SUMIFS($Q634,$T634,AU$7)","v":0},0,0,0,0,0,0,0,0,0,0,0,0,0,0,0,0,null,null,0,0,0,0,0,0,0,0,0,0,0,0,0,0,0,0,0,0,0,0,0,0,0,0,0,0,0,0,0,0,0,0,0]
[null,null,null,null,null,null,null,null,null,null,null,null,null,null,62.800000000000622,0,"",0,"",0,null,null,62.800000000000622,0,"",0,"",0,null,null,{"$f":"SUMIFS($Q635,$T635,AE$7)","v":0},0,0,0,0,0,0,0,0,0,0,0,0,0,0,0,0,0,0,0,0,0,0,0,0,0,0,0,0,0,0,0,0,null,null,0,0,0,0,0,0,0,0,0,0,0,0,0,0,0,0,0,0,0,0,0,0,0,0,0,0,0,0,0,0,0,0,0]
[null,null,null,null,null,null,null,null,null,null,null,null,null,null,62.900000000000624,0,"",0,"",0,null,null,62.900000000000624,0,"",0,"",0,null,null,0,0,0,0,0,0,0,0,0,0,0,0,0,0,0,0,0,0,0,0,0,0,0,0,0,0,0,0,0,0,0,0,0,null,null,0,0,0,0,0,0,0,0,0,0,0,0,0,0,0,0,0,0,0,0,0,0,0,0,0,0,0,0,0,0,0,0,0]
[null,null,null,null,null,null,null,null,null,null,null,null,null,null,63.000000000000625,0,"",0,"",0,null,null,63.000000000000625,0,"",0,"",0,null,null,0,0,0,0,0,0,0,0,0,0,0,0,0,0,0,0,0,0,0,0,0,0,0,0,0,0,0,0,0,0,0,0,0,null,null,0,0,0,0,0,0,0,0,0,0,0,0,0,0,0,0,0,0,0,0,0,0,0,0,0,0,0,0,0,0,0,0,0]
[null,null,null,null,null,null,null,null,null,null,null,null,null,null,63.100000000000627,0,"",0,"",0,null,null,63.100000000000627,0,"",0,"",0,null,null,0,0,0,0,0,0,0,0,0,0,0,0,0,0,0,0,0,0,0,0,0,0,0,0,0,0,0,0,0,0,0,0,0,null,null,0,0,0,0,0,0,0,0,0,0,0,0,0,0,0,0,0,0,0,0,0,0,0,0,0,0,0,0,0,0,0,0,0]
[null,null,null,null,null,null,null,null,null,null,null,null,null,null,63.200000000000628,0,"",0,"",0,null,null,63.200000000000628,0,"",0,"",0,null,null,0,0,0,0,0,0,0,0,0,0,0,0,0,0,0,0,0,0,0,0,0,0,0,0,0,0,0,0,0,0,0,0,0,null,null,0,0,0,0,0,0,0,0,0,0,0,0,0,0,0,0,0,0,0,0,0,0,0,0,0,0,0,0,0,0,0,0,0]
[null,null,null,null,null,null,null,null,null,null,null,null,null,null,63.30000000000063,0,"",0,"",0,null,null,63.30000000000063,0,"",0,"",0,null,null,0,0,0,0,0,0,0,0,0,0,0,0,0,0,0,0,0,0,0,0,0,0,0,0,0,0,0,0,0,0,0,0,0,null,null,0,0,0,0,0,0,0,0,0,0,0,0,0,0,0,0,0,0,0,0,0,0,0,0,0,0,0,0,0,0,0,0,0]
[null,null,null,null,null,null,null,null,null,null,null,null,null,null,63.400000000000631,0,"",0,"",0,null,null,63.400000000000631,0,"",0,"",0,null,null,0,0,0,0,0,0,0,0,0,0,0,0,0,0,0,0,0,0,0,0,0,0,0,0,0,0,0,0,0,0,0,0,{"$f":"SUMIFS($Q641,$T641,BK$7)","v":0},null,null,0,0,0,0,0,0,0,0,0,0,0,0,0,0,0,0,0,0,0,0,0,0,0,0,0,0,0,0,0,0,0,0,0]
[null,null,null,null,null,null,null,null,null,null,null,null,null,null,63.500000000000632,0,"",0,"",0,null,null,63.500000000000632,0,"",0,"",0,null,null,0,0,0,0,0,0,0,0,0,0,0,0,0,0,0,0,0,0,0,0,0,0,0,0,0,0,0,0,0,0,0,0,0,null,null,0,0,0,0,0,0,0,0,0,0,0,0,0,0,0,0,0,0,0,0,0,0,0,0,0,0,0,0,0,0,0,0,0]
[null,null,null,null,null,null,null,null,null,null,null,null,null,null,63.600000000000634,0,"",0,"",0,null,null,63.600000000000634,0,"",0,"",0,null,null,0,0,0,0,0,0,0,0,0,0,0,0,0,0,0,0,0,0,0,0,0,0,0,0,0,0,0,0,0,0,0,0,0,null,null,0,0,0,0,0,0,0,0,0,0,0,0,0,0,0,0,0,0,0,0,0,0,0,0,0,0,0,0,0,0,0,0,0]
[null,null,null,null,null,null,null,null,null,null,null,null,null,null,63.700000000000635,0,"",0,"",0,null,null,63.700000000000635,0,"",0,"",0,null,null,0,0,0,0,0,0,0,0,0,0,0,0,0,0,0,0,0,0,0,0,0,0,0,0,0,0,0,0,0,0,0,0,0,null,null,0,0,0,0,0,0,0,0,0,0,0,0,0,0,0,0,0,0,0,0,0,0,0,0,0,0,0,0,0,0,0,0,0]
[null,null,null,null,null,null,null,null,null,null,null,null,null,null,63.800000000000637,0,"",0,"",0,null,null,63.800000000000637,0,"",0,"",0,null,null,0,0,0,0,0,0,0,0,0,0,0,0,0,0,0,0,0,0,0,0,0,0,0,0,0,0,0,0,0,0,0,0,0,null,null,0,0,0,0,0,0,0,0,0,0,0,0,0,0,0,0,0,0,0,0,0,0,0,0,0,0,0,0,0,0,0,0,0]
[null,null,null,null,null,null,null,null,null,null,null,null,null,null,63.900000000000638,0,"",0,"",0,null,null,63.900000000000638,0,"",0,"",0,null,null,0,0,0,0,0,0,0,0,0,0,0,0,0,0,0,0,0,0,0,0,0,0,0,0,0,0,0,0,0,0,0,0,0,null,null,0,0,0,0,0,0,0,0,0,0,0,0,0,0,0,0,0,0,0,0,0,0,0,0,0,0,0,0,0,0,0,0,0]
[null,null,null,null,null,null,null,null,null,null,null,null,null,null,64.000000000000639,0,"",0,"",0,null,null,64.000000000000639,0,"",0,"",0,null,null,0,0,0,0,0,0,0,0,0,0,0,0,0,0,0,0,0,0,0,0,0,0,0,0,0,0,0,0,0,0,0,0,0,null,null,0,0,0,0,0,0,0,0,0,0,0,0,0,0,0,0,0,0,0,0,0,0,0,0,0,0,0,0,0,0,0,0,0]
[null,null,null,null,null,null,null,null,null,null,null,null,null,null,64.100000000000634,0,{"$f":"INDEX($G$9:$G$39,MATCH(P648,$E$9:$E$39,1))","v":""},{"$f":"IF(Q648<>Q646,Q648,0)","v":0},"",0,null,null,64.100000000000634,0,"",{"$f":"IF(Y648<>Y646,Y648,0)","v":0},"",0,null,null,0,0,0,0,0,0,0,0,0,0,0,0,0,0,0,0,0,0,0,0,0,0,0,0,0,0,0,0,0,0,0,0,0,null,null,0,{"$f":"SUMIFS($Y649,$AB649,AF$7)","v":0},{"$f":"SUMIFS($Y649,$AB649,AG$7)","v":0},{"$f":"SUMIFS($Y649,$AB649,AH$7)","v":0},{"$f":"SUMIFS($Y649,$AB649,AI$7)","v":0},{"$f":"SUMIFS($Y649,$AB649,AJ$7)","v":0},{"$f":"SUMIFS($Y649,$AB649,AK$7)","v":0},{"$f":"SUMIFS($Y649,$AB649,AL$7)","v":0},{"$f":"SUMIFS($Y649,$AB649,AM$7)","v":0},{"$f":"SUMIFS($Y649,$AB649,AN$7)","v":0},{"$f":"SUMIFS($Y649,$AB649,AO$7)","v":0},{"$f":"SUMIFS($Y649,$AB649,AP$7)","v":0},{"$f":"SUMIFS($Y649,$AB649,AQ$7)","v":0},{"$f":"SUMIFS($Y649,$AB649,AR$7)","v":0},{"$f":"SUMIFS($Y649,$AB649,AS$7)","v":0},{"$f":"SUMIFS($Y649,$AB649,AT$7)","v":0},{"$f":"SUMIFS($Y649,$AB649,AU$7)","v":0},{"$f":"SUMIFS($Y649,$AB649,AV$7)","v":0},{"$f":"SUMIFS($Y649,$AB649,AW$7)","v":0},{"$f":"SUMIFS($Y649,$AB649,AX$7)","v":0},{"$f":"SUMIFS($Y649,$AB649,AY$7)","v":0},{"$f":"SUMIFS($Y649,$AB649,AZ$7)","v":0},{"$f":"SUMIFS($Y649,$AB649,BA$7)","v":0},{"$f":"SUMIFS($Y649,$AB649,BB$7)","v":0},{"$f":"SUMIFS($Y649,$AB649,BC$7)","v":0},{"$f":"SUMIFS($Y649,$AB649,BD$7)","v":0},{"$f":"SUMIFS($Y649,$AB649,BE$7)","v":0},{"$f":"SUMIFS($Y649,$AB649,BF$7)","v":0},{"$f":"SUMIFS($Y649,$AB649,BG$7)","v":0},{"$f":"SUMIFS($Y649,$AB649,BH$7)","v":0},{"$f":"SUMIFS($Y649,$AB649,BI$7)","v":0},{"$f":"SUMIFS($Y649,$AB649,BJ$7)","v":0},{"$f":"SUMIFS($Y649,$AB649,BK$7)","v":0}]
[null,null,null,null,null,null,null,null,null,null,null,null,null,null,64.200000000000628,{"$f":"(O649/$O$1007)*$P$1007","v":0},"",0,"",0,null,null,64.200000000000628,{"$f":"(W649/$W$1007)*$X$1007","v":0},{"$f":"INDEX($I$9:$I$39,MATCH(X649,$F$9:$F$39,1))","v":""},0,"",{"$f":"IF(AA649=0,\"\",INDEX($H$9:$H$41,MATCH(AA649,$I$9:$I$41,0)))","v":0},null,null,0,0,0,0,0,0,0,0,0,0,0,0,0,0,0,0,0,0,0,0,0,0,0,0,0,0,0,0,0,0,0,0,0,null,null,{"$f":"SUMIFS($Y650,$AB650,AE$7)","v":0},0,0,0,0,0,0,0,0,0,0,0,0,0,0,0,0,0,0,0,0,0,0,0,0,0,0,0,0,0,0,0,0]
[null,null,null,null,null,null,null,null,null,null,null,null,null,null,64.300000000000622,0,"",0,{"$f":"IF(R650=0,Q650,0)","v":""},{"$f":"IF(S650=0,\"\",INDEX($C$9:$C$41,MATCH(S650,$G$9:$G$41,0)))","v":0},null,null,64.300000000000622,0,"",0,{"$f":"IF(Z650=0,Y650,0)","v":""},0,null,null,0,0,0,0,0,0,0,0,0,0,0,0,0,0,0,{"$f":"SUMIFS($Q650,$T650,AT$7)","v":0},0,0,0,0,0,0,0,0,0,0,0,0,0,0,0,{"$f":"SUMIFS($Q650,$T650,BJ$7)","v":0},0,null,null,0,0,0,0,0,0,0,0,0,0,0,0,0,0,0,0,0,0,0,0,0,0,0,0,0,0,0,0,0,0,0,0,0]
[null,null,null,null,null,null,null,null,null,null,null,null,null,null,64.400000000000617,0,"",0,"",0,null,null,64.400000000000617,0,"",0,"",0,null,null,{"$f":"SUMIFS($Q651,$T651,AE$7)","v":0},0,0,0,0,0,0,0,0,0,0,0,0,0,0,0,0,0,0,0,0,0,0,0,0,0,0,0,0,0,0,0,0,null,null,0,0,0,0,0,0,0,0,0,0,0,0,0,0,0,0,0,0,0,0,0,0,0,0,0,0,0,0,0,0,0,0,0]
[null,null,null,null,null,null,null,null,null,null,null,null,null,null,64.500000000000611,0,"",0,"",0,null,null,64.500000000000611,0,"",0,"",0,null,null,0,0,0,0,0,0,0,0,0,0,0,0,0,0,0,0,0,0,0,0,0,0,0,0,0,0,0,0,0,0,0,0,0,null,null,0,0,0,0,0,0,0,0,0,0,0,0,0,0,0,0,0,0,0,0,0,0,0,0,0,0,0,0,0,0,0,0,0]
[null,null,null,null,null,null,null,null,null,null,null,null,null,null,64.600000000000605,0,"",0,"",0,null,null,64.600000000000605,0,"",0,"",0,null,null,0,0,0,0,0,0,0,0,0,0,0,0,0,0,0,0,0,0,0,0,0,0,0,0,0,0,0,0,0,0,0,0,0,null,null,0,0,0,0,0,0,0,0,0,0,0,0,0,0,0,0,0,0,0,0,0,0,0,0,0,0,0,0,0,0,0,0,0]
[null,null,null,null,null,null,null,null,null,null,null,null,null,null,64.7000000000006,0,"",0,"",0,null,null,64.7000000000006,0,"",0,"",0,null,null,0,0,0,0,0,0,0,0,0,0,0,0,0,0,0,0,0,0,0,0,0,0,0,0,0,0,0,0,0,0,0,0,0,null,null,0,0,0,0,0,0,0,0,0,0,0,0,0,0,0,0,0,0,0,0,0,0,0,0,0,0,0,0,0,0,0,0,0]
[null,null,null,null,null,null,null,null,null,null,null,null,null,null,64.800000000000594,0,"",0,"",0,null,null,64.800000000000594,0,"",0,"",0,null,null,0,0,0,0,0,0,0,0,0,0,0,0,0,0,0,0,0,0,0,0,0,0,0,0,0,0,0,0,0,0,0,0,0,null,null,0,0,0,0,0,0,0,0,0,0,0,0,0,0,0,0,0,0,0,0,0,0,0,0,0,0,0,0,0,0,0,0,0]
[null,null,null,null,null,null,null,null,null,null,null,null,null,null,64.900000000000588,0,"",0,"",0,null,null,64.900000000000588,0,"",0,"",0,null,null,0,0,0,0,0,0,0,0,0,0,0,0,0,0,0,0,0,0,0,0,0,0,0,0,0,0,0,0,0,0,0,0,0,null,null,0,0,0,0,0,0,0,0,0,0,0,0,0,0,0,0,0,0,0,0,0,0,0,0,0,0,0,0,0,0,0,0,0]
[null,null,null,null,null,null,null,null,null,null,null,null,null,null,65.000000000000583,0,"",0,"",0,null,null,65.000000000000583,0,"",0,"",0,null,null,0,0,0,0,0,0,0,0,0,0,0,0,0,0,0,0,0,0,0,0,0,0,0,0,0,0,0,0,0,0,0,0,0,null,null,0,0,0,0,0,0,0,0,0,0,0,0,0,0,0,0,0,0,0,0,0,0,0,0,0,0,0,0,0,0,0,0,0]
[null,null,null,null,null,null,null,null,null,null,null,null,null,null,65.100000000000577,0,"",0,"",0,null,null,65.100000000000577,0,"",0,"",0,null,null,0,0,0,0,0,0,0,0,0,0,0,0,0,0,0,0,0,0,0,0,0,0,0,0,0,0,0,0,0,0,0,0,0,null,null,0,0,0,0,0,0,0,0,0,0,0,0,0,0,0,0,0,0,0,0,0,0,0,0,0,0,0,0,0,0,0,0,0]
[null,null,null,null,null,null,null,null,null,null,null,null,null,null,65.200000000000571,0,"",0,"",0,null,null,65.200000000000571,0,"",0,"",0,null,null,0,0,0,0,0,0,0,0,0,0,0,0,0,0,0,0,0,0,0,0,0,0,0,0,0,0,0,0,0,0,0,0,0,null,null,0,0,0,0,0,0,0,0,0,0,0,0,0,0,0,0,0,0,0,0,0,0,0,0,0,0,0,0,0,0,0,0,0]
[null,null,null,null,null,null,null,null,null,null,null,null,null,null,65.300000000000566,0,"",0,"",0,null,null,65.300000000000566,0,"",0,"",0,null,null,0,0,0,0,0,0,0,0,0,0,0,0,0,0,0,0,0,0,0,0,0,0,0,0,0,0,0,0,0,0,0,0,0,null,null,0,0,0,0,0,0,0,0,0,0,0,0,0,0,0,0,0,0,0,0,0,0,0,0,0,0,0,0,0,0,0,0,0]
[null,null,null,null,null,null,null,null,null,null,null,null,null,null,65.40000000000056,0,"",0,"",0,null,null,65.40000000000056,0,"",0,"",0,null,null,0,0,0,0,0,0,0,0,0,0,0,0,0,0,0,0,0,0,0,0,0,0,0,0,0,0,0,0,0,0,0,0,0,null,null,0,0,0,0,0,0,0,0,0,0,0,0,0,0,0,0,0,0,0,0,0,0,0,0,0,0,0,0,0,0,0,0,0]
[null,null,null,null,null,null,null,null,null,null,null,null,null,null,65.500000000000554,0,"",0,"",0,null,null,65.500000000000554,0,"",0,"",0,null,null,0,0,0,0,0,0,0,0,0,0,0,0,0,0,0,0,0,0,0,0,0,0,0,0,0,0,0,0,0,0,0,0,0,null,null,0,0,0,0,0,0,0,0,0,0,0,0,0,0,0,0,0,0,0,0,0,0,0,0,0,0,0,0,0,0,0,0,0]
[null,null,null,null,null,null,null,null,null,null,null,null,null,null,65.600000000000549,0,"",0,"",0,null,null,65.600000000000549,0,"",0,"",0,null,null,0,0,0,0,0,0,0,0,0,0,0,0,0,0,0,0,0,0,0,0,0,0,0,0,0,0,0,0,0,0,0,0,0,null,null,0,0,0,0,0,0,0,0,0,0,0,0,0,0,0,0,0,0,0,0,0,0,0,0,0,0,0,0,0,0,0,0,0]
[null,null,null,null,null,null,null,null,null,null,null,null,null,null,65.700000000000543,0,"",0,"",0,null,null,65.700000000000543,0,"",0,"",0,null,null,0,0,0,0,0,0,0,0,0,0,0,0,0,0,0,0,0,0,0,0,0,0,0,0,0,0,0,0,0,0,0,0,0,null,null,0,0,0,0,0,0,0,0,0,0,0,0,0,0,0,0,0,0,0,0,0,0,0,0,0,0,0,0,0,0,0,0,0]
[null,null,null,null,null,null,null,null,null,null,null,null,null,null,65.800000000000537,0,"",0,"",0,null,null,65.800000000000537,0,"",0,"",0,null,null,0,0,0,0,0,0,0,0,0,0,0,0,0,0,0,0,0,0,0,0,0,0,0,0,0,0,0,0,0,0,{"$f":"SUMIFS($Q665,$T665,BI$7)","v":0},0,0,null,null,0,0,0,0,0,0,0,0,0,0,0,0,0,0,0,0,0,0,0,0,0,0,0,0,0,0,0,0,0,0,0,0,0]
[null,null,null,null,null,null,null,null,null,null,null,null,null,null,65.900000000000531,0,"",0,"",0,null,null,65.900000000000531,0,"",0,"",0,null,null,0,0,0,0,0,0,0,0,0,0,0,0,0,0,0,0,{"$f":"SUMIFS($Q666,$T666,AU$7)","v":0},0,0,0,0,0,0,0,0,0,0,0,0,0,0,0,0,null,null,0,0,0,0,0,0,0,0,0,0,0,0,0,0,0,0,0,0,0,0,0,0,0,0,0,0,0,0,0,0,0,0,0]
[null,null,null,null,null,null,null,null,null,null,null,null,null,null,66.000000000000526,0,"",0,"",0,null,null,66.000000000000526,0,"",0,"",0,null,null,{"$f":"SUMIFS($Q667,$T667,AE$7)","v":0},0,0,0,0,0,0,0,0,0,0,0,0,0,0,0,0,0,0,0,0,0,0,0,0,0,0,0,0,0,0,0,0,null,null,0,0,0,0,0,0,0,0,0,0,0,0,0,0,0,0,0,0,0,0,0,0,0,0,0,0,0,0,0,0,0,0,0]
[null,null,null,null,null,null,null,null,null,null,null,null,null,null,66.10000000000052,0,"",0,"",0,null,null,66.10000000000052,0,"",0,"",0,null,null,0,0,0,0,0,0,0,0,0,0,0,0,0,0,0,0,0,0,0,0,0,0,0,0,0,0,0,0,0,0,0,0,0,null,null,0,0,0,0,0,0,0,0,0,0,0,0,0,0,0,0,0,0,0,0,0,0,0,0,0,0,0,0,0,0,0,0,0]
[null,null,null,null,null,null,null,null,null,null,null,null,null,null,66.200000000000514,0,"",0,"",0,null,null,66.200000000000514,0,"",0,"",0,null,null,0,0,0,0,0,0,0,0,0,0,0,0,0,0,0,0,0,0,0,0,0,0,0,0,0,0,0,0,0,0,0,0,0,null,null,0,0,0,0,0,0,0,0,0,0,0,0,0,0,0,0,0,0,0,0,0,0,0,0,0,0,0,0,0,0,0,0,0]
[null,null,null,null,null,null,null,null,null,null,null,null,null,null,66.300000000000509,0,"",0,"",0,null,null,66.300000000000509,0,"",0,"",0,null,null,0,0,0,0,0,0,0,0,0,0,0,0,0,0,0,0,0,0,0,0,0,0,0,0,0,0,0,0,0,0,0,0,0,null,null,0,0,0,0,0,0,0,0,0,0,0,0,0,0,0,0,0,0,0,0,0,0,0,0,0,0,0,0,0,0,0,0,0]
[null,null,null,null,null,null,null,null,null,null,null,null,null,null,66.400000000000503,0,"",0,"",0,null,null,66.400000000000503,0,"",0,"",0,null,null,0,0,0,0,0,0,0,0,0,0,0,0,0,0,0,0,0,0,0,0,0,0,0,0,0,0,0,0,0,0,0,0,0,null,null,0,0,0,0,0,0,0,0,0,0,0,0,0,0,0,0,0,0,0,0,0,0,0,0,0,0,0,0,0,0,0,0,0]
[null,null,null,null,null,null,null,null,null,null,null,null,null,null,66.500000000000497,0,"",0,"",0,null,null,66.500000000000497,0,"",0,"",0,null,null,0,0,0,0,0,0,0,0,0,0,0,0,0,0,0,0,0,0,0,0,0,0,0,0,0,0,0,0,0,0,0,0,0,null,null,0,0,0,0,0,0,0,0,0,0,0,0,0,0,0,0,0,0,0,0,0,0,0,0,0,0,0,0,0,0,0,0,0]
[null,null,null,null,null,null,null,null,null,null,null,null,null,null,66.600000000000492,0,"",0,"",0,null,null,66.600000000000492,0,"",0,"",0,null,null,0,0,0,0,0,0,0,0,0,0,0,0,0,0,0,0,0,0,0,0,0,0,0,0,0,0,0,0,0,0,0,0,0,null,null,0,0,0,0,0,0,0,0,0,0,0,0,0,0,0,0,0,0,0,0,0,0,0,0,0,0,0,0,0,0,0,0,0]
[null,null,null,null,null,null,null,null,null,null,null,null,null,null,66.700000000000486,0,"",0,"",0,null,null,66.700000000000486,0,"",0,"",0,null,null,0,0,0,0,0,0,0,0,0,0,0,0,0,0,0,0,0,0,0,0,0,0,0,0,0,0,0,0,0,0,0,0,0,null,null,0,0,0,0,0,0,0,0,0,0,0,0,0,0,0,0,0,0,0,0,0,0,0,0,0,0,0,0,0,0,0,0,0]
[null,null,null,null,null,null,null,null,null,null,null,null,null,null,66.80000000000048,0,"",0,"",0,null,null,66.80000000000048,0,"",0,"",0,null,null,0,0,0,0,0,0,0,0,0,0,0,0,0,0,0,0,0,0,0,0,0,0,0,0,0,0,0,0,0,0,0,0,0,null,null,0,0,0,0,0,0,0,0,0,0,0,0,0,0,0,0,0,0,0,0,0,0,0,0,0,0,0,0,0,0,0,0,0]
[null,null,null,null,null,null,null,null,null,null,null,null,null,null,66.900000000000475,0,"",0,"",0,null,null,66.900000000000475,0,"",0,"",0,null,null,0,0,0,0,0,0,0,0,0,0,0,0,0,0,0,0,0,0,0,0,0,0,0,0,0,0,0,0,0,0,0,0,0,null,null,0,0,0,0,0,0,0,0,0,0,0,0,0,0,0,0,0,0,0,0,0,0,0,0,0,0,0,0,0,0,0,0,0]
[null,null,null,null,null,null,null,null,null,null,null,null,null,null,67.000000000000469,0,"",0,"",0,null,null,67.000000000000469,0,"",0,"",0,null,null,0,0,0,0,0,0,0,0,0,0,0,0,0,0,0,0,0,0,0,0,0,0,0,0,0,0,0,0,0,0,0,0,0,null,null,0,0,0,0,0,0,0,0,0,0,0,0,0,0,0,0,0,0,0,0,0,0,0,0,0,0,0,0,0,0,0,0,0]
[null,null,null,null,null,null,null,null,null,null,null,null,null,null,67.100000000000463,0,"",0,"",0,null,null,67.100000000000463,0,"",0,"",0,null,null,0,0,0,0,0,0,0,0,0,0,0,0,0,0,0,0,0,0,0,0,0,0,0,0,0,0,0,0,0,0,0,0,0,null,null,0,0,0,0,0,0,0,0,0,0,0,0,0,0,0,0,0,0,0,0,0,0,0,0,0,0,0,0,0,0,0,0,0]
[null,null,null,null,null,null,null,null,null,null,null,null,null,null,67.200000000000458,0,"",0,"",0,null,null,67.200000000000458,0,"",0,"",0,null,null,0,0,0,0,0,0,0,0,0,0,0,0,0,0,0,0,0,0,0,0,0,0,0,0,0,0,0,0,0,0,0,0,0,null,null,0,0,0,0,0,0,0,0,0,0,0,0,0,0,0,0,0,0,0,0,0,0,0,0,0,0,0,0,0,0,0,0,0]
[null,null,null,null,null,null,null,null,null,null,null,null,null,null,67.300000000000452,0,"",0,"",0,null,null,67.300000000000452,0,"",0,"",0,null,null,0,0,0,0,0,0,0,0,0,0,0,0,0,0,0,0,0,0,0,0,0,0,0,0,0,0,0,0,0,0,0,0,0,null,null,0,0,0,0,0,0,0,0,0,0,0,0,0,0,0,0,0,0,0,0,0,0,0,0,0,0,0,0,0,0,0,0,0]
[null,null,null,null,null,null,null,null,null,null,null,null,null,null,{"$f":"O680+$N$7","v":67.400000000000446},0,"",0,"",0,null,null,{"$f":"W680+$N$7","v":67.400000000000446},0,"",0,"",0,null,null,0,0,0,0,0,0,0,0,0,0,0,0,0,0,0,0,0,0,0,0,0,0,0,0,0,0,0,0,0,0,0,0,0,null,null,0,0,0,0,0,0,0,0,0,0,0,0,0,0,0,0,0,0,0,0,0,0,0,0,0,0,0,0,0,0,0,0,0]
[null,null,null,null,null,null,null,null,null,null,null,null,null,null,67.500000000000441,0,"",0,"",0,null,null,67.500000000000441,0,"",0,"",0,null,null,0,0,0,0,0,0,0,0,0,0,0,0,0,0,0,{"$f":"SUMIFS($Q682,$T682,AT$7)","v":0},0,0,0,0,0,0,0,0,0,0,0,0,0,0,0,0,0,null,null,0,0,0,0,0,0,0,0,0,0,0,0,0,0,0,0,0,0,0,0,0,0,0,0,0,0,0,0,0,0,0,0,0]
[null,null,null,null,null,null,null,null,null,null,null,null,null,null,67.600000000000435,0,"",0,"",0,null,null,67.600000000000435,0,"",0,"",0,null,null,{"$f":"SUMIFS($Q683,$T683,AE$7)","v":0},0,0,0,0,0,0,0,0,0,0,0,0,0,0,0,0,0,0,0,0,0,0,0,0,0,0,0,0,0,0,0,0,null,null,0,0,0,0,0,0,0,0,0,0,0,0,0,0,0,0,0,0,0,0,0,0,0,0,0,0,0,0,0,0,0,0,0]
[null,null,null,null,null,null,null,null,null,null,null,null,null,null,67.700000000000429,0,"",0,"",0,null,null,67.700000000000429,0,"",0,"",0,null,null,0,0,0,0,0,0,0,0,0,0,0,0,0,0,0,0,0,0,0,0,0,0,0,0,0,0,0,0,0,0,0,0,0,null,null,0,0,0,0,0,0,0,0,0,0,0,0,0,0,0,0,0,0,0,0,0,0,0,0,0,0,0,0,0,0,0,0,0]
[null,null,null,null,null,null,null,null,null,null,null,null,null,null,67.800000000000423,0,"",0,"",0,null,null,67.800000000000423,0,"",0,"",0,null,null,0,0,0,0,0,0,0,0,0,0,0,0,0,0,0,0,0,0,0,0,0,0,0,0,0,0,0,0,0,0,0,{"$f":"SUMIFS($Q685,$T685,BJ$7)","v":0},0,null,null,0,0,0,0,0,0,0,0,0,0,0,0,0,0,0,0,0,0,0,0,0,0,0,0,0,0,0,0,0,0,0,0,0]
[null,null,null,null,null,null,null,null,null,null,null,null,null,null,67.900000000000418,0,"",0,"",0,null,null,67.900000000000418,0,"",0,"",0,null,null,0,0,0,0,0,0,0,0,0,0,0,0,0,0,0,0,0,0,0,0,0,0,0,0,0,0,0,0,0,0,0,0,0,null,null,0,0,0,0,0,0,0,0,0,0,0,0,0,0,0,0,0,0,0,0,0,0,0,0,0,0,0,0,0,0,0,0,0]
[null,null,null,null,null,null,null,null,null,null,null,null,null,null,68.000000000000412,0,"",0,"",0,null,null,68.000000000000412,0,"",0,"",0,null,null,0,0,0,0,0,0,0,0,0,0,0,0,0,0,0,0,0,0,0,0,0,0,0,0,0,0,0,0,0,0,0,0,0,null,null,0,0,0,0,0,0,0,0,0,0,0,0,0,0,0,0,0,0,0,0,0,0,0,0,0,0,0,0,0,0,0,0,0]
[null,null,null,null,null,null,null,null,null,null,null,null,null,null,68.100000000000406,0,"",0,"",0,null,null,68.100000000000406,0,"",0,"",0,null,null,0,0,0,0,0,0,0,0,0,0,0,0,0,0,0,0,0,0,0,0,0,0,0,0,0,0,0,0,0,0,0,0,0,null,null,0,0,0,0,0,0,0,0,0,0,0,0,0,0,0,0,0,0,0,0,0,0,0,0,0,0,0,0,0,0,0,0,0]
[null,null,null,null,null,null,null,null,null,null,null,null,null,null,68.200000000000401,0,"",0,"",0,null,null,68.200000000000401,0,"",0,"",0,null,null,0,0,0,0,0,0,0,0,0,0,0,0,0,0,0,0,0,0,0,0,0,0,0,0,0,0,0,0,0,0,0,0,0,null,null,0,0,0,0,0,0,0,0,0,0,0,0,0,0,0,0,0,0,0,0,0,0,0,0,0,0,0,0,0,0,0,0,0]
[null,null,null,null,null,null,null,null,null,null,null,null,null,null,68.300000000000395,0,"",0,"",0,null,null,68.300000000000395,0,"",0,"",0,null,null,0,0,0,0,0,0,0,0,0,0,0,0,0,0,0,0,0,0,0,0,0,0,0,0,0,0,0,0,0,0,0,0,0,null,null,0,0,0,0,0,0,0,0,0,0,0,0,0,0,0,0,0,0,0,0,0,0,0,0,0,0,0,0,0,0,0,0,0]
[null,null,null,null,null,null,null,null,null,null,null,null,null,null,68.400000000000389,0,"",0,"",0,null,null,68.400000000000389,0,"",0,"",0,null,null,0,0,0,0,0,0,0,0,0,0,0,0,0,0,0,0,0,0,0,0,0,0,0,0,0,0,0,0,0,0,0,0,0,null,null,0,0,0,0,0,0,0,0,0,0,0,0,0,0,0,0,0,0,0,0,0,0,0,0,0,0,0,0,0,0,0,0,0]
[null,null,null,null,null,null,null,null,null,null,null,null,null,null,68.500000000000384,0,"",0,"",0,null,null,68.500000000000384,0,"",0,"",0,null,null,0,0,0,0,0,0,0,0,0,0,0,0,0,0,0,0,0,0,0,0,0,0,0,0,0,0,0,0,0,0,0,0,0,null,null,0,0,0,0,0,0,0,0,0,0,0,0,0,0,0,0,0,0,0,0,0,0,0,0,0,0,0,0,0,0,0,0,0]
[null,null,null,null,null,null,null,null,null,null,null,null,null,null,68.600000000000378,0,"",0,"",0,null,null,68.600000000000378,0,"",0,"",0,null,null,0,0,0,0,0,0,0,0,0,0,0,0,0,0,0,0,0,0,0,0,0,0,0,0,0,0,0,0,0,0,0,0,0,null,null,0,0,0,0,0,0,0,0,0,0,0,0,0,0,0,0,0,0,0,0,0,0,0,0,0,0,0,0,0,0,0,0,0]
[null,null,null,null,null,null,null,null,null,null,null,null,null,null,68.700000000000372,0,"",0,"",0,null,null,68.700000000000372,0,"",0,"",0,null,null,0,0,0,0,0,0,0,0,0,0,0,0,0,0,0,0,0,0,0,0,0,0,0,0,0,0,0,0,0,0,0,0,0,null,null,0,0,0,0,0,0,0,0,0,0,0,0,0,0,0,0,0,0,0,0,0,0,0,0,0,0,0,0,0,0,0,0,0]
[null,null,null,null,null,null,null,null,null,null,null,null,null,null,68.800000000000367,0,"",0,"",0,null,null,68.800000000000367,0,"",0,"",0,null,null,0,0,0,0,0,0,0,0,0,0,0,0,0,0,0,0,0,0,0,0,0,0,0,0,0,0,0,0,0,0,0,0,0,null,null,0,0,0,0,0,0,0,0,0,0,0,0,0,0,0,0,0,0,0,0,0,0,0,0,0,0,0,0,0,0,0,0,0]
[null,null,null,null,null,null,null,null,null,null,null,null,null,null,68.900000000000361,0,"",0,"",0,null,null,68.900000000000361,0,"",0,"",0,null,null,0,0,0,0,0,0,0,0,0,0,0,0,0,0,0,0,0,0,0,0,0,0,0,0,0,0,0,0,0,0,0,0,0,null,null,0,0,0,0,0,0,0,0,0,0,0,0,0,0,0,0,0,0,0,0,0,0,0,0,0,0,0,0,0,0,0,0,0]
[null,null,null,null,null,null,null,null,null,null,null,null,null,null,69.000000000000355,0,"",0,"",0,null,null,69.000000000000355,0,"",0,"",0,null,null,0,0,0,0,0,0,0,0,0,0,0,0,0,0,0,0,0,0,0,0,0,0,0,0,0,0,0,0,0,0,0,0,0,null,null,0,0,0,0,0,0,0,0,0,0,0,0,0,0,0,0,0,0,0,0,0,0,0,0,0,0,0,0,0,0,0,0,0]
[null,null,null,null,null,null,null,null,null,null,null,null,null,null,69.10000000000035,0,"",0,"",0,null,null,69.10000000000035,0,"",0,"",0,null,null,0,0,0,0,0,0,0,0,0,0,0,0,0,0,0,0,{"$f":"SUMIFS($Q698,$T698,AU$7)","v":0},0,0,0,0,0,0,0,0,0,0,0,0,0,0,0,0,null,null,0,0,0,0,0,0,0,0,0,0,0,0,0,0,0,0,0,0,0,0,0,0,0,0,0,0,0,0,0,0,0,0,0]
[null,null,null,null,null,null,null,null,null,null,null,null,null,null,69.200000000000344,0,"",0,"",0,null,null,69.200000000000344,0,"",0,"",0,null,null,{"$f":"SUMIFS($Q699,$T699,AE$7)","v":0},0,0,0,0,0,0,0,0,0,0,0,0,0,0,0,0,0,0,0,0,0,0,0,0,0,0,0,0,0,0,0,0,null,null,0,0,0,0,0,0,0,0,0,0,0,0,0,0,0,0,0,0,0,0,0,0,0,0,0,0,0,0,0,0,0,0,0]
[null,null,null,null,null,null,null,null,null,null,null,null,null,null,69.300000000000338,0,"",0,"",0,null,null,69.300000000000338,0,"",0,"",0,null,null,0,0,0,0,0,0,0,0,0,0,0,0,0,0,0,0,0,0,0,0,0,0,0,0,0,0,0,0,0,0,0,0,0,null,null,0,0,0,0,0,0,0,0,0,0,0,0,0,0,0,0,0,0,0,0,0,0,0,0,0,0,0,0,0,0,0,0,0]
[null,null,null,null,null,null,null,null,null,null,null,null,null,null,69.400000000000333,0,"",0,"",0,null,null,69.400000000000333,0,"",0,"",0,null,null,0,0,0,0,0,0,0,0,0,0,0,0,0,0,0,0,0,0,0,0,0,0,0,0,0,0,0,0,0,0,0,0,0,null,null,0,0,0,0,0,0,0,0,0,0,0,0,0,0,0,0,0,0,0,0,0,0,0,0,0,0,0,0,0,0,0,0,0]
[null,null,null,null,null,null,null,null,null,null,null,null,null,null,69.500000000000327,0,"",0,"",0,null,null,69.500000000000327,0,"",0,"",0,null,null,0,0,0,0,0,0,0,0,0,0,0,0,0,0,0,0,0,0,0,0,0,0,0,0,0,0,0,0,0,0,0,0,0,null,null,0,0,0,0,0,0,0,0,0,0,0,0,0,0,0,0,0,0,0,0,0,0,0,0,0,0,0,0,0,0,0,0,0]
[null,null,null,null,null,null,null,null,null,null,null,null,null,null,69.600000000000321,0,"",0,"",0,null,null,69.600000000000321,0,"",0,"",0,null,null,0,0,0,0,0,0,0,0,0,0,0,0,0,0,0,0,0,0,0,0,0,0,0,0,0,0,0,0,0,0,0,0,0,null,null,0,0,0,0,0,0,0,0,0,0,0,0,0,0,0,0,0,0,0,0,0,0,0,0,0,0,0,0,0,0,0,0,0]
[null,null,null,null,null,null,null,null,null,null,null,null,null,null,69.700000000000315,0,"",0,"",0,null,null,69.700000000000315,0,"",0,"",0,null,null,0,0,0,0,0,0,0,0,0,0,0,0,0,0,0,0,0,0,0,0,0,0,0,0,0,0,0,0,0,0,0,0,0,null,null,0,0,0,0,0,0,0,0,0,0,0,0,0,0,0,0,0,0,0,0,0,0,0,0,0,0,0,0,0,0,0,0,0]
[null,null,null,null,null,null,null,null,null,null,null,null,null,null,69.80000000000031,0,"",0,"",0,null,null,69.80000000000031,0,"",0,"",0,null,null,0,0,0,0,0,0,0,0,0,0,0,0,0,0,0,0,0,0,0,0,0,0,0,0,0,0,0,0,0,0,0,0,{"$f":"SUMIFS($Q705,$T705,BK$7)","v":0},null,null,0,0,0,0,0,0,0,0,0,0,0,0,0,0,0,0,0,0,0,0,0,0,0,0,0,0,0,0,0,0,0,0,0]
[null,null,null,null,null,null,null,null,null,null,null,null,null,null,69.900000000000304,0,"",0,"",0,null,null,69.900000000000304,0,"",0,"",0,null,null,0,0,0,0,0,0,0,0,0,0,0,0,0,0,0,0,0,0,0,0,0,0,0,0,0,0,0,0,0,0,0,0,0,null,null,0,0,0,0,0,0,0,0,0,0,0,0,0,0,0,0,0,0,0,0,0,0,0,0,0,0,0,0,0,0,0,0,0]
[null,null,null,null,null,null,null,null,null,null,null,null,null,null,70.000000000000298,0,"",0,"",0,null,null,70.000000000000298,0,"",0,"",0,null,null,0,0,0,0,0,0,0,0,0,0,0,0,0,0,0,0,0,0,0,0,0,0,0,0,0,0,0,0,0,0,0,0,0,null,null,0,0,0,0,0,0,0,0,0,0,0,0,0,0,0,0,0,0,0,0,0,0,0,0,0,0,0,0,0,0,0,0,0]
[null,null,null,null,null,null,null,null,null,null,null,null,null,null,70.100000000000293,0,"",0,"",0,null,null,70.100000000000293,0,"",0,"",0,null,null,0,0,0,0,0,0,0,0,0,0,0,0,0,0,0,0,0,0,0,0,0,0,0,0,0,0,0,0,0,0,0,0,0,null,null,0,0,0,0,0,0,0,0,0,0,0,0,0,0,0,0,0,0,0,0,0,0,0,0,0,0,0,0,0,0,0,0,0]
[null,null,null,null,null,null,null,null,null,null,null,null,null,null,70.200000000000287,0,"",0,"",0,null,null,70.200000000000287,0,"",0,"",0,null,null,0,0,0,0,0,0,0,0,0,0,0,0,0,0,0,0,0,0,0,0,0,0,0,0,0,0,0,0,0,0,0,0,0,null,null,0,0,0,0,0,0,0,0,0,0,0,0,0,0,0,0,0,0,0,0,0,0,0,0,0,0,0,0,0,0,0,0,0]
[null,null,null,null,null,null,null,null,null,null,null,null,null,null,70.300000000000281,0,"",0,"",0,null,null,70.300000000000281,0,"",0,"",0,null,null,0,0,0,0,0,0,0,0,0,0,0,0,0,0,0,0,0,0,0,0,0,0,0,0,0,0,0,0,0,0,0,0,0,null,null,0,0,0,0,0,0,0,0,0,0,0,0,0,0,0,0,0,0,0,0,0,0,0,0,0,0,0,0,0,0,0,0,0]
[null,null,null,null,null,null,null,null,null,null,null,null,null,null,70.400000000000276,0,"",0,"",0,null,null,70.400000000000276,0,"",0,"",0,null,null,0,0,0,0,0,0,0,0,0,0,0,0,0,0,0,0,0,0,0,0,0,0,0,0,0,0,0,0,0,0,0,0,0,null,null,0,0,0,0,0,0,0,0,0,0,0,0,0,0,0,0,0,0,0,0,0,0,0,0,0,0,0,0,0,0,0,0,0]
[null,null,null,null,null,null,null,null,null,null,null,null,null,null,70.50000000000027,0,{"$f":"INDEX($G$9:$G$39,MATCH(P712,$E$9:$E$39,1))","v":""},{"$f":"IF(Q712<>Q710,Q712,0)","v":0},"",0,null,null,70.50000000000027,0,"",{"$f":"IF(Y712<>Y710,Y712,0)","v":0},"",0,null,null,0,0,0,0,0,0,0,0,0,0,0,0,0,0,0,0,0,0,0,0,0,0,0,0,0,0,0,0,0,0,0,0,0,null,null,0,{"$f":"SUMIFS($Y713,$AB713,AF$7)","v":0},{"$f":"SUMIFS($Y713,$AB713,AG$7)","v":0},{"$f":"SUMIFS($Y713,$AB713,AH$7)","v":0},{"$f":"SUMIFS($Y713,$AB713,AI$7)","v":0},{"$f":"SUMIFS($Y713,$AB713,AJ$7)","v":0},{"$f":"SUMIFS($Y713,$AB713,AK$7)","v":0},{"$f":"SUMIFS($Y713,$AB713,AL$7)","v":0},{"$f":"SUMIFS($Y713,$AB713,AM$7)","v":0},{"$f":"SUMIFS($Y713,$AB713,AN$7)","v":0},{"$f":"SUMIFS($Y713,$AB713,AO$7)","v":0},{"$f":"SUMIFS($Y713,$AB713,AP$7)","v":0},{"$f":"SUMIFS($Y713,$AB713,AQ$7)","v":0},{"$f":"SUMIFS($Y713,$AB713,AR$7)","v":0},{"$f":"SUMIFS($Y713,$AB713,AS$7)","v":0},{"$f":"SUMIFS($Y713,$AB713,AT$7)","v":0},{"$f":"SUMIFS($Y713,$AB713,AU$7)","v":0},{"$f":"SUMIFS($Y713,$AB713,AV$7)","v":0},{"$f":"SUMIFS($Y713,$AB713,AW$7)","v":0},{"$f":"SUMIFS($Y713,$AB713,AX$7)","v":0},{"$f":"SUMIFS($Y713,$AB713,AY$7)","v":0},{"$f":"SUMIFS($Y713,$AB713,AZ$7)","v":0},{"$f":"SUMIFS($Y713,$AB713,BA$7)","v":0},{"$f":"SUMIFS($Y713,$AB713,BB$7)","v":0},{"$f":"SUMIFS($Y713,$AB713,BC$7)","v":0},{"$f":"SUMIFS($Y713,$AB713,BD$7)","v":0},{"$f":"SUMIFS($Y713,$AB713,BE$7)","v":0},{"$f":"SUMIFS($Y713,$AB713,BF$7)","v":0},{"$f":"SUMIFS($Y713,$AB713,BG$7)","v":0},{"$f":"SUMIFS($Y713,$AB713,BH$7)","v":0},{"$f":"SUMIFS($Y713,$AB713,BI$7)","v":0},{"$f":"SUMIFS($Y713,$AB713,BJ$7)","v":0},{"$f":"SUMIFS($Y713,$AB713,BK$7)","v":0}]
[null,null,null,null,null,null,null,null,null,null,null,null,null,null,70.600000000000264,{"$f":"(O713/$O$1007)*$P$1007","v":0},"",0,"",0,null,null,70.600000000000264,{"$f":"(W713/$W$1007)*$X$1007","v":0},{"$f":"INDEX($I$9:$I$39,MATCH(X713,$F$9:$F$39,1))","v":""},0,"",{"$f":"IF(AA713=0,\"\",INDEX($H$9:$H$41,MATCH(AA713,$I$9:$I$41,0)))","v":0},null,null,0,0,0,0,0,0,0,0,0,0,0,0,0,0,0,0,0,0,0,0,0,0,0,0,0,0,0,0,0,0,0,0,0,null,null,{"$f":"SUMIFS($Y714,$AB714,AE$7)","v":0},0,0,0,0,0,0,0,0,0,0,0,0,0,0,0,0,0,0,0,0,0,0,0,0,0,0,0,0,0,0,0,0]
[null,null,null,null,null,null,null,null,null,null,null,null,null,null,70.700000000000259,0,"",0,{"$f":"IF(R714=0,Q714,0)","v":""},{"$f":"IF(S714=0,\"\",INDEX($C$9:$C$41,MATCH(S714,$G$9:$G$41,0)))","v":0},null,null,70.700000000000259,0,"",0,{"$f":"IF(Z714=0,Y714,0)","v":""},0,null,null,0,0,0,0,0,0,0,0,0,0,0,0,0,0,0,{"$f":"SUMIFS($Q714,$T714,AT$7)","v":0},0,0,0,0,0,0,0,0,0,0,0,0,0,0,0,{"$f":"SUMIFS($Q714,$T714,BJ$7)","v":0},0,null,null,0,0,0,0,0,0,0,0,0,0,0,0,0,0,0,0,0,0,0,0,0,0,0,0,0,0,0,0,0,0,0,0,0]
[null,null,null,null,null,null,null,null,null,null,null,null,null,null,70.800000000000253,0,"",0,"",0,null,null,70.800000000000253,0,"",0,"",0,null,null,{"$f":"SUMIFS($Q715,$T715,AE$7)","v":0},0,0,0,0,0,0,0,0,0,0,0,0,0,0,0,0,0,0,0,0,0,0,0,0,0,0,0,0,0,0,0,0,null,null,0,0,0,0,0,0,0,0,0,0,0,0,0,0,0,0,0,0,0,0,0,0,0,0,0,0,0,0,0,0,0,0,0]
[null,null,null,null,null,null,null,null,null,null,null,null,null,null,70.900000000000247,0,"",0,"",0,null,null,70.900000000000247,0,"",0,"",0,null,null,0,0,0,0,0,0,0,0,0,0,0,0,0,0,0,0,0,0,0,0,0,0,0,0,0,0,0,0,0,0,0,0,0,null,null,0,0,0,0,0,0,0,0,0,0,0,0,0,0,0,0,0,0,0,0,0,0,0,0,0,0,0,0,0,0,0,0,0]
[null,null,null,null,null,null,null,null,null,null,null,null,null,null,71.000000000000242,0,"",0,"",0,null,null,71.000000000000242,0,"",0,"",0,null,null,0,0,0,0,0,0,0,0,0,0,0,0,0,0,0,0,0,0,0,0,0,0,0,0,0,0,0,0,0,0,0,0,0,null,null,0,0,0,0,0,0,0,0,0,0,0,0,0,0,0,0,0,0,0,0,0,0,0,0,0,0,0,0,0,0,0,0,0]
[null,null,null,null,null,null,null,null,null,null,null,null,null,null,71.100000000000236,0,"",0,"",0,null,null,71.100000000000236,0,"",0,"",0,null,null,0,0,0,0,0,0,0,0,0,0,0,0,0,0,0,0,0,0,0,0,0,0,0,0,0,0,0,0,0,0,0,0,0,null,null,0,0,0,0,0,0,0,0,0,0,0,0,0,0,0,0,0,0,0,0,0,0,0,0,0,0,0,0,0,0,0,0,0]
[null,null,null,null,null,null,null,null,null,null,null,null,null,null,71.20000000000023,0,"",0,"",0,null,null,71.20000000000023,0,"",0,"",0,null,null,0,0,0,0,0,0,0,0,0,0,0,0,0,0,0,0,0,0,0,0,0,0,0,0,0,0,0,0,0,0,0,0,0,null,null,0,0,0,0,0,0,0,0,0,0,0,0,0,0,0,0,0,0,0,0,0,0,0,0,0,0,0,0,0,0,0,0,0]
[null,null,null,null,null,null,null,null,null,null,null,null,null,null,71.300000000000225,0,"",0,"",0,null,null,71.300000000000225,0,"",0,"",0,null,null,0,0,0,0,0,0,0,0,0,0,0,0,0,0,0,0,0,0,0,0,0,0,0,0,0,0,0,0,0,0,0,0,0,null,null,0,0,0,0,0,0,0,0,0,0,0,0,0,0,0,0,0,0,0,0,0,0,0,0,0,0,0,0,0,0,0,0,0]
[null,null,null,null,null,null,null,null,null,null,null,null,null,null,71.400000000000219,0,"",0,"",0,null,null,71.400000000000219,0,"",0,"",0,null,null,0,0,0,0,0,0,0,0,0,0,0,0,0,0,0,0,0,0,0,0,0,0,0,0,0,0,0,0,0,0,0,0,0,null,null,0,0,0,0,0,0,0,0,0,0,0,0,0,0,0,0,0,0,0,0,0,0,0,0,0,0,0,0,0,0,0,0,0]
[null,null,null,null,null,null,null,null,null,null,null,null,null,null,71.500000000000213,0,"",0,"",0,null,null,71.500000000000213,0,"",0,"",0,null,null,0,0,0,0,0,0,0,0,0,0,0,0,0,0,0,0,0,0,0,0,0,0,0,0,0,0,0,0,0,0,0,0,0,null,null,0,0,0,0,0,0,0,0,0,0,0,0,0,0,0,0,0,0,0,0,0,0,0,0,0,0,0,0,0,0,0,0,0]
[null,null,null,null,null,null,null,null,null,null,null,null,null,null,71.600000000000207,0,"",0,"",0,null,null,71.600000000000207,0,"",0,"",0,null,null,0,0,0,0,0,0,0,0,0,0,0,0,0,0,0,0,0,0,0,0,0,0,0,0,0,0,0,0,0,0,0,0,0,null,null,0,0,0,0,0,0,0,0,0,0,0,0,0,0,0,0,0,0,0,0,0,0,0,0,0,0,0,0,0,0,0,0,0]
[null,null,null,null,null,null,null,null,null,null,null,null,null,null,71.700000000000202,0,"",0,"",0,null,null,71.700000000000202,0,"",0,"",0,null,null,0,0,0,0,0,0,0,0,0,0,0,0,0,0,0,0,0,0,0,0,0,0,0,0,0,0,0,0,0,0,0,0,0,null,null,0,0,0,0,0,0,0,0,0,0,0,0,0,0,0,0,0,0,0,0,0,0,0,0,0,0,0,0,0,0,0,0,0]
[null,null,null,null,null,null,null,null,null,null,null,null,null,null,71.800000000000196,0,"",0,"",0,null,null,71.800000000000196,0,"",0,"",0,null,null,0,0,0,0,0,0,0,0,0,0,0,0,0,0,0,0,0,0,0,0,0,0,0,0,0,0,0,0,0,0,0,0,0,null,null,0,0,0,0,0,0,0,0,0,0,0,0,0,0,0,0,0,0,0,0,0,0,0,0,0,0,0,0,0,0,0,0,0]
[null,null,null,null,null,null,null,null,null,null,null,null,null,null,71.90000000000019,0,"",0,"",0,null,null,71.90000000000019,0,"",0,"",0,null,null,0,0,0,0,0,0,0,0,0,0,0,0,0,0,0,0,0,0,0,0,0,0,0,0,0,0,0,0,0,0,0,0,0,null,null,0,0,0,0,0,0,0,0,0,0,0,0,0,0,0,0,0,0,0,0,0,0,0,0,0,0,0,0,0,0,0,0,0]
[null,null,null,null,null,null,null,null,null,null,null,null,null,null,72.000000000000185,0,"",0,"",0,null,null,72.000000000000185,0,"",0,"",0,null,null,0,0,0,0,0,0,0,0,0,0,0,0,0,0,0,0,0,0,0,0,0,0,0,0,0,0,0,0,0,0,0,0,0,null,null,0,0,0,0,0,0,0,0,0,0,0,0,0,0,0,0,0,0,0,0,0,0,0,0,0,0,0,0,0,0,0,0,0]
[null,null,null,null,null,null,null,null,null,null,null,null,null,null,72.100000000000179,0,"",0,"",0,null,null,72.100000000000179,0,"",0,"",0,null,null,0,0,0,0,0,0,0,0,0,0,0,0,0,0,0,0,0,0,0,0,0,0,0,0,0,0,0,0,0,0,0,0,0,null,null,0,0,0,0,0,0,0,0,0,0,0,0,0,0,0,0,0,0,0,0,0,0,0,0,0,0,0,0,0,0,0,0,0]
[null,null,null,null,null,null,null,null,null,null,null,null,null,null,72.200000000000173,0,"",0,"",0,null,null,72.200000000000173,0,"",0,"",0,null,null,0,0,0,0,0,0,0,0,0,0,0,0,0,0,0,0,0,0,0,0,0,0,0,0,0,0,0,0,0,0,{"$f":"SUMIFS($Q729,$T729,BI$7)","v":0},0,0,null,null,0,0,0,0,0,0,0,0,0,0,0,0,0,0,0,0,0,0,0,0,0,0,0,0,0,0,0,0,0,0,0,0,0]
[null,null,null,null,null,null,null,null,null,null,null,null,null,null,72.300000000000168,0,"",0,"",0,null,null,72.300000000000168,0,"",0,"",0,null,null,0,0,0,0,0,0,0,0,0,0,0,0,0,0,0,0,{"$f":"SUMIFS($Q730,$T730,AU$7)","v":0},0,0,0,0,0,0,0,0,0,0,0,0,0,0,0,0,null,null,0,0,0,0,0,0,0,0,0,0,0,0,0,0,0,0,0,0,0,0,0,0,0,0,0,0,0,0,0,0,0,0,0]
[null,null,null,null,null,null,null,null,null,null,null,null,null,null,72.400000000000162,0,"",0,"",0,null,null,72.400000000000162,0,"",0,"",0,null,null,{"$f":"SUMIFS($Q731,$T731,AE$7)","v":0},0,0,0,0,0,0,0,0,0,0,0,0,0,0,0,0,0,0,0,0,0,0,0,0,0,0,0,0,0,0,0,0,null,null,0,0,0,0,0,0,0,0,0,0,0,0,0,0,0,0,0,0,0,0,0,0,0,0,0,0,0,0,0,0,0,0,0]
[null,null,null,null,null,null,null,null,null,null,null,null,null,null,72.500000000000156,0,"",0,"",0,null,null,72.500000000000156,0,"",0,"",0,null,null,0,0,0,0,0,0,0,0,0,0,0,0,0,0,0,0,0,0,0,0,0,0,0,0,0,0,0,0,0,0,0,0,0,null,null,0,0,0,0,0,0,0,0,0,0,0,0,0,0,0,0,0,0,0,0,0,0,0,0,0,0,0,0,0,0,0,0,0]
[null,null,null,null,null,null,null,null,null,null,null,null,null,null,72.600000000000151,0,"",0,"",0,null,null,72.600000000000151,0,"",0,"",0,null,null,0,0,0,0,0,0,0,0,0,0,0,0,0,0,0,0,0,0,0,0,0,0,0,0,0,0,0,0,0,0,0,0,0,null,null,0,0,0,0,0,0,0,0,0,0,0,0,0,0,0,0,0,0,0,0,0,0,0,0,0,0,0,0,0,0,0,0,0]
[null,null,null,null,null,null,null,null,null,null,null,null,null,null,72.700000000000145,0,"",0,"",0,null,null,72.700000000000145,0,"",0,"",0,null,null,0,0,0,0,0,0,0,0,0,0,0,0,0,0,0,0,0,0,0,0,0,0,0,0,0,0,0,0,0,0,0,0,0,null,null,0,0,0,0,0,0,0,0,0,0,0,0,0,0,0,0,0,0,0,0,0,0,0,0,0,0,0,0,0,0,0,0,0]
[null,null,null,null,null,null,null,null,null,null,null,null,null,null,72.800000000000139,0,"",0,"",0,null,null,72.800000000000139,0,"",0,"",0,null,null,0,0,0,0,0,0,0,0,0,0,0,0,0,0,0,0,0,0,0,0,0,0,0,0,0,0,0,0,0,0,0,0,0,null,null,0,0,0,0,0,0,0,0,0,0,0,0,0,0,0,0,0,0,0,0,0,0,0,0,0,0,0,0,0,0,0,0,0]
[null,null,null,null,null,null,null,null,null,null,null,null,null,null,72.900000000000134,0,"",0,"",0,null,null,72.900000000000134,0,"",0,"",0,null,null,0,0,0,0,0,0,0,0,0,0,0,0,0,0,0,0,0,0,0,0,0,0,0,0,0,0,0,0,0,0,0,0,0,null,null,0,0,0,0,0,0,0,0,0,0,0,0,0,0,0,0,0,0,0,0,0,0,0,0,0,0,0,0,0,0,0,0,0]
[null,null,null,null,null,null,null,null,null,null,null,null,null,null,73.000000000000128,0,"",0,"",0,null,null,73.000000000000128,0,"",0,"",0,null,null,0,0,0,0,0,0,0,0,0,0,0,0,0,0,0,0,0,0,0,0,0,0,0,0,0,0,0,0,0,0,0,0,0,null,null,0,0,0,0,0,0,0,0,0,0,0,0,0,0,0,0,0,0,0,0,0,0,0,0,0,0,0,0,0,0,0,0,0]
[null,null,null,null,null,null,null,null,null,null,null,null,null,null,73.100000000000122,0,"",0,"",0,null,null,73.100000000000122,0,"",0,"",0,null,null,0,0,0,0,0,0,0,0,0,0,0,0,0,0,0,0,0,0,0,0,0,0,0,0,0,0,0,0,0,0,0,0,0,null,null,0,0,0,0,0,0,0,0,0,0,0,0,0,0,0,0,0,0,0,0,0,0,0,0,0,0,0,0,0,0,0,0,0]
[null,null,null,null,null,null,null,null,null,null,null,null,null,null,73.200000000000117,0,"",0,"",0,null,null,73.200000000000117,0,"",0,"",0,null,null,0,0,0,0,0,0,0,0,0,0,0,0,0,0,0,0,0,0,0,0,0,0,0,0,0,0,0,0,0,0,0,0,0,null,null,0,0,0,0,0,0,0,0,0,0,0,0,0,0,0,0,0,0,0,0,0,0,0,0,0,0,0,0,0,0,0,0,0]
[null,null,null,null,null,null,null,null,null,null,null,null,null,null,73.300000000000111,0,"",0,"",0,null,null,73.300000000000111,0,"",0,"",0,null,null,0,0,0,0,0,0,0,0,0,0,0,0,0,0,0,0,0,0,0,0,0,0,0,0,0,0,0,0,0,0,0,0,0,null,null,0,0,0,0,0,0,0,0,0,0,0,0,0,0,0,0,0,0,0,0,0,0,0,0,0,0,0,0,0,0,0,0,0]
[null,null,null,null,null,null,null,null,null,null,null,null,null,null,73.400000000000105,0,"",0,"",0,null,null,73.400000000000105,0,"",0,"",0,null,null,0,0,0,0,0,0,0,0,0,0,0,0,0,0,0,0,0,0,0,0,0,0,0,0,0,0,0,0,0,0,0,0,0,null,null,0,0,0,0,0,0,0,0,0,0,0,0,0,0,0,0,0,0,0,0,0,0,0,0,0,0,0,0,0,0,0,0,0]
[null,null,null,null,null,null,null,null,null,null,null,null,null,null,73.500000000000099,0,"",0,"",0,null,null,73.500000000000099,0,"",0,"",0,null,null,0,0,0,0,0,0,0,0,0,0,0,0,0,0,0,0,0,0,0,0,0,0,0,0,0,0,0,0,0,0,0,0,0,null,null,0,0,0,0,0,0,0,0,0,0,0,0,0,0,0,0,0,0,0,0,0,0,0,0,0,0,0,0,0,0,0,0,0]
[null,null,null,null,null,null,null,null,null,null,null,null,null,null,73.600000000000094,0,"",0,"",0,null,null,73.600000000000094,0,"",0,"",0,null,null,0,0,0,0,0,0,0,0,0,0,0,0,0,0,0,0,0,0,0,0,0,0,0,0,0,0,0,0,0,0,0,0,0,null,null,0,0,0,0,0,0,0,0,0,0,0,0,0,0,0,0,0,0,0,0,0,0,0,0,0,0,0,0,0,0,0,0,0]
[null,null,null,null,null,null,null,null,null,null,null,null,null,null,73.700000000000088,0,"",0,"",0,null,null,73.700000000000088,0,"",0,"",0,null,null,0,0,0,0,0,0,0,0,0,0,0,0,0,0,0,0,0,0,0,0,0,0,0,0,0,0,0,0,0,0,0,0,0,null,null,0,0,0,0,0,0,0,0,0,0,0,0,0,0,0,0,0,0,0,0,0,0,0,0,0,0,0,0,0,0,0,0,0]
[null,null,null,null,null,null,null,null,null,null,null,null,null,null,{"$f":"O744+$N$7","v":73.800000000000082},0,"",0,"",0,null,null,{"$f":"W744+$N$7","v":73.800000000000082},0,"",0,"",0,null,null,0,0,0,0,0,0,0,0,0,0,0,0,0,0,0,0,0,0,0,0,0,0,0,0,0,0,0,0,0,0,0,0,0,null,null,0,0,0,0,0,0,0,0,0,0,0,0,0,0,0,0,0,0,0,0,0,0,0,0,0,0,0,0,0,0,0,0,0]
[null,null,null,null,null,null,null,null,null,null,null,null,null,null,73.900000000000077,0,"",0,"",0,null,null,73.900000000000077,0,"",0,"",0,null,null,0,0,0,0,0,0,0,0,0,0,0,0,0,0,0,{"$f":"SUMIFS($Q746,$T746,AT$7)","v":0},0,0,0,0,0,0,0,0,0,0,0,0,0,0,0,0,0,null,null,0,0,0,0,0,0,0,0,0,0,0,0,0,0,0,0,0,0,0,0,0,0,0,0,0,0,0,0,0,0,0,0,0]
[null,null,null,null,null,null,null,null,null,null,null,null,null,null,74.000000000000071,0,"",0,"",0,null,null,74.000000000000071,0,"",0,"",0,null,null,{"$f":"SUMIFS($Q747,$T747,AE$7)","v":0},0,0,0,0,0,0,0,0,0,0,0,0,0,0,0,0,0,0,0,0,0,0,0,0,0,0,0,0,0,0,0,0,null,null,0,0,0,0,0,0,0,0,0,0,0,0,0,0,0,0,0,0,0,0,0,0,0,0,0,0,0,0,0,0,0,0,0]
[null,null,null,null,null,null,null,null,null,null,null,null,null,null,74.100000000000065,0,"",0,"",0,null,null,74.100000000000065,0,"",0,"",0,null,null,0,0,0,0,0,0,0,0,0,0,0,0,0,0,0,0,0,0,0,0,0,0,0,0,0,0,0,0,0,0,0,0,0,null,null,0,0,0,0,0,0,0,0,0,0,0,0,0,0,0,0,0,0,0,0,0,0,0,0,0,0,0,0,0,0,0,0,0]
[null,null,null,null,null,null,null,null,null,null,null,null,null,null,74.20000000000006,0,"",0,"",0,null,null,74.20000000000006,0,"",0,"",0,null,null,0,0,0,0,0,0,0,0,0,0,0,0,0,0,0,0,0,0,0,0,0,0,0,0,0,0,0,0,0,0,0,{"$f":"SUMIFS($Q749,$T749,BJ$7)","v":0},0,null,null,0,0,0,0,0,0,0,0,0,0,0,0,0,0,0,0,0,0,0,0,0,0,0,0,0,0,0,0,0,0,0,0,0]
[null,null,null,null,null,null,null,null,null,null,null,null,null,null,74.300000000000054,0,"",0,"",0,null,null,74.300000000000054,0,"",0,"",0,null,null,0,0,0,0,0,0,0,0,0,0,0,0,0,0,0,0,0,0,0,0,0,0,0,0,0,0,0,0,0,0,0,0,0,null,null,0,0,0,0,0,0,0,0,0,0,0,0,0,0,0,0,0,0,0,0,0,0,0,0,0,0,0,0,0,0,0,0,0]
[null,null,null,null,null,null,null,null,null,null,null,null,null,null,74.400000000000048,0,"",0,"",0,null,null,74.400000000000048,0,"",0,"",0,null,null,0,0,0,0,0,0,0,0,0,0,0,0,0,0,0,0,0,0,0,0,0,0,0,0,0,0,0,0,0,0,0,0,0,null,null,0,0,0,0,0,0,0,0,0,0,0,0,0,0,0,0,0,0,0,0,0,0,0,0,0,0,0,0,0,0,0,0,0]
[null,null,null,null,null,null,null,null,null,null,null,null,null,null,74.500000000000043,0,"",0,"",0,null,null,74.500000000000043,0,"",0,"",0,null,null,0,0,0,0,0,0,0,0,0,0,0,0,0,0,0,0,0,0,0,0,0,0,0,0,0,0,0,0,0,0,0,0,0,null,null,0,0,0,0,0,0,0,0,0,0,0,0,0,0,0,0,0,0,0,0,0,0,0,0,0,0,0,0,0,0,0,0,0]
[null,null,null,null,null,null,null,null,null,null,null,null,null,null,74.600000000000037,0,"",0,"",0,null,null,74.600000000000037,0,"",0,"",0,null,null,0,0,0,0,0,0,0,0,0,0,0,0,0,0,0,0,0,0,0,0,0,0,0,0,0,0,0,0,0,0,0,0,0,null,null,0,0,0,0,0,0,0,0,0,0,0,0,0,0,0,0,0,0,0,0,0,0,0,0,0,0,0,0,0,0,0,0,0]
[null,null,null,null,null,null,null,null,null,null,null,null,null,null,74.700000000000031,0,"",0,"",0,null,null,74.700000000000031,0,"",0,"",0,null,null,0,0,0,0,0,0,0,0,0,0,0,0,0,0,0,0,0,0,0,0,0,0,0,0,0,0,0,0,0,0,0,0,0,null,null,0,0,0,0,0,0,0,0,0,0,0,0,0,0,0,0,0,0,0,0,0,0,0,0,0,0,0,0,0,0,0,0,0]
[null,null,null,null,null,null,null,null,null,null,null,null,null,null,74.800000000000026,0,"",0,"",0,null,null,74.800000000000026,0,"",0,"",0,null,null,0,0,0,0,0,0,0,0,0,0,0,0,0,0,0,0,0,0,0,0,0,0,0,0,0,0,0,0,0,0,0,0,0,null,null,0,0,0,0,0,0,0,0,0,0,0,0,0,0,0,0,0,0,0,0,0,0,0,0,0,0,0,0,0,0,0,0,0]
[null,null,null,null,null,null,null,null,null,null,null,null,null,null,74.90000000000002,0,"",0,"",0,null,null,74.90000000000002,0,"",0,"",0,null,null,0,0,0,0,0,0,0,0,0,0,0,0,0,0,0,0,0,0,0,0,0,0,0,0,0,0,0,0,0,0,0,0,0,null,null,0,0,0,0,0,0,0,0,0,0,0,0,0,0,0,0,0,0,0,0,0,0,0,0,0,0,0,0,0,0,0,0,0]
[null,null,null,null,null,null,null,null,null,null,null,null,null,null,75.000000000000014,0,"",0,"",0,null,null,75.000000000000014,0,"",0,"",0,null,null,0,0,0,0,0,0,0,0,0,0,0,0,0,0,0,0,0,0,0,0,0,0,0,0,0,0,0,0,0,0,0,0,0,null,null,0,0,0,0,0,0,0,0,0,0,0,0,0,0,0,0,0,0,0,0,0,0,0,0,0,0,0,0,0,0,0,0,0]
[null,null,null,null,null,null,null,null,null,null,null,null,null,null,75.100000000000009,0,"",0,"",0,null,null,75.100000000000009,0,"",0,"",0,null,null,0,0,0,0,0,0,0,0,0,0,0,0,0,0,0,0,0,0,0,0,0,0,0,0,0,0,0,0,0,0,0,0,0,null,null,0,0,0,0,0,0,0,0,0,0,0,0,0,0,0,0,0,0,0,0,0,0,0,0,0,0,0,0,0,0,0,0,0]
[null,null,null,null,null,null,null,null,null,null,null,null,null,null,75.2,0,"",0,"",0,null,null,75.2,0,"",0,"",0,null,null,0,0,0,0,0,0,0,0,0,0,0,0,0,0,0,0,0,0,0,0,0,0,0,0,0,0,0,0,0,0,0,0,0,null,null,0,0,0,0,0,0,0,0,0,0,0,0,0,0,0,0,0,0,0,0,0,0,0,0,0,0,0,0,0,0,0,0,0]
[null,null,null,null,null,null,null,null,null,null,null,null,null,null,75.3,0,"",0,"",0,null,null,75.3,0,"",0,"",0,null,null,0,0,0,0,0,0,0,0,0,0,0,0,0,0,0,0,0,0,0,0,0,0,0,0,0,0,0,0,0,0,0,0,0,null,null,0,0,0,0,0,0,0,0,0,0,0,0,0,0,0,0,0,0,0,0,0,0,0,0,0,0,0,0,0,0,0,0,0]
[null,null,null,null,null,null,null,null,null,null,null,null,null,null,75.399999999999991,0,"",0,"",0,null,null,75.399999999999991,0,"",0,"",0,null,null,0,0,0,0,0,0,0,0,0,0,0,0,0,0,0,0,0,0,0,0,0,0,0,0,0,0,0,0,0,0,0,0,0,null,null,0,0,0,0,0,0,0,0,0,0,0,0,0,0,0,0,0,0,0,0,0,0,0,0,0,0,0,0,0,0,0,0,0]
[null,null,null,null,null,null,null,null,null,null,null,null,null,null,75.499999999999986,0,"",0,"",0,null,null,75.499999999999986,0,"",0,"",0,null,null,0,0,0,0,0,0,0,0,0,0,0,0,0,0,0,0,{"$f":"SUMIFS($Q762,$T762,AU$7)","v":0},0,0,0,0,0,0,0,0,0,0,0,0,0,0,0,0,null,null,0,0,0,0,0,0,0,0,0,0,0,0,0,0,0,0,0,0,0,0,0,0,0,0,0,0,0,0,0,0,0,0,0]
[null,null,null,null,null,null,null,null,null,null,null,null,null,null,75.59999999999998,0,"",0,"",0,null,null,75.59999999999998,0,"",0,"",0,null,null,{"$f":"SUMIFS($Q763,$T763,AE$7)","v":0},0,0,0,0,0,0,0,0,0,0,0,0,0,0,0,0,0,0,0,0,0,0,0,0,0,0,0,0,0,0,0,0,null,null,0,0,0,0,0,0,0,0,0,0,0,0,0,0,0,0,0,0,0,0,0,0,0,0,0,0,0,0,0,0,0,0,0]
[null,null,null,null,null,null,null,null,null,null,null,null,null,null,75.699999999999974,0,"",0,"",0,null,null,75.699999999999974,0,"",0,"",0,null,null,0,0,0,0,0,0,0,0,0,0,0,0,0,0,0,0,0,0,0,0,0,0,0,0,0,0,0,0,0,0,0,0,0,null,null,0,0,0,0,0,0,0,0,0,0,0,0,0,0,0,0,0,0,0,0,0,0,0,0,0,0,0,0,0,0,0,0,0]
[null,null,null,null,null,null,null,null,null,null,null,null,null,null,75.799999999999969,0,"",0,"",0,null,null,75.799999999999969,0,"",0,"",0,null,null,0,0,0,0,0,0,0,0,0,0,0,0,0,0,0,0,0,0,0,0,0,0,0,0,0,0,0,0,0,0,0,0,0,null,null,0,0,0,0,0,0,0,0,0,0,0,0,0,0,0,0,0,0,0,0,0,0,0,0,0,0,0,0,0,0,0,0,0]
[null,null,null,null,null,null,null,null,null,null,null,null,null,null,75.899999999999963,0,"",0,"",0,null,null,75.899999999999963,0,"",0,"",0,null,null,0,0,0,0,0,0,0,0,0,0,0,0,0,0,0,0,0,0,0,0,0,0,0,0,0,0,0,0,0,0,0,0,0,null,null,0,0,0,0,0,0,0,0,0,0,0,0,0,0,0,0,0,0,0,0,0,0,0,0,0,0,0,0,0,0,0,0,0]
[null,null,null,null,null,null,null,null,null,null,null,null,null,null,75.999999999999957,0,"",0,"",0,null,null,75.999999999999957,0,"",0,"",0,null,null,0,0,0,0,0,0,0,0,0,0,0,0,0,0,0,0,0,0,0,0,0,0,0,0,0,0,0,0,0,0,0,0,0,null,null,0,0,0,0,0,0,0,0,0,0,0,0,0,0,0,0,0,0,0,0,0,0,0,0,0,0,0,0,0,0,0,0,0]
[null,null,null,null,null,null,null,null,null,null,null,null,null,null,76.099999999999952,0,"",0,"",0,null,null,76.099999999999952,0,"",0,"",0,null,null,0,0,0,0,0,0,0,0,0,0,0,0,0,0,0,0,0,0,0,0,0,0,0,0,0,0,0,0,0,0,0,0,0,null,null,0,0,0,0,0,0,0,0,0,0,0,0,0,0,0,0,0,0,0,0,0,0,0,0,0,0,0,0,0,0,0,0,0]
[null,null,null,null,null,null,null,null,null,null,null,null,null,null,76.199999999999946,0,"",0,"",0,null,null,76.199999999999946,0,"",0,"",0,null,null,0,0,0,0,0,0,0,0,0,0,0,0,0,0,0,0,0,0,0,0,0,0,0,0,0,0,0,0,0,0,0,0,{"$f":"SUMIFS($Q769,$T769,BK$7)","v":0},null,null,0,0,0,0,0,0,0,0,0,0,0,0,0,0,0,0,0,0,0,0,0,0,0,0,0,0,0,0,0,0,0,0,0]
[null,null,null,null,null,null,null,null,null,null,null,null,null,null,76.29999999999994,0,"",0,"",0,null,null,76.29999999999994,0,"",0,"",0,null,null,0,0,0,0,0,0,0,0,0,0,0,0,0,0,0,0,0,0,0,0,0,0,0,0,0,0,0,0,0,0,0,0,0,null,null,0,0,0,0,0,0,0,0,0,0,0,0,0,0,0,0,0,0,0,0,0,0,0,0,0,0,0,0,0,0,0,0,0]
[null,null,null,null,null,null,null,null,null,null,null,null,null,null,76.399999999999935,0,"",0,"",0,null,null,76.399999999999935,0,"",0,"",0,null,null,0,0,0,0,0,0,0,0,0,0,0,0,0,0,0,0,0,0,0,0,0,0,0,0,0,0,0,0,0,0,0,0,0,null,null,0,0,0,0,0,0,0,0,0,0,0,0,0,0,0,0,0,0,0,0,0,0,0,0,0,0,0,0,0,0,0,0,0]
[null,null,null,null,null,null,null,null,null,null,null,null,null,null,76.499999999999929,0,"",0,"",0,null,null,76.499999999999929,0,"",0,"",0,null,null,0,0,0,0,0,0,0,0,0,0,0,0,0,0,0,0,0,0,0,0,0,0,0,0,0,0,0,0,0,0,0,0,0,null,null,0,0,0,0,0,0,0,0,0,0,0,0,0,0,0,0,0,0,0,0,0,0,0,0,0,0,0,0,0,0,0,0,0]
[null,null,null,null,null,null,null,null,null,null,null,null,null,null,76.599999999999923,0,"",0,"",0,null,null,76.599999999999923,0,"",0,"",0,null,null,0,0,0,0,0,0,0,0,0,0,0,0,0,0,0,0,0,0,0,0,0,0,0,0,0,0,0,0,0,0,0,0,0,null,null,0,0,0,0,0,0,0,0,0,0,0,0,0,0,0,0,0,0,0,0,0,0,0,0,0,0,0,0,0,0,0,0,0]
[null,null,null,null,null,null,null,null,null,null,null,null,null,null,76.699999999999918,0,"",0,"",0,null,null,76.699999999999918,0,"",0,"",0,null,null,0,0,0,0,0,0,0,0,0,0,0,0,0,0,0,0,0,0,0,0,0,0,0,0,0,0,0,0,0,0,0,0,0,null,null,0,0,0,0,0,0,0,0,0,0,0,0,0,0,0,0,0,0,0,0,0,0,0,0,0,0,0,0,0,0,0,0,0]
[null,null,null,null,null,null,null,null,null,null,null,null,null,null,76.799999999999912,0,"",0,"",0,null,null,76.799999999999912,0,"",0,"",0,null,null,0,0,0,0,0,0,0,0,0,0,0,0,0,0,0,0,0,0,0,0,0,0,0,0,0,0,0,0,0,0,0,0,0,null,null,0,0,0,0,0,0,0,0,0,0,0,0,0,0,0,0,0,0,0,0,0,0,0,0,0,0,0,0,0,0,0,0,0]
[null,null,null,null,null,null,null,null,null,null,null,null,null,null,76.899999999999906,0,{"$f":"INDEX($G$9:$G$39,MATCH(P776,$E$9:$E$39,1))","v":""},{"$f":"IF(Q776<>Q774,Q776,0)","v":0},"",0,null,null,76.899999999999906,0,"",{"$f":"IF(Y776<>Y774,Y776,0)","v":0},"",0,null,null,0,0,0,0,0,0,0,0,0,0,0,0,0,0,0,0,0,0,0,0,0,0,0,0,0,0,0,0,0,0,0,0,0,null,null,0,{"$f":"SUMIFS($Y777,$AB777,AF$7)","v":0},{"$f":"SUMIFS($Y777,$AB777,AG$7)","v":0},{"$f":"SUMIFS($Y777,$AB777,AH$7)","v":0},{"$f":"SUMIFS($Y777,$AB777,AI$7)","v":0},{"$f":"SUMIFS($Y777,$AB777,AJ$7)","v":0},{"$f":"SUMIFS($Y777,$AB777,AK$7)","v":0},{"$f":"SUMIFS($Y777,$AB777,AL$7)","v":0},{"$f":"SUMIFS($Y777,$AB777,AM$7)","v":0},{"$f":"SUMIFS($Y777,$AB777,AN$7)","v":0},{"$f":"SUMIFS($Y777,$AB777,AO$7)","v":0},{"$f":"SUMIFS($Y777,$AB777,AP$7)","v":0},{"$f":"SUMIFS($Y777,$AB777,AQ$7)","v":0},{"$f":"SUMIFS($Y777,$AB777,AR$7)","v":0},{"$f":"SUMIFS($Y777,$AB777,AS$7)","v":0},{"$f":"SUMIFS($Y777,$AB777,AT$7)","v":0},{"$f":"SUMIFS($Y777,$AB777,AU$7)","v":0},{"$f":"SUMIFS($Y777,$AB777,AV$7)","v":0},{"$f":"SUMIFS($Y777,$AB777,AW$7)","v":0},{"$f":"SUMIFS($Y777,$AB777,AX$7)","v":0},{"$f":"SUMIFS($Y777,$AB777,AY$7)","v":0},{"$f":"SUMIFS($Y777,$AB777,AZ$7)","v":0},{"$f":"SUMIFS($Y777,$AB777,BA$7)","v":0},{"$f":"SUMIFS($Y777,$AB777,BB$7)","v":0},{"$f":"SUMIFS($Y777,$AB777,BC$7)","v":0},{"$f":"SUMIFS($Y777,$AB777,BD$7)","v":0},{"$f":"SUMIFS($Y777,$AB777,BE$7)","v":0},{"$f":"SUMIFS($Y777,$AB777,BF$7)","v":0},{"$f":"SUMIFS($Y777,$AB777,BG$7)","v":0},{"$f":"SUMIFS($Y777,$AB777,BH$7)","v":0},{"$f":"SUMIFS($Y777,$AB777,BI$7)","v":0},{"$f":"SUMIFS($Y777,$AB777,BJ$7)","v":0},{"$f":"SUMIFS($Y777,$AB777,BK$7)","v":0}]
[null,null,null,null,null,null,null,null,null,null,null,null,null,null,76.999999999999901,{"$f":"(O777/$O$1007)*$P$1007","v":0},"",0,"",0,null,null,76.999999999999901,{"$f":"(W777/$W$1007)*$X$1007","v":0},{"$f":"INDEX($I$9:$I$39,MATCH(X777,$F$9:$F$39,1))","v":""},0,"",{"$f":"IF(AA777=0,\"\",INDEX($H$9:$H$41,MATCH(AA777,$I$9:$I$41,0)))","v":0},null,null,0,0,0,0,0,0,0,0,0,0,0,0,0,0,0,0,0,0,0,0,0,0,0,0,0,0,0,0,0,0,0,0,0,null,null,{"$f":"SUMIFS($Y778,$AB778,AE$7)","v":0},0,0,0,0,0,0,0,0,0,0,0,0,0,0,0,0,0,0,0,0,0,0,0,0,0,0,0,0,0,0,0,0]
[null,null,null,null,null,null,null,null,null,null,null,null,null,null,77.099999999999895,0,"",0,{"$f":"IF(R778=0,Q778,0)","v":""},{"$f":"IF(S778=0,\"\",INDEX($C$9:$C$41,MATCH(S778,$G$9:$G$41,0)))","v":0},null,null,77.099999999999895,0,"",0,{"$f":"IF(Z778=0,Y778,0)","v":""},0,null,null,0,0,0,0,0,0,0,0,0,0,0,0,0,0,0,{"$f":"SUMIFS($Q778,$T778,AT$7)","v":0},0,0,0,0,0,0,0,0,0,0,0,0,0,0,0,{"$f":"SUMIFS($Q778,$T778,BJ$7)","v":0},0,null,null,0,0,0,0,0,0,0,0,0,0,0,0,0,0,0,0,0,0,0,0,0,0,0,0,0,0,0,0,0,0,0,0,0]
[null,null,null,null,null,null,null,null,null,null,null,null,null,null,77.199999999999889,0,"",0,"",0,null,null,77.199999999999889,0,"",0,"",0,null,null,{"$f":"SUMIFS($Q779,$T779,AE$7)","v":0},0,0,0,0,0,0,0,0,0,0,0,0,0,0,0,0,0,0,0,0,0,0,0,0,0,0,0,0,0,0,0,0,null,null,0,0,0,0,0,0,0,0,0,0,0,0,0,0,0,0,0,0,0,0,0,0,0,0,0,0,0,0,0,0,0,0,0]
[null,null,null,null,null,null,null,null,null,null,null,null,null,null,77.299999999999883,0,"",0,"",0,null,null,77.299999999999883,0,"",0,"",0,null,null,0,0,0,0,0,0,0,0,0,0,0,0,0,0,0,0,0,0,0,0,0,0,0,0,0,0,0,0,0,0,0,0,0,null,null,0,0,0,0,0,0,0,0,0,0,0,0,0,0,0,0,0,0,0,0,0,0,0,0,0,0,0,0,0,0,0,0,0]
[null,null,null,null,null,null,null,null,null,null,null,null,null,null,77.399999999999878,0,"",0,"",0,null,null,77.399999999999878,0,"",0,"",0,null,null,0,0,0,0,0,0,0,0,0,0,0,0,0,0,0,0,0,0,0,0,0,0,0,0,0,0,0,0,0,0,0,0,0,null,null,0,0,0,0,0,0,0,0,0,0,0,0,0,0,0,0,0,0,0,0,0,0,0,0,0,0,0,0,0,0,0,0,0]
[null,null,null,null,null,null,null,null,null,null,null,null,null,null,77.499999999999872,0,"",0,"",0,null,null,77.499999999999872,0,"",0,"",0,null,null,0,0,0,0,0,0,0,0,0,0,0,0,0,0,0,0,0,0,0,0,0,0,0,0,0,0,0,0,0,0,0,0,0,null,null,0,0,0,0,0,0,0,0,0,0,0,0,0,0,0,0,0,0,0,0,0,0,0,0,0,0,0,0,0,0,0,0,0]
[null,null,null,null,null,null,null,null,null,null,null,null,null,null,77.599999999999866,0,"",0,"",0,null,null,77.599999999999866,0,"",0,"",0,null,null,0,0,0,0,0,0,0,0,0,0,0,0,0,0,0,0,0,0,0,0,0,0,0,0,0,0,0,0,0,0,0,0,0,null,null,0,0,0,0,0,0,0,0,0,0,0,0,0,0,0,0,0,0,0,0,0,0,0,0,0,0,0,0,0,0,0,0,0]
[null,null,null,null,null,null,null,null,null,null,null,null,null,null,77.699999999999861,0,"",0,"",0,null,null,77.699999999999861,0,"",0,"",0,null,null,0,0,0,0,0,0,0,0,0,0,0,0,0,0,0,0,0,0,0,0,0,0,0,0,0,0,0,0,0,0,0,0,0,null,null,0,0,0,0,0,0,0,0,0,0,0,0,0,0,0,0,0,0,0,0,0,0,0,0,0,0,0,0,0,0,0,0,0]
[null,null,null,null,null,null,null,null,null,null,null,null,null,null,77.799999999999855,0,"",0,"",0,null,null,77.799999999999855,0,"",0,"",0,null,null,0,0,0,0,0,0,0,0,0,0,0,0,0,0,0,0,0,0,0,0,0,0,0,0,0,0,0,0,0,0,0,0,0,null,null,0,0,0,0,0,0,0,0,0,0,0,0,0,0,0,0,0,0,0,0,0,0,0,0,0,0,0,0,0,0,0,0,0]
[null,null,null,null,null,null,null,null,null,null,null,null,null,null,77.899999999999849,0,"",0,"",0,null,null,77.899999999999849,0,"",0,"",0,null,null,0,0,0,0,0,0,0,0,0,0,0,0,0,0,0,0,0,0,0,0,0,0,0,0,0,0,0,0,0,0,0,0,0,null,null,0,0,0,0,0,0,0,0,0,0,0,0,0,0,0,0,0,0,0,0,0,0,0,0,0,0,0,0,0,0,0,0,0]
[null,null,null,null,null,null,null,null,null,null,null,null,null,null,77.999999999999844,0,"",0,"",0,null,null,77.999999999999844,0,"",0,"",0,null,null,0,0,0,0,0,0,0,0,0,0,0,0,0,0,0,0,0,0,0,0,0,0,0,0,0,0,0,0,0,0,0,0,0,null,null,0,0,0,0,0,0,0,0,0,0,0,0,0,0,0,0,0,0,0,0,0,0,0,0,0,0,0,0,0,0,0,0,0]
[null,null,null,null,null,null,null,null,null,null,null,null,null,null,78.099999999999838,0,"",0,"",0,null,null,78.099999999999838,0,"",0,"",0,null,null,0,0,0,0,0,0,0,0,0,0,0,0,0,0,0,0,0,0,0,0,0,0,0,0,0,0,0,0,0,0,0,0,0,null,null,0,0,0,0,0,0,0,0,0,0,0,0,0,0,0,0,0,0,0,0,0,0,0,0,0,0,0,0,0,0,0,0,0]
[null,null,null,null,null,null,null,null,null,null,null,null,null,null,78.199999999999832,0,"",0,"",0,null,null,78.199999999999832,0,"",0,"",0,null,null,0,0,0,0,0,0,0,0,0,0,0,0,0,0,0,0,0,0,0,0,0,0,0,0,0,0,0,0,0,0,0,0,0,null,null,0,0,0,0,0,0,0,0,0,0,0,0,0,0,0,0,0,0,0,0,0,0,0,0,0,0,0,0,0,0,0,0,0]
[null,null,null,null,null,null,null,null,null,null,null,null,null,null,78.299999999999827,0,"",0,"",0,null,null,78.299999999999827,0,"",0,"",0,null,null,0,0,0,0,0,0,0,0,0,0,0,0,0,0,0,0,0,0,0,0,0,0,0,0,0,0,0,0,0,0,0,0,0,null,null,0,0,0,0,0,0,0,0,0,0,0,0,0,0,0,0,0,0,0,0,0,0,0,0,0,0,0,0,0,0,0,0,0]
[null,null,null,null,null,null,null,null,null,null,null,null,null,null,78.399999999999821,0,"",0,"",0,null,null,78.399999999999821,0,"",0,"",0,null,null,0,0,0,0,0,0,0,0,0,0,0,0,0,0,0,0,0,0,0,0,0,0,0,0,0,0,0,0,0,0,0,0,0,null,null,0,0,0,0,0,0,0,0,0,0,0,0,0,0,0,0,0,0,0,0,0,0,0,0,0,0,0,0,0,0,0,0,0]
[null,null,null,null,null,null,null,null,null,null,null,null,null,null,78.499999999999815,0,"",0,"",0,null,null,78.499999999999815,0,"",0,"",0,null,null,0,0,0,0,0,0,0,0,0,0,0,0,0,0,0,0,0,0,0,0,0,0,0,0,0,0,0,0,0,0,0,0,0,null,null,0,0,0,0,0,0,0,0,0,0,0,0,0,0,0,0,0,0,0,0,0,0,0,0,0,0,0,0,0,0,0,0,0]
[null,null,null,null,null,null,null,null,null,null,null,null,null,null,78.59999999999981,0,"",0,"",0,null,null,78.59999999999981,0,"",0,"",0,null,null,0,0,0,0,0,0,0,0,0,0,0,0,0,0,0,0,0,0,0,0,0,0,0,0,0,0,0,0,0,0,{"$f":"SUMIFS($Q793,$T793,BI$7)","v":0},0,0,null,null,0,0,0,0,0,0,0,0,0,0,0,0,0,0,0,0,0,0,0,0,0,0,0,0,0,0,0,0,0,0,0,0,0]
[null,null,null,null,null,null,null,null,null,null,null,null,null,null,78.699999999999804,0,"",0,"",0,null,null,78.699999999999804,0,"",0,"",0,null,null,0,0,0,0,0,0,0,0,0,0,0,0,0,0,0,0,{"$f":"SUMIFS($Q794,$T794,AU$7)","v":0},0,0,0,0,0,0,0,0,0,0,0,0,0,0,0,0,null,null,0,0,0,0,0,0,0,0,0,0,0,0,0,0,0,0,0,0,0,0,0,0,0,0,0,0,0,0,0,0,0,0,0]
[null,null,null,null,null,null,null,null,null,null,null,null,null,null,78.799999999999798,0,"",0,"",0,null,null,78.799999999999798,0,"",0,"",0,null,null,{"$f":"SUMIFS($Q795,$T795,AE$7)","v":0},0,0,0,0,0,0,0,0,0,0,0,0,0,0,0,0,0,0,0,0,0,0,0,0,0,0,0,0,0,0,0,0,null,null,0,0,0,0,0,0,0,0,0,0,0,0,0,0,0,0,0,0,0,0,0,0,0,0,0,0,0,0,0,0,0,0,0]
[null,null,null,null,null,null,null,null,null,null,null,null,null,null,78.899999999999793,0,"",0,"",0,null,null,78.899999999999793,0,"",0,"",0,null,null,0,0,0,0,0,0,0,0,0,0,0,0,0,0,0,0,0,0,0,0,0,0,0,0,0,0,0,0,0,0,0,0,0,null,null,0,0,0,0,0,0,0,0,0,0,0,0,0,0,0,0,0,0,0,0,0,0,0,0,0,0,0,0,0,0,0,0,0]
[null,null,null,null,null,null,null,null,null,null,null,null,null,null,78.999999999999787,0,"",0,"",0,null,null,78.999999999999787,0,"",0,"",0,null,null,0,0,0,0,0,0,0,0,0,0,0,0,0,0,0,0,0,0,0,0,0,0,0,0,0,0,0,0,0,0,0,0,0,null,null,0,0,0,0,0,0,0,0,0,0,0,0,0,0,0,0,0,0,0,0,0,0,0,0,0,0,0,0,0,0,0,0,0]
[null,null,null,null,null,null,null,null,null,null,null,null,null,null,79.099999999999781,0,"",0,"",0,null,null,79.099999999999781,0,"",0,"",0,null,null,0,0,0,0,0,0,0,0,0,0,0,0,0,0,0,0,0,0,0,0,0,0,0,0,0,0,0,0,0,0,0,0,0,null,null,0,0,0,0,0,0,0,0,0,0,0,0,0,0,0,0,0,0,0,0,0,0,0,0,0,0,0,0,0,0,0,0,0]
[null,null,null,null,null,null,null,null,null,null,null,null,null,null,79.199999999999775,0,"",0,"",0,null,null,79.199999999999775,0,"",0,"",0,null,null,0,0,0,0,0,0,0,0,0,0,0,0,0,0,0,0,0,0,0,0,0,0,0,0,0,0,0,0,0,0,0,0,0,null,null,0,0,0,0,0,0,0,0,0,0,0,0,0,0,0,0,0,0,0,0,0,0,0,0,0,0,0,0,0,0,0,0,0]
[null,null,null,null,null,null,null,null,null,null,null,null,null,null,79.29999999999977,0,"",0,"",0,null,null,79.29999999999977,0,"",0,"",0,null,null,0,0,0,0,0,0,0,0,0,0,0,0,0,0,0,0,0,0,0,0,0,0,0,0,0,0,0,0,0,0,0,0,0,null,null,0,0,0,0,0,0,0,0,0,0,0,0,0,0,0,0,0,0,0,0,0,0,0,0,0,0,0,0,0,0,0,0,0]
[null,null,null,null,null,null,null,null,null,null,null,null,null,null,79.399999999999764,0,"",0,"",0,null,null,79.399999999999764,0,"",0,"",0,null,null,0,0,0,0,0,0,0,0,0,0,0,0,0,0,0,0,0,0,0,0,0,0,0,0,0,0,0,0,0,0,0,0,0,null,null,0,0,0,0,0,0,0,0,0,0,0,0,0,0,0,0,0,0,0,0,0,0,0,0,0,0,0,0,0,0,0,0,0]
[null,null,null,null,null,null,null,null,null,null,null,null,null,null,79.499999999999758,0,"",0,"",0,null,null,79.499999999999758,0,"",0,"",0,null,null,0,0,0,0,0,0,0,0,0,0,0,0,0,0,0,0,0,0,0,0,0,0,0,0,0,0,0,0,0,0,0,0,0,null,null,0,0,0,0,0,0,0,0,0,0,0,0,0,0,0,0,0,0,0,0,0,0,0,0,0,0,0,0,0,0,0,0,0]
[null,null,null,null,null,null,null,null,null,null,null,null,null,null,79.599999999999753,0,"",0,"",0,null,null,79.599999999999753,0,"",0,"",0,null,null,0,0,0,0,0,0,0,0,0,0,0,0,0,0,0,0,0,0,0,0,0,0,0,0,0,0,0,0,0,0,0,0,0,null,null,0,0,0,0,0,0,0,0,0,0,0,0,0,0,0,0,0,0,0,0,0,0,0,0,0,0,0,0,0,0,0,0,0]
[null,null,null,null,null,null,null,null,null,null,null,null,null,null,79.699999999999747,0,"",0,"",0,null,null,79.699999999999747,0,"",0,"",0,null,null,0,0,0,0,0,0,0,0,0,0,0,0,0,0,0,0,0,0,0,0,0,0,0,0,0,0,0,0,0,0,0,0,0,null,null,0,0,0,0,0,0,0,0,0,0,0,0,0,0,0,0,0,0,0,0,0,0,0,0,0,0,0,0,0,0,0,0,0]
[null,null,null,null,null,null,null,null,null,null,null,null,null,null,79.799999999999741,0,"",0,"",0,null,null,79.799999999999741,0,"",0,"",0,null,null,0,0,0,0,0,0,0,0,0,0,0,0,0,0,0,0,0,0,0,0,0,0,0,0,0,0,0,0,0,0,0,0,0,null,null,0,0,0,0,0,0,0,0,0,0,0,0,0,0,0,0,0,0,0,0,0,0,0,0,0,0,0,0,0,0,0,0,0]
[null,null,null,null,null,null,null,null,null,null,null,null,null,null,79.899999999999736,0,"",0,"",0,null,null,79.899999999999736,0,"",0,"",0,null,null,0,0,0,0,0,0,0,0,0,0,0,0,0,0,0,0,0,0,0,0,0,0,0,0,0,0,0,0,0,0,0,0,0,null,null,0,0,0,0,0,0,0,0,0,0,0,0,0,0,0,0,0,0,0,0,0,0,0,0,0,0,0,0,0,0,0,0,0]
[null,null,null,null,null,null,null,null,null,null,null,null,null,null,79.99999999999973,0,"",0,"",0,null,null,79.99999999999973,0,"",0,"",0,null,null,0,0,0,0,0,0,0,0,0,0,0,0,0,0,0,0,0,0,0,0,0,0,0,0,0,0,0,0,0,0,0,0,0,null,null,0,0,0,0,0,0,0,0,0,0,0,0,0,0,0,0,0,0,0,0,0,0,0,0,0,0,0,0,0,0,0,0,0]
[null,null,null,null,null,null,null,null,null,null,null,null,null,null,80.099999999999724,0,"",0,"",0,null,null,80.099999999999724,0,"",0,"",0,null,null,0,0,0,0,0,0,0,0,0,0,0,0,0,0,0,0,0,0,0,0,0,0,0,0,0,0,0,0,0,0,0,0,0,null,null,0,0,0,0,0,0,0,0,0,0,0,0,0,0,0,0,0,0,0,0,0,0,0,0,0,0,0,0,0,0,0,0,0]
[null,null,null,null,null,null,null,null,null,null,null,null,null,null,{"$f":"O808+$N$7","v":80.199999999999719},0,"",0,"",0,null,null,{"$f":"W808+$N$7","v":80.199999999999719},0,"",0,"",0,null,null,0,0,0,0,0,0,0,0,0,0,0,0,0,0,0,0,0,0,0,0,0,0,0,0,0,0,0,0,0,0,0,0,0,null,null,0,0,0,0,0,0,0,0,0,0,0,0,0,0,0,0,0,0,0,0,0,0,0,0,0,0,0,0,0,0,0,0,0]
[null,null,null,null,null,null,null,null,null,null,null,null,null,null,80.299999999999713,0,"",0,"",0,null,null,80.299999999999713,0,"",0,"",0,null,null,0,0,0,0,0,0,0,0,0,0,0,0,0,0,0,{"$f":"SUMIFS($Q810,$T810,AT$7)","v":0},0,0,0,0,0,0,0,0,0,0,0,0,0,0,0,0,0,null,null,0,0,0,0,0,0,0,0,0,0,0,0,0,0,0,0,0,0,0,0,0,0,0,0,0,0,0,0,0,0,0,0,0]
[null,null,null,null,null,null,null,null,null,null,null,null,null,null,80.399999999999707,0,"",0,"",0,null,null,80.399999999999707,0,"",0,"",0,null,null,{"$f":"SUMIFS($Q811,$T811,AE$7)","v":0},0,0,0,0,0,0,0,0,0,0,0,0,0,0,0,0,0,0,0,0,0,0,0,0,0,0,0,0,0,0,0,0,null,null,0,0,0,0,0,0,0,0,0,0,0,0,0,0,0,0,0,0,0,0,0,0,0,0,0,0,0,0,0,0,0,0,0]
[null,null,null,null,null,null,null,null,null,null,null,null,null,null,80.499999999999702,0,"",0,"",0,null,null,80.499999999999702,0,"",0,"",0,null,null,0,0,0,0,0,0,0,0,0,0,0,0,0,0,0,0,0,0,0,0,0,0,0,0,0,0,0,0,0,0,0,0,0,null,null,0,0,0,0,0,0,0,0,0,0,0,0,0,0,0,0,0,0,0,0,0,0,0,0,0,0,0,0,0,0,0,0,0]
[null,null,null,null,null,null,null,null,null,null,null,null,null,null,80.599999999999696,0,"",0,"",0,null,null,80.599999999999696,0,"",0,"",0,null,null,0,0,0,0,0,0,0,0,0,0,0,0,0,0,0,0,0,0,0,0,0,0,0,0,0,0,0,0,0,0,0,{"$f":"SUMIFS($Q813,$T813,BJ$7)","v":0},0,null,null,0,0,0,0,0,0,0,0,0,0,0,0,0,0,0,0,0,0,0,0,0,0,0,0,0,0,0,0,0,0,0,0,0]
[null,null,null,null,null,null,null,null,null,null,null,null,null,null,80.69999999999969,0,"",0,"",0,null,null,80.69999999999969,0,"",0,"",0,null,null,0,0,0,0,0,0,0,0,0,0,0,0,0,0,0,0,0,0,0,0,0,0,0,0,0,0,0,0,0,0,0,0,0,null,null,0,0,0,0,0,0,0,0,0,0,0,0,0,0,0,0,0,0,0,0,0,0,0,0,0,0,0,0,0,0,0,0,0]
[null,null,null,null,null,null,null,null,null,null,null,null,null,null,80.799999999999685,0,"",0,"",0,null,null,80.799999999999685,0,"",0,"",0,null,null,0,0,0,0,0,0,0,0,0,0,0,0,0,0,0,0,0,0,0,0,0,0,0,0,0,0,0,0,0,0,0,0,0,null,null,0,0,0,0,0,0,0,0,0,0,0,0,0,0,0,0,0,0,0,0,0,0,0,0,0,0,0,0,0,0,0,0,0]
[null,null,null,null,null,null,null,null,null,null,null,null,null,null,80.899999999999679,0,"",0,"",0,null,null,80.899999999999679,0,"",0,"",0,null,null,0,0,0,0,0,0,0,0,0,0,0,0,0,0,0,0,0,0,0,0,0,0,0,0,0,0,0,0,0,0,0,0,0,null,null,0,0,0,0,0,0,0,0,0,0,0,0,0,0,0,0,0,0,0,0,0,0,0,0,0,0,0,0,0,0,0,0,0]
[null,null,null,null,null,null,null,null,null,null,null,null,null,null,80.999999999999673,0,"",0,"",0,null,null,80.999999999999673,0,"",0,"",0,null,null,0,0,0,0,0,0,0,0,0,0,0,0,0,0,0,0,0,0,0,0,0,0,0,0,0,0,0,0,0,0,0,0,0,null,null,0,0,0,0,0,0,0,0,0,0,0,0,0,0,0,0,0,0,0,0,0,0,0,0,0,0,0,0,0,0,0,0,0]
[null,null,null,null,null,null,null,null,null,null,null,null,null,null,81.099999999999667,0,"",0,"",0,null,null,81.099999999999667,0,"",0,"",0,null,null,0,0,0,0,0,0,0,0,0,0,0,0,0,0,0,0,0,0,0,0,0,0,0,0,0,0,0,0,0,0,0,0,0,null,null,0,0,0,0,0,0,0,0,0,0,0,0,0,0,0,0,0,0,0,0,0,0,0,0,0,0,0,0,0,0,0,0,0]
[null,null,null,null,null,null,null,null,null,null,null,null,null,null,81.199999999999662,0,"",0,"",0,null,null,81.199999999999662,0,"",0,"",0,null,null,0,0,0,0,0,0,0,0,0,0,0,0,0,0,0,0,0,0,0,0,0,0,0,0,0,0,0,0,0,0,0,0,0,null,null,0,0,0,0,0,0,0,0,0,0,0,0,0,0,0,0,0,0,0,0,0,0,0,0,0,0,0,0,0,0,0,0,0]
[null,null,null,null,null,null,null,null,null,null,null,null,null,null,81.299999999999656,0,"",0,"",0,null,null,81.299999999999656,0,"",0,"",0,null,null,0,0,0,0,0,0,0,0,0,0,0,0,0,0,0,0,0,0,0,0,0,0,0,0,0,0,0,0,0,0,0,0,0,null,null,0,0,0,0,0,0,0,0,0,0,0,0,0,0,0,0,0,0,0,0,0,0,0,0,0,0,0,0,0,0,0,0,0]
[null,null,null,null,null,null,null,null,null,null,null,null,null,null,81.39999999999965,0,"",0,"",0,null,null,81.39999999999965,0,"",0,"",0,null,null,0,0,0,0,0,0,0,0,0,0,0,0,0,0,0,0,0,0,0,0,0,0,0,0,0,0,0,0,0,0,0,0,0,null,null,0,0,0,0,0,0,0,0,0,0,0,0,0,0,0,0,0,0,0,0,0,0,0,0,0,0,0,0,0,0,0,0,0]
[null,null,null,null,null,null,null,null,null,null,null,null,null,null,81.499999999999645,0,"",0,"",0,null,null,81.499999999999645,0,"",0,"",0,null,null,0,0,0,0,0,0,0,0,0,0,0,0,0,0,0,0,0,0,0,0,0,0,0,0,0,0,0,0,0,0,0,0,0,null,null,0,0,0,0,0,0,0,0,0,0,0,0,0,0,0,0,0,0,0,0,0,0,0,0,0,0,0,0,0,0,0,0,0]
[null,null,null,null,null,null,null,null,null,null,null,null,null,null,81.599999999999639,0,"",0,"",0,null,null,81.599999999999639,0,"",0,"",0,null,null,0,0,0,0,0,0,0,0,0,0,0,0,0,0,0,0,0,0,0,0,0,0,0,0,0,0,0,0,0,0,0,0,0,null,null,0,0,0,0,0,0,0,0,0,0,0,0,0,0,0,0,0,0,0,0,0,0,0,0,0,0,0,0,0,0,0,0,0]
[null,null,null,null,null,null,null,null,null,null,null,null,null,null,81.699999999999633,0,"",0,"",0,null,null,81.699999999999633,0,"",0,"",0,null,null,0,0,0,0,0,0,0,0,0,0,0,0,0,0,0,0,0,0,0,0,0,0,0,0,0,0,0,0,0,0,0,0,0,null,null,0,0,0,0,0,0,0,0,0,0,0,0,0,0,0,0,0,0,0,0,0,0,0,0,0,0,0,0,0,0,0,0,0]
[null,null,null,null,null,null,null,null,null,null,null,null,null,null,81.799999999999628,0,"",0,"",0,null,null,81.799999999999628,0,"",0,"",0,null,null,0,0,0,0,0,0,0,0,0,0,0,0,0,0,0,0,0,0,0,0,0,0,0,0,0,0,0,0,0,0,0,0,0,null,null,0,0,0,0,0,0,0,0,0,0,0,0,0,0,0,0,0,0,0,0,0,0,0,0,0,0,0,0,0,0,0,0,0]
[null,null,null,null,null,null,null,null,null,null,null,null,null,null,81.899999999999622,0,"",0,"",0,null,null,81.899999999999622,0,"",0,"",0,null,null,0,0,0,0,0,0,0,0,0,0,0,0,0,0,0,0,{"$f":"SUMIFS($Q826,$T826,AU$7)","v":0},0,0,0,0,0,0,0,0,0,0,0,0,0,0,0,0,null,null,0,0,0,0,0,0,0,0,0,0,0,0,0,0,0,0,0,0,0,0,0,0,0,0,0,0,0,0,0,0,0,0,0]
[null,null,null,null,null,null,null,null,null,null,null,null,null,null,81.999999999999616,0,"",0,"",0,null,null,81.999999999999616,0,"",0,"",0,null,null,{"$f":"SUMIFS($Q827,$T827,AE$7)","v":0},0,0,0,0,0,0,0,0,0,0,0,0,0,0,0,0,0,0,0,0,0,0,0,0,0,0,0,0,0,0,0,0,null,null,0,0,0,0,0,0,0,0,0,0,0,0,0,0,0,0,0,0,0,0,0,0,0,0,0,0,0,0,0,0,0,0,0]
[null,null,null,null,null,null,null,null,null,null,null,null,null,null,82.099999999999611,0,"",0,"",0,null,null,82.099999999999611,0,"",0,"",0,null,null,0,0,0,0,0,0,0,0,0,0,0,0,0,0,0,0,0,0,0,0,0,0,0,0,0,0,0,0,0,0,0,0,0,null,null,0,0,0,0,0,0,0,0,0,0,0,0,0,0,0,0,0,0,0,0,0,0,0,0,0,0,0,0,0,0,0,0,0]
[null,null,null,null,null,null,null,null,null,null,null,null,null,null,82.199999999999605,0,"",0,"",0,null,null,82.199999999999605,0,"",0,"",0,null,null,0,0,0,0,0,0,0,0,0,0,0,0,0,0,0,0,0,0,0,0,0,0,0,0,0,0,0,0,0,0,0,0,0,null,null,0,0,0,0,0,0,0,0,0,0,0,0,0,0,0,0,0,0,0,0,0,0,0,0,0,0,0,0,0,0,0,0,0]
[null,null,null,null,null,null,null,null,null,null,null,null,null,null,82.299999999999599,0,"",0,"",0,null,null,82.299999999999599,0,"",0,"",0,null,null,0,0,0,0,0,0,0,0,0,0,0,0,0,0,0,0,0,0,0,0,0,0,0,0,0,0,0,0,0,0,0,0,0,null,null,0,0,0,0,0,0,0,0,0,0,0,0,0,0,0,0,0,0,0,0,0,0,0,0,0,0,0,0,0,0,0,0,0]
[null,null,null,null,null,null,null,null,null,null,null,null,null,null,82.399999999999594,0,"",0,"",0,null,null,82.399999999999594,0,"",0,"",0,null,null,0,0,0,0,0,0,0,0,0,0,0,0,0,0,0,0,0,0,0,0,0,0,0,0,0,0,0,0,0,0,0,0,0,null,null,0,0,0,0,0,0,0,0,0,0,0,0,0,0,0,0,0,0,0,0,0,0,0,0,0,0,0,0,0,0,0,0,0]
[null,null,null,null,null,null,null,null,null,null,null,null,null,null,82.499999999999588,0,"",0,"",0,null,null,82.499999999999588,0,"",0,"",0,null,null,0,0,0,0,0,0,0,0,0,0,0,0,0,0,0,0,0,0,0,0,0,0,0,0,0,0,0,0,0,0,0,0,0,null,null,0,0,0,0,0,0,0,0,0,0,0,0,0,0,0,0,0,0,0,0,0,0,0,0,0,0,0,0,0,0,0,0,0]
[null,null,null,null,null,null,null,null,null,null,null,null,null,null,82.599999999999582,0,"",0,"",0,null,null,82.599999999999582,0,"",0,"",0,null,null,0,0,0,0,0,0,0,0,0,0,0,0,0,0,0,0,0,0,0,0,0,0,0,0,0,0,0,0,0,0,0,0,{"$f":"SUMIFS($Q833,$T833,BK$7)","v":0},null,null,0,0,0,0,0,0,0,0,0,0,0,0,0,0,0,0,0,0,0,0,0,0,0,0,0,0,0,0,0,0,0,0,0]
[null,null,null,null,null,null,null,null,null,null,null,null,null,null,82.699999999999577,0,"",0,"",0,null,null,82.699999999999577,0,"",0,"",0,null,null,0,0,0,0,0,0,0,0,0,0,0,0,0,0,0,0,0,0,0,0,0,0,0,0,0,0,0,0,0,0,0,0,0,null,null,0,0,0,0,0,0,0,0,0,0,0,0,0,0,0,0,0,0,0,0,0,0,0,0,0,0,0,0,0,0,0,0,0]
[null,null,null,null,null,null,null,null,null,null,null,null,null,null,82.799999999999571,0,"",0,"",0,null,null,82.799999999999571,0,"",0,"",0,null,null,0,0,0,0,0,0,0,0,0,0,0,0,0,0,0,0,0,0,0,0,0,0,0,0,0,0,0,0,0,0,0,0,0,null,null,0,0,0,0,0,0,0,0,0,0,0,0,0,0,0,0,0,0,0,0,0,0,0,0,0,0,0,0,0,0,0,0,0]
[null,null,null,null,null,null,null,null,null,null,null,null,null,null,82.899999999999565,0,"",0,"",0,null,null,82.899999999999565,0,"",0,"",0,null,null,0,0,0,0,0,0,0,0,0,0,0,0,0,0,0,0,0,0,0,0,0,0,0,0,0,0,0,0,0,0,0,0,0,null,null,0,0,0,0,0,0,0,0,0,0,0,0,0,0,0,0,0,0,0,0,0,0,0,0,0,0,0,0,0,0,0,0,0]
[null,null,null,null,null,null,null,null,null,null,null,null,null,null,82.999999999999559,0,"",0,"",0,null,null,82.999999999999559,0,"",0,"",0,null,null,0,0,0,0,0,0,0,0,0,0,0,0,0,0,0,0,0,0,0,0,0,0,0,0,0,0,0,0,0,0,0,0,0,null,null,0,0,0,0,0,0,0,0,0,0,0,0,0,0,0,0,0,0,0,0,0,0,0,0,0,0,0,0,0,0,0,0,0]
[null,null,null,null,null,null,null,null,null,null,null,null,null,null,83.099999999999554,0,"",0,"",0,null,null,83.099999999999554,0,"",0,"",0,null,null,0,0,0,0,0,0,0,0,0,0,0,0,0,0,0,0,0,0,0,0,0,0,0,0,0,0,0,0,0,0,0,0,0,null,null,0,0,0,0,0,0,0,0,0,0,0,0,0,0,0,0,0,0,0,0,0,0,0,0,0,0,0,0,0,0,0,0,0]
[null,null,null,null,null,null,null,null,null,null,null,null,null,null,83.199999999999548,0,"",0,"",0,null,null,83.199999999999548,0,"",0,"",0,null,null,0,0,0,0,0,0,0,0,0,0,0,0,0,0,0,0,0,0,0,0,0,0,0,0,0,0,0,0,0,0,0,0,0,null,null,0,0,0,0,0,0,0,0,0,0,0,0,0,0,0,0,0,0,0,0,0,0,0,0,0,0,0,0,0,0,0,0,0]
[null,null,null,null,null,null,null,null,null,null,null,null,null,null,83.299999999999542,0,{"$f":"INDEX($G$9:$G$39,MATCH(P840,$E$9:$E$39,1))","v":""},{"$f":"IF(Q840<>Q838,Q840,0)","v":0},"",0,null,null,83.299999999999542,0,"",{"$f":"IF(Y840<>Y838,Y840,0)","v":0},"",0,null,null,0,0,0,0,0,0,0,0,0,0,0,0,0,0,0,0,0,0,0,0,0,0,0,0,0,0,0,0,0,0,0,0,0,null,null,0,{"$f":"SUMIFS($Y841,$AB841,AF$7)","v":0},{"$f":"SUMIFS($Y841,$AB841,AG$7)","v":0},{"$f":"SUMIFS($Y841,$AB841,AH$7)","v":0},{"$f":"SUMIFS($Y841,$AB841,AI$7)","v":0},{"$f":"SUMIFS($Y841,$AB841,AJ$7)","v":0},{"$f":"SUMIFS($Y841,$AB841,AK$7)","v":0},{"$f":"SUMIFS($Y841,$AB841,AL$7)","v":0},{"$f":"SUMIFS($Y841,$AB841,AM$7)","v":0},{"$f":"SUMIFS($Y841,$AB841,AN$7)","v":0},{"$f":"SUMIFS($Y841,$AB841,AO$7)","v":0},{"$f":"SUMIFS($Y841,$AB841,AP$7)","v":0},{"$f":"SUMIFS($Y841,$AB841,AQ$7)","v":0},{"$f":"SUMIFS($Y841,$AB841,AR$7)","v":0},{"$f":"SUMIFS($Y841,$AB841,AS$7)","v":0},{"$f":"SUMIFS($Y841,$AB841,AT$7)","v":0},{"$f":"SUMIFS($Y841,$AB841,AU$7)","v":0},{"$f":"SUMIFS($Y841,$AB841,AV$7)","v":0},{"$f":"SUMIFS($Y841,$AB841,AW$7)","v":0},{"$f":"SUMIFS($Y841,$AB841,AX$7)","v":0},{"$f":"SUMIFS($Y841,$AB841,AY$7)","v":0},{"$f":"SUMIFS($Y841,$AB841,AZ$7)","v":0},{"$f":"SUMIFS($Y841,$AB841,BA$7)","v":0},{"$f":"SUMIFS($Y841,$AB841,BB$7)","v":0},{"$f":"SUMIFS($Y841,$AB841,BC$7)","v":0},{"$f":"SUMIFS($Y841,$AB841,BD$7)","v":0},{"$f":"SUMIFS($Y841,$AB841,BE$7)","v":0},{"$f":"SUMIFS($Y841,$AB841,BF$7)","v":0},{"$f":"SUMIFS($Y841,$AB841,BG$7)","v":0},{"$f":"SUMIFS($Y841,$AB841,BH$7)","v":0},{"$f":"SUMIFS($Y841,$AB841,BI$7)","v":0},{"$f":"SUMIFS($Y841,$AB841,BJ$7)","v":0},{"$f":"SUMIFS($Y841,$AB841,BK$7)","v":0}]
[null,null,null,null,null,null,null,null,null,null,null,null,null,null,83.399999999999537,{"$f":"(O841/$O$1007)*$P$1007","v":0},"",0,"",0,null,null,83.399999999999537,{"$f":"(W841/$W$1007)*$X$1007","v":0},{"$f":"INDEX($I$9:$I$39,MATCH(X841,$F$9:$F$39,1))","v":""},0,"",{"$f":"IF(AA841=0,\"\",INDEX($H$9:$H$41,MATCH(AA841,$I$9:$I$41,0)))","v":0},null,null,0,0,0,0,0,0,0,0,0,0,0,0,0,0,0,0,0,0,0,0,0,0,0,0,0,0,0,0,0,0,0,0,0,null,null,{"$f":"SUMIFS($Y842,$AB842,AE$7)","v":0},0,0,0,0,0,0,0,0,0,0,0,0,0,0,0,0,0,0,0,0,0,0,0,0,0,0,0,0,0,0,0,0]
[null,null,null,null,null,null,null,null,null,null,null,null,null,null,83.499999999999531,0,"",0,{"$f":"IF(R842=0,Q842,0)","v":""},{"$f":"IF(S842=0,\"\",INDEX($C$9:$C$41,MATCH(S842,$G$9:$G$41,0)))","v":0},null,null,83.499999999999531,0,"",0,{"$f":"IF(Z842=0,Y842,0)","v":""},0,null,null,0,0,0,0,0,0,0,0,0,0,0,0,0,0,0,{"$f":"SUMIFS($Q842,$T842,AT$7)","v":0},0,0,0,0,0,0,0,0,0,0,0,0,0,0,0,{"$f":"SUMIFS($Q842,$T842,BJ$7)","v":0},0,null,null,0,0,0,0,0,0,0,0,0,0,0,0,0,0,0,0,0,0,0,0,0,0,0,0,0,0,0,0,0,0,0,0,0]
[null,null,null,null,null,null,null,null,null,null,null,null,null,null,83.599999999999525,0,"",0,"",0,null,null,83.599999999999525,0,"",0,"",0,null,null,{"$f":"SUMIFS($Q843,$T843,AE$7)","v":0},0,0,0,0,0,0,0,0,0,0,0,0,0,0,0,0,0,0,0,0,0,0,0,0,0,0,0,0,0,0,0,0,null,null,0,0,0,0,0,0,0,0,0,0,0,0,0,0,0,0,0,0,0,0,0,0,0,0,0,0,0,0,0,0,0,0,0]
[null,null,null,null,null,null,null,null,null,null,null,null,null,null,83.69999999999952,0,"",0,"",0,null,null,83.69999999999952,0,"",0,"",0,null,null,0,0,0,0,0,0,0,0,0,0,0,0,0,0,0,0,0,0,0,0,0,0,0,0,0,0,0,0,0,0,0,0,0,null,null,0,0,0,0,0,0,0,0,0,0,0,0,0,0,0,0,0,0,0,0,0,0,0,0,0,0,0,0,0,0,0,0,0]
[null,null,null,null,null,null,null,null,null,null,null,null,null,null,83.799999999999514,0,"",0,"",0,null,null,83.799999999999514,0,"",0,"",0,null,null,0,0,0,0,0,0,0,0,0,0,0,0,0,0,0,0,0,0,0,0,0,0,0,0,0,0,0,0,0,0,0,0,0,null,null,0,0,0,0,0,0,0,0,0,0,0,0,0,0,0,0,0,0,0,0,0,0,0,0,0,0,0,0,0,0,0,0,0]
[null,null,null,null,null,null,null,null,null,null,null,null,null,null,83.899999999999508,0,"",0,"",0,null,null,83.899999999999508,0,"",0,"",0,null,null,0,0,0,0,0,0,0,0,0,0,0,0,0,0,0,0,0,0,0,0,0,0,0,0,0,0,0,0,0,0,0,0,0,null,null,0,0,0,0,0,0,0,0,0,0,0,0,0,0,0,0,0,0,0,0,0,0,0,0,0,0,0,0,0,0,0,0,0]
[null,null,null,null,null,null,null,null,null,null,null,null,null,null,83.999999999999503,0,"",0,"",0,null,null,83.999999999999503,0,"",0,"",0,null,null,0,0,0,0,0,0,0,0,0,0,0,0,0,0,0,0,0,0,0,0,0,0,0,0,0,0,0,0,0,0,0,0,0,null,null,0,0,0,0,0,0,0,0,0,0,0,0,0,0,0,0,0,0,0,0,0,0,0,0,0,0,0,0,0,0,0,0,0]
[null,null,null,null,null,null,null,null,null,null,null,null,null,null,84.099999999999497,0,"",0,"",0,null,null,84.099999999999497,0,"",0,"",0,null,null,0,0,0,0,0,0,0,0,0,0,0,0,0,0,0,0,0,0,0,0,0,0,0,0,0,0,0,0,0,0,0,0,0,null,null,0,0,0,0,0,0,0,0,0,0,0,0,0,0,0,0,0,0,0,0,0,0,0,0,0,0,0,0,0,0,0,0,0]
[null,null,null,null,null,null,null,null,null,null,null,null,null,null,84.199999999999491,0,"",0,"",0,null,null,84.199999999999491,0,"",0,"",0,null,null,0,0,0,0,0,0,0,0,0,0,0,0,0,0,0,0,0,0,0,0,0,0,0,0,0,0,0,0,0,0,0,0,0,null,null,0,0,0,0,0,0,0,0,0,0,0,0,0,0,0,0,0,0,0,0,0,0,0,0,0,0,0,0,0,0,0,0,0]
[null,null,null,null,null,null,null,null,null,null,null,null,null,null,84.299999999999486,0,"",0,"",0,null,null,84.299999999999486,0,"",0,"",0,null,null,0,0,0,0,0,0,0,0,0,0,0,0,0,0,0,0,0,0,0,0,0,0,0,0,0,0,0,0,0,0,0,0,0,null,null,0,0,0,0,0,0,0,0,0,0,0,0,0,0,0,0,0,0,0,0,0,0,0,0,0,0,0,0,0,0,0,0,0]
[null,null,null,null,null,null,null,null,null,null,null,null,null,null,84.39999999999948,0,"",0,"",0,null,null,84.39999999999948,0,"",0,"",0,null,null,0,0,0,0,0,0,0,0,0,0,0,0,0,0,0,0,0,0,0,0,0,0,0,0,0,0,0,0,0,0,0,0,0,null,null,0,0,0,0,0,0,0,0,0,0,0,0,0,0,0,0,0,0,0,0,0,0,0,0,0,0,0,0,0,0,0,0,0]
[null,null,null,null,null,null,null,null,null,null,null,null,null,null,84.499999999999474,0,"",0,"",0,null,null,84.499999999999474,0,"",0,"",0,null,null,0,0,0,0,0,0,0,0,0,0,0,0,0,0,0,0,0,0,0,0,0,0,0,0,0,0,0,0,0,0,0,0,0,null,null,0,0,0,0,0,0,0,0,0,0,0,0,0,0,0,0,0,0,0,0,0,0,0,0,0,0,0,0,0,0,0,0,0]
[null,null,null,null,null,null,null,null,null,null,null,null,null,null,84.599999999999469,0,"",0,"",0,null,null,84.599999999999469,0,"",0,"",0,null,null,0,0,0,0,0,0,0,0,0,0,0,0,0,0,0,0,0,0,0,0,0,0,0,0,0,0,0,0,0,0,0,0,0,null,null,0,0,0,0,0,0,0,0,0,0,0,0,0,0,0,0,0,0,0,0,0,0,0,0,0,0,0,0,0,0,0,0,0]
[null,null,null,null,null,null,null,null,null,null,null,null,null,null,84.699999999999463,0,"",0,"",0,null,null,84.699999999999463,0,"",0,"",0,null,null,0,0,0,0,0,0,0,0,0,0,0,0,0,0,0,0,0,0,0,0,0,0,0,0,0,0,0,0,0,0,0,0,0,null,null,0,0,0,0,0,0,0,0,0,0,0,0,0,0,0,0,0,0,0,0,0,0,0,0,0,0,0,0,0,0,0,0,0]
[null,null,null,null,null,null,null,null,null,null,null,null,null,null,84.799999999999457,0,"",0,"",0,null,null,84.799999999999457,0,"",0,"",0,null,null,0,0,0,0,0,0,0,0,0,0,0,0,0,0,0,0,0,0,0,0,0,0,0,0,0,0,0,0,0,0,0,0,0,null,null,0,0,0,0,0,0,0,0,0,0,0,0,0,0,0,0,0,0,0,0,0,0,0,0,0,0,0,0,0,0,0,0,0]
[null,null,null,null,null,null,null,null,null,null,null,null,null,null,84.899999999999451,0,"",0,"",0,null,null,84.899999999999451,0,"",0,"",0,null,null,0,0,0,0,0,0,0,0,0,0,0,0,0,0,0,0,0,0,0,0,0,0,0,0,0,0,0,0,0,0,0,0,0,null,null,0,0,0,0,0,0,0,0,0,0,0,0,0,0,0,0,0,0,0,0,0,0,0,0,0,0,0,0,0,0,0,0,0]
[null,null,null,null,null,null,null,null,null,null,null,null,null,null,84.999999999999446,0,"",0,"",0,null,null,84.999999999999446,0,"",0,"",0,null,null,0,0,0,0,0,0,0,0,0,0,0,0,0,0,0,0,0,0,0,0,0,0,0,0,0,0,0,0,0,0,{"$f":"SUMIFS($Q857,$T857,BI$7)","v":0},0,0,null,null,0,0,0,0,0,0,0,0,0,0,0,0,0,0,0,0,0,0,0,0,0,0,0,0,0,0,0,0,0,0,0,0,0]
[null,null,null,null,null,null,null,null,null,null,null,null,null,null,85.09999999999944,0,"",0,"",0,null,null,85.09999999999944,0,"",0,"",0,null,null,0,0,0,0,0,0,0,0,0,0,0,0,0,0,0,0,{"$f":"SUMIFS($Q858,$T858,AU$7)","v":0},0,0,0,0,0,0,0,0,0,0,0,0,0,0,0,0,null,null,0,0,0,0,0,0,0,0,0,0,0,0,0,0,0,0,0,0,0,0,0,0,0,0,0,0,0,0,0,0,0,0,0]
[null,null,null,null,null,null,null,null,null,null,null,null,null,null,85.199999999999434,0,"",0,"",0,null,null,85.199999999999434,0,"",0,"",0,null,null,{"$f":"SUMIFS($Q859,$T859,AE$7)","v":0},0,0,0,0,0,0,0,0,0,0,0,0,0,0,0,0,0,0,0,0,0,0,0,0,0,0,0,0,0,0,0,0,null,null,0,0,0,0,0,0,0,0,0,0,0,0,0,0,0,0,0,0,0,0,0,0,0,0,0,0,0,0,0,0,0,0,0]
[null,null,null,null,null,null,null,null,null,null,null,null,null,null,85.299999999999429,0,"",0,"",0,null,null,85.299999999999429,0,"",0,"",0,null,null,0,0,0,0,0,0,0,0,0,0,0,0,0,0,0,0,0,0,0,0,0,0,0,0,0,0,0,0,0,0,0,0,0,null,null,0,0,0,0,0,0,0,0,0,0,0,0,0,0,0,0,0,0,0,0,0,0,0,0,0,0,0,0,0,0,0,0,0]
[null,null,null,null,null,null,null,null,null,null,null,null,null,null,85.399999999999423,0,"",0,"",0,null,null,85.399999999999423,0,"",0,"",0,null,null,0,0,0,0,0,0,0,0,0,0,0,0,0,0,0,0,0,0,0,0,0,0,0,0,0,0,0,0,0,0,0,0,0,null,null,0,0,0,0,0,0,0,0,0,0,0,0,0,0,0,0,0,0,0,0,0,0,0,0,0,0,0,0,0,0,0,0,0]
[null,null,null,null,null,null,null,null,null,null,null,null,null,null,85.499999999999417,0,"",0,"",0,null,null,85.499999999999417,0,"",0,"",0,null,null,0,0,0,0,0,0,0,0,0,0,0,0,0,0,0,0,0,0,0,0,0,0,0,0,0,0,0,0,0,0,0,0,0,null,null,0,0,0,0,0,0,0,0,0,0,0,0,0,0,0,0,0,0,0,0,0,0,0,0,0,0,0,0,0,0,0,0,0]
[null,null,null,null,null,null,null,null,null,null,null,null,null,null,85.599999999999412,0,"",0,"",0,null,null,85.599999999999412,0,"",0,"",0,null,null,0,0,0,0,0,0,0,0,0,0,0,0,0,0,0,0,0,0,0,0,0,0,0,0,0,0,0,0,0,0,0,0,0,null,null,0,0,0,0,0,0,0,0,0,0,0,0,0,0,0,0,0,0,0,0,0,0,0,0,0,0,0,0,0,0,0,0,0]
[null,null,null,null,null,null,null,null,null,null,null,null,null,null,85.699999999999406,0,"",0,"",0,null,null,85.699999999999406,0,"",0,"",0,null,null,0,0,0,0,0,0,0,0,0,0,0,0,0,0,0,0,0,0,0,0,0,0,0,0,0,0,0,0,0,0,0,0,0,null,null,0,0,0,0,0,0,0,0,0,0,0,0,0,0,0,0,0,0,0,0,0,0,0,0,0,0,0,0,0,0,0,0,0]
[null,null,null,null,null,null,null,null,null,null,null,null,null,null,85.7999999999994,0,"",0,"",0,null,null,85.7999999999994,0,"",0,"",0,null,null,0,0,0,0,0,0,0,0,0,0,0,0,0,0,0,0,0,0,0,0,0,0,0,0,0,0,0,0,0,0,0,0,0,null,null,0,0,0,0,0,0,0,0,0,0,0,0,0,0,0,0,0,0,0,0,0,0,0,0,0,0,0,0,0,0,0,0,0]
[null,null,null,null,null,null,null,null,null,null,null,null,null,null,85.899999999999395,0,"",0,"",0,null,null,85.899999999999395,0,"",0,"",0,null,null,0,0,0,0,0,0,0,0,0,0,0,0,0,0,0,0,0,0,0,0,0,0,0,0,0,0,0,0,0,0,0,0,0,null,null,0,0,0,0,0,0,0,0,0,0,0,0,0,0,0,0,0,0,0,0,0,0,0,0,0,0,0,0,0,0,0,0,0]
[null,null,null,null,null,null,null,null,null,null,null,null,null,null,85.999999999999389,0,"",0,"",0,null,null,85.999999999999389,0,"",0,"",0,null,null,0,0,0,0,0,0,0,0,0,0,0,0,0,0,0,0,0,0,0,0,0,0,0,0,0,0,0,0,0,0,0,0,0,null,null,0,0,0,0,0,0,0,0,0,0,0,0,0,0,0,0,0,0,0,0,0,0,0,0,0,0,0,0,0,0,0,0,0]
[null,null,null,null,null,null,null,null,null,null,null,null,null,null,86.099999999999383,0,"",0,"",0,null,null,86.099999999999383,0,"",0,"",0,null,null,0,0,0,0,0,0,0,0,0,0,0,0,0,0,0,0,0,0,0,0,0,0,0,0,0,0,0,0,0,0,0,0,0,null,null,0,0,0,0,0,0,0,0,0,0,0,0,0,0,0,0,0,0,0,0,0,0,0,0,0,0,0,0,0,0,0,0,0]
[null,null,null,null,null,null,null,null,null,null,null,null,null,null,86.199999999999378,0,"",0,"",0,null,null,86.199999999999378,0,"",0,"",0,null,null,0,0,0,0,0,0,0,0,0,0,0,0,0,0,0,0,0,0,0,0,0,0,0,0,0,0,0,0,0,0,0,0,0,null,null,0,0,0,0,0,0,0,0,0,0,0,0,0,0,0,0,0,0,0,0,0,0,0,0,0,0,0,0,0,0,0,0,0]
[null,null,null,null,null,null,null,null,null,null,null,null,null,null,86.299999999999372,0,"",0,"",0,null,null,86.299999999999372,0,"",0,"",0,null,null,0,0,0,0,0,0,0,0,0,0,0,0,0,0,0,0,0,0,0,0,0,0,0,0,0,0,0,0,0,0,0,0,0,null,null,0,0,0,0,0,0,0,0,0,0,0,0,0,0,0,0,0,0,0,0,0,0,0,0,0,0,0,0,0,0,0,0,0]
[null,null,null,null,null,null,null,null,null,null,null,null,null,null,86.399999999999366,0,"",0,"",0,null,null,86.399999999999366,0,"",0,"",0,null,null,0,0,0,0,0,0,0,0,0,0,0,0,0,0,0,0,0,0,0,0,0,0,0,0,0,0,0,0,0,0,0,0,0,null,null,0,0,0,0,0,0,0,0,0,0,0,0,0,0,0,0,0,0,0,0,0,0,0,0,0,0,0,0,0,0,0,0,0]
[null,null,null,null,null,null,null,null,null,null,null,null,null,null,86.499999999999361,0,"",0,"",0,null,null,86.499999999999361,0,"",0,"",0,null,null,0,0,0,0,0,0,0,0,0,0,0,0,0,0,0,0,0,0,0,0,0,0,0,0,0,0,0,0,0,0,0,0,0,null,null,0,0,0,0,0,0,0,0,0,0,0,0,0,0,0,0,0,0,0,0,0,0,0,0,0,0,0,0,0,0,0,0,0]
[null,null,null,null,null,null,null,null,null,null,null,null,null,null,{"$f":"O872+$N$7","v":86.599999999999355},0,"",0,"",0,null,null,{"$f":"W872+$N$7","v":86.599999999999355},0,"",0,"",0,null,null,0,0,0,0,0,0,0,0,0,0,0,0,0,0,0,0,0,0,0,0,0,0,0,0,0,0,0,0,0,0,0,0,0,null,null,0,0,0,0,0,0,0,0,0,0,0,0,0,0,0,0,0,0,0,0,0,0,0,0,0,0,0,0,0,0,0,0,0]
[null,null,null,null,null,null,null,null,null,null,null,null,null,null,86.699999999999349,0,"",0,"",0,null,null,86.699999999999349,0,"",0,"",0,null,null,0,0,0,0,0,0,0,0,0,0,0,0,0,0,0,{"$f":"SUMIFS($Q874,$T874,AT$7)","v":0},0,0,0,0,0,0,0,0,0,0,0,0,0,0,0,0,0,null,null,0,0,0,0,0,0,0,0,0,0,0,0,0,0,0,0,0,0,0,0,0,0,0,0,0,0,0,0,0,0,0,0,0]
[null,null,null,null,null,null,null,null,null,null,null,null,null,null,86.799999999999343,0,"",0,"",0,null,null,86.799999999999343,0,"",0,"",0,null,null,{"$f":"SUMIFS($Q875,$T875,AE$7)","v":0},0,0,0,0,0,0,0,0,0,0,0,0,0,0,0,0,0,0,0,0,0,0,0,0,0,0,0,0,0,0,0,0,null,null,0,0,0,0,0,0,0,0,0,0,0,0,0,0,0,0,0,0,0,0,0,0,0,0,0,0,0,0,0,0,0,0,0]
[null,null,null,null,null,null,null,null,null,null,null,null,null,null,86.899999999999338,0,"",0,"",0,null,null,86.899999999999338,0,"",0,"",0,null,null,0,0,0,0,0,0,0,0,0,0,0,0,0,0,0,0,0,0,0,0,0,0,0,0,0,0,0,0,0,0,0,0,0,null,null,0,0,0,0,0,0,0,0,0,0,0,0,0,0,0,0,0,0,0,0,0,0,0,0,0,0,0,0,0,0,0,0,0]
[null,null,null,null,null,null,null,null,null,null,null,null,null,null,86.999999999999332,0,"",0,"",0,null,null,86.999999999999332,0,"",0,"",0,null,null,0,0,0,0,0,0,0,0,0,0,0,0,0,0,0,0,0,0,0,0,0,0,0,0,0,0,0,0,0,0,0,{"$f":"SUMIFS($Q877,$T877,BJ$7)","v":0},0,null,null,0,0,0,0,0,0,0,0,0,0,0,0,0,0,0,0,0,0,0,0,0,0,0,0,0,0,0,0,0,0,0,0,0]
[null,null,null,null,null,null,null,null,null,null,null,null,null,null,87.099999999999326,0,"",0,"",0,null,null,87.099999999999326,0,"",0,"",0,null,null,0,0,0,0,0,0,0,0,0,0,0,0,0,0,0,0,0,0,0,0,0,0,0,0,0,0,0,0,0,0,0,0,0,null,null,0,0,0,0,0,0,0,0,0,0,0,0,0,0,0,0,0,0,0,0,0,0,0,0,0,0,0,0,0,0,0,0,0]
[null,null,null,null,null,null,null,null,null,null,null,null,null,null,87.199999999999321,0,"",0,"",0,null,null,87.199999999999321,0,"",0,"",0,null,null,0,0,0,0,0,0,0,0,0,0,0,0,0,0,0,0,0,0,0,0,0,0,0,0,0,0,0,0,0,0,0,0,0,null,null,0,0,0,0,0,0,0,0,0,0,0,0,0,0,0,0,0,0,0,0,0,0,0,0,0,0,0,0,0,0,0,0,0]
[null,null,null,null,null,null,null,null,null,null,null,null,null,null,87.299999999999315,0,"",0,"",0,null,null,87.299999999999315,0,"",0,"",0,null,null,0,0,0,0,0,0,0,0,0,0,0,0,0,0,0,0,0,0,0,0,0,0,0,0,0,0,0,0,0,0,0,0,0,null,null,0,0,0,0,0,0,0,0,0,0,0,0,0,0,0,0,0,0,0,0,0,0,0,0,0,0,0,0,0,0,0,0,0]
[null,null,null,null,null,null,null,null,null,null,null,null,null,null,87.399999999999309,0,"",0,"",0,null,null,87.399999999999309,0,"",0,"",0,null,null,0,0,0,0,0,0,0,0,0,0,0,0,0,0,0,0,0,0,0,0,0,0,0,0,0,0,0,0,0,0,0,0,0,null,null,0,0,0,0,0,0,0,0,0,0,0,0,0,0,0,0,0,0,0,0,0,0,0,0,0,0,0,0,0,0,0,0,0]
[null,null,null,null,null,null,null,null,null,null,null,null,null,null,87.499999999999304,0,"",0,"",0,null,null,87.499999999999304,0,"",0,"",0,null,null,0,0,0,0,0,0,0,0,0,0,0,0,0,0,0,0,0,0,0,0,0,0,0,0,0,0,0,0,0,0,0,0,0,null,null,0,0,0,0,0,0,0,0,0,0,0,0,0,0,0,0,0,0,0,0,0,0,0,0,0,0,0,0,0,0,0,0,0]
[null,null,null,null,null,null,null,null,null,null,null,null,null,null,87.599999999999298,0,"",0,"",0,null,null,87.599999999999298,0,"",0,"",0,null,null,0,0,0,0,0,0,0,0,0,0,0,0,0,0,0,0,0,0,0,0,0,0,0,0,0,0,0,0,0,0,0,0,0,null,null,0,0,0,0,0,0,0,0,0,0,0,0,0,0,0,0,0,0,0,0,0,0,0,0,0,0,0,0,0,0,0,0,0]
[null,null,null,null,null,null,null,null,null,null,null,null,null,null,87.699999999999292,0,"",0,"",0,null,null,87.699999999999292,0,"",0,"",0,null,null,0,0,0,0,0,0,0,0,0,0,0,0,0,0,0,0,0,0,0,0,0,0,0,0,0,0,0,0,0,0,0,0,0,null,null,0,0,0,0,0,0,0,0,0,0,0,0,0,0,0,0,0,0,0,0,0,0,0,0,0,0,0,0,0,0,0,0,0]
[null,null,null,null,null,null,null,null,null,null,null,null,null,null,87.799999999999287,0,"",0,"",0,null,null,87.799999999999287,0,"",0,"",0,null,null,0,0,0,0,0,0,0,0,0,0,0,0,0,0,0,0,0,0,0,0,0,0,0,0,0,0,0,0,0,0,0,0,0,null,null,0,0,0,0,0,0,0,0,0,0,0,0,0,0,0,0,0,0,0,0,0,0,0,0,0,0,0,0,0,0,0,0,0]
[null,null,null,null,null,null,null,null,null,null,null,null,null,null,87.899999999999281,0,"",0,"",0,null,null,87.899999999999281,0,"",0,"",0,null,null,0,0,0,0,0,0,0,0,0,0,0,0,0,0,0,0,0,0,0,0,0,0,0,0,0,0,0,0,0,0,0,0,0,null,null,0,0,0,0,0,0,0,0,0,0,0,0,0,0,0,0,0,0,0,0,0,0,0,0,0,0,0,0,0,0,0,0,0]
[null,null,null,null,null,null,null,null,null,null,null,null,null,null,87.999999999999275,0,"",0,"",0,null,null,87.999999999999275,0,"",0,"",0,null,null,0,0,0,0,0,0,0,0,0,0,0,0,0,0,0,0,0,0,0,0,0,0,0,0,0,0,0,0,0,0,0,0,0,null,null,0,0,0,0,0,0,0,0,0,0,0,0,0,0,0,0,0,0,0,0,0,0,0,0,0,0,0,0,0,0,0,0,0]
[null,null,null,null,null,null,null,null,null,null,null,null,null,null,88.09999999999927,0,"",0,"",0,null,null,88.09999999999927,0,"",0,"",0,null,null,0,0,0,0,0,0,0,0,0,0,0,0,0,0,0,0,0,0,0,0,0,0,0,0,0,0,0,0,0,0,0,0,0,null,null,0,0,0,0,0,0,0,0,0,0,0,0,0,0,0,0,0,0,0,0,0,0,0,0,0,0,0,0,0,0,0,0,0]
[null,null,null,null,null,null,null,null,null,null,null,null,null,null,88.199999999999264,0,"",0,"",0,null,null,88.199999999999264,0,"",0,"",0,null,null,0,0,0,0,0,0,0,0,0,0,0,0,0,0,0,0,0,0,0,0,0,0,0,0,0,0,0,0,0,0,0,0,0,null,null,0,0,0,0,0,0,0,0,0,0,0,0,0,0,0,0,0,0,0,0,0,0,0,0,0,0,0,0,0,0,0,0,0]
[null,null,null,null,null,null,null,null,null,null,null,null,null,null,88.299999999999258,0,"",0,"",0,null,null,88.299999999999258,0,"",0,"",0,null,null,0,0,0,0,0,0,0,0,0,0,0,0,0,0,0,0,{"$f":"SUMIFS($Q890,$T890,AU$7)","v":0},0,0,0,0,0,0,0,0,0,0,0,0,0,0,0,0,null,null,0,0,0,0,0,0,0,0,0,0,0,0,0,0,0,0,0,0,0,0,0,0,0,0,0,0,0,0,0,0,0,0,0]
[null,null,null,null,null,null,null,null,null,null,null,null,null,null,88.399999999999253,0,"",0,"",0,null,null,88.399999999999253,0,"",0,"",0,null,null,{"$f":"SUMIFS($Q891,$T891,AE$7)","v":0},0,0,0,0,0,0,0,0,0,0,0,0,0,0,0,0,0,0,0,0,0,0,0,0,0,0,0,0,0,0,0,0,null,null,0,0,0,0,0,0,0,0,0,0,0,0,0,0,0,0,0,0,0,0,0,0,0,0,0,0,0,0,0,0,0,0,0]
[null,null,null,null,null,null,null,null,null,null,null,null,null,null,88.499999999999247,0,"",0,"",0,null,null,88.499999999999247,0,"",0,"",0,null,null,0,0,0,0,0,0,0,0,0,0,0,0,0,0,0,0,0,0,0,0,0,0,0,0,0,0,0,0,0,0,0,0,0,null,null,0,0,0,0,0,0,0,0,0,0,0,0,0,0,0,0,0,0,0,0,0,0,0,0,0,0,0,0,0,0,0,0,0]
[null,null,null,null,null,null,null,null,null,null,null,null,null,null,88.599999999999241,0,"",0,"",0,null,null,88.599999999999241,0,"",0,"",0,null,null,0,0,0,0,0,0,0,0,0,0,0,0,0,0,0,0,0,0,0,0,0,0,0,0,0,0,0,0,0,0,0,0,0,null,null,0,0,0,0,0,0,0,0,0,0,0,0,0,0,0,0,0,0,0,0,0,0,0,0,0,0,0,0,0,0,0,0,0]
[null,null,null,null,null,null,null,null,null,null,null,null,null,null,88.699999999999235,0,"",0,"",0,null,null,88.699999999999235,0,"",0,"",0,null,null,0,0,0,0,0,0,0,0,0,0,0,0,0,0,0,0,0,0,0,0,0,0,0,0,0,0,0,0,0,0,0,0,0,null,null,0,0,0,0,0,0,0,0,0,0,0,0,0,0,0,0,0,0,0,0,0,0,0,0,0,0,0,0,0,0,0,0,0]
[null,null,null,null,null,null,null,null,null,null,null,null,null,null,88.79999999999923,0,"",0,"",0,null,null,88.79999999999923,0,"",0,"",0,null,null,0,0,0,0,0,0,0,0,0,0,0,0,0,0,0,0,0,0,0,0,0,0,0,0,0,0,0,0,0,0,0,0,0,null,null,0,0,0,0,0,0,0,0,0,0,0,0,0,0,0,0,0,0,0,0,0,0,0,0,0,0,0,0,0,0,0,0,0]
[null,null,null,null,null,null,null,null,null,null,null,null,null,null,88.899999999999224,0,"",0,"",0,null,null,88.899999999999224,0,"",0,"",0,null,null,0,0,0,0,0,0,0,0,0,0,0,0,0,0,0,0,0,0,0,0,0,0,0,0,0,0,0,0,0,0,0,0,0,null,null,0,0,0,0,0,0,0,0,0,0,0,0,0,0,0,0,0,0,0,0,0,0,0,0,0,0,0,0,0,0,0,0,0]
[null,null,null,null,null,null,null,null,null,null,null,null,null,null,88.999999999999218,0,"",0,"",0,null,null,88.999999999999218,0,"",0,"",0,null,null,0,0,0,0,0,0,0,0,0,0,0,0,0,0,0,0,0,0,0,0,0,0,0,0,0,0,0,0,0,0,0,0,{"$f":"SUMIFS($Q897,$T897,BK$7)","v":0},null,null,0,0,0,0,0,0,0,0,0,0,0,0,0,0,0,0,0,0,0,0,0,0,0,0,0,0,0,0,0,0,0,0,0]
[null,null,null,null,null,null,null,null,null,null,null,null,null,null,89.099999999999213,0,"",0,"",0,null,null,89.099999999999213,0,"",0,"",0,null,null,0,0,0,0,0,0,0,0,0,0,0,0,0,0,0,0,0,0,0,0,0,0,0,0,0,0,0,0,0,0,0,0,0,null,null,0,0,0,0,0,0,0,0,0,0,0,0,0,0,0,0,0,0,0,0,0,0,0,0,0,0,0,0,0,0,0,0,0]
[null,null,null,null,null,null,null,null,null,null,null,null,null,null,89.199999999999207,0,"",0,"",0,null,null,89.199999999999207,0,"",0,"",0,null,null,0,0,0,0,0,0,0,0,0,0,0,0,0,0,0,0,0,0,0,0,0,0,0,0,0,0,0,0,0,0,0,0,0,null,null,0,0,0,0,0,0,0,0,0,0,0,0,0,0,0,0,0,0,0,0,0,0,0,0,0,0,0,0,0,0,0,0,0]
[null,null,null,null,null,null,null,null,null,null,null,null,null,null,89.299999999999201,0,"",0,"",0,null,null,89.299999999999201,0,"",0,"",0,null,null,0,0,0,0,0,0,0,0,0,0,0,0,0,0,0,0,0,0,0,0,0,0,0,0,0,0,0,0,0,0,0,0,0,null,null,0,0,0,0,0,0,0,0,0,0,0,0,0,0,0,0,0,0,0,0,0,0,0,0,0,0,0,0,0,0,0,0,0]
[null,null,null,null,null,null,null,null,null,null,null,null,null,null,89.399999999999196,0,"",0,"",0,null,null,89.399999999999196,0,"",0,"",0,null,null,0,0,0,0,0,0,0,0,0,0,0,0,0,0,0,0,0,0,0,0,0,0,0,0,0,0,0,0,0,0,0,0,0,null,null,0,0,0,0,0,0,0,0,0,0,0,0,0,0,0,0,0,0,0,0,0,0,0,0,0,0,0,0,0,0,0,0,0]
[null,null,null,null,null,null,null,null,null,null,null,null,null,null,89.49999999999919,0,"",0,"",0,null,null,89.49999999999919,0,"",0,"",0,null,null,0,0,0,0,0,0,0,0,0,0,0,0,0,0,0,0,0,0,0,0,0,0,0,0,0,0,0,0,0,0,0,0,0,null,null,0,0,0,0,0,0,0,0,0,0,0,0,0,0,0,0,0,0,0,0,0,0,0,0,0,0,0,0,0,0,0,0,0]
[null,null,null,null,null,null,null,null,null,null,null,null,null,null,89.599999999999184,0,"",0,"",0,null,null,89.599999999999184,0,"",0,"",0,null,null,0,0,0,0,0,0,0,0,0,0,0,0,0,0,0,0,0,0,0,0,0,0,0,0,0,0,0,0,0,0,0,0,0,null,null,0,0,0,0,0,0,0,0,0,0,0,0,0,0,0,0,0,0,0,0,0,0,0,0,0,0,0,0,0,0,0,0,0]
[null,null,null,null,null,null,null,null,null,null,null,null,null,null,89.699999999999179,0,{"$f":"INDEX($G$9:$G$39,MATCH(P904,$E$9:$E$39,1))","v":""},{"$f":"IF(Q904<>Q902,Q904,0)","v":0},"",0,null,null,89.699999999999179,0,"",{"$f":"IF(Y904<>Y902,Y904,0)","v":0},"",0,null,null,0,0,0,0,0,0,0,0,0,0,0,0,0,0,0,0,0,0,0,0,0,0,0,0,0,0,0,0,0,0,0,0,0,null,null,0,{"$f":"SUMIFS($Y905,$AB905,AF$7)","v":0},{"$f":"SUMIFS($Y905,$AB905,AG$7)","v":0},{"$f":"SUMIFS($Y905,$AB905,AH$7)","v":0},{"$f":"SUMIFS($Y905,$AB905,AI$7)","v":0},{"$f":"SUMIFS($Y905,$AB905,AJ$7)","v":0},{"$f":"SUMIFS($Y905,$AB905,AK$7)","v":0},{"$f":"SUMIFS($Y905,$AB905,AL$7)","v":0},{"$f":"SUMIFS($Y905,$AB905,AM$7)","v":0},{"$f":"SUMIFS($Y905,$AB905,AN$7)","v":0},{"$f":"SUMIFS($Y905,$AB905,AO$7)","v":0},{"$f":"SUMIFS($Y905,$AB905,AP$7)","v":0},{"$f":"SUMIFS($Y905,$AB905,AQ$7)","v":0},{"$f":"SUMIFS($Y905,$AB905,AR$7)","v":0},{"$f":"SUMIFS($Y905,$AB905,AS$7)","v":0},{"$f":"SUMIFS($Y905,$AB905,AT$7)","v":0},{"$f":"SUMIFS($Y905,$AB905,AU$7)","v":0},{"$f":"SUMIFS($Y905,$AB905,AV$7)","v":0},{"$f":"SUMIFS($Y905,$AB905,AW$7)","v":0},{"$f":"SUMIFS($Y905,$AB905,AX$7)","v":0},{"$f":"SUMIFS($Y905,$AB905,AY$7)","v":0},{"$f":"SUMIFS($Y905,$AB905,AZ$7)","v":0},{"$f":"SUMIFS($Y905,$AB905,BA$7)","v":0},{"$f":"SUMIFS($Y905,$AB905,BB$7)","v":0},{"$f":"SUMIFS($Y905,$AB905,BC$7)","v":0},{"$f":"SUMIFS($Y905,$AB905,BD$7)","v":0},{"$f":"SUMIFS($Y905,$AB905,BE$7)","v":0},{"$f":"SUMIFS($Y905,$AB905,BF$7)","v":0},{"$f":"SUMIFS($Y905,$AB905,BG$7)","v":0},{"$f":"SUMIFS($Y905,$AB905,BH$7)","v":0},{"$f":"SUMIFS($Y905,$AB905,BI$7)","v":0},{"$f":"SUMIFS($Y905,$AB905,BJ$7)","v":0},{"$f":"SUMIFS($Y905,$AB905,BK$7)","v":0}]
[null,null,null,null,null,null,null,null,null,null,null,null,null,null,89.799999999999173,{"$f":"(O905/$O$1007)*$P$1007","v":0},"",0,"",0,null,null,89.799999999999173,{"$f":"(W905/$W$1007)*$X$1007","v":0},{"$f":"INDEX($I$9:$I$39,MATCH(X905,$F$9:$F$39,1))","v":""},0,"",{"$f":"IF(AA905=0,\"\",INDEX($H$9:$H$41,MATCH(AA905,$I$9:$I$41,0)))","v":0},null,null,0,0,0,0,0,0,0,0,0,0,0,0,0,0,0,0,0,0,0,0,0,0,0,0,0,0,0,0,0,0,0,0,0,null,null,{"$f":"SUMIFS($Y906,$AB906,AE$7)","v":0},0,0,0,0,0,0,0,0,0,0,0,0,0,0,0,0,0,0,0,0,0,0,0,0,0,0,0,0,0,0,0,0]
[null,null,null,null,null,null,null,null,null,null,null,null,null,null,89.899999999999167,0,"",0,{"$f":"IF(R906=0,Q906,0)","v":""},{"$f":"IF(S906=0,\"\",INDEX($C$9:$C$41,MATCH(S906,$G$9:$G$41,0)))","v":0},null,null,89.899999999999167,0,"",0,{"$f":"IF(Z906=0,Y906,0)","v":""},0,null,null,0,0,0,0,0,0,0,0,0,0,0,0,0,0,0,{"$f":"SUMIFS($Q906,$T906,AT$7)","v":0},0,0,0,0,0,0,0,0,0,0,0,0,0,0,0,{"$f":"SUMIFS($Q906,$T906,BJ$7)","v":0},0,null,null,0,0,0,0,0,0,0,0,0,0,0,0,0,0,0,0,0,0,0,0,0,0,0,0,0,0,0,0,0,0,0,0,0]
[null,null,null,null,null,null,null,null,null,null,null,null,null,null,89.999999999999162,0,"",0,"",0,null,null,89.999999999999162,0,"",0,"",0,null,null,{"$f":"SUMIFS($Q907,$T907,AE$7)","v":0},0,0,0,0,0,0,0,0,0,0,0,0,0,0,0,0,0,0,0,0,0,0,0,0,0,0,0,0,0,0,0,0,null,null,0,0,0,0,0,0,0,0,0,0,0,0,0,0,0,0,0,0,0,0,0,0,0,0,0,0,0,0,0,0,0,0,0]
[null,null,null,null,null,null,null,null,null,null,null,null,null,null,90.099999999999156,0,"",0,"",0,null,null,90.099999999999156,0,"",0,"",0,null,null,0,0,0,0,0,0,0,0,0,0,0,0,0,0,0,0,0,0,0,0,0,0,0,0,0,0,0,0,0,0,0,0,0,null,null,0,0,0,0,0,0,0,0,0,0,0,0,0,0,0,0,0,0,0,0,0,0,0,0,0,0,0,0,0,0,0,0,0]
[null,null,null,null,null,null,null,null,null,null,null,null,null,null,90.19999999999915,0,"",0,"",0,null,null,90.19999999999915,0,"",0,"",0,null,null,0,0,0,0,0,0,0,0,0,0,0,0,0,0,0,0,0,0,0,0,0,0,0,0,0,0,0,0,0,0,0,0,0,null,null,0,0,0,0,0,0,0,0,0,0,0,0,0,0,0,0,0,0,0,0,0,0,0,0,0,0,0,0,0,0,0,0,0]
[null,null,null,null,null,null,null,null,null,null,null,null,null,null,90.299999999999145,0,"",0,"",0,null,null,90.299999999999145,0,"",0,"",0,null,null,0,0,0,0,0,0,0,0,0,0,0,0,0,0,0,0,0,0,0,0,0,0,0,0,0,0,0,0,0,0,0,0,0,null,null,0,0,0,0,0,0,0,0,0,0,0,0,0,0,0,0,0,0,0,0,0,0,0,0,0,0,0,0,0,0,0,0,0]
[null,null,null,null,null,null,null,null,null,null,null,null,null,null,90.399999999999139,0,"",0,"",0,null,null,90.399999999999139,0,"",0,"",0,null,null,0,0,0,0,0,0,0,0,0,0,0,0,0,0,0,0,0,0,0,0,0,0,0,0,0,0,0,0,0,0,0,0,0,null,null,0,0,0,0,0,0,0,0,0,0,0,0,0,0,0,0,0,0,0,0,0,0,0,0,0,0,0,0,0,0,0,0,0]
[null,null,null,null,null,null,null,null,null,null,null,null,null,null,90.499999999999133,0,"",0,"",0,null,null,90.499999999999133,0,"",0,"",0,null,null,0,0,0,0,0,0,0,0,0,0,0,0,0,0,0,0,0,0,0,0,0,0,0,0,0,0,0,0,0,0,0,0,0,null,null,0,0,0,0,0,0,0,0,0,0,0,0,0,0,0,0,0,0,0,0,0,0,0,0,0,0,0,0,0,0,0,0,0]
[null,null,null,null,null,null,null,null,null,null,null,null,null,null,90.599999999999127,0,"",0,"",0,null,null,90.599999999999127,0,"",0,"",0,null,null,0,0,0,0,0,0,0,0,0,0,0,0,0,0,0,0,0,0,0,0,0,0,0,0,0,0,0,0,0,0,0,0,0,null,null,0,0,0,0,0,0,0,0,0,0,0,0,0,0,0,0,0,0,0,0,0,0,0,0,0,0,0,0,0,0,0,0,0]
[null,null,null,null,null,null,null,null,null,null,null,null,null,null,90.699999999999122,0,"",0,"",0,null,null,90.699999999999122,0,"",0,"",0,null,null,0,0,0,0,0,0,0,0,0,0,0,0,0,0,0,0,0,0,0,0,0,0,0,0,0,0,0,0,0,0,0,0,0,null,null,0,0,0,0,0,0,0,0,0,0,0,0,0,0,0,0,0,0,0,0,0,0,0,0,0,0,0,0,0,0,0,0,0]
[null,null,null,null,null,null,null,null,null,null,null,null,null,null,90.799999999999116,0,"",0,"",0,null,null,90.799999999999116,0,"",0,"",0,null,null,0,0,0,0,0,0,0,0,0,0,0,0,0,0,0,0,0,0,0,0,0,0,0,0,0,0,0,0,0,0,0,0,0,null,null,0,0,0,0,0,0,0,0,0,0,0,0,0,0,0,0,0,0,0,0,0,0,0,0,0,0,0,0,0,0,0,0,0]
[null,null,null,null,null,null,null,null,null,null,null,null,null,null,90.89999999999911,0,"",0,"",0,null,null,90.89999999999911,0,"",0,"",0,null,null,0,0,0,0,0,0,0,0,0,0,0,0,0,0,0,0,0,0,0,0,0,0,0,0,0,0,0,0,0,0,0,0,0,null,null,0,0,0,0,0,0,0,0,0,0,0,0,0,0,0,0,0,0,0,0,0,0,0,0,0,0,0,0,0,0,0,0,0]
[null,null,null,null,null,null,null,null,null,null,null,null,null,null,90.999999999999105,0,"",0,"",0,null,null,90.999999999999105,0,"",0,"",0,null,null,0,0,0,0,0,0,0,0,0,0,0,0,0,0,0,0,0,0,0,0,0,0,0,0,0,0,0,0,0,0,0,0,0,null,null,0,0,0,0,0,0,0,0,0,0,0,0,0,0,0,0,0,0,0,0,0,0,0,0,0,0,0,0,0,0,0,0,0]
[null,null,null,null,null,null,null,null,null,null,null,null,null,null,91.099999999999099,0,"",0,"",0,null,null,91.099999999999099,0,"",0,"",0,null,null,0,0,0,0,0,0,0,0,0,0,0,0,0,0,0,0,0,0,0,0,0,0,0,0,0,0,0,0,0,0,0,0,0,null,null,0,0,0,0,0,0,0,0,0,0,0,0,0,0,0,0,0,0,0,0,0,0,0,0,0,0,0,0,0,0,0,0,0]
[null,null,null,null,null,null,null,null,null,null,null,null,null,null,91.199999999999093,0,"",0,"",0,null,null,91.199999999999093,0,"",0,"",0,null,null,0,0,0,0,0,0,0,0,0,0,0,0,0,0,0,0,0,0,0,0,0,0,0,0,0,0,0,0,0,0,0,0,0,null,null,0,0,0,0,0,0,0,0,0,0,0,0,0,0,0,0,0,0,0,0,0,0,0,0,0,0,0,0,0,0,0,0,0]
[null,null,null,null,null,null,null,null,null,null,null,null,null,null,91.299999999999088,0,"",0,"",0,null,null,91.299999999999088,0,"",0,"",0,null,null,0,0,0,0,0,0,0,0,0,0,0,0,0,0,0,0,0,0,0,0,0,0,0,0,0,0,0,0,0,0,0,0,0,null,null,0,0,0,0,0,0,0,0,0,0,0,0,0,0,0,0,0,0,0,0,0,0,0,0,0,0,0,0,0,0,0,0,0]
[null,null,null,null,null,null,null,null,null,null,null,null,null,null,91.399999999999082,0,"",0,"",0,null,null,91.399999999999082,0,"",0,"",0,null,null,0,0,0,0,0,0,0,0,0,0,0,0,0,0,0,0,0,0,0,0,0,0,0,0,0,0,0,0,0,0,{"$f":"SUMIFS($Q921,$T921,BI$7)","v":0},0,0,null,null,0,0,0,0,0,0,0,0,0,0,0,0,0,0,0,0,0,0,0,0,0,0,0,0,0,0,0,0,0,0,0,0,0]
[null,null,null,null,null,null,null,null,null,null,null,null,null,null,91.499999999999076,0,"",0,"",0,null,null,91.499999999999076,0,"",0,"",0,null,null,0,0,0,0,0,0,0,0,0,0,0,0,0,0,0,0,{"$f":"SUMIFS($Q922,$T922,AU$7)","v":0},0,0,0,0,0,0,0,0,0,0,0,0,0,0,0,0,null,null,0,0,0,0,0,0,0,0,0,0,0,0,0,0,0,0,0,0,0,0,0,0,0,0,0,0,0,0,0,0,0,0,0]
[null,null,null,null,null,null,null,null,null,null,null,null,null,null,91.599999999999071,0,"",0,"",0,null,null,91.599999999999071,0,"",0,"",0,null,null,{"$f":"SUMIFS($Q923,$T923,AE$7)","v":0},0,0,0,0,0,0,0,0,0,0,0,0,0,0,0,0,0,0,0,0,0,0,0,0,0,0,0,0,0,0,0,0,null,null,0,0,0,0,0,0,0,0,0,0,0,0,0,0,0,0,0,0,0,0,0,0,0,0,0,0,0,0,0,0,0,0,0]
[null,null,null,null,null,null,null,null,null,null,null,null,null,null,91.699999999999065,0,"",0,"",0,null,null,91.699999999999065,0,"",0,"",0,null,null,0,0,0,0,0,0,0,0,0,0,0,0,0,0,0,0,0,0,0,0,0,0,0,0,0,0,0,0,0,0,0,0,0,null,null,0,0,0,0,0,0,0,0,0,0,0,0,0,0,0,0,0,0,0,0,0,0,0,0,0,0,0,0,0,0,0,0,0]
[null,null,null,null,null,null,null,null,null,null,null,null,null,null,91.799999999999059,0,"",0,"",0,null,null,91.799999999999059,0,"",0,"",0,null,null,0,0,0,0,0,0,0,0,0,0,0,0,0,0,0,0,0,0,0,0,0,0,0,0,0,0,0,0,0,0,0,0,0,null,null,0,0,0,0,0,0,0,0,0,0,0,0,0,0,0,0,0,0,0,0,0,0,0,0,0,0,0,0,0,0,0,0,0]
[null,null,null,null,null,null,null,null,null,null,null,null,null,null,91.899999999999054,0,"",0,"",0,null,null,91.899999999999054,0,"",0,"",0,null,null,0,0,0,0,0,0,0,0,0,0,0,0,0,0,0,0,0,0,0,0,0,0,0,0,0,0,0,0,0,0,0,0,0,null,null,0,0,0,0,0,0,0,0,0,0,0,0,0,0,0,0,0,0,0,0,0,0,0,0,0,0,0,0,0,0,0,0,0]
[null,null,null,null,null,null,null,null,null,null,null,null,null,null,91.999999999999048,0,"",0,"",0,null,null,91.999999999999048,0,"",0,"",0,null,null,0,0,0,0,0,0,0,0,0,0,0,0,0,0,0,0,0,0,0,0,0,0,0,0,0,0,0,0,0,0,0,0,0,null,null,0,0,0,0,0,0,0,0,0,0,0,0,0,0,0,0,0,0,0,0,0,0,0,0,0,0,0,0,0,0,0,0,0]
[null,null,null,null,null,null,null,null,null,null,null,null,null,null,92.099999999999042,0,"",0,"",0,null,null,92.099999999999042,0,"",0,"",0,null,null,0,0,0,0,0,0,0,0,0,0,0,0,0,0,0,0,0,0,0,0,0,0,0,0,0,0,0,0,0,0,0,0,0,null,null,0,0,0,0,0,0,0,0,0,0,0,0,0,0,0,0,0,0,0,0,0,0,0,0,0,0,0,0,0,0,0,0,0]
[null,null,null,null,null,null,null,null,null,null,null,null,null,null,92.199999999999037,0,"",0,"",0,null,null,92.199999999999037,0,"",0,"",0,null,null,0,0,0,0,0,0,0,0,0,0,0,0,0,0,0,0,0,0,0,0,0,0,0,0,0,0,0,0,0,0,0,0,0,null,null,0,0,0,0,0,0,0,0,0,0,0,0,0,0,0,0,0,0,0,0,0,0,0,0,0,0,0,0,0,0,0,0,0]
[null,null,null,null,null,null,null,null,null,null,null,null,null,null,92.299999999999031,0,"",0,"",0,null,null,92.299999999999031,0,"",0,"",0,null,null,0,0,0,0,0,0,0,0,0,0,0,0,0,0,0,0,0,0,0,0,0,0,0,0,0,0,0,0,0,0,0,0,0,null,null,0,0,0,0,0,0,0,0,0,0,0,0,0,0,0,0,0,0,0,0,0,0,0,0,0,0,0,0,0,0,0,0,0]
[null,null,null,null,null,null,null,null,null,null,null,null,null,null,92.399999999999025,0,"",0,"",0,null,null,92.399999999999025,0,"",0,"",0,null,null,0,0,0,0,0,0,0,0,0,0,0,0,0,0,0,0,0,0,0,0,0,0,0,0,0,0,0,0,0,0,0,0,0,null,null,0,0,0,0,0,0,0,0,0,0,0,0,0,0,0,0,0,0,0,0,0,0,0,0,0,0,0,0,0,0,0,0,0]
[null,null,null,null,null,null,null,null,null,null,null,null,null,null,92.499999999999019,0,"",0,"",0,null,null,92.499999999999019,0,"",0,"",0,null,null,0,0,0,0,0,0,0,0,0,0,0,0,0,0,0,0,0,0,0,0,0,0,0,0,0,0,0,0,0,0,0,0,0,null,null,0,0,0,0,0,0,0,0,0,0,0,0,0,0,0,0,0,0,0,0,0,0,0,0,0,0,0,0,0,0,0,0,0]
[null,null,null,null,null,null,null,null,null,null,null,null,null,null,92.599999999999014,0,"",0,"",0,null,null,92.599999999999014,0,"",0,"",0,null,null,0,0,0,0,0,0,0,0,0,0,0,0,0,0,0,0,0,0,0,0,0,0,0,0,0,0,0,0,0,0,0,0,0,null,null,0,0,0,0,0,0,0,0,0,0,0,0,0,0,0,0,0,0,0,0,0,0,0,0,0,0,0,0,0,0,0,0,0]
[null,null,null,null,null,null,null,null,null,null,null,null,null,null,92.699999999999008,0,"",0,"",0,null,null,92.699999999999008,0,"",0,"",0,null,null,0,0,0,0,0,0,0,0,0,0,0,0,0,0,0,0,0,0,0,0,0,0,0,0,0,0,0,0,0,0,0,0,0,null,null,0,0,0,0,0,0,0,0,0,0,0,0,0,0,0,0,0,0,0,0,0,0,0,0,0,0,0,0,0,0,0,0,0]
[null,null,null,null,null,null,null,null,null,null,null,null,null,null,92.799999999999002,0,"",0,"",0,null,null,92.799999999999002,0,"",0,"",0,null,null,0,0,0,0,0,0,0,0,0,0,0,0,0,0,0,0,0,0,0,0,0,0,0,0,0,0,0,0,0,0,0,0,0,null,null,0,0,0,0,0,0,0,0,0,0,0,0,0,0,0,0,0,0,0,0,0,0,0,0,0,0,0,0,0,0,0,0,0]
[null,null,null,null,null,null,null,null,null,null,null,null,null,null,92.899999999998997,0,"",0,"",0,null,null,92.899999999998997,0,"",0,"",0,null,null,0,0,0,0,0,0,0,0,0,0,0,0,0,0,0,0,0,0,0,0,0,0,0,0,0,0,0,0,0,0,0,0,0,null,null,0,0,0,0,0,0,0,0,0,0,0,0,0,0,0,0,0,0,0,0,0,0,0,0,0,0,0,0,0,0,0,0,0]
[null,null,null,null,null,null,null,null,null,null,null,null,null,null,{"$f":"O936+$N$7","v":92.999999999998991},0,"",0,"",0,null,null,{"$f":"W936+$N$7","v":92.999999999998991},0,"",0,"",0,null,null,0,0,0,0,0,0,0,0,0,0,0,0,0,0,0,0,0,0,0,0,0,0,0,0,0,0,0,0,0,0,0,0,0,null,null,0,0,0,0,0,0,0,0,0,0,0,0,0,0,0,0,0,0,0,0,0,0,0,0,0,0,0,0,0,0,0,0,0]
[null,null,null,null,null,null,null,null,null,null,null,null,null,null,93.099999999998985,0,"",0,"",0,null,null,93.099999999998985,0,"",0,"",0,null,null,0,0,0,0,0,0,0,0,0,0,0,0,0,0,0,{"$f":"SUMIFS($Q938,$T938,AT$7)","v":0},0,0,0,0,0,0,0,0,0,0,0,0,0,0,0,0,0,null,null,0,0,0,0,0,0,0,0,0,0,0,0,0,0,0,0,0,0,0,0,0,0,0,0,0,0,0,0,0,0,0,0,0]
[null,null,null,null,null,null,null,null,null,null,null,null,null,null,93.19999999999898,0,"",0,"",0,null,null,93.19999999999898,0,"",0,"",0,null,null,{"$f":"SUMIFS($Q939,$T939,AE$7)","v":0},0,0,0,0,0,0,0,0,0,0,0,0,0,0,0,0,0,0,0,0,0,0,0,0,0,0,0,0,0,0,0,0,null,null,0,0,0,0,0,0,0,0,0,0,0,0,0,0,0,0,0,0,0,0,0,0,0,0,0,0,0,0,0,0,0,0,0]
[null,null,null,null,null,null,null,null,null,null,null,null,null,null,93.299999999998974,0,"",0,"",0,null,null,93.299999999998974,0,"",0,"",0,null,null,0,0,0,0,0,0,0,0,0,0,0,0,0,0,0,0,0,0,0,0,0,0,0,0,0,0,0,0,0,0,0,0,0,null,null,0,0,0,0,0,0,0,0,0,0,0,0,0,0,0,0,0,0,0,0,0,0,0,0,0,0,0,0,0,0,0,0,0]
[null,null,null,null,null,null,null,null,null,null,null,null,null,null,93.399999999998968,0,"",0,"",0,null,null,93.399999999998968,0,"",0,"",0,null,null,0,0,0,0,0,0,0,0,0,0,0,0,0,0,0,0,0,0,0,0,0,0,0,0,0,0,0,0,0,0,0,{"$f":"SUMIFS($Q941,$T941,BJ$7)","v":0},0,null,null,0,0,0,0,0,0,0,0,0,0,0,0,0,0,0,0,0,0,0,0,0,0,0,0,0,0,0,0,0,0,0,0,0]
[null,null,null,null,null,null,null,null,null,null,null,null,null,null,93.499999999998963,0,"",0,"",0,null,null,93.499999999998963,0,"",0,"",0,null,null,0,0,0,0,0,0,0,0,0,0,0,0,0,0,0,0,0,0,0,0,0,0,0,0,0,0,0,0,0,0,0,0,0,null,null,0,0,0,0,0,0,0,0,0,0,0,0,0,0,0,0,0,0,0,0,0,0,0,0,0,0,0,0,0,0,0,0,0]
[null,null,null,null,null,null,null,null,null,null,null,null,null,null,93.599999999998957,0,"",0,"",0,null,null,93.599999999998957,0,"",0,"",0,null,null,0,0,0,0,0,0,0,0,0,0,0,0,0,0,0,0,0,0,0,0,0,0,0,0,0,0,0,0,0,0,0,0,0,null,null,0,0,0,0,0,0,0,0,0,0,0,0,0,0,0,0,0,0,0,0,0,0,0,0,0,0,0,0,0,0,0,0,0]
[null,null,null,null,null,null,null,null,null,null,null,null,null,null,93.699999999998951,0,"",0,"",0,null,null,93.699999999998951,0,"",0,"",0,null,null,0,0,0,0,0,0,0,0,0,0,0,0,0,0,0,0,0,0,0,0,0,0,0,0,0,0,0,0,0,0,0,0,0,null,null,0,0,0,0,0,0,0,0,0,0,0,0,0,0,0,0,0,0,0,0,0,0,0,0,0,0,0,0,0,0,0,0,0]
[null,null,null,null,null,null,null,null,null,null,null,null,null,null,93.799999999998946,0,"",0,"",0,null,null,93.799999999998946,0,"",0,"",0,null,null,0,0,0,0,0,0,0,0,0,0,0,0,0,0,0,0,0,0,0,0,0,0,0,0,0,0,0,0,0,0,0,0,0,null,null,0,0,0,0,0,0,0,0,0,0,0,0,0,0,0,0,0,0,0,0,0,0,0,0,0,0,0,0,0,0,0,0,0]
[null,null,null,null,null,null,null,null,null,null,null,null,null,null,93.89999999999894,0,"",0,"",0,null,null,93.89999999999894,0,"",0,"",0,null,null,0,0,0,0,0,0,0,0,0,0,0,0,0,0,0,0,0,0,0,0,0,0,0,0,0,0,0,0,0,0,0,0,0,null,null,0,0,0,0,0,0,0,0,0,0,0,0,0,0,0,0,0,0,0,0,0,0,0,0,0,0,0,0,0,0,0,0,0]
[null,null,null,null,null,null,null,null,null,null,null,null,null,null,93.999999999998934,0,"",0,"",0,null,null,93.999999999998934,0,"",0,"",0,null,null,0,0,0,0,0,0,0,0,0,0,0,0,0,0,0,0,0,0,0,0,0,0,0,0,0,0,0,0,0,0,0,0,0,null,null,0,0,0,0,0,0,0,0,0,0,0,0,0,0,0,0,0,0,0,0,0,0,0,0,0,0,0,0,0,0,0,0,0]
[null,null,null,null,null,null,null,null,null,null,null,null,null,null,94.099999999998929,0,"",0,"",0,null,null,94.099999999998929,0,"",0,"",0,null,null,0,0,0,0,0,0,0,0,0,0,0,0,0,0,0,0,0,0,0,0,0,0,0,0,0,0,0,0,0,0,0,0,0,null,null,0,0,0,0,0,0,0,0,0,0,0,0,0,0,0,0,0,0,0,0,0,0,0,0,0,0,0,0,0,0,0,0,0]
[null,null,null,null,null,null,null,null,null,null,null,null,null,null,94.199999999998923,0,"",0,"",0,null,null,94.199999999998923,0,"",0,"",0,null,null,0,0,0,0,0,0,0,0,0,0,0,0,0,0,0,0,0,0,0,0,0,0,0,0,0,0,0,0,0,0,0,0,0,null,null,0,0,0,0,0,0,0,0,0,0,0,0,0,0,0,0,0,0,0,0,0,0,0,0,0,0,0,0,0,0,0,0,0]
[null,null,null,null,null,null,null,null,null,null,null,null,null,null,94.299999999998917,0,"",0,"",0,null,null,94.299999999998917,0,"",0,"",0,null,null,0,0,0,0,0,0,0,0,0,0,0,0,0,0,0,0,0,0,0,0,0,0,0,0,0,0,0,0,0,0,0,0,0,null,null,0,0,0,0,0,0,0,0,0,0,0,0,0,0,0,0,0,0,0,0,0,0,0,0,0,0,0,0,0,0,0,0,0]
[null,null,null,null,null,null,null,null,null,null,null,null,null,null,94.399999999998911,0,"",0,"",0,null,null,94.399999999998911,0,"",0,"",0,null,null,0,0,0,0,0,0,0,0,0,0,0,0,0,0,0,0,0,0,0,0,0,0,0,0,0,0,0,0,0,0,0,0,0,null,null,0,0,0,0,0,0,0,0,0,0,0,0,0,0,0,0,0,0,0,0,0,0,0,0,0,0,0,0,0,0,0,0,0]
[null,null,null,null,null,null,null,null,null,null,null,null,null,null,94.499999999998906,0,"",0,"",0,null,null,94.499999999998906,0,"",0,"",0,null,null,0,0,0,0,0,0,0,0,0,0,0,0,0,0,0,0,0,0,0,0,0,0,0,0,0,0,0,0,0,0,0,0,0,null,null,0,0,0,0,0,0,0,0,0,0,0,0,0,0,0,0,0,0,0,0,0,0,0,0,0,0,0,0,0,0,0,0,0]
[null,null,null,null,null,null,null,null,null,null,null,null,null,null,94.5999999999989,0,"",0,"",0,null,null,94.5999999999989,0,"",0,"",0,null,null,0,0,0,0,0,0,0,0,0,0,0,0,0,0,0,0,0,0,0,0,0,0,0,0,0,0,0,0,0,0,0,0,0,null,null,0,0,0,0,0,0,0,0,0,0,0,0,0,0,0,0,0,0,0,0,0,0,0,0,0,0,0,0,0,0,0,0,0]
[null,null,null,null,null,null,null,null,null,null,null,null,null,null,94.699999999998894,0,"",0,"",0,null,null,94.699999999998894,0,"",0,{"$f":"IF(Z954=0,Y954,0)","v":""},0,null,null,0,0,0,0,0,0,0,0,0,0,0,0,0,0,0,0,{"$f":"SUMIFS($Q954,$T954,AU$7)","v":0},0,0,0,0,0,0,0,0,0,0,0,0,0,0,0,0,null,null,0,0,0,0,0,0,0,0,0,0,0,0,0,0,0,0,0,0,0,0,0,0,0,0,0,0,0,0,0,0,0,0,0]
[null,null,null,null,null,null,null,null,null,null,null,null,null,null,94.799999999998889,0,"",0,"",0,null,null,94.799999999998889,0,"",0,"",0,null,null,{"$f":"SUMIFS($Q955,$T955,AE$7)","v":0},0,0,0,0,0,0,0,0,0,0,0,0,0,0,0,0,0,0,0,0,0,0,0,0,0,0,0,0,0,0,0,0,null,null,0,0,0,0,0,0,0,0,0,0,0,0,0,0,0,0,0,0,0,0,0,0,0,0,0,0,0,0,0,0,0,0,0]
[null,null,null,null,null,null,null,null,null,null,null,null,null,null,94.899999999998883,0,"",0,"",0,null,null,94.899999999998883,0,"",0,"",0,null,null,0,0,0,0,0,0,0,0,0,0,0,0,0,0,0,0,0,0,0,0,0,0,0,0,0,0,0,0,0,0,0,0,0,null,null,0,0,0,0,0,0,0,0,0,0,0,0,0,0,0,0,0,0,0,0,0,0,0,0,0,0,0,0,0,0,0,0,0]
[null,null,null,null,null,null,null,null,null,null,null,null,null,null,94.999999999998877,0,"",0,"",0,null,null,94.999999999998877,0,"",0,"",0,null,null,0,0,0,0,0,0,0,0,0,0,0,0,0,0,0,0,0,0,0,0,0,0,0,0,0,0,0,0,0,0,0,0,0,null,null,0,0,0,0,0,0,0,0,0,0,0,0,0,0,0,0,0,0,0,0,0,0,0,0,0,0,0,0,0,0,0,0,0]
[null,null,null,null,null,null,null,null,null,null,null,null,null,null,95.099999999998872,0,"",0,"",0,null,null,95.099999999998872,0,"",0,"",0,null,null,0,0,0,0,0,0,0,0,0,0,0,0,0,0,0,0,0,0,0,0,0,0,0,0,0,0,0,0,0,0,0,0,0,null,null,0,0,0,0,0,0,0,0,0,0,0,0,0,0,0,0,0,0,0,0,0,0,0,0,0,0,0,0,0,0,0,0,0]
[null,null,null,null,null,null,null,null,null,null,null,null,null,null,95.199999999998866,0,"",0,"",0,null,null,95.199999999998866,{"$f":"(W959/$W$1007)*$X$1007","v":0},"",0,"",0,null,null,0,0,0,0,0,0,0,0,0,0,0,0,0,0,0,0,0,0,0,0,0,0,0,0,0,0,0,0,0,0,0,0,0,null,null,0,0,0,0,0,0,0,0,0,0,0,0,0,0,0,0,0,0,0,0,0,0,0,0,0,0,0,0,0,0,0,0,0]
[null,null,null,null,null,null,null,null,null,null,null,null,null,null,95.29999999999886,0,"",0,"",0,null,null,95.29999999999886,0,"",0,"",0,null,null,0,0,0,0,0,0,0,0,0,0,0,0,0,0,0,0,0,0,0,0,0,0,0,0,0,0,0,0,0,0,0,0,0,null,null,0,0,0,0,0,0,0,0,0,0,0,0,0,0,0,0,0,0,0,0,0,0,0,0,0,0,0,0,0,0,0,0,0]
[null,null,null,null,null,null,null,null,null,null,null,null,null,null,95.399999999998855,0,"",0,"",0,null,null,95.399999999998855,0,"",0,"",0,null,null,0,0,0,0,0,0,0,0,0,0,0,0,0,0,0,0,0,0,0,0,0,0,0,0,0,0,0,0,0,0,0,0,{"$f":"SUMIFS($Q961,$T961,BK$7)","v":0},null,null,0,0,0,0,0,0,0,0,0,0,0,0,0,0,0,0,0,0,0,0,0,0,0,0,0,0,0,0,0,0,0,0,0]
[null,null,null,null,null,null,null,null,null,null,null,null,null,null,95.499999999998849,0,"",0,"",0,null,null,95.499999999998849,0,"",0,"",0,null,null,0,0,0,0,0,0,0,0,0,0,0,0,0,0,0,0,0,0,0,0,0,0,0,0,0,0,0,0,0,0,0,0,0,null,null,{"$f":"SUMIFS($Y963,$AB963,AE$7)","v":0},0,0,0,0,0,0,0,0,0,0,0,0,0,0,0,0,0,0,0,0,0,0,0,0,0,0,0,0,0,0,0,0]
[null,null,null,null,null,null,null,null,null,null,null,null,null,null,95.599999999998843,0,"",0,"",0,null,null,95.599999999998843,0,"",0,"",0,null,null,0,0,0,0,0,0,0,0,0,0,0,0,0,0,0,0,0,0,0,0,0,0,0,0,0,0,0,0,0,0,0,0,0,null,null,0,0,0,0,0,0,0,0,0,0,0,0,0,0,0,0,0,0,0,0,0,0,0,0,0,0,0,0,0,0,0,0,0]
[null,null,null,null,null,null,null,null,null,null,null,null,null,null,95.699999999998838,0,"",0,"",0,null,null,95.699999999998838,0,"",0,"",0,null,null,0,0,0,0,0,0,0,0,0,0,0,0,0,0,0,0,0,0,0,0,0,0,0,0,0,0,0,0,0,0,0,0,0,null,null,0,0,0,0,0,0,0,0,0,0,0,0,0,0,0,0,0,0,0,0,0,0,0,0,0,0,0,0,0,0,0,0,0]
[null,null,null,null,null,null,null,null,null,null,null,null,null,null,95.799999999998832,0,"",0,"",0,null,null,95.799999999998832,0,"",0,"",0,null,null,0,0,0,0,0,0,0,0,0,0,0,0,0,0,0,0,0,0,0,0,0,0,0,0,0,0,0,0,0,0,0,0,0,null,null,0,0,0,0,0,0,0,0,0,0,0,0,0,0,0,0,0,0,0,0,0,0,0,0,0,0,0,0,0,0,0,0,0]
[null,null,null,null,null,null,null,null,null,null,null,null,null,null,95.899999999998826,0,"",0,"",0,null,null,95.899999999998826,0,"",0,"",0,null,null,0,0,0,0,0,0,0,0,0,0,0,0,0,0,0,0,0,0,0,0,0,0,0,0,0,0,0,0,0,0,0,0,0,null,null,0,0,0,0,0,0,0,0,0,0,0,0,0,0,0,0,0,0,0,0,0,0,0,0,0,0,0,0,0,0,0,0,0]
[null,null,null,null,null,null,null,null,null,null,null,null,null,null,95.99999999999882,0,"",0,"",0,null,null,95.99999999999882,0,"",0,"",0,null,null,0,0,0,0,0,0,0,0,0,0,0,0,0,0,0,0,0,0,0,0,0,0,0,0,0,0,0,0,0,0,0,0,0,null,null,0,0,0,0,0,0,0,0,0,0,0,0,0,0,0,0,0,0,0,0,0,0,0,0,0,0,0,0,0,0,0,0,0]
[null,null,null,null,null,null,null,null,null,null,null,null,null,null,96.099999999998815,0,{"$f":"INDEX($G$9:$G$39,MATCH(P968,$E$9:$E$39,1))","v":""},{"$f":"IF(Q968<>Q966,Q968,0)","v":0},"",0,null,null,96.099999999998815,0,"",{"$f":"IF(Y968<>Y966,Y968,0)","v":0},"",0,null,null,0,0,0,0,0,0,0,0,0,0,0,0,0,0,0,0,0,0,0,0,0,0,0,0,0,0,0,0,0,0,0,0,0,null,null,0,{"$f":"SUMIFS($Y969,$AB969,AF$7)","v":0},{"$f":"SUMIFS($Y969,$AB969,AG$7)","v":0},{"$f":"SUMIFS($Y969,$AB969,AH$7)","v":0},{"$f":"SUMIFS($Y969,$AB969,AI$7)","v":0},{"$f":"SUMIFS($Y969,$AB969,AJ$7)","v":0},{"$f":"SUMIFS($Y969,$AB969,AK$7)","v":0},{"$f":"SUMIFS($Y969,$AB969,AL$7)","v":0},{"$f":"SUMIFS($Y969,$AB969,AM$7)","v":0},{"$f":"SUMIFS($Y969,$AB969,AN$7)","v":0},{"$f":"SUMIFS($Y969,$AB969,AO$7)","v":0},{"$f":"SUMIFS($Y969,$AB969,AP$7)","v":0},{"$f":"SUMIFS($Y969,$AB969,AQ$7)","v":0},{"$f":"SUMIFS($Y969,$AB969,AR$7)","v":0},{"$f":"SUMIFS($Y969,$AB969,AS$7)","v":0},{"$f":"SUMIFS($Y969,$AB969,AT$7)","v":0},{"$f":"SUMIFS($Y969,$AB969,AU$7)","v":0},{"$f":"SUMIFS($Y969,$AB969,AV$7)","v":0},{"$f":"SUMIFS($Y969,$AB969,AW$7)","v":0},{"$f":"SUMIFS($Y969,$AB969,AX$7)","v":0},{"$f":"SUMIFS($Y969,$AB969,AY$7)","v":0},{"$f":"SUMIFS($Y969,$AB969,AZ$7)","v":0},{"$f":"SUMIFS($Y969,$AB969,BA$7)","v":0},{"$f":"SUMIFS($Y969,$AB969,BB$7)","v":0},{"$f":"SUMIFS($Y969,$AB969,BC$7)","v":0},{"$f":"SUMIFS($Y969,$AB969,BD$7)","v":0},{"$f":"SUMIFS($Y969,$AB969,BE$7)","v":0},{"$f":"SUMIFS($Y969,$AB969,BF$7)","v":0},{"$f":"SUMIFS($Y969,$AB969,BG$7)","v":0},{"$f":"SUMIFS($Y969,$AB969,BH$7)","v":0},{"$f":"SUMIFS($Y969,$AB969,BI$7)","v":0},{"$f":"SUMIFS($Y969,$AB969,BJ$7)","v":0},{"$f":"SUMIFS($Y969,$AB969,BK$7)","v":0}]
[null,null,null,null,null,null,null,null,null,null,null,null,null,null,96.199999999998809,{"$f":"(O969/$O$1007)*$P$1007","v":0},"",0,"",0,null,null,96.199999999998809,{"$f":"(W969/$W$1007)*$X$1007","v":0},{"$f":"INDEX($I$9:$I$39,MATCH(X969,$F$9:$F$39,1))","v":""},0,"",{"$f":"IF(AA969=0,\"\",INDEX($H$9:$H$41,MATCH(AA969,$I$9:$I$41,0)))","v":0},null,null,0,0,0,0,0,0,0,0,0,0,0,0,0,0,0,0,0,0,0,0,0,0,0,0,0,0,0,0,0,0,0,0,0,null,null,{"$f":"SUMIFS($Y970,$AB970,AE$7)","v":0},0,0,0,0,0,0,0,0,0,0,0,0,0,0,0,0,0,0,0,0,0,0,0,0,0,0,0,0,0,0,0,0]
[null,null,null,null,null,null,null,null,null,null,null,null,null,null,96.299999999998803,0,"",0,{"$f":"IF(R970=0,Q970,0)","v":""},{"$f":"IF(S970=0,\"\",INDEX($C$9:$C$41,MATCH(S970,$G$9:$G$41,0)))","v":0},null,null,96.299999999998803,0,"",0,{"$f":"IF(Z970=0,Y970,0)","v":""},0,null,null,0,0,0,0,0,0,0,0,0,0,0,0,0,0,0,{"$f":"SUMIFS($Q970,$T970,AT$7)","v":0},0,0,0,0,0,0,0,0,0,0,0,0,0,0,0,{"$f":"SUMIFS($Q970,$T970,BJ$7)","v":0},0,null,null,0,0,0,0,0,0,0,0,0,0,0,0,0,0,0,0,0,0,0,0,0,0,0,0,0,0,0,0,0,0,0,0,0]
[null,null,null,null,null,null,null,null,null,null,null,null,null,null,96.399999999998798,0,"",0,"",0,null,null,96.399999999998798,0,"",0,"",0,null,null,{"$f":"SUMIFS($Q971,$T971,AE$7)","v":0},0,0,0,0,0,0,0,0,0,0,0,0,0,0,0,0,0,0,0,0,0,0,0,0,0,0,0,0,0,0,0,0,null,null,0,0,0,0,0,0,0,0,0,0,0,0,0,0,0,0,0,0,0,0,0,0,0,0,0,0,0,0,0,0,0,0,0]
[null,null,null,null,null,null,null,null,null,null,null,null,null,null,96.499999999998792,0,"",0,"",0,null,null,96.499999999998792,0,"",0,"",0,null,null,0,0,0,0,0,0,0,0,0,0,0,0,0,0,0,0,0,0,0,0,0,0,0,0,0,0,0,0,0,0,0,0,0,null,null,0,0,0,0,0,0,0,0,0,0,0,0,0,0,0,0,0,0,0,0,0,0,0,0,0,0,0,0,0,0,0,0,0]
[null,null,null,null,null,null,null,null,null,null,null,null,null,null,96.599999999998786,0,"",0,"",0,null,null,96.599999999998786,0,"",0,"",0,null,null,0,0,0,0,0,0,0,0,0,0,0,0,0,0,0,0,0,0,0,0,0,0,0,0,0,0,0,0,0,0,0,0,0,null,null,0,0,0,0,0,0,0,0,0,0,0,0,0,0,0,0,0,0,0,0,0,0,0,0,0,0,0,0,0,0,0,0,0]
[null,null,null,null,null,null,null,null,null,null,null,null,null,null,96.699999999998781,0,"",0,"",0,null,null,96.699999999998781,0,"",0,"",0,null,null,0,0,0,0,0,0,0,0,0,0,0,0,0,0,0,0,0,0,0,0,0,0,0,0,0,0,0,0,0,0,0,0,0,null,null,0,0,0,0,0,0,0,0,0,0,0,0,0,0,0,0,0,0,0,0,0,0,0,0,0,0,0,0,0,0,0,0,0]
[null,null,null,null,null,null,null,null,null,null,null,null,null,null,96.799999999998775,0,"",0,"",0,null,null,96.799999999998775,0,"",0,"",0,null,null,0,0,0,0,0,0,0,0,0,0,0,0,0,0,0,0,0,0,0,0,0,0,0,0,0,0,0,0,0,0,0,0,0,null,null,0,0,0,0,0,0,0,0,0,0,0,0,0,0,0,0,0,0,0,0,0,0,0,0,0,0,0,0,0,0,0,0,0]
[null,null,null,null,null,null,null,null,null,null,null,null,null,null,96.899999999998769,0,"",0,"",0,null,null,96.899999999998769,0,"",0,"",0,null,null,0,0,0,0,0,0,0,0,0,0,0,0,0,0,0,0,0,0,0,0,0,0,0,0,0,0,0,0,0,0,0,0,0,null,null,0,0,0,0,0,0,0,0,0,0,0,0,0,0,0,0,0,0,0,0,0,0,0,0,0,0,0,0,0,0,0,0,0]
[null,null,null,null,null,null,null,null,null,null,null,null,null,null,96.999999999998764,0,"",0,"",0,null,null,96.999999999998764,0,"",0,"",0,null,null,0,0,0,0,0,0,0,0,0,0,0,0,0,0,0,0,0,0,0,0,0,0,0,0,0,0,0,0,0,0,0,0,0,null,null,0,0,0,0,0,0,0,0,0,0,0,0,0,0,0,0,0,0,0,0,0,0,0,0,0,0,0,0,0,0,0,0,0]
[null,null,null,null,null,null,null,null,null,null,null,null,null,null,97.099999999998758,0,"",0,"",0,null,null,97.099999999998758,0,"",0,"",0,null,null,0,0,0,0,0,0,0,0,0,0,0,0,0,0,0,0,0,0,0,0,0,0,0,0,0,0,0,0,0,0,0,0,0,null,null,0,0,0,0,0,0,0,0,0,0,0,0,0,0,0,0,0,0,0,0,0,0,0,0,0,0,0,0,0,0,0,0,0]
[null,null,null,null,null,null,null,null,null,null,null,null,null,null,97.199999999998752,0,"",0,"",0,null,null,97.199999999998752,0,"",0,"",0,null,null,0,0,0,0,0,0,0,0,0,0,0,0,0,0,0,0,0,0,0,0,0,0,0,0,0,0,0,0,0,0,0,0,0,null,null,0,0,0,0,0,0,0,0,0,0,0,0,0,0,0,0,0,0,0,0,0,0,0,0,0,0,0,0,0,0,0,0,0]
[null,null,null,null,null,null,null,null,null,null,null,null,null,null,97.299999999998747,0,"",0,"",0,null,null,97.299999999998747,0,"",0,"",0,null,null,0,0,0,0,0,0,0,0,0,0,0,0,0,0,0,0,0,0,0,0,0,0,0,0,0,0,0,0,0,0,0,0,0,null,null,0,0,0,0,0,0,0,0,0,0,0,0,0,0,0,0,0,0,0,0,0,0,0,0,0,0,0,0,0,0,0,0,0]
[null,null,null,null,null,null,null,null,null,null,null,null,null,null,97.399999999998741,0,"",0,"",0,null,null,97.399999999998741,0,"",0,"",0,null,null,0,0,0,0,0,0,0,0,0,0,0,0,0,0,0,0,0,0,0,0,0,0,0,0,0,0,0,0,0,0,0,0,0,null,null,0,0,0,0,0,0,0,0,0,0,0,0,0,0,0,0,0,0,0,0,0,0,0,0,0,0,0,0,0,0,0,0,0]
[null,null,null,null,null,null,null,null,null,null,null,null,null,null,97.499999999998735,0,"",0,"",0,null,null,97.499999999998735,0,"",0,"",0,null,null,0,0,0,0,0,0,0,0,0,0,0,0,0,0,0,0,0,0,0,0,0,0,0,0,0,0,0,0,0,0,0,0,0,null,null,0,0,0,0,0,0,0,0,0,0,0,0,0,0,0,0,0,0,0,0,0,0,0,0,0,0,0,0,0,0,0,0,0]
[null,null,null,null,null,null,null,null,null,null,null,null,null,null,97.59999999999873,0,"",0,"",0,null,null,97.59999999999873,0,"",0,"",0,null,null,0,0,0,0,0,0,0,0,0,0,0,0,0,0,0,0,0,0,0,0,0,0,0,0,0,0,0,0,0,0,0,0,0,null,null,0,0,0,0,0,0,0,0,0,0,0,0,0,0,0,0,0,0,0,0,0,0,0,0,0,0,0,0,0,0,0,0,0]
[null,null,null,null,null,null,null,null,null,null,null,null,null,null,97.699999999998724,0,"",0,"",0,null,null,97.699999999998724,0,"",0,"",0,null,null,0,0,0,0,0,0,0,0,0,0,0,0,0,0,0,0,0,0,0,0,0,0,0,0,0,0,0,0,0,0,0,0,0,null,null,0,0,0,0,0,0,0,0,0,0,0,0,0,0,0,0,0,0,0,0,0,0,0,0,0,0,0,0,0,0,0,0,0]
[null,null,null,null,null,null,null,null,null,null,null,null,null,null,97.799999999998718,0,"",0,"",0,null,null,97.799999999998718,0,"",0,"",0,null,null,0,0,0,0,0,0,0,0,0,0,0,0,0,0,0,0,0,0,0,0,0,0,0,0,0,0,0,0,0,0,{"$f":"SUMIFS($Q985,$T985,BI$7)","v":0},0,0,null,null,0,0,0,0,0,0,0,0,0,0,0,0,0,0,0,0,0,0,0,0,0,0,0,0,0,0,0,0,0,0,0,0,0]
[null,null,null,null,null,null,null,null,null,null,null,null,null,null,97.899999999998712,0,"",0,"",0,null,null,97.899999999998712,0,"",0,"",0,null,null,0,0,0,0,0,0,0,0,0,0,0,0,0,0,0,0,{"$f":"SUMIFS($Q986,$T986,AU$7)","v":0},0,0,0,0,0,0,0,0,0,0,0,0,0,0,0,0,null,null,0,0,0,0,0,0,0,0,0,0,0,0,0,0,0,0,0,0,0,0,0,0,0,0,0,0,0,0,0,0,0,0,0]
[null,null,null,null,null,null,null,null,null,null,null,null,null,null,97.999999999998707,0,"",0,"",0,null,null,97.999999999998707,0,"",0,"",0,null,null,{"$f":"SUMIFS($Q987,$T987,AE$7)","v":0},0,0,0,0,0,0,0,0,0,0,0,0,0,0,0,0,0,0,0,0,0,0,0,0,0,0,0,0,0,0,0,0,null,null,0,0,0,0,0,0,0,0,0,0,0,0,0,0,0,0,0,0,0,0,0,0,0,0,0,0,0,0,0,0,0,0,0]
[null,null,null,null,null,null,null,null,null,null,null,null,null,null,98.099999999998701,0,"",0,"",0,null,null,98.099999999998701,0,"",0,"",0,null,null,0,0,0,0,0,0,0,0,0,0,0,0,0,0,0,0,0,0,0,0,0,0,0,0,0,0,0,0,0,0,0,0,0,null,null,0,0,0,0,0,0,0,0,0,0,0,0,0,0,0,0,0,0,0,0,0,0,0,0,0,0,0,0,0,0,0,0,0]
[null,null,null,null,null,null,null,null,null,null,null,null,null,null,98.199999999998695,0,"",0,"",0,null,null,98.199999999998695,0,"",0,"",0,null,null,0,0,0,0,0,0,0,0,0,0,0,0,0,0,0,0,0,0,0,0,0,0,0,0,0,0,0,0,0,0,0,0,0,null,null,0,0,0,0,0,0,0,0,0,0,0,0,0,0,0,0,0,0,0,0,0,0,0,0,0,0,0,0,0,0,0,0,0]
[null,null,null,null,null,null,null,null,null,null,null,null,null,null,98.29999999999869,0,"",0,"",0,null,null,98.29999999999869,0,"",0,"",0,null,null,0,0,0,0,0,0,0,0,0,0,0,0,0,0,0,0,0,0,0,0,0,0,0,0,0,0,0,0,0,0,0,0,0,null,null,0,0,0,0,0,0,0,0,0,0,0,0,0,0,0,0,0,0,0,0,0,0,0,0,0,0,0,0,0,0,0,0,0]
[null,null,null,null,null,null,null,null,null,null,null,null,null,null,98.399999999998684,0,"",0,"",0,null,null,98.399999999998684,0,"",0,"",0,null,null,0,0,0,0,0,0,0,0,0,0,0,0,0,0,0,0,0,0,0,0,0,0,0,0,0,0,0,0,0,0,0,0,0,null,null,0,0,0,0,0,0,0,0,0,0,0,0,0,0,0,0,0,0,0,0,0,0,0,0,0,0,0,0,0,0,0,0,0]
[null,null,null,null,null,null,null,null,null,null,null,null,null,null,98.499999999998678,0,"",0,"",0,null,null,98.499999999998678,0,"",0,"",0,null,null,0,0,0,0,0,0,0,0,0,0,0,0,0,0,0,0,0,0,0,0,0,0,0,0,0,0,0,0,0,0,0,0,0,null,null,0,0,0,0,0,0,0,0,0,0,0,0,0,0,0,0,0,0,0,0,0,0,0,0,0,0,0,0,0,0,0,0,0]
[null,null,null,null,null,null,null,null,null,null,null,null,null,null,98.599999999998673,0,"",0,"",0,null,null,98.599999999998673,0,"",0,"",0,null,null,0,0,0,0,0,0,0,0,0,0,0,0,0,0,0,0,0,0,0,0,0,0,0,0,0,0,0,0,0,0,0,0,0,null,null,0,0,0,0,0,0,0,0,0,0,0,0,0,0,0,0,0,0,0,0,0,0,0,0,0,0,0,0,0,0,0,0,0]
[null,null,null,null,null,null,null,null,null,null,null,null,null,null,98.699999999998667,0,"",0,"",0,null,null,98.699999999998667,0,"",0,"",0,null,null,0,0,0,0,0,0,0,0,0,0,0,0,0,0,0,0,0,0,0,0,0,0,0,0,0,0,0,0,0,0,0,0,0,null,null,0,0,0,0,0,0,0,0,0,0,0,0,0,0,0,0,0,0,0,0,0,0,0,0,0,0,0,0,0,0,0,0,0]
[null,null,null,null,null,null,null,null,null,null,null,null,null,null,98.799999999998661,0,"",0,"",0,null,null,98.799999999998661,0,"",0,"",0,null,null,0,0,0,0,0,0,0,0,0,0,0,0,0,0,0,0,0,0,0,0,0,0,0,0,0,0,0,0,0,0,0,0,0,null,null,0,0,0,0,0,0,0,0,0,0,0,0,0,0,0,0,0,0,0,0,0,0,0,0,0,0,0,0,0,0,0,0,0]
[null,null,null,null,null,null,null,null,null,null,null,null,null,null,98.899999999998656,0,"",0,"",0,null,null,98.899999999998656,0,"",0,"",0,null,null,0,0,0,0,0,0,0,0,0,0,0,0,0,0,0,0,0,0,0,0,0,0,0,0,0,0,0,0,0,0,0,0,0,null,null,0,0,0,0,0,0,0,0,0,0,0,0,0,0,0,0,0,0,0,0,0,0,0,0,0,0,0,0,0,0,0,0,0]
[null,null,null,null,null,null,null,null,null,null,null,null,null,null,98.99999999999865,0,"",0,"",0,null,null,98.99999999999865,0,"",0,"",0,null,null,0,0,0,0,0,0,0,0,0,0,0,0,0,0,0,0,0,0,0,0,0,0,0,0,0,0,0,0,0,0,0,0,0,null,null,0,0,0,0,0,0,0,0,0,0,0,0,0,0,0,0,0,0,0,0,0,0,0,0,0,0,0,0,0,0,0,0,0]
[null,null,null,null,null,null,null,null,null,null,null,null,null,null,99.099999999998644,0,"",0,"",0,null,null,99.099999999998644,0,"",0,"",0,null,null,0,0,0,0,0,0,0,0,0,0,0,0,0,0,0,0,0,0,0,0,0,0,0,0,0,0,0,0,0,0,0,0,0,null,null,0,0,0,0,0,0,0,0,0,0,0,0,0,0,0,0,0,0,0,0,0,0,0,0,0,0,0,0,0,0,0,0,0]
[null,null,null,null,null,null,null,null,null,null,null,null,null,null,99.199999999998639,0,"",0,"",0,null,null,99.199999999998639,0,"",0,"",0,null,null,0,0,0,0,0,0,0,0,0,0,0,0,0,0,0,0,0,0,0,0,0,0,0,0,0,0,0,0,0,0,0,0,0,null,null,0,0,0,0,0,0,0,0,0,0,0,0,0,0,0,0,0,0,0,0,0,0,0,0,0,0,0,0,0,0,0,0,0]
[null,null,null,null,null,null,null,null,null,null,null,null,null,null,99.299999999998633,0,"",0,"",0,null,null,99.299999999998633,0,"",0,"",0,null,null,0,0,0,0,0,0,0,0,0,0,0,0,0,0,0,0,0,0,0,0,0,0,0,0,0,0,0,0,0,0,0,0,0,null,null,0,0,0,0,0,0,0,0,0,0,0,0,0,0,0,0,0,0,0,0,0,0,0,0,0,0,0,0,0,0,0,0,0]
[null,null,null,null,null,null,null,null,null,null,null,null,null,null,{"$f":"O1000+$N$7","v":99.399999999998627},0,"",0,"",0,null,null,{"$f":"W1000+$N$7","v":99.399999999998627},0,"",0,"",0,null,null,0,0,0,0,0,0,0,0,0,0,0,0,0,0,0,0,0,0,0,0,0,0,0,0,0,0,0,0,0,0,0,0,0,null,null,0,0,0,0,0,0,0,0,0,0,0,0,0,0,0,0,0,0,0,0,0,0,0,0,0,0,0,0,0,0,0,0,0]
[null,null,null,null,null,null,null,null,null,null,null,null,null,null,99.499999999998622,0,"",0,"",0,null,null,99.499999999998622,0,"",0,"",0,null,null,0,0,0,0,0,0,0,0,0,0,0,0,0,0,0,{"$f":"SUMIFS($Q1002,$T1002,AT$7)","v":0},0,0,0,0,0,0,0,0,0,0,0,0,0,0,0,0,0,null,null,0,0,0,0,0,0,0,0,0,0,0,0,0,0,0,0,0,0,0,0,0,0,0,0,0,0,0,0,0,0,0,0,0]
[null,null,null,null,null,null,null,null,null,null,null,null,null,null,99.599999999998616,0,"",0,"",0,null,null,99.599999999998616,0,"",0,"",0,null,null,{"$f":"SUMIFS($Q1003,$T1003,AE$7)","v":0},0,0,0,0,0,0,0,0,0,0,0,0,0,0,0,0,0,0,0,0,0,0,0,0,0,0,0,0,0,0,0,0,null,null,0,0,0,0,0,0,0,0,0,0,0,0,0,0,0,0,0,0,0,0,0,0,0,0,0,0,0,0,0,0,0,0,0]
[null,null,null,null,null,null,null,null,null,null,null,null,null,null,99.69999999999861,0,"",0,"",0,null,null,99.69999999999861,0,"",0,"",0,null,null,0,0,0,0,0,0,0,0,0,0,0,0,0,0,0,0,0,0,0,0,0,0,0,0,0,0,0,0,0,0,0,0,0,null,null,0,0,0,0,0,0,0,0,0,0,0,0,0,0,0,0,0,0,0,0,0,0,0,0,0,0,0,0,0,0,0,0,0]
[null,null,null,null,null,null,null,null,null,null,null,null,null,null,99.799999999998604,0,"",0,"",0,null,null,99.799999999998604,0,"",0,"",0,null,null,0,0,0,0,0,0,0,0,0,0,0,0,0,0,0,0,0,0,0,0,0,0,0,0,0,0,0,0,0,0,0,0,0,null,null,0,0,0,0,0,0,0,0,0,0,0,0,0,0,0,0,0,0,0,0,0,0,0,0,0,0,0,0,0,0,0,0,0]
[null,null,null,null,null,null,null,null,null,null,null,null,null,null,{"$f":"O1005+$N$7","v":99.899999999998599},0,"",0,"",0,null,null,{"$f":"W1005+$N$7","v":99.899999999998599},0,"",0,"",0,null,null,0,0,0,0,0,0,0,0,0,0,0,0,0,0,0,0,0,0,0,0,0,0,0,0,0,0,0,0,0,0,0,0,0,null,null,0,0,0,0,0,0,0,0,0,0,0,0,0,0,0,0,0,0,0,0,0,0,0,0,0,0,0,0,0,0,0,0,0]
[null,null,null,null,null,null,null,null,null,null,null,null,null,null,100,{"$f":"MAX(E9:E41)","v":0},null,null,null,null,null,null,100,{"$f":"MAX(F9:F41)","v":0}]

{"sheet":"Cost&CO2_Calc","index":11,"n_rows":282,"n_cols":51,"rows_kept":282,"cut":false,"hidden":true,"merged":[[207,4,207,29],[248,29,248,33],[248,34,248,38],[126,9,126,11],[125,3,125,11],[126,43,126,49],[164,4,164,29],[50,4,50,29],[126,29,126,33],[126,34,126,38]]}
[]
[null,"Ship parameters","Value","Ship parameters","Value","Ship parameters","Value","Status","Comment"]
[null,"Expected lifetime vessel",{"$f":"Dashboard!E22","v":0},null,null,null,null,"linked"]
[null,"Vessel type & size category ",{"$f":"'Measure summary'!D47","v":"Not selected"},"Fuel type 1",null,"Fuel type2",null,"linked",null,null,{"$f":"(E8/C8)*E7","v":{"$error":"#DIV/0!"}}]
[null,"Fuel type1",{"$f":"E5","v":0},"Fuel type1",{"$f":"Dashboard!H12","v":0},"Fuel Type2",{"$f":"Dashboard!H18","v":0},"linked"]
[null,"Fuel type2",{"$f":"G5","v":0},"CO2 factor1",{"$f":"IFERROR(_xlfn.XLOOKUP(E5,DropDownList!A59:A65,DropDownList!B59:B65,,0,1),0)","v":0},"CO2 factor2",{"$f":"IF(G5=0,0,_xlfn.XLOOKUP(G5,DropDownList!A59:A65,DropDownList!B59:B65,,0,1))","v":0},"linked"]
[null,"Fuel price (weighted)",{"$f":"_xlfn.IFS(AND(G5=0,G8=0,G7=0),(E8/C8)*E7+(G8/C8)*G7,AND(G5<>0,G8<>0,G7<>0),(E8/C8)*E7+(G8/C8)*G7,AND(G8<>0,G7=0),(E8/C8)*E7+(G8/C8)*E7)","v":{"$error":"#DIV/0!"}},"Fuel price1",{"$f":"Dashboard!H16","v":0},"Fuel price2",{"$f":"Dashboard!H22","v":0},"linked"]
[null,"Total baseline fuel used [MT/year]",{"$f":"E8*E10+G8*G10","v":0},"Baseline fuel1 used [MT/year]",{"$f":"IF(Dashboard!H14=\"\",0,Dashboard!H14)","v":0},"Baseline fuel2 used [MT/year]",{"$f":"IF(Dashboard!H14=\"\",0,Dashboard!H20)","v":0},"linked","Linkes til 4th study if user dont have this info"]
[null,"Discounting rate",1.08,"LCV (MJ/kg)",{"$f":"IFERROR(_xlfn.XLOOKUP(E5,DropDownList!A59:A65,DropDownList!C59:C65,,0,1),0)","v":0},"LCV (MJ/kg)",{"$f":"IF(G5=0,0,_xlfn.XLOOKUP(G5,DropDownList!A59:A65,DropDownList!C59:C65,,0,1))","v":0},null,"Må linkes advanced",null,null,{"$f":"15*1.5%*C12","v":0}]
[null,"AER starting value",{"$f":"Dashboard!T16","v":0},"HFO-eq",{"$f":"E9/40.5","v":0},"HFO-eq",{"$f":"G9/40.5","v":0},"linked","q19 hvis q21 er blank",null,null,null,null,null,null,null,null,null,null,null,null,null,null,null,null,null,null,null,null,null,null,null,null,null,"Present Value Interest Factor of Annuity (PVIFA) (investopedia.com)"]
[null,"Retrofit/NB",{"$f":"'Measure summary'!H7","v":"Select from list"}]
[null,"CO2 calc Total for baseline year",{"$f":"E12+G12","v":0},"CO2 calc fuel1",{"$f":"E8*E6","v":0},"CO2 calc fuel2",{"$f":"G6*G8","v":0}]
[null,"EEDI starting value",{"$f":"IF(Dashboard!T22=\"\",0,Dashboard!T22)","v":0},null,null,null,null,"linked",null,null,null,null,null,null,null,null,null,null,null,null,null,null,null,null,null,null,null,null,null,null,null,null,null,null,"Annualized Net Present Value (ANPV) - Accounting Hub (accountinghub-online.com)"]
[null,null,null,"Column count",1,2,3,4,5,6,7,8,9,10,11]
[null,"Baseline - Catch for each measure calculated in isolation",null,null,null,"Needs to be updated in measure summary",null,null,"Needs to updated in measure summary"]
[null,"Measure","Included (or incomp)","Filtered measure list","Data cleaning","Expected lifetime measure","Expected lifetime vessel","Shortest lifetime","Fuel saving typical (%)","Δfuel used","Δ fuel cost","OPEX","Δ CO2","NPV annualized ","Catch","Fuel saving high","fuel saving low","EEXi savings"]
[1,{"$f":"'Measure summary'!A16","v":"Cargo handling systems"},{"$f":"IF(AND( _xlfn.XLOOKUP( 'Cost&CO2_Calc'!B17, Dashboard!$X$29:$X$42,Dashboard!$AB$29:$AB$42,FALSE,0)=TRUE,_xlfn.XLOOKUP( 'Cost&CO2_Calc'!B17, Dashboard!$X$29:$X$42,Dashboard!$AC$29:$AC$42,FALSE,0)=\"\",IFERROR(VLOOKUP(B17,Dashboard!$X$29:$AG$42,7,FALSE),FALSE)=1),1,0)","v":0},{"$f":"_xlfn._xlws.FILTER(B17:B47,C17:C47=1,\"\")","v":""},{"$f":"IF(D17=\"\",0,D17)","v":0},{"$f":"_xlfn.XLOOKUP(E17,Measures[[#All],[Measure]],Measures[[#All],[Lifetime '[Years']]],\"\",0,1)","v":""},{"$f":"$C$3","v":0},{"$f":"_xlfn.IFS(E17=0,0,AND(_xlfn.XLOOKUP(E17,Measures[[#All],[Measure]],Measures[[#All],[Technical/operational]],\"\",0,1)=\"Technical\",E17=\"Hull performance coating\"),G17,\nAND(_xlfn.XLOOKUP(E17,Measures[[#All],[Measure]],Measures[[#All],[Technical/operational]],\"\",0,1)=\"Operational\",F17>=G17),G17,\nAND(_xlfn.XLOOKUP(E17,Measures[[#All],[Measure]],Measures[[#All],[Technical/operational]],\"\",0,1)=\"Operational\",F17<G17),G17,\nAND(_xlfn.XLOOKUP(E17,Measures[[#All],[Measure]],Measures[[#All],[Technical/operational]],\"\",0,1)=\"Technical\",E17<>\"Hull performance coating\",F17>=G17),G17,\nAND(_xlfn.XLOOKUP(E17,Measures[[#All],[Measure]],Measures[[#All],[Technical/operational]],\"\",0,1)=\"Technical\",E17<>\"Hull performance coating\",F17<G17),F17)","v":0},{"$f":"_xlfn.XLOOKUP(E17,Measures[[#All],[Measure]],Measures[[#All],[Typical fuel reduction '[%']]],0,0,1)","v":0},{"$f":"_xlfn.IFS(E17=0,0,AND(_xlfn.XLOOKUP(E17,Measures[[#All],[Measure]],Measures[[#All],[Technical/operational]],\"\",0,1)=\"Technical\",F17>=G17),($C$8*I17),\nAND(_xlfn.XLOOKUP(E17,Measures[[#All],[Measure]],Measures[[#All],[Technical/operational]],\"\",0,1)=\"Operational\",F17<G17),($C$8*I17),\nAND(_xlfn.XLOOKUP(E17,Measures[[#All],[Measure]],Measures[[#All],[Technical/operational]],\"\",0,1)=\"Operational\",F17>=G17),($C$8*I17),\nAND(_xlfn.XLOOKUP(E17,Measures[[#All],[Measure]],Measures[[#All],[Technical/operational]],\"\",0,1)=\"Technical\",E17=\"Hull performance coating\",F17<G17),($C$8*I17),\nAND(_xlfn.XLOOKUP(E17,Measures[[#All],[Measure]],Measures[[#All],[Technical/operational]],\"\",0,1)=\"Technical\",E17<>\"Hull performance coating\",F17<G17),($C$8*I17)\n)","v":0},{"$f":"$C$7*J17","v":{"$error":"#DIV/0!"}},{"$f":"_xlfn.XLOOKUP(E17,Measures[[#All],[Measure]],Measures[[#All],[OPEX \n'[$ per year']]],\"\",0,1)","v":""},{"$f":"_xlfn.IFS(E17=0,0,AND(_xlfn.XLOOKUP(E17,Measures[[#All],[Measure]],Measures[[#All],[Technical/operational]],\"\",0,1)=\"Technical\",F17>=G17),($C$12*I17),\nAND(_xlfn.XLOOKUP(E17,Measures[[#All],[Measure]],Measures[[#All],[Technical/operational]],\"\",0,1)=\"Operational\",F17<G17),($C$12*I17),\nAND(_xlfn.XLOOKUP(E17,Measures[[#All],[Measure]],Measures[[#All],[Technical/operational]],\"\",0,1)=\"Operational\",F17>=G17),($C$12*I17),\nAND(_xlfn.XLOOKUP(E17,Measures[[#All],[Measure]],Measures[[#All],[Technical/operational]],\"\",0,1)=\"Technical\",E17=\"Hull performance coating\",F17<G17),($C$12*I17),\nAND(_xlfn.XLOOKUP(E17,Measures[[#All],[Measure]],Measures[[#All],[Technical/operational]],\"\",0,1)=\"Technical\",E17<>\"Hull performance coating\",F17<G17),($C$12*I17)\n)","v":0},{"$f":"AG55","v":""},{"$f":"IF(E17=0,\"Not included\",IF(M17=0,\"NA\",N17/M17))","v":"Not included"},{"$f":"_xlfn.XLOOKUP(E17,Measures[[#All],[Measure]],Measures[[#All],[Fuel savings high '[%']]],0,0,1)","v":0},{"$f":"_xlfn.XLOOKUP(E17,Measures[[#All],[Measure]],Measures[[#All],[Fuel savings low '[%']]],0,0,1)","v":0},{"$f":"_xlfn.XLOOKUP(E17,Measures[[#All],[Measure]],Measures[[#All],[Typical EEXI / EEDI reduction '[%']]],0,0,1)","v":0},null,null,null,null,null,null,null,null,null,null,null,null,null,null,null,null,"Test using example from link above"]
[2,{"$f":"'Measure summary'!A17","v":"Energy efficient lighting system"},{"$f":"IF(AND( _xlfn.XLOOKUP( 'Cost&CO2_Calc'!B18, Dashboard!$X$29:$X$42,Dashboard!$AB$29:$AB$42,FALSE,0)=TRUE,_xlfn.XLOOKUP( 'Cost&CO2_Calc'!B18, Dashboard!$X$29:$X$42,Dashboard!$AC$29:$AC$42,FALSE,0)=\"\",IFERROR(VLOOKUP(B18,Dashboard!$X$29:$AG$42,7,FALSE),FALSE)=1),1,0)","v":0},null,{"$f":"IF(D18=\"\",0,D18)","v":0},{"$f":"_xlfn.XLOOKUP(E18,Measures[[#All],[Measure]],Measures[[#All],[Lifetime '[Years']]],\"\",0,1)","v":""},0,{"$f":"_xlfn.IFS(E18=0,0,AND(_xlfn.XLOOKUP(E18,Measures[[#All],[Measure]],Measures[[#All],[Technical/operational]],\"\",0,1)=\"Technical\",E18=\"Hull performance coating\"),G18,\nAND(_xlfn.XLOOKUP(E18,Measures[[#All],[Measure]],Measures[[#All],[Technical/operational]],\"\",0,1)=\"Operational\",F18>=G18),G18,\nAND(_xlfn.XLOOKUP(E18,Measures[[#All],[Measure]],Measures[[#All],[Technical/operational]],\"\",0,1)=\"Operational\",F18<G18),G18,\nAND(_xlfn.XLOOKUP(E18,Measures[[#All],[Measure]],Measures[[#All],[Technical/operational]],\"\",0,1)=\"Technical\",E18<>\"Hull performance coating\",F18>=G18),G18,\nAND(_xlfn.XLOOKUP(E18,Measures[[#All],[Measure]],Measures[[#All],[Technical/operational]],\"\",0,1)=\"Technical\",E18<>\"Hull performance coating\",F18<G18),F18)","v":0},{"$f":"_xlfn.XLOOKUP(E18,Measures[[#All],[Measure]],Measures[[#All],[Typical fuel reduction '[%']]],0,0,1)","v":0},{"$f":"_xlfn.IFS(E18=0,0,AND(_xlfn.XLOOKUP(E18,Measures[[#All],[Measure]],Measures[[#All],[Technical/operational]],\"\",0,1)=\"Technical\",F18>=G18),($C$8*I18),\nAND(_xlfn.XLOOKUP(E18,Measures[[#All],[Measure]],Measures[[#All],[Technical/operational]],\"\",0,1)=\"Operational\",F18<G18),($C$8*I18),\nAND(_xlfn.XLOOKUP(E18,Measures[[#All],[Measure]],Measures[[#All],[Technical/operational]],\"\",0,1)=\"Operational\",F18>=G18),($C$8*I18),\nAND(_xlfn.XLOOKUP(E18,Measures[[#All],[Measure]],Measures[[#All],[Technical/operational]],\"\",0,1)=\"Technical\",E18=\"Hull performance coating\",F18<G18),($C$8*I18),\nAND(_xlfn.XLOOKUP(E18,Measures[[#All],[Measure]],Measures[[#All],[Technical/operational]],\"\",0,1)=\"Technical\",E18<>\"Hull performance coating\",F18<G18),($C$8*I18)\n)","v":0},{"$f":"$C$7*J18","v":{"$error":"#DIV/0!"}},{"$f":"_xlfn.XLOOKUP(E18,Measures[[#All],[Measure]],Measures[[#All],[OPEX \n'[$ per year']]],\"\",0,1)","v":""},{"$f":"_xlfn.IFS(E18=0,0,AND(_xlfn.XLOOKUP(E18,Measures[[#All],[Measure]],Measures[[#All],[Technical/operational]],\"\",0,1)=\"Technical\",F18>=G18),($C$12*I18),\nAND(_xlfn.XLOOKUP(E18,Measures[[#All],[Measure]],Measures[[#All],[Technical/operational]],\"\",0,1)=\"Operational\",F18<G18),($C$12*I18),\nAND(_xlfn.XLOOKUP(E18,Measures[[#All],[Measure]],Measures[[#All],[Technical/operational]],\"\",0,1)=\"Operational\",F18>=G18),($C$12*I18),\nAND(_xlfn.XLOOKUP(E18,Measures[[#All],[Measure]],Measures[[#All],[Technical/operational]],\"\",0,1)=\"Technical\",E18=\"Hull performance coating\",F18<G18),($C$12*I18),\nAND(_xlfn.XLOOKUP(E18,Measures[[#All],[Measure]],Measures[[#All],[Technical/operational]],\"\",0,1)=\"Technical\",E18<>\"Hull performance coating\",F18<G18),($C$12*I18)\n)","v":0},"",{"$f":"IF(E18=0,\"Not included\",IF(M18=0,\"NA\",N18/M18))","v":"Not included"},{"$f":"_xlfn.XLOOKUP(E18,Measures[[#All],[Measure]],Measures[[#All],[Fuel savings high '[%']]],0,0,1)","v":0},{"$f":"_xlfn.XLOOKUP(E18,Measures[[#All],[Measure]],Measures[[#All],[Fuel savings low '[%']]],0,0,1)","v":0},{"$f":"_xlfn.XLOOKUP(E18,Measures[[#All],[Measure]],Measures[[#All],[Typical EEXI / EEDI reduction '[%']]],0,0,1)","v":0}]
[3,{"$f":"'Measure summary'!A18","v":"Frequency controlled electric motors "},{"$f":"IF(AND( _xlfn.XLOOKUP( 'Cost&CO2_Calc'!B19, Dashboard!$X$29:$X$42,Dashboard!$AB$29:$AB$42,FALSE,0)=TRUE,_xlfn.XLOOKUP( 'Cost&CO2_Calc'!B19, Dashboard!$X$29:$X$42,Dashboard!$AC$29:$AC$42,FALSE,0)=\"\",IFERROR(VLOOKUP(B19,Dashboard!$X$29:$AG$42,7,FALSE),FALSE)=1),1,0)","v":0},null,0,{"$f":"_xlfn.XLOOKUP(E19,Measures[[#All],[Measure]],Measures[[#All],[Lifetime '[Years']]],\"\",0,1)","v":""},0,{"$f":"_xlfn.IFS(E19=0,0,AND(_xlfn.XLOOKUP(E19,Measures[[#All],[Measure]],Measures[[#All],[Technical/operational]],\"\",0,1)=\"Technical\",E19=\"Hull performance coating\"),G19,\nAND(_xlfn.XLOOKUP(E19,Measures[[#All],[Measure]],Measures[[#All],[Technical/operational]],\"\",0,1)=\"Operational\",F19>=G19),G19,\nAND(_xlfn.XLOOKUP(E19,Measures[[#All],[Measure]],Measures[[#All],[Technical/operational]],\"\",0,1)=\"Operational\",F19<G19),G19,\nAND(_xlfn.XLOOKUP(E19,Measures[[#All],[Measure]],Measures[[#All],[Technical/operational]],\"\",0,1)=\"Technical\",E19<>\"Hull performance coating\",F19>=G19),G19,\nAND(_xlfn.XLOOKUP(E19,Measures[[#All],[Measure]],Measures[[#All],[Technical/operational]],\"\",0,1)=\"Technical\",E19<>\"Hull performance coating\",F19<G19),F19)","v":0},{"$f":"_xlfn.XLOOKUP(E19,Measures[[#All],[Measure]],Measures[[#All],[Typical fuel reduction '[%']]],0,0,1)","v":0},{"$f":"_xlfn.IFS(E19=0,0,AND(_xlfn.XLOOKUP(E19,Measures[[#All],[Measure]],Measures[[#All],[Technical/operational]],\"\",0,1)=\"Technical\",F19>=G19),($C$8*I19),\nAND(_xlfn.XLOOKUP(E19,Measures[[#All],[Measure]],Measures[[#All],[Technical/operational]],\"\",0,1)=\"Operational\",F19<G19),($C$8*I19),\nAND(_xlfn.XLOOKUP(E19,Measures[[#All],[Measure]],Measures[[#All],[Technical/operational]],\"\",0,1)=\"Operational\",F19>=G19),($C$8*I19),\nAND(_xlfn.XLOOKUP(E19,Measures[[#All],[Measure]],Measures[[#All],[Technical/operational]],\"\",0,1)=\"Technical\",E19=\"Hull performance coating\",F19<G19),($C$8*I19),\nAND(_xlfn.XLOOKUP(E19,Measures[[#All],[Measure]],Measures[[#All],[Technical/operational]],\"\",0,1)=\"Technical\",E19<>\"Hull performance coating\",F19<G19),($C$8*I19)\n)","v":0},{"$f":"$C$7*J19","v":{"$error":"#DIV/0!"}},{"$f":"_xlfn.XLOOKUP(E19,Measures[[#All],[Measure]],Measures[[#All],[OPEX \n'[$ per year']]],\"\",0,1)","v":""},{"$f":"_xlfn.IFS(E19=0,0,AND(_xlfn.XLOOKUP(E19,Measures[[#All],[Measure]],Measures[[#All],[Technical/operational]],\"\",0,1)=\"Technical\",F19>=G19),($C$12*I19),\nAND(_xlfn.XLOOKUP(E19,Measures[[#All],[Measure]],Measures[[#All],[Technical/operational]],\"\",0,1)=\"Operational\",F19<G19),($C$12*I19),\nAND(_xlfn.XLOOKUP(E19,Measures[[#All],[Measure]],Measures[[#All],[Technical/operational]],\"\",0,1)=\"Operational\",F19>=G19),($C$12*I19),\nAND(_xlfn.XLOOKUP(E19,Measures[[#All],[Measure]],Measures[[#All],[Technical/operational]],\"\",0,1)=\"Technical\",E19=\"Hull performance coating\",F19<G19),($C$12*I19),\nAND(_xlfn.XLOOKUP(E19,Measures[[#All],[Measure]],Measures[[#All],[Technical/operational]],\"\",0,1)=\"Technical\",E19<>\"Hull performance coating\",F19<G19),($C$12*I19)\n)","v":0},{"$f":"AG57","v":""},{"$f":"IF(E19=0,\"Not included\",IF(M19=0,\"NA\",N19/M19))","v":"Not included"},{"$f":"_xlfn.XLOOKUP(E19,Measures[[#All],[Measure]],Measures[[#All],[Fuel savings high '[%']]],0,0,1)","v":0},{"$f":"_xlfn.XLOOKUP(E19,Measures[[#All],[Measure]],Measures[[#All],[Fuel savings low '[%']]],0,0,1)","v":0},{"$f":"_xlfn.XLOOKUP(E19,Measures[[#All],[Measure]],Measures[[#All],[Typical EEXI / EEDI reduction '[%']]],0,0,1)","v":0},null,null,null,null,null,null,null,null,null,null,null,null,null,null,null,null,"rate",0.1]
[4,{"$f":"'Measure summary'!A19","v":"Fixed sails or wings"},{"$f":"IF(AND( _xlfn.XLOOKUP( 'Cost&CO2_Calc'!B20, Dashboard!$X$29:$X$42,Dashboard!$AB$29:$AB$42,FALSE,0)=TRUE,_xlfn.XLOOKUP( 'Cost&CO2_Calc'!B20, Dashboard!$X$29:$X$42,Dashboard!$AC$29:$AC$42,FALSE,0)=\"\",IFERROR(VLOOKUP(B20,Dashboard!$X$29:$AG$42,7,FALSE),FALSE)=1),1,0)","v":0},null,0,{"$f":"_xlfn.XLOOKUP(E20,Measures[[#All],[Measure]],Measures[[#All],[Lifetime '[Years']]],\"\",0,1)","v":""},0,{"$f":"_xlfn.IFS(E20=0,0,AND(_xlfn.XLOOKUP(E20,Measures[[#All],[Measure]],Measures[[#All],[Technical/operational]],\"\",0,1)=\"Technical\",E20=\"Hull performance coating\"),G20,\nAND(_xlfn.XLOOKUP(E20,Measures[[#All],[Measure]],Measures[[#All],[Technical/operational]],\"\",0,1)=\"Operational\",F20>=G20),G20,\nAND(_xlfn.XLOOKUP(E20,Measures[[#All],[Measure]],Measures[[#All],[Technical/operational]],\"\",0,1)=\"Operational\",F20<G20),G20,\nAND(_xlfn.XLOOKUP(E20,Measures[[#All],[Measure]],Measures[[#All],[Technical/operational]],\"\",0,1)=\"Technical\",E20<>\"Hull performance coating\",F20>=G20),G20,\nAND(_xlfn.XLOOKUP(E20,Measures[[#All],[Measure]],Measures[[#All],[Technical/operational]],\"\",0,1)=\"Technical\",E20<>\"Hull performance coating\",F20<G20),F20)","v":0},{"$f":"_xlfn.XLOOKUP(E20,Measures[[#All],[Measure]],Measures[[#All],[Typical fuel reduction '[%']]],0,0,1)","v":0},{"$f":"_xlfn.IFS(E20=0,0,AND(_xlfn.XLOOKUP(E20,Measures[[#All],[Measure]],Measures[[#All],[Technical/operational]],\"\",0,1)=\"Technical\",F20>=G20),($C$8*I20),\nAND(_xlfn.XLOOKUP(E20,Measures[[#All],[Measure]],Measures[[#All],[Technical/operational]],\"\",0,1)=\"Operational\",F20<G20),($C$8*I20),\nAND(_xlfn.XLOOKUP(E20,Measures[[#All],[Measure]],Measures[[#All],[Technical/operational]],\"\",0,1)=\"Operational\",F20>=G20),($C$8*I20),\nAND(_xlfn.XLOOKUP(E20,Measures[[#All],[Measure]],Measures[[#All],[Technical/operational]],\"\",0,1)=\"Technical\",E20=\"Hull performance coating\",F20<G20),($C$8*I20),\nAND(_xlfn.XLOOKUP(E20,Measures[[#All],[Measure]],Measures[[#All],[Technical/operational]],\"\",0,1)=\"Technical\",E20<>\"Hull performance coating\",F20<G20),($C$8*I20)\n)","v":0},{"$error":"#DIV/0!"},{"$f":"_xlfn.XLOOKUP(E20,Measures[[#All],[Measure]],Measures[[#All],[OPEX \n'[$ per year']]],\"\",0,1)","v":""},{"$f":"_xlfn.IFS(E20=0,0,AND(_xlfn.XLOOKUP(E20,Measures[[#All],[Measure]],Measures[[#All],[Technical/operational]],\"\",0,1)=\"Technical\",F20>=G20),($C$12*I20),\nAND(_xlfn.XLOOKUP(E20,Measures[[#All],[Measure]],Measures[[#All],[Technical/operational]],\"\",0,1)=\"Operational\",F20<G20),($C$12*I20),\nAND(_xlfn.XLOOKUP(E20,Measures[[#All],[Measure]],Measures[[#All],[Technical/operational]],\"\",0,1)=\"Operational\",F20>=G20),($C$12*I20),\nAND(_xlfn.XLOOKUP(E20,Measures[[#All],[Measure]],Measures[[#All],[Technical/operational]],\"\",0,1)=\"Technical\",E20=\"Hull performance coating\",F20<G20),($C$12*I20),\nAND(_xlfn.XLOOKUP(E20,Measures[[#All],[Measure]],Measures[[#All],[Technical/operational]],\"\",0,1)=\"Technical\",E20<>\"Hull performance coating\",F20<G20),($C$12*I20)\n)","v":0},"","Not included",{"$f":"_xlfn.XLOOKUP(E20,Measures[[#All],[Measure]],Measures[[#All],[Fuel savings high '[%']]],0,0,1)","v":0},{"$f":"_xlfn.XLOOKUP(E20,Measures[[#All],[Measure]],Measures[[#All],[Fuel savings low '[%']]],0,0,1)","v":0},{"$f":"_xlfn.XLOOKUP(E20,Measures[[#All],[Measure]],Measures[[#All],[Typical EEXI / EEDI reduction '[%']]],0,0,1)","v":0},null,null,null,null,null,null,null,null,null,null,null,null,null,null,null,null,"period",3]
[5,{"$f":"'Measure summary'!A20","v":"Kite"},{"$f":"IF(AND( _xlfn.XLOOKUP( 'Cost&CO2_Calc'!B21, Dashboard!$X$29:$X$42,Dashboard!$AB$29:$AB$42,FALSE,0)=TRUE,_xlfn.XLOOKUP( 'Cost&CO2_Calc'!B21, Dashboard!$X$29:$X$42,Dashboard!$AC$29:$AC$42,FALSE,0)=\"\",IFERROR(VLOOKUP(B21,Dashboard!$X$29:$AG$42,7,FALSE),FALSE)=1),1,0)","v":0},null,0,{"$f":"_xlfn.XLOOKUP(E21,Measures[[#All],[Measure]],Measures[[#All],[Lifetime '[Years']]],\"\",0,1)","v":""},0,{"$f":"_xlfn.IFS(E21=0,0,AND(_xlfn.XLOOKUP(E21,Measures[[#All],[Measure]],Measures[[#All],[Technical/operational]],\"\",0,1)=\"Technical\",E21=\"Hull performance coating\"),G21,\nAND(_xlfn.XLOOKUP(E21,Measures[[#All],[Measure]],Measures[[#All],[Technical/operational]],\"\",0,1)=\"Operational\",F21>=G21),G21,\nAND(_xlfn.XLOOKUP(E21,Measures[[#All],[Measure]],Measures[[#All],[Technical/operational]],\"\",0,1)=\"Operational\",F21<G21),G21,\nAND(_xlfn.XLOOKUP(E21,Measures[[#All],[Measure]],Measures[[#All],[Technical/operational]],\"\",0,1)=\"Technical\",E21<>\"Hull performance coating\",F21>=G21),G21,\nAND(_xlfn.XLOOKUP(E21,Measures[[#All],[Measure]],Measures[[#All],[Technical/operational]],\"\",0,1)=\"Technical\",E21<>\"Hull performance coating\",F21<G21),F21)","v":0},{"$f":"_xlfn.XLOOKUP(E21,Measures[[#All],[Measure]],Measures[[#All],[Typical fuel reduction '[%']]],0,0,1)","v":0},{"$f":"_xlfn.IFS(E21=0,0,AND(_xlfn.XLOOKUP(E21,Measures[[#All],[Measure]],Measures[[#All],[Technical/operational]],\"\",0,1)=\"Technical\",F21>=G21),($C$8*I21),\nAND(_xlfn.XLOOKUP(E21,Measures[[#All],[Measure]],Measures[[#All],[Technical/operational]],\"\",0,1)=\"Operational\",F21<G21),($C$8*I21),\nAND(_xlfn.XLOOKUP(E21,Measures[[#All],[Measure]],Measures[[#All],[Technical/operational]],\"\",0,1)=\"Operational\",F21>=G21),($C$8*I21),\nAND(_xlfn.XLOOKUP(E21,Measures[[#All],[Measure]],Measures[[#All],[Technical/operational]],\"\",0,1)=\"Technical\",E21=\"Hull performance coating\",F21<G21),($C$8*I21),\nAND(_xlfn.XLOOKUP(E21,Measures[[#All],[Measure]],Measures[[#All],[Technical/operational]],\"\",0,1)=\"Technical\",E21<>\"Hull performance coating\",F21<G21),($C$8*I21)\n)","v":0},{"$f":"$C$7*J21","v":{"$error":"#DIV/0!"}},{"$f":"_xlfn.XLOOKUP(E21,Measures[[#All],[Measure]],Measures[[#All],[OPEX \n'[$ per year']]],\"\",0,1)","v":""},{"$f":"_xlfn.IFS(E21=0,0,AND(_xlfn.XLOOKUP(E21,Measures[[#All],[Measure]],Measures[[#All],[Technical/operational]],\"\",0,1)=\"Technical\",F21>=G21),($C$12*I21),\nAND(_xlfn.XLOOKUP(E21,Measures[[#All],[Measure]],Measures[[#All],[Technical/operational]],\"\",0,1)=\"Operational\",F21<G21),($C$12*I21),\nAND(_xlfn.XLOOKUP(E21,Measures[[#All],[Measure]],Measures[[#All],[Technical/operational]],\"\",0,1)=\"Operational\",F21>=G21),($C$12*I21),\nAND(_xlfn.XLOOKUP(E21,Measures[[#All],[Measure]],Measures[[#All],[Technical/operational]],\"\",0,1)=\"Technical\",E21=\"Hull performance coating\",F21<G21),($C$12*I21),\nAND(_xlfn.XLOOKUP(E21,Measures[[#All],[Measure]],Measures[[#All],[Technical/operational]],\"\",0,1)=\"Technical\",E21<>\"Hull performance coating\",F21<G21),($C$12*I21)\n)","v":0},"","Not included",{"$f":"_xlfn.XLOOKUP(E21,Measures[[#All],[Measure]],Measures[[#All],[Fuel savings high '[%']]],0,0,1)","v":0},{"$f":"_xlfn.XLOOKUP(E21,Measures[[#All],[Measure]],Measures[[#All],[Fuel savings low '[%']]],0,0,1)","v":0},{"$f":"_xlfn.XLOOKUP(E21,Measures[[#All],[Measure]],Measures[[#All],[Typical EEXI / EEDI reduction '[%']]],0,0,1)","v":0}]
[6,{"$f":"'Measure summary'!A21","v":"Solar panels"},{"$f":"IF(AND( _xlfn.XLOOKUP( 'Cost&CO2_Calc'!B22, Dashboard!$X$29:$X$42,Dashboard!$AB$29:$AB$42,FALSE,0)=TRUE,_xlfn.XLOOKUP( 'Cost&CO2_Calc'!B22, Dashboard!$X$29:$X$42,Dashboard!$AC$29:$AC$42,FALSE,0)=\"\",IFERROR(VLOOKUP(B22,Dashboard!$X$29:$AG$42,7,FALSE),FALSE)=1),1,0)","v":0},null,0,{"$f":"_xlfn.XLOOKUP(E22,Measures[[#All],[Measure]],Measures[[#All],[Lifetime '[Years']]],\"\",0,1)","v":""},0,{"$f":"_xlfn.IFS(E22=0,0,AND(_xlfn.XLOOKUP(E22,Measures[[#All],[Measure]],Measures[[#All],[Technical/operational]],\"\",0,1)=\"Technical\",E22=\"Hull performance coating\"),G22,\nAND(_xlfn.XLOOKUP(E22,Measures[[#All],[Measure]],Measures[[#All],[Technical/operational]],\"\",0,1)=\"Operational\",F22>=G22),G22,\nAND(_xlfn.XLOOKUP(E22,Measures[[#All],[Measure]],Measures[[#All],[Technical/operational]],\"\",0,1)=\"Operational\",F22<G22),G22,\nAND(_xlfn.XLOOKUP(E22,Measures[[#All],[Measure]],Measures[[#All],[Technical/operational]],\"\",0,1)=\"Technical\",E22<>\"Hull performance coating\",F22>=G22),G22,\nAND(_xlfn.XLOOKUP(E22,Measures[[#All],[Measure]],Measures[[#All],[Technical/operational]],\"\",0,1)=\"Technical\",E22<>\"Hull performance coating\",F22<G22),F22)","v":0},{"$f":"_xlfn.XLOOKUP(E22,Measures[[#All],[Measure]],Measures[[#All],[Typical fuel reduction '[%']]],0,0,1)","v":0},{"$f":"_xlfn.IFS(E22=0,0,AND(_xlfn.XLOOKUP(E22,Measures[[#All],[Measure]],Measures[[#All],[Technical/operational]],\"\",0,1)=\"Technical\",F22>=G22),($C$8*I22),\nAND(_xlfn.XLOOKUP(E22,Measures[[#All],[Measure]],Measures[[#All],[Technical/operational]],\"\",0,1)=\"Operational\",F22<G22),($C$8*I22),\nAND(_xlfn.XLOOKUP(E22,Measures[[#All],[Measure]],Measures[[#All],[Technical/operational]],\"\",0,1)=\"Operational\",F22>=G22),($C$8*I22),\nAND(_xlfn.XLOOKUP(E22,Measures[[#All],[Measure]],Measures[[#All],[Technical/operational]],\"\",0,1)=\"Technical\",E22=\"Hull performance coating\",F22<G22),($C$8*I22),\nAND(_xlfn.XLOOKUP(E22,Measures[[#All],[Measure]],Measures[[#All],[Technical/operational]],\"\",0,1)=\"Technical\",E22<>\"Hull performance coating\",F22<G22),($C$8*I22)\n)","v":0},{"$error":"#DIV/0!"},{"$f":"_xlfn.XLOOKUP(E22,Measures[[#All],[Measure]],Measures[[#All],[OPEX \n'[$ per year']]],\"\",0,1)","v":""},{"$f":"_xlfn.IFS(E22=0,0,AND(_xlfn.XLOOKUP(E22,Measures[[#All],[Measure]],Measures[[#All],[Technical/operational]],\"\",0,1)=\"Technical\",F22>=G22),($C$12*I22),\nAND(_xlfn.XLOOKUP(E22,Measures[[#All],[Measure]],Measures[[#All],[Technical/operational]],\"\",0,1)=\"Operational\",F22<G22),($C$12*I22),\nAND(_xlfn.XLOOKUP(E22,Measures[[#All],[Measure]],Measures[[#All],[Technical/operational]],\"\",0,1)=\"Operational\",F22>=G22),($C$12*I22),\nAND(_xlfn.XLOOKUP(E22,Measures[[#All],[Measure]],Measures[[#All],[Technical/operational]],\"\",0,1)=\"Technical\",E22=\"Hull performance coating\",F22<G22),($C$12*I22),\nAND(_xlfn.XLOOKUP(E22,Measures[[#All],[Measure]],Measures[[#All],[Technical/operational]],\"\",0,1)=\"Technical\",E22<>\"Hull performance coating\",F22<G22),($C$12*I22)\n)","v":0},"","Not included",{"$f":"_xlfn.XLOOKUP(E22,Measures[[#All],[Measure]],Measures[[#All],[Fuel savings high '[%']]],0,0,1)","v":0},{"$f":"_xlfn.XLOOKUP(E22,Measures[[#All],[Measure]],Measures[[#All],[Fuel savings low '[%']]],0,0,1)","v":0},{"$f":"_xlfn.XLOOKUP(E22,Measures[[#All],[Measure]],Measures[[#All],[Typical EEXI / EEDI reduction '[%']]],0,0,1)","v":0},null,null,null,null,null,null,null,null,null,null,null,null,null,null,null,null,"Project A"]
[7,{"$f":"'Measure summary'!A22","v":"Rotor sails"},{"$f":"IF(AND( _xlfn.XLOOKUP( 'Cost&CO2_Calc'!B23, Dashboard!$X$29:$X$42,Dashboard!$AB$29:$AB$42,FALSE,0)=TRUE,_xlfn.XLOOKUP( 'Cost&CO2_Calc'!B23, Dashboard!$X$29:$X$42,Dashboard!$AC$29:$AC$42,FALSE,0)=\"\",IFERROR(VLOOKUP(B23,Dashboard!$X$29:$AG$42,7,FALSE),FALSE)=1),1,0)","v":0},null,{"$f":"IF(D23=\"\",0,D23)","v":0},{"$f":"_xlfn.XLOOKUP(E23,Measures[[#All],[Measure]],Measures[[#All],[Lifetime '[Years']]],\"\",0,1)","v":""},0,{"$f":"_xlfn.IFS(E23=0,0,AND(_xlfn.XLOOKUP(E23,Measures[[#All],[Measure]],Measures[[#All],[Technical/operational]],\"\",0,1)=\"Technical\",E23=\"Hull performance coating\"),G23,\nAND(_xlfn.XLOOKUP(E23,Measures[[#All],[Measure]],Measures[[#All],[Technical/operational]],\"\",0,1)=\"Operational\",F23>=G23),G23,\nAND(_xlfn.XLOOKUP(E23,Measures[[#All],[Measure]],Measures[[#All],[Technical/operational]],\"\",0,1)=\"Operational\",F23<G23),G23,\nAND(_xlfn.XLOOKUP(E23,Measures[[#All],[Measure]],Measures[[#All],[Technical/operational]],\"\",0,1)=\"Technical\",E23<>\"Hull performance coating\",F23>=G23),G23,\nAND(_xlfn.XLOOKUP(E23,Measures[[#All],[Measure]],Measures[[#All],[Technical/operational]],\"\",0,1)=\"Technical\",E23<>\"Hull performance coating\",F23<G23),F23)","v":0},{"$f":"_xlfn.XLOOKUP(E23,Measures[[#All],[Measure]],Measures[[#All],[Typical fuel reduction '[%']]],0,0,1)","v":0},{"$f":"_xlfn.IFS(E23=0,0,AND(_xlfn.XLOOKUP(E23,Measures[[#All],[Measure]],Measures[[#All],[Technical/operational]],\"\",0,1)=\"Technical\",F23>=G23),($C$8*I23),\nAND(_xlfn.XLOOKUP(E23,Measures[[#All],[Measure]],Measures[[#All],[Technical/operational]],\"\",0,1)=\"Operational\",F23<G23),($C$8*I23),\nAND(_xlfn.XLOOKUP(E23,Measures[[#All],[Measure]],Measures[[#All],[Technical/operational]],\"\",0,1)=\"Operational\",F23>=G23),($C$8*I23),\nAND(_xlfn.XLOOKUP(E23,Measures[[#All],[Measure]],Measures[[#All],[Technical/operational]],\"\",0,1)=\"Technical\",E23=\"Hull performance coating\",F23<G23),($C$8*I23),\nAND(_xlfn.XLOOKUP(E23,Measures[[#All],[Measure]],Measures[[#All],[Technical/operational]],\"\",0,1)=\"Technical\",E23<>\"Hull performance coating\",F23<G23),($C$8*I23)\n)","v":0},{"$error":"#DIV/0!"},{"$f":"_xlfn.XLOOKUP(E23,Measures[[#All],[Measure]],Measures[[#All],[OPEX \n'[$ per year']]],\"\",0,1)","v":""},{"$f":"_xlfn.IFS(E23=0,0,AND(_xlfn.XLOOKUP(E23,Measures[[#All],[Measure]],Measures[[#All],[Technical/operational]],\"\",0,1)=\"Technical\",F23>=G23),($C$12*I23),\nAND(_xlfn.XLOOKUP(E23,Measures[[#All],[Measure]],Measures[[#All],[Technical/operational]],\"\",0,1)=\"Operational\",F23<G23),($C$12*I23),\nAND(_xlfn.XLOOKUP(E23,Measures[[#All],[Measure]],Measures[[#All],[Technical/operational]],\"\",0,1)=\"Operational\",F23>=G23),($C$12*I23),\nAND(_xlfn.XLOOKUP(E23,Measures[[#All],[Measure]],Measures[[#All],[Technical/operational]],\"\",0,1)=\"Technical\",E23=\"Hull performance coating\",F23<G23),($C$12*I23),\nAND(_xlfn.XLOOKUP(E23,Measures[[#All],[Measure]],Measures[[#All],[Technical/operational]],\"\",0,1)=\"Technical\",E23<>\"Hull performance coating\",F23<G23),($C$12*I23)\n)","v":0},"","Not included",{"$f":"_xlfn.XLOOKUP(E23,Measures[[#All],[Measure]],Measures[[#All],[Fuel savings high '[%']]],0,0,1)","v":0},{"$f":"_xlfn.XLOOKUP(E23,Measures[[#All],[Measure]],Measures[[#All],[Fuel savings low '[%']]],0,0,1)","v":0},{"$f":"_xlfn.XLOOKUP(E23,Measures[[#All],[Measure]],Measures[[#All],[Typical EEXI / EEDI reduction '[%']]],0,0,1)","v":0},null,null,null,null,null,null,null,null,null,null,null,null,null,null,null,null,"NPV",17.600000000000001]
[8,{"$f":"'Measure summary'!A23","v":"Auxiliary systems optimization"},{"$f":"IF(AND( _xlfn.XLOOKUP( 'Cost&CO2_Calc'!B24, Dashboard!$X$29:$X$42,Dashboard!$AB$29:$AB$42,FALSE,0)=TRUE,_xlfn.XLOOKUP( 'Cost&CO2_Calc'!B24, Dashboard!$X$29:$X$42,Dashboard!$AC$29:$AC$42,FALSE,0)=\"\",IFERROR(VLOOKUP(B24,Dashboard!$X$29:$AG$42,7,FALSE),FALSE)=1),1,0)","v":0},null,0,{"$f":"_xlfn.XLOOKUP(E24,Measures[[#All],[Measure]],Measures[[#All],[Lifetime '[Years']]],\"\",0,1)","v":""},0,{"$f":"_xlfn.IFS(E24=0,0,AND(_xlfn.XLOOKUP(E24,Measures[[#All],[Measure]],Measures[[#All],[Technical/operational]],\"\",0,1)=\"Technical\",E24=\"Hull performance coating\"),G24,\nAND(_xlfn.XLOOKUP(E24,Measures[[#All],[Measure]],Measures[[#All],[Technical/operational]],\"\",0,1)=\"Operational\",F24>=G24),G24,\nAND(_xlfn.XLOOKUP(E24,Measures[[#All],[Measure]],Measures[[#All],[Technical/operational]],\"\",0,1)=\"Operational\",F24<G24),G24,\nAND(_xlfn.XLOOKUP(E24,Measures[[#All],[Measure]],Measures[[#All],[Technical/operational]],\"\",0,1)=\"Technical\",E24<>\"Hull performance coating\",F24>=G24),G24,\nAND(_xlfn.XLOOKUP(E24,Measures[[#All],[Measure]],Measures[[#All],[Technical/operational]],\"\",0,1)=\"Technical\",E24<>\"Hull performance coating\",F24<G24),F24)","v":0},{"$f":"_xlfn.XLOOKUP(E24,Measures[[#All],[Measure]],Measures[[#All],[Typical fuel reduction '[%']]],0,0,1)","v":0},{"$f":"_xlfn.IFS(E24=0,0,AND(_xlfn.XLOOKUP(E24,Measures[[#All],[Measure]],Measures[[#All],[Technical/operational]],\"\",0,1)=\"Technical\",F24>=G24),($C$8*I24),\nAND(_xlfn.XLOOKUP(E24,Measures[[#All],[Measure]],Measures[[#All],[Technical/operational]],\"\",0,1)=\"Operational\",F24<G24),($C$8*I24),\nAND(_xlfn.XLOOKUP(E24,Measures[[#All],[Measure]],Measures[[#All],[Technical/operational]],\"\",0,1)=\"Operational\",F24>=G24),($C$8*I24),\nAND(_xlfn.XLOOKUP(E24,Measures[[#All],[Measure]],Measures[[#All],[Technical/operational]],\"\",0,1)=\"Technical\",E24=\"Hull performance coating\",F24<G24),($C$8*I24),\nAND(_xlfn.XLOOKUP(E24,Measures[[#All],[Measure]],Measures[[#All],[Technical/operational]],\"\",0,1)=\"Technical\",E24<>\"Hull performance coating\",F24<G24),($C$8*I24)\n)","v":0},{"$error":"#DIV/0!"},{"$f":"_xlfn.XLOOKUP(E24,Measures[[#All],[Measure]],Measures[[#All],[OPEX \n'[$ per year']]],\"\",0,1)","v":""},{"$f":"_xlfn.IFS(E24=0,0,AND(_xlfn.XLOOKUP(E24,Measures[[#All],[Measure]],Measures[[#All],[Technical/operational]],\"\",0,1)=\"Technical\",F24>=G24),($C$12*I24),\nAND(_xlfn.XLOOKUP(E24,Measures[[#All],[Measure]],Measures[[#All],[Technical/operational]],\"\",0,1)=\"Operational\",F24<G24),($C$12*I24),\nAND(_xlfn.XLOOKUP(E24,Measures[[#All],[Measure]],Measures[[#All],[Technical/operational]],\"\",0,1)=\"Operational\",F24>=G24),($C$12*I24),\nAND(_xlfn.XLOOKUP(E24,Measures[[#All],[Measure]],Measures[[#All],[Technical/operational]],\"\",0,1)=\"Technical\",E24=\"Hull performance coating\",F24<G24),($C$12*I24),\nAND(_xlfn.XLOOKUP(E24,Measures[[#All],[Measure]],Measures[[#All],[Technical/operational]],\"\",0,1)=\"Technical\",E24<>\"Hull performance coating\",F24<G24),($C$12*I24)\n)","v":0},"","Not included",{"$f":"_xlfn.XLOOKUP(E24,Measures[[#All],[Measure]],Measures[[#All],[Fuel savings high '[%']]],0,0,1)","v":0},{"$f":"_xlfn.XLOOKUP(E24,Measures[[#All],[Measure]],Measures[[#All],[Fuel savings low '[%']]],0,0,1)","v":0},{"$f":"_xlfn.XLOOKUP(E24,Measures[[#All],[Measure]],Measures[[#All],[Typical EEXI / EEDI reduction '[%']]],0,0,1)","v":0},null,null,null,null,null,null,null,null,null,null,null,null,null,null,null,null,"PVIFA",{"$f":"(1-(1+AJ19)^-AJ20)/AJ19","v":2.4868519909842246}]
[9,{"$f":"'Measure summary'!A24","v":"Engine performance optimization (automatic)"},{"$f":"IF(AND( _xlfn.XLOOKUP( 'Cost&CO2_Calc'!B25, Dashboard!$X$29:$X$42,Dashboard!$AB$29:$AB$42,FALSE,0)=TRUE,_xlfn.XLOOKUP( 'Cost&CO2_Calc'!B25, Dashboard!$X$29:$X$42,Dashboard!$AC$29:$AC$42,FALSE,0)=\"\",IFERROR(VLOOKUP(B25,Dashboard!$X$29:$AG$42,7,FALSE),FALSE)=1),1,0)","v":0},null,0,{"$f":"_xlfn.XLOOKUP(E25,Measures[[#All],[Measure]],Measures[[#All],[Lifetime '[Years']]],\"\",0,1)","v":""},0,{"$f":"_xlfn.IFS(E25=0,0,AND(_xlfn.XLOOKUP(E25,Measures[[#All],[Measure]],Measures[[#All],[Technical/operational]],\"\",0,1)=\"Technical\",E25=\"Hull performance coating\"),G25,\nAND(_xlfn.XLOOKUP(E25,Measures[[#All],[Measure]],Measures[[#All],[Technical/operational]],\"\",0,1)=\"Operational\",F25>=G25),G25,\nAND(_xlfn.XLOOKUP(E25,Measures[[#All],[Measure]],Measures[[#All],[Technical/operational]],\"\",0,1)=\"Operational\",F25<G25),G25,\nAND(_xlfn.XLOOKUP(E25,Measures[[#All],[Measure]],Measures[[#All],[Technical/operational]],\"\",0,1)=\"Technical\",E25<>\"Hull performance coating\",F25>=G25),G25,\nAND(_xlfn.XLOOKUP(E25,Measures[[#All],[Measure]],Measures[[#All],[Technical/operational]],\"\",0,1)=\"Technical\",E25<>\"Hull performance coating\",F25<G25),F25)","v":0},{"$f":"_xlfn.XLOOKUP(E25,Measures[[#All],[Measure]],Measures[[#All],[Typical fuel reduction '[%']]],0,0,1)","v":0},{"$f":"_xlfn.IFS(E25=0,0,AND(_xlfn.XLOOKUP(E25,Measures[[#All],[Measure]],Measures[[#All],[Technical/operational]],\"\",0,1)=\"Technical\",F25>=G25),($C$8*I25),\nAND(_xlfn.XLOOKUP(E25,Measures[[#All],[Measure]],Measures[[#All],[Technical/operational]],\"\",0,1)=\"Operational\",F25<G25),($C$8*I25),\nAND(_xlfn.XLOOKUP(E25,Measures[[#All],[Measure]],Measures[[#All],[Technical/operational]],\"\",0,1)=\"Operational\",F25>=G25),($C$8*I25),\nAND(_xlfn.XLOOKUP(E25,Measures[[#All],[Measure]],Measures[[#All],[Technical/operational]],\"\",0,1)=\"Technical\",E25=\"Hull performance coating\",F25<G25),($C$8*I25),\nAND(_xlfn.XLOOKUP(E25,Measures[[#All],[Measure]],Measures[[#All],[Technical/operational]],\"\",0,1)=\"Technical\",E25<>\"Hull performance coating\",F25<G25),($C$8*I25)\n)","v":0},{"$error":"#DIV/0!"},{"$f":"_xlfn.XLOOKUP(E25,Measures[[#All],[Measure]],Measures[[#All],[OPEX \n'[$ per year']]],\"\",0,1)","v":""},{"$f":"_xlfn.IFS(E25=0,0,AND(_xlfn.XLOOKUP(E25,Measures[[#All],[Measure]],Measures[[#All],[Technical/operational]],\"\",0,1)=\"Technical\",F25>=G25),($C$12*I25),\nAND(_xlfn.XLOOKUP(E25,Measures[[#All],[Measure]],Measures[[#All],[Technical/operational]],\"\",0,1)=\"Operational\",F25<G25),($C$12*I25),\nAND(_xlfn.XLOOKUP(E25,Measures[[#All],[Measure]],Measures[[#All],[Technical/operational]],\"\",0,1)=\"Operational\",F25>=G25),($C$12*I25),\nAND(_xlfn.XLOOKUP(E25,Measures[[#All],[Measure]],Measures[[#All],[Technical/operational]],\"\",0,1)=\"Technical\",E25=\"Hull performance coating\",F25<G25),($C$12*I25),\nAND(_xlfn.XLOOKUP(E25,Measures[[#All],[Measure]],Measures[[#All],[Technical/operational]],\"\",0,1)=\"Technical\",E25<>\"Hull performance coating\",F25<G25),($C$12*I25)\n)","v":0},"","Not included",{"$f":"_xlfn.XLOOKUP(E25,Measures[[#All],[Measure]],Measures[[#All],[Fuel savings high '[%']]],0,0,1)","v":0},{"$f":"_xlfn.XLOOKUP(E25,Measures[[#All],[Measure]],Measures[[#All],[Fuel savings low '[%']]],0,0,1)","v":0},{"$f":"_xlfn.XLOOKUP(E25,Measures[[#All],[Measure]],Measures[[#All],[Typical EEXI / EEDI reduction '[%']]],0,0,1)","v":0},null,null,null,null,null,null,null,null,null,null,null,null,null,null,null,null,"ANPV",{"$f":"AJ23/AJ24","v":7.0772205438066411}]
[10,{"$f":"'Measure summary'!A25","v":"Engine de-rating"},{"$f":"IF(AND( _xlfn.XLOOKUP( 'Cost&CO2_Calc'!B26, Dashboard!$X$29:$X$42,Dashboard!$AB$29:$AB$42,FALSE,0)=TRUE,_xlfn.XLOOKUP( 'Cost&CO2_Calc'!B26, Dashboard!$X$29:$X$42,Dashboard!$AC$29:$AC$42,FALSE,0)=\"\",IFERROR(VLOOKUP(B26,Dashboard!$X$29:$AG$42,7,FALSE),FALSE)=1),1,0)","v":0},null,{"$f":"IF(D26=\"\",0,D26)","v":0},{"$f":"_xlfn.XLOOKUP(E26,Measures[[#All],[Measure]],Measures[[#All],[Lifetime '[Years']]],\"\",0,1)","v":""},0,{"$f":"_xlfn.IFS(E26=0,0,AND(_xlfn.XLOOKUP(E26,Measures[[#All],[Measure]],Measures[[#All],[Technical/operational]],\"\",0,1)=\"Technical\",E26=\"Hull performance coating\"),G26,\nAND(_xlfn.XLOOKUP(E26,Measures[[#All],[Measure]],Measures[[#All],[Technical/operational]],\"\",0,1)=\"Operational\",F26>=G26),G26,\nAND(_xlfn.XLOOKUP(E26,Measures[[#All],[Measure]],Measures[[#All],[Technical/operational]],\"\",0,1)=\"Operational\",F26<G26),G26,\nAND(_xlfn.XLOOKUP(E26,Measures[[#All],[Measure]],Measures[[#All],[Technical/operational]],\"\",0,1)=\"Technical\",E26<>\"Hull performance coating\",F26>=G26),G26,\nAND(_xlfn.XLOOKUP(E26,Measures[[#All],[Measure]],Measures[[#All],[Technical/operational]],\"\",0,1)=\"Technical\",E26<>\"Hull performance coating\",F26<G26),F26)","v":0},{"$f":"_xlfn.XLOOKUP(E26,Measures[[#All],[Measure]],Measures[[#All],[Typical fuel reduction '[%']]],0,0,1)","v":0},{"$f":"_xlfn.IFS(E26=0,0,AND(_xlfn.XLOOKUP(E26,Measures[[#All],[Measure]],Measures[[#All],[Technical/operational]],\"\",0,1)=\"Technical\",F26>=G26),($C$8*I26),\nAND(_xlfn.XLOOKUP(E26,Measures[[#All],[Measure]],Measures[[#All],[Technical/operational]],\"\",0,1)=\"Operational\",F26<G26),($C$8*I26),\nAND(_xlfn.XLOOKUP(E26,Measures[[#All],[Measure]],Measures[[#All],[Technical/operational]],\"\",0,1)=\"Operational\",F26>=G26),($C$8*I26),\nAND(_xlfn.XLOOKUP(E26,Measures[[#All],[Measure]],Measures[[#All],[Technical/operational]],\"\",0,1)=\"Technical\",E26=\"Hull performance coating\",F26<G26),($C$8*I26),\nAND(_xlfn.XLOOKUP(E26,Measures[[#All],[Measure]],Measures[[#All],[Technical/operational]],\"\",0,1)=\"Technical\",E26<>\"Hull performance coating\",F26<G26),($C$8*I26)\n)","v":0},{"$error":"#DIV/0!"},{"$f":"_xlfn.XLOOKUP(E26,Measures[[#All],[Measure]],Measures[[#All],[OPEX \n'[$ per year']]],\"\",0,1)","v":""},{"$f":"_xlfn.IFS(E26=0,0,AND(_xlfn.XLOOKUP(E26,Measures[[#All],[Measure]],Measures[[#All],[Technical/operational]],\"\",0,1)=\"Technical\",F26>=G26),($C$12*I26),\nAND(_xlfn.XLOOKUP(E26,Measures[[#All],[Measure]],Measures[[#All],[Technical/operational]],\"\",0,1)=\"Operational\",F26<G26),($C$12*I26),\nAND(_xlfn.XLOOKUP(E26,Measures[[#All],[Measure]],Measures[[#All],[Technical/operational]],\"\",0,1)=\"Operational\",F26>=G26),($C$12*I26),\nAND(_xlfn.XLOOKUP(E26,Measures[[#All],[Measure]],Measures[[#All],[Technical/operational]],\"\",0,1)=\"Technical\",E26=\"Hull performance coating\",F26<G26),($C$12*I26),\nAND(_xlfn.XLOOKUP(E26,Measures[[#All],[Measure]],Measures[[#All],[Technical/operational]],\"\",0,1)=\"Technical\",E26<>\"Hull performance coating\",F26<G26),($C$12*I26)\n)","v":0},"","Not included",{"$f":"_xlfn.XLOOKUP(E26,Measures[[#All],[Measure]],Measures[[#All],[Fuel savings high '[%']]],0,0,1)","v":0},{"$f":"_xlfn.XLOOKUP(E26,Measures[[#All],[Measure]],Measures[[#All],[Fuel savings low '[%']]],0,0,1)","v":0},{"$f":"_xlfn.XLOOKUP(E26,Measures[[#All],[Measure]],Measures[[#All],[Typical EEXI / EEDI reduction '[%']]],0,0,1)","v":0}]
[11,{"$f":"'Measure summary'!A26","v":"Engine performance optimization (manual)"},{"$f":"IF(AND( _xlfn.XLOOKUP( 'Cost&CO2_Calc'!B27, Dashboard!$X$29:$X$42,Dashboard!$AB$29:$AB$42,FALSE,0)=TRUE,_xlfn.XLOOKUP( 'Cost&CO2_Calc'!B27, Dashboard!$X$29:$X$42,Dashboard!$AC$29:$AC$42,FALSE,0)=\"\",IFERROR(VLOOKUP(B27,Dashboard!$X$29:$AG$42,7,FALSE),FALSE)=1),1,0)","v":0},null,{"$f":"IF(D27=\"\",0,D27)","v":0},{"$f":"_xlfn.XLOOKUP(E27,Measures[[#All],[Measure]],Measures[[#All],[Lifetime '[Years']]],\"\",0,1)","v":""},0,{"$f":"_xlfn.IFS(E27=0,0,AND(_xlfn.XLOOKUP(E27,Measures[[#All],[Measure]],Measures[[#All],[Technical/operational]],\"\",0,1)=\"Technical\",E27=\"Hull performance coating\"),G27,\nAND(_xlfn.XLOOKUP(E27,Measures[[#All],[Measure]],Measures[[#All],[Technical/operational]],\"\",0,1)=\"Operational\",F27>=G27),G27,\nAND(_xlfn.XLOOKUP(E27,Measures[[#All],[Measure]],Measures[[#All],[Technical/operational]],\"\",0,1)=\"Operational\",F27<G27),G27,\nAND(_xlfn.XLOOKUP(E27,Measures[[#All],[Measure]],Measures[[#All],[Technical/operational]],\"\",0,1)=\"Technical\",E27<>\"Hull performance coating\",F27>=G27),G27,\nAND(_xlfn.XLOOKUP(E27,Measures[[#All],[Measure]],Measures[[#All],[Technical/operational]],\"\",0,1)=\"Technical\",E27<>\"Hull performance coating\",F27<G27),F27)","v":0},{"$f":"_xlfn.XLOOKUP(E27,Measures[[#All],[Measure]],Measures[[#All],[Typical fuel reduction '[%']]],0,0,1)","v":0},{"$f":"_xlfn.IFS(E27=0,0,AND(_xlfn.XLOOKUP(E27,Measures[[#All],[Measure]],Measures[[#All],[Technical/operational]],\"\",0,1)=\"Technical\",F27>=G27),($C$8*I27),\nAND(_xlfn.XLOOKUP(E27,Measures[[#All],[Measure]],Measures[[#All],[Technical/operational]],\"\",0,1)=\"Operational\",F27<G27),($C$8*I27),\nAND(_xlfn.XLOOKUP(E27,Measures[[#All],[Measure]],Measures[[#All],[Technical/operational]],\"\",0,1)=\"Operational\",F27>=G27),($C$8*I27),\nAND(_xlfn.XLOOKUP(E27,Measures[[#All],[Measure]],Measures[[#All],[Technical/operational]],\"\",0,1)=\"Technical\",E27=\"Hull performance coating\",F27<G27),($C$8*I27),\nAND(_xlfn.XLOOKUP(E27,Measures[[#All],[Measure]],Measures[[#All],[Technical/operational]],\"\",0,1)=\"Technical\",E27<>\"Hull performance coating\",F27<G27),($C$8*I27)\n)","v":0},{"$error":"#DIV/0!"},{"$f":"_xlfn.XLOOKUP(E27,Measures[[#All],[Measure]],Measures[[#All],[OPEX \n'[$ per year']]],\"\",0,1)","v":""},{"$f":"_xlfn.IFS(E27=0,0,AND(_xlfn.XLOOKUP(E27,Measures[[#All],[Measure]],Measures[[#All],[Technical/operational]],\"\",0,1)=\"Technical\",F27>=G27),($C$12*I27),\nAND(_xlfn.XLOOKUP(E27,Measures[[#All],[Measure]],Measures[[#All],[Technical/operational]],\"\",0,1)=\"Operational\",F27<G27),($C$12*I27),\nAND(_xlfn.XLOOKUP(E27,Measures[[#All],[Measure]],Measures[[#All],[Technical/operational]],\"\",0,1)=\"Operational\",F27>=G27),($C$12*I27),\nAND(_xlfn.XLOOKUP(E27,Measures[[#All],[Measure]],Measures[[#All],[Technical/operational]],\"\",0,1)=\"Technical\",E27=\"Hull performance coating\",F27<G27),($C$12*I27),\nAND(_xlfn.XLOOKUP(E27,Measures[[#All],[Measure]],Measures[[#All],[Technical/operational]],\"\",0,1)=\"Technical\",E27<>\"Hull performance coating\",F27<G27),($C$12*I27)\n)","v":0},"","Not included",{"$f":"_xlfn.XLOOKUP(E27,Measures[[#All],[Measure]],Measures[[#All],[Fuel savings high '[%']]],0,0,1)","v":0},{"$f":"_xlfn.XLOOKUP(E27,Measures[[#All],[Measure]],Measures[[#All],[Fuel savings low '[%']]],0,0,1)","v":0},{"$f":"_xlfn.XLOOKUP(E27,Measures[[#All],[Measure]],Measures[[#All],[Typical EEXI / EEDI reduction '[%']]],0,0,1)","v":0}]
[12,{"$f":"'Measure summary'!A27","v":"Exhaust gas boilers on auxiliary engines"},{"$f":"IF(AND( _xlfn.XLOOKUP( 'Cost&CO2_Calc'!B28, Dashboard!$X$29:$X$42,Dashboard!$AB$29:$AB$42,FALSE,0)=TRUE,_xlfn.XLOOKUP( 'Cost&CO2_Calc'!B28, Dashboard!$X$29:$X$42,Dashboard!$AC$29:$AC$42,FALSE,0)=\"\",IFERROR(VLOOKUP(B28,Dashboard!$X$29:$AG$42,7,FALSE),FALSE)=1),1,0)","v":0},null,{"$f":"IF(D28=\"\",0,D28)","v":0},{"$f":"_xlfn.XLOOKUP(E28,Measures[[#All],[Measure]],Measures[[#All],[Lifetime '[Years']]],\"\",0,1)","v":""},0,{"$f":"_xlfn.IFS(E28=0,0,AND(_xlfn.XLOOKUP(E28,Measures[[#All],[Measure]],Measures[[#All],[Technical/operational]],\"\",0,1)=\"Technical\",E28=\"Hull performance coating\"),G28,\nAND(_xlfn.XLOOKUP(E28,Measures[[#All],[Measure]],Measures[[#All],[Technical/operational]],\"\",0,1)=\"Operational\",F28>=G28),G28,\nAND(_xlfn.XLOOKUP(E28,Measures[[#All],[Measure]],Measures[[#All],[Technical/operational]],\"\",0,1)=\"Operational\",F28<G28),G28,\nAND(_xlfn.XLOOKUP(E28,Measures[[#All],[Measure]],Measures[[#All],[Technical/operational]],\"\",0,1)=\"Technical\",E28<>\"Hull performance coating\",F28>=G28),G28,\nAND(_xlfn.XLOOKUP(E28,Measures[[#All],[Measure]],Measures[[#All],[Technical/operational]],\"\",0,1)=\"Technical\",E28<>\"Hull performance coating\",F28<G28),F28)","v":0},{"$f":"_xlfn.XLOOKUP(E28,Measures[[#All],[Measure]],Measures[[#All],[Typical fuel reduction '[%']]],0,0,1)","v":0},{"$f":"_xlfn.IFS(E28=0,0,AND(_xlfn.XLOOKUP(E28,Measures[[#All],[Measure]],Measures[[#All],[Technical/operational]],\"\",0,1)=\"Technical\",F28>=G28),($C$8*I28),\nAND(_xlfn.XLOOKUP(E28,Measures[[#All],[Measure]],Measures[[#All],[Technical/operational]],\"\",0,1)=\"Operational\",F28<G28),($C$8*I28),\nAND(_xlfn.XLOOKUP(E28,Measures[[#All],[Measure]],Measures[[#All],[Technical/operational]],\"\",0,1)=\"Operational\",F28>=G28),($C$8*I28),\nAND(_xlfn.XLOOKUP(E28,Measures[[#All],[Measure]],Measures[[#All],[Technical/operational]],\"\",0,1)=\"Technical\",E28=\"Hull performance coating\",F28<G28),($C$8*I28),\nAND(_xlfn.XLOOKUP(E28,Measures[[#All],[Measure]],Measures[[#All],[Technical/operational]],\"\",0,1)=\"Technical\",E28<>\"Hull performance coating\",F28<G28),($C$8*I28)\n)","v":0},{"$error":"#DIV/0!"},{"$f":"_xlfn.XLOOKUP(E28,Measures[[#All],[Measure]],Measures[[#All],[OPEX \n'[$ per year']]],\"\",0,1)","v":""},{"$f":"_xlfn.IFS(E28=0,0,AND(_xlfn.XLOOKUP(E28,Measures[[#All],[Measure]],Measures[[#All],[Technical/operational]],\"\",0,1)=\"Technical\",F28>=G28),($C$12*I28),\nAND(_xlfn.XLOOKUP(E28,Measures[[#All],[Measure]],Measures[[#All],[Technical/operational]],\"\",0,1)=\"Operational\",F28<G28),($C$12*I28),\nAND(_xlfn.XLOOKUP(E28,Measures[[#All],[Measure]],Measures[[#All],[Technical/operational]],\"\",0,1)=\"Operational\",F28>=G28),($C$12*I28),\nAND(_xlfn.XLOOKUP(E28,Measures[[#All],[Measure]],Measures[[#All],[Technical/operational]],\"\",0,1)=\"Technical\",E28=\"Hull performance coating\",F28<G28),($C$12*I28),\nAND(_xlfn.XLOOKUP(E28,Measures[[#All],[Measure]],Measures[[#All],[Technical/operational]],\"\",0,1)=\"Technical\",E28<>\"Hull performance coating\",F28<G28),($C$12*I28)\n)","v":0},"","Not included",{"$f":"_xlfn.XLOOKUP(E28,Measures[[#All],[Measure]],Measures[[#All],[Fuel savings high '[%']]],0,0,1)","v":0},{"$f":"_xlfn.XLOOKUP(E28,Measures[[#All],[Measure]],Measures[[#All],[Fuel savings low '[%']]],0,0,1)","v":0},{"$f":"_xlfn.XLOOKUP(E28,Measures[[#All],[Measure]],Measures[[#All],[Typical EEXI / EEDI reduction '[%']]],0,0,1)","v":0}]
[13,{"$f":"'Measure summary'!A28","v":"Battery hybridization"},{"$f":"IF(AND( _xlfn.XLOOKUP( 'Cost&CO2_Calc'!B29, Dashboard!$X$29:$X$42,Dashboard!$AB$29:$AB$42,FALSE,0)=TRUE,_xlfn.XLOOKUP( 'Cost&CO2_Calc'!B29, Dashboard!$X$29:$X$42,Dashboard!$AC$29:$AC$42,FALSE,0)=\"\",IFERROR(VLOOKUP(B29,Dashboard!$X$29:$AG$42,7,FALSE),FALSE)=1),1,0)","v":0},null,0,{"$f":"_xlfn.XLOOKUP(E29,Measures[[#All],[Measure]],Measures[[#All],[Lifetime '[Years']]],\"\",0,1)","v":""},0,{"$f":"_xlfn.IFS(E29=0,0,AND(_xlfn.XLOOKUP(E29,Measures[[#All],[Measure]],Measures[[#All],[Technical/operational]],\"\",0,1)=\"Technical\",E29=\"Hull performance coating\"),G29,\nAND(_xlfn.XLOOKUP(E29,Measures[[#All],[Measure]],Measures[[#All],[Technical/operational]],\"\",0,1)=\"Operational\",F29>=G29),G29,\nAND(_xlfn.XLOOKUP(E29,Measures[[#All],[Measure]],Measures[[#All],[Technical/operational]],\"\",0,1)=\"Operational\",F29<G29),G29,\nAND(_xlfn.XLOOKUP(E29,Measures[[#All],[Measure]],Measures[[#All],[Technical/operational]],\"\",0,1)=\"Technical\",E29<>\"Hull performance coating\",F29>=G29),G29,\nAND(_xlfn.XLOOKUP(E29,Measures[[#All],[Measure]],Measures[[#All],[Technical/operational]],\"\",0,1)=\"Technical\",E29<>\"Hull performance coating\",F29<G29),F29)","v":0},{"$f":"_xlfn.XLOOKUP(E29,Measures[[#All],[Measure]],Measures[[#All],[Typical fuel reduction '[%']]],0,0,1)","v":0},{"$f":"_xlfn.IFS(E29=0,0,AND(_xlfn.XLOOKUP(E29,Measures[[#All],[Measure]],Measures[[#All],[Technical/operational]],\"\",0,1)=\"Technical\",F29>=G29),($C$8*I29),\nAND(_xlfn.XLOOKUP(E29,Measures[[#All],[Measure]],Measures[[#All],[Technical/operational]],\"\",0,1)=\"Operational\",F29<G29),($C$8*I29),\nAND(_xlfn.XLOOKUP(E29,Measures[[#All],[Measure]],Measures[[#All],[Technical/operational]],\"\",0,1)=\"Operational\",F29>=G29),($C$8*I29),\nAND(_xlfn.XLOOKUP(E29,Measures[[#All],[Measure]],Measures[[#All],[Technical/operational]],\"\",0,1)=\"Technical\",E29=\"Hull performance coating\",F29<G29),($C$8*I29),\nAND(_xlfn.XLOOKUP(E29,Measures[[#All],[Measure]],Measures[[#All],[Technical/operational]],\"\",0,1)=\"Technical\",E29<>\"Hull performance coating\",F29<G29),($C$8*I29)\n)","v":0},{"$error":"#DIV/0!"},{"$f":"_xlfn.XLOOKUP(E29,Measures[[#All],[Measure]],Measures[[#All],[OPEX \n'[$ per year']]],\"\",0,1)","v":""},{"$f":"_xlfn.IFS(E29=0,0,AND(_xlfn.XLOOKUP(E29,Measures[[#All],[Measure]],Measures[[#All],[Technical/operational]],\"\",0,1)=\"Technical\",F29>=G29),($C$12*I29),\nAND(_xlfn.XLOOKUP(E29,Measures[[#All],[Measure]],Measures[[#All],[Technical/operational]],\"\",0,1)=\"Operational\",F29<G29),($C$12*I29),\nAND(_xlfn.XLOOKUP(E29,Measures[[#All],[Measure]],Measures[[#All],[Technical/operational]],\"\",0,1)=\"Operational\",F29>=G29),($C$12*I29),\nAND(_xlfn.XLOOKUP(E29,Measures[[#All],[Measure]],Measures[[#All],[Technical/operational]],\"\",0,1)=\"Technical\",E29=\"Hull performance coating\",F29<G29),($C$12*I29),\nAND(_xlfn.XLOOKUP(E29,Measures[[#All],[Measure]],Measures[[#All],[Technical/operational]],\"\",0,1)=\"Technical\",E29<>\"Hull performance coating\",F29<G29),($C$12*I29)\n)","v":0},"","Not included",{"$f":"_xlfn.XLOOKUP(E29,Measures[[#All],[Measure]],Measures[[#All],[Fuel savings high '[%']]],0,0,1)","v":0},{"$f":"_xlfn.XLOOKUP(E29,Measures[[#All],[Measure]],Measures[[#All],[Fuel savings low '[%']]],0,0,1)","v":0},{"$f":"_xlfn.XLOOKUP(E29,Measures[[#All],[Measure]],Measures[[#All],[Typical EEXI / EEDI reduction '[%']]],0,0,1)","v":0}]
[14,{"$f":"'Measure summary'!A29","v":"Shaft generator PTO"},{"$f":"IF(AND( _xlfn.XLOOKUP( 'Cost&CO2_Calc'!B30, Dashboard!$X$29:$X$42,Dashboard!$AB$29:$AB$42,FALSE,0)=TRUE,_xlfn.XLOOKUP( 'Cost&CO2_Calc'!B30, Dashboard!$X$29:$X$42,Dashboard!$AC$29:$AC$42,FALSE,0)=\"\",IFERROR(VLOOKUP(B30,Dashboard!$X$29:$AG$42,7,FALSE),FALSE)=1),1,0)","v":0},null,0,{"$f":"_xlfn.XLOOKUP(E30,Measures[[#All],[Measure]],Measures[[#All],[Lifetime '[Years']]],\"\",0,1)","v":""},0,{"$f":"_xlfn.IFS(E30=0,0,AND(_xlfn.XLOOKUP(E30,Measures[[#All],[Measure]],Measures[[#All],[Technical/operational]],\"\",0,1)=\"Technical\",E30=\"Hull performance coating\"),G30,\nAND(_xlfn.XLOOKUP(E30,Measures[[#All],[Measure]],Measures[[#All],[Technical/operational]],\"\",0,1)=\"Operational\",F30>=G30),G30,\nAND(_xlfn.XLOOKUP(E30,Measures[[#All],[Measure]],Measures[[#All],[Technical/operational]],\"\",0,1)=\"Operational\",F30<G30),G30,\nAND(_xlfn.XLOOKUP(E30,Measures[[#All],[Measure]],Measures[[#All],[Technical/operational]],\"\",0,1)=\"Technical\",E30<>\"Hull performance coating\",F30>=G30),G30,\nAND(_xlfn.XLOOKUP(E30,Measures[[#All],[Measure]],Measures[[#All],[Technical/operational]],\"\",0,1)=\"Technical\",E30<>\"Hull performance coating\",F30<G30),F30)","v":0},{"$f":"_xlfn.XLOOKUP(E30,Measures[[#All],[Measure]],Measures[[#All],[Typical fuel reduction '[%']]],0,0,1)","v":0},{"$f":"_xlfn.IFS(E30=0,0,AND(_xlfn.XLOOKUP(E30,Measures[[#All],[Measure]],Measures[[#All],[Technical/operational]],\"\",0,1)=\"Technical\",F30>=G30),($C$8*I30),\nAND(_xlfn.XLOOKUP(E30,Measures[[#All],[Measure]],Measures[[#All],[Technical/operational]],\"\",0,1)=\"Operational\",F30<G30),($C$8*I30),\nAND(_xlfn.XLOOKUP(E30,Measures[[#All],[Measure]],Measures[[#All],[Technical/operational]],\"\",0,1)=\"Operational\",F30>=G30),($C$8*I30),\nAND(_xlfn.XLOOKUP(E30,Measures[[#All],[Measure]],Measures[[#All],[Technical/operational]],\"\",0,1)=\"Technical\",E30=\"Hull performance coating\",F30<G30),($C$8*I30),\nAND(_xlfn.XLOOKUP(E30,Measures[[#All],[Measure]],Measures[[#All],[Technical/operational]],\"\",0,1)=\"Technical\",E30<>\"Hull performance coating\",F30<G30),($C$8*I30)\n)","v":0},{"$error":"#DIV/0!"},{"$f":"_xlfn.XLOOKUP(E30,Measures[[#All],[Measure]],Measures[[#All],[OPEX \n'[$ per year']]],\"\",0,1)","v":""},{"$f":"_xlfn.IFS(E30=0,0,AND(_xlfn.XLOOKUP(E30,Measures[[#All],[Measure]],Measures[[#All],[Technical/operational]],\"\",0,1)=\"Technical\",F30>=G30),($C$12*I30),\nAND(_xlfn.XLOOKUP(E30,Measures[[#All],[Measure]],Measures[[#All],[Technical/operational]],\"\",0,1)=\"Operational\",F30<G30),($C$12*I30),\nAND(_xlfn.XLOOKUP(E30,Measures[[#All],[Measure]],Measures[[#All],[Technical/operational]],\"\",0,1)=\"Operational\",F30>=G30),($C$12*I30),\nAND(_xlfn.XLOOKUP(E30,Measures[[#All],[Measure]],Measures[[#All],[Technical/operational]],\"\",0,1)=\"Technical\",E30=\"Hull performance coating\",F30<G30),($C$12*I30),\nAND(_xlfn.XLOOKUP(E30,Measures[[#All],[Measure]],Measures[[#All],[Technical/operational]],\"\",0,1)=\"Technical\",E30<>\"Hull performance coating\",F30<G30),($C$12*I30)\n)","v":0},"",{"$f":"IF(E30=0,\"Not included\",IF(M30=0,\"NA\",N30/M30))","v":"Not included"},{"$f":"_xlfn.XLOOKUP(E30,Measures[[#All],[Measure]],Measures[[#All],[Fuel savings high '[%']]],0,0,1)","v":0},{"$f":"_xlfn.XLOOKUP(E30,Measures[[#All],[Measure]],Measures[[#All],[Fuel savings low '[%']]],0,0,1)","v":0},{"$f":"_xlfn.XLOOKUP(E30,Measures[[#All],[Measure]],Measures[[#All],[Typical EEXI / EEDI reduction '[%']]],0,0,1)","v":0}]
[15,{"$f":"'Measure summary'!A30","v":"Shore power"},{"$f":"IF(AND( _xlfn.XLOOKUP( 'Cost&CO2_Calc'!B31, Dashboard!$X$29:$X$42,Dashboard!$AB$29:$AB$42,FALSE,0)=TRUE,_xlfn.XLOOKUP( 'Cost&CO2_Calc'!B31, Dashboard!$X$29:$X$42,Dashboard!$AC$29:$AC$42,FALSE,0)=\"\",IFERROR(VLOOKUP(B31,Dashboard!$X$29:$AG$42,7,FALSE),FALSE)=1),1,0)","v":0},null,0,{"$f":"_xlfn.XLOOKUP(E31,Measures[[#All],[Measure]],Measures[[#All],[Lifetime '[Years']]],\"\",0,1)","v":""},0,{"$f":"_xlfn.IFS(E31=0,0,AND(_xlfn.XLOOKUP(E31,Measures[[#All],[Measure]],Measures[[#All],[Technical/operational]],\"\",0,1)=\"Technical\",E31=\"Hull performance coating\"),G31,\nAND(_xlfn.XLOOKUP(E31,Measures[[#All],[Measure]],Measures[[#All],[Technical/operational]],\"\",0,1)=\"Operational\",F31>=G31),G31,\nAND(_xlfn.XLOOKUP(E31,Measures[[#All],[Measure]],Measures[[#All],[Technical/operational]],\"\",0,1)=\"Operational\",F31<G31),G31,\nAND(_xlfn.XLOOKUP(E31,Measures[[#All],[Measure]],Measures[[#All],[Technical/operational]],\"\",0,1)=\"Technical\",E31<>\"Hull performance coating\",F31>=G31),G31,\nAND(_xlfn.XLOOKUP(E31,Measures[[#All],[Measure]],Measures[[#All],[Technical/operational]],\"\",0,1)=\"Technical\",E31<>\"Hull performance coating\",F31<G31),F31)","v":0},{"$f":"_xlfn.XLOOKUP(E31,Measures[[#All],[Measure]],Measures[[#All],[Typical fuel reduction '[%']]],0,0,1)","v":0},{"$f":"_xlfn.IFS(E31=0,0,AND(_xlfn.XLOOKUP(E31,Measures[[#All],[Measure]],Measures[[#All],[Technical/operational]],\"\",0,1)=\"Technical\",F31>=G31),($C$8*I31),\nAND(_xlfn.XLOOKUP(E31,Measures[[#All],[Measure]],Measures[[#All],[Technical/operational]],\"\",0,1)=\"Operational\",F31<G31),($C$8*I31),\nAND(_xlfn.XLOOKUP(E31,Measures[[#All],[Measure]],Measures[[#All],[Technical/operational]],\"\",0,1)=\"Operational\",F31>=G31),($C$8*I31),\nAND(_xlfn.XLOOKUP(E31,Measures[[#All],[Measure]],Measures[[#All],[Technical/operational]],\"\",0,1)=\"Technical\",E31=\"Hull performance coating\",F31<G31),($C$8*I31),\nAND(_xlfn.XLOOKUP(E31,Measures[[#All],[Measure]],Measures[[#All],[Technical/operational]],\"\",0,1)=\"Technical\",E31<>\"Hull performance coating\",F31<G31),($C$8*I31)\n)","v":0},{"$error":"#DIV/0!"},{"$f":"_xlfn.XLOOKUP(E31,Measures[[#All],[Measure]],Measures[[#All],[OPEX \n'[$ per year']]],\"\",0,1)","v":""},{"$f":"_xlfn.IFS(E31=0,0,AND(_xlfn.XLOOKUP(E31,Measures[[#All],[Measure]],Measures[[#All],[Technical/operational]],\"\",0,1)=\"Technical\",F31>=G31),($C$12*I31),\nAND(_xlfn.XLOOKUP(E31,Measures[[#All],[Measure]],Measures[[#All],[Technical/operational]],\"\",0,1)=\"Operational\",F31<G31),($C$12*I31),\nAND(_xlfn.XLOOKUP(E31,Measures[[#All],[Measure]],Measures[[#All],[Technical/operational]],\"\",0,1)=\"Operational\",F31>=G31),($C$12*I31),\nAND(_xlfn.XLOOKUP(E31,Measures[[#All],[Measure]],Measures[[#All],[Technical/operational]],\"\",0,1)=\"Technical\",E31=\"Hull performance coating\",F31<G31),($C$12*I31),\nAND(_xlfn.XLOOKUP(E31,Measures[[#All],[Measure]],Measures[[#All],[Technical/operational]],\"\",0,1)=\"Technical\",E31<>\"Hull performance coating\",F31<G31),($C$12*I31)\n)","v":0},"","Not included",{"$f":"_xlfn.XLOOKUP(E31,Measures[[#All],[Measure]],Measures[[#All],[Fuel savings high '[%']]],0,0,1)","v":0},{"$f":"_xlfn.XLOOKUP(E31,Measures[[#All],[Measure]],Measures[[#All],[Fuel savings low '[%']]],0,0,1)","v":0},{"$f":"_xlfn.XLOOKUP(E31,Measures[[#All],[Measure]],Measures[[#All],[Typical EEXI / EEDI reduction '[%']]],0,0,1)","v":0}]
[16,{"$f":"'Measure summary'!A31","v":"Improved auxiliary engine load"},{"$f":"IF(AND( _xlfn.XLOOKUP( 'Cost&CO2_Calc'!B32, Dashboard!$X$29:$X$42,Dashboard!$AB$29:$AB$42,FALSE,0)=TRUE,_xlfn.XLOOKUP( 'Cost&CO2_Calc'!B32, Dashboard!$X$29:$X$42,Dashboard!$AC$29:$AC$42,FALSE,0)=\"\",IFERROR(VLOOKUP(B32,Dashboard!$X$29:$AG$42,7,FALSE),FALSE)=1),1,0)","v":0},null,0,{"$f":"_xlfn.XLOOKUP(E32,Measures[[#All],[Measure]],Measures[[#All],[Lifetime '[Years']]],\"\",0,1)","v":""},0,{"$f":"_xlfn.IFS(E32=0,0,AND(_xlfn.XLOOKUP(E32,Measures[[#All],[Measure]],Measures[[#All],[Technical/operational]],\"\",0,1)=\"Technical\",E32=\"Hull performance coating\"),G32,\nAND(_xlfn.XLOOKUP(E32,Measures[[#All],[Measure]],Measures[[#All],[Technical/operational]],\"\",0,1)=\"Operational\",F32>=G32),G32,\nAND(_xlfn.XLOOKUP(E32,Measures[[#All],[Measure]],Measures[[#All],[Technical/operational]],\"\",0,1)=\"Operational\",F32<G32),G32,\nAND(_xlfn.XLOOKUP(E32,Measures[[#All],[Measure]],Measures[[#All],[Technical/operational]],\"\",0,1)=\"Technical\",E32<>\"Hull performance coating\",F32>=G32),G32,\nAND(_xlfn.XLOOKUP(E32,Measures[[#All],[Measure]],Measures[[#All],[Technical/operational]],\"\",0,1)=\"Technical\",E32<>\"Hull performance coating\",F32<G32),F32)","v":0},{"$f":"_xlfn.XLOOKUP(E32,Measures[[#All],[Measure]],Measures[[#All],[Typical fuel reduction '[%']]],0,0,1)","v":0},{"$f":"_xlfn.IFS(E32=0,0,AND(_xlfn.XLOOKUP(E32,Measures[[#All],[Measure]],Measures[[#All],[Technical/operational]],\"\",0,1)=\"Technical\",F32>=G32),($C$8*I32),\nAND(_xlfn.XLOOKUP(E32,Measures[[#All],[Measure]],Measures[[#All],[Technical/operational]],\"\",0,1)=\"Operational\",F32<G32),($C$8*I32),\nAND(_xlfn.XLOOKUP(E32,Measures[[#All],[Measure]],Measures[[#All],[Technical/operational]],\"\",0,1)=\"Operational\",F32>=G32),($C$8*I32),\nAND(_xlfn.XLOOKUP(E32,Measures[[#All],[Measure]],Measures[[#All],[Technical/operational]],\"\",0,1)=\"Technical\",E32=\"Hull performance coating\",F32<G32),($C$8*I32),\nAND(_xlfn.XLOOKUP(E32,Measures[[#All],[Measure]],Measures[[#All],[Technical/operational]],\"\",0,1)=\"Technical\",E32<>\"Hull performance coating\",F32<G32),($C$8*I32)\n)","v":0},{"$error":"#DIV/0!"},{"$f":"_xlfn.XLOOKUP(E32,Measures[[#All],[Measure]],Measures[[#All],[OPEX \n'[$ per year']]],\"\",0,1)","v":""},{"$f":"_xlfn.IFS(E32=0,0,AND(_xlfn.XLOOKUP(E32,Measures[[#All],[Measure]],Measures[[#All],[Technical/operational]],\"\",0,1)=\"Technical\",F32>=G32),($C$12*I32),\nAND(_xlfn.XLOOKUP(E32,Measures[[#All],[Measure]],Measures[[#All],[Technical/operational]],\"\",0,1)=\"Operational\",F32<G32),($C$12*I32),\nAND(_xlfn.XLOOKUP(E32,Measures[[#All],[Measure]],Measures[[#All],[Technical/operational]],\"\",0,1)=\"Operational\",F32>=G32),($C$12*I32),\nAND(_xlfn.XLOOKUP(E32,Measures[[#All],[Measure]],Measures[[#All],[Technical/operational]],\"\",0,1)=\"Technical\",E32=\"Hull performance coating\",F32<G32),($C$12*I32),\nAND(_xlfn.XLOOKUP(E32,Measures[[#All],[Measure]],Measures[[#All],[Technical/operational]],\"\",0,1)=\"Technical\",E32<>\"Hull performance coating\",F32<G32),($C$12*I32)\n)","v":0},"","Not included",{"$f":"_xlfn.XLOOKUP(E32,Measures[[#All],[Measure]],Measures[[#All],[Fuel savings high '[%']]],0,0,1)","v":0},{"$f":"_xlfn.XLOOKUP(E32,Measures[[#All],[Measure]],Measures[[#All],[Fuel savings low '[%']]],0,0,1)","v":0},{"$f":"_xlfn.XLOOKUP(E32,Measures[[#All],[Measure]],Measures[[#All],[Typical EEXI / EEDI reduction '[%']]],0,0,1)","v":0}]
[17,{"$f":"'Measure summary'!A32","v":"Steam plant operation improvement"},{"$f":"IF(AND( _xlfn.XLOOKUP( 'Cost&CO2_Calc'!B33, Dashboard!$X$29:$X$42,Dashboard!$AB$29:$AB$42,FALSE,0)=TRUE,_xlfn.XLOOKUP( 'Cost&CO2_Calc'!B33, Dashboard!$X$29:$X$42,Dashboard!$AC$29:$AC$42,FALSE,0)=\"\",IFERROR(VLOOKUP(B33,Dashboard!$X$29:$AG$42,7,FALSE),FALSE)=1),1,0)","v":0},null,0,{"$f":"_xlfn.XLOOKUP(E33,Measures[[#All],[Measure]],Measures[[#All],[Lifetime '[Years']]],\"\",0,1)","v":""},0,{"$f":"_xlfn.IFS(E33=0,0,AND(_xlfn.XLOOKUP(E33,Measures[[#All],[Measure]],Measures[[#All],[Technical/operational]],\"\",0,1)=\"Technical\",E33=\"Hull performance coating\"),G33,\nAND(_xlfn.XLOOKUP(E33,Measures[[#All],[Measure]],Measures[[#All],[Technical/operational]],\"\",0,1)=\"Operational\",F33>=G33),G33,\nAND(_xlfn.XLOOKUP(E33,Measures[[#All],[Measure]],Measures[[#All],[Technical/operational]],\"\",0,1)=\"Operational\",F33<G33),G33,\nAND(_xlfn.XLOOKUP(E33,Measures[[#All],[Measure]],Measures[[#All],[Technical/operational]],\"\",0,1)=\"Technical\",E33<>\"Hull performance coating\",F33>=G33),G33,\nAND(_xlfn.XLOOKUP(E33,Measures[[#All],[Measure]],Measures[[#All],[Technical/operational]],\"\",0,1)=\"Technical\",E33<>\"Hull performance coating\",F33<G33),F33)","v":0},{"$f":"_xlfn.XLOOKUP(E33,Measures[[#All],[Measure]],Measures[[#All],[Typical fuel reduction '[%']]],0,0,1)","v":0},{"$f":"_xlfn.IFS(E33=0,0,AND(_xlfn.XLOOKUP(E33,Measures[[#All],[Measure]],Measures[[#All],[Technical/operational]],\"\",0,1)=\"Technical\",F33>=G33),($C$8*I33),\nAND(_xlfn.XLOOKUP(E33,Measures[[#All],[Measure]],Measures[[#All],[Technical/operational]],\"\",0,1)=\"Operational\",F33<G33),($C$8*I33),\nAND(_xlfn.XLOOKUP(E33,Measures[[#All],[Measure]],Measures[[#All],[Technical/operational]],\"\",0,1)=\"Operational\",F33>=G33),($C$8*I33),\nAND(_xlfn.XLOOKUP(E33,Measures[[#All],[Measure]],Measures[[#All],[Technical/operational]],\"\",0,1)=\"Technical\",E33=\"Hull performance coating\",F33<G33),($C$8*I33),\nAND(_xlfn.XLOOKUP(E33,Measures[[#All],[Measure]],Measures[[#All],[Technical/operational]],\"\",0,1)=\"Technical\",E33<>\"Hull performance coating\",F33<G33),($C$8*I33)\n)","v":0},{"$error":"#DIV/0!"},{"$f":"_xlfn.XLOOKUP(E33,Measures[[#All],[Measure]],Measures[[#All],[OPEX \n'[$ per year']]],\"\",0,1)","v":""},{"$f":"_xlfn.IFS(E33=0,0,AND(_xlfn.XLOOKUP(E33,Measures[[#All],[Measure]],Measures[[#All],[Technical/operational]],\"\",0,1)=\"Technical\",F33>=G33),($C$12*I33),\nAND(_xlfn.XLOOKUP(E33,Measures[[#All],[Measure]],Measures[[#All],[Technical/operational]],\"\",0,1)=\"Operational\",F33<G33),($C$12*I33),\nAND(_xlfn.XLOOKUP(E33,Measures[[#All],[Measure]],Measures[[#All],[Technical/operational]],\"\",0,1)=\"Operational\",F33>=G33),($C$12*I33),\nAND(_xlfn.XLOOKUP(E33,Measures[[#All],[Measure]],Measures[[#All],[Technical/operational]],\"\",0,1)=\"Technical\",E33=\"Hull performance coating\",F33<G33),($C$12*I33),\nAND(_xlfn.XLOOKUP(E33,Measures[[#All],[Measure]],Measures[[#All],[Technical/operational]],\"\",0,1)=\"Technical\",E33<>\"Hull performance coating\",F33<G33),($C$12*I33)\n)","v":0},"","Not included",{"$f":"_xlfn.XLOOKUP(E33,Measures[[#All],[Measure]],Measures[[#All],[Fuel savings high '[%']]],0,0,1)","v":0},{"$f":"_xlfn.XLOOKUP(E33,Measures[[#All],[Measure]],Measures[[#All],[Fuel savings low '[%']]],0,0,1)","v":0},{"$f":"_xlfn.XLOOKUP(E33,Measures[[#All],[Measure]],Measures[[#All],[Typical EEXI / EEDI reduction '[%']]],0,0,1)","v":0}]
[18,{"$f":"'Measure summary'!A33","v":"Waste heat recovery systems"},{"$f":"IF(AND( _xlfn.XLOOKUP( 'Cost&CO2_Calc'!B34, Dashboard!$X$29:$X$42,Dashboard!$AB$29:$AB$42,FALSE,0)=TRUE,_xlfn.XLOOKUP( 'Cost&CO2_Calc'!B34, Dashboard!$X$29:$X$42,Dashboard!$AC$29:$AC$42,FALSE,0)=\"\",IFERROR(VLOOKUP(B34,Dashboard!$X$29:$AG$42,7,FALSE),FALSE)=1),1,0)","v":0},null,0,{"$f":"_xlfn.XLOOKUP(E34,Measures[[#All],[Measure]],Measures[[#All],[Lifetime '[Years']]],\"\",0,1)","v":""},0,{"$f":"_xlfn.IFS(E34=0,0,AND(_xlfn.XLOOKUP(E34,Measures[[#All],[Measure]],Measures[[#All],[Technical/operational]],\"\",0,1)=\"Technical\",E34=\"Hull performance coating\"),G34,\nAND(_xlfn.XLOOKUP(E34,Measures[[#All],[Measure]],Measures[[#All],[Technical/operational]],\"\",0,1)=\"Operational\",F34>=G34),G34,\nAND(_xlfn.XLOOKUP(E34,Measures[[#All],[Measure]],Measures[[#All],[Technical/operational]],\"\",0,1)=\"Operational\",F34<G34),G34,\nAND(_xlfn.XLOOKUP(E34,Measures[[#All],[Measure]],Measures[[#All],[Technical/operational]],\"\",0,1)=\"Technical\",E34<>\"Hull performance coating\",F34>=G34),G34,\nAND(_xlfn.XLOOKUP(E34,Measures[[#All],[Measure]],Measures[[#All],[Technical/operational]],\"\",0,1)=\"Technical\",E34<>\"Hull performance coating\",F34<G34),F34)","v":0},{"$f":"_xlfn.XLOOKUP(E34,Measures[[#All],[Measure]],Measures[[#All],[Typical fuel reduction '[%']]],0,0,1)","v":0},{"$f":"_xlfn.IFS(E34=0,0,AND(_xlfn.XLOOKUP(E34,Measures[[#All],[Measure]],Measures[[#All],[Technical/operational]],\"\",0,1)=\"Technical\",F34>=G34),($C$8*I34),\nAND(_xlfn.XLOOKUP(E34,Measures[[#All],[Measure]],Measures[[#All],[Technical/operational]],\"\",0,1)=\"Operational\",F34<G34),($C$8*I34),\nAND(_xlfn.XLOOKUP(E34,Measures[[#All],[Measure]],Measures[[#All],[Technical/operational]],\"\",0,1)=\"Operational\",F34>=G34),($C$8*I34),\nAND(_xlfn.XLOOKUP(E34,Measures[[#All],[Measure]],Measures[[#All],[Technical/operational]],\"\",0,1)=\"Technical\",E34=\"Hull performance coating\",F34<G34),($C$8*I34),\nAND(_xlfn.XLOOKUP(E34,Measures[[#All],[Measure]],Measures[[#All],[Technical/operational]],\"\",0,1)=\"Technical\",E34<>\"Hull performance coating\",F34<G34),($C$8*I34)\n)","v":0},{"$error":"#DIV/0!"},{"$f":"_xlfn.XLOOKUP(E34,Measures[[#All],[Measure]],Measures[[#All],[OPEX \n'[$ per year']]],\"\",0,1)","v":""},{"$f":"_xlfn.IFS(E34=0,0,AND(_xlfn.XLOOKUP(E34,Measures[[#All],[Measure]],Measures[[#All],[Technical/operational]],\"\",0,1)=\"Technical\",F34>=G34),($C$12*I34),\nAND(_xlfn.XLOOKUP(E34,Measures[[#All],[Measure]],Measures[[#All],[Technical/operational]],\"\",0,1)=\"Operational\",F34<G34),($C$12*I34),\nAND(_xlfn.XLOOKUP(E34,Measures[[#All],[Measure]],Measures[[#All],[Technical/operational]],\"\",0,1)=\"Operational\",F34>=G34),($C$12*I34),\nAND(_xlfn.XLOOKUP(E34,Measures[[#All],[Measure]],Measures[[#All],[Technical/operational]],\"\",0,1)=\"Technical\",E34=\"Hull performance coating\",F34<G34),($C$12*I34),\nAND(_xlfn.XLOOKUP(E34,Measures[[#All],[Measure]],Measures[[#All],[Technical/operational]],\"\",0,1)=\"Technical\",E34<>\"Hull performance coating\",F34<G34),($C$12*I34)\n)","v":0},"","Not included",{"$f":"_xlfn.XLOOKUP(E34,Measures[[#All],[Measure]],Measures[[#All],[Fuel savings high '[%']]],0,0,1)","v":0},{"$f":"_xlfn.XLOOKUP(E34,Measures[[#All],[Measure]],Measures[[#All],[Fuel savings low '[%']]],0,0,1)","v":0},{"$f":"_xlfn.XLOOKUP(E34,Measures[[#All],[Measure]],Measures[[#All],[Typical EEXI / EEDI reduction '[%']]],0,0,1)","v":0}]
[19,{"$f":"'Measure summary'!A34","v":"Autopilot adjustment and use"},{"$f":"IF(AND( _xlfn.XLOOKUP( 'Cost&CO2_Calc'!B35, Dashboard!$X$29:$X$42,Dashboard!$AB$29:$AB$42,FALSE,0)=TRUE,_xlfn.XLOOKUP( 'Cost&CO2_Calc'!B35, Dashboard!$X$29:$X$42,Dashboard!$AC$29:$AC$42,FALSE,0)=\"\",IFERROR(VLOOKUP(B35,Dashboard!$X$29:$AG$42,7,FALSE),FALSE)=1),1,0)","v":0},null,0,{"$f":"_xlfn.XLOOKUP(E35,Measures[[#All],[Measure]],Measures[[#All],[Lifetime '[Years']]],\"\",0,1)","v":""},0,{"$f":"_xlfn.IFS(E35=0,0,AND(_xlfn.XLOOKUP(E35,Measures[[#All],[Measure]],Measures[[#All],[Technical/operational]],\"\",0,1)=\"Technical\",E35=\"Hull performance coating\"),G35,\nAND(_xlfn.XLOOKUP(E35,Measures[[#All],[Measure]],Measures[[#All],[Technical/operational]],\"\",0,1)=\"Operational\",F35>=G35),G35,\nAND(_xlfn.XLOOKUP(E35,Measures[[#All],[Measure]],Measures[[#All],[Technical/operational]],\"\",0,1)=\"Operational\",F35<G35),G35,\nAND(_xlfn.XLOOKUP(E35,Measures[[#All],[Measure]],Measures[[#All],[Technical/operational]],\"\",0,1)=\"Technical\",E35<>\"Hull performance coating\",F35>=G35),G35,\nAND(_xlfn.XLOOKUP(E35,Measures[[#All],[Measure]],Measures[[#All],[Technical/operational]],\"\",0,1)=\"Technical\",E35<>\"Hull performance coating\",F35<G35),F35)","v":0},{"$f":"_xlfn.XLOOKUP(E35,Measures[[#All],[Measure]],Measures[[#All],[Typical fuel reduction '[%']]],0,0,1)","v":0},{"$f":"_xlfn.IFS(E35=0,0,AND(_xlfn.XLOOKUP(E35,Measures[[#All],[Measure]],Measures[[#All],[Technical/operational]],\"\",0,1)=\"Technical\",F35>=G35),($C$8*I35),\nAND(_xlfn.XLOOKUP(E35,Measures[[#All],[Measure]],Measures[[#All],[Technical/operational]],\"\",0,1)=\"Operational\",F35<G35),($C$8*I35),\nAND(_xlfn.XLOOKUP(E35,Measures[[#All],[Measure]],Measures[[#All],[Technical/operational]],\"\",0,1)=\"Operational\",F35>=G35),($C$8*I35),\nAND(_xlfn.XLOOKUP(E35,Measures[[#All],[Measure]],Measures[[#All],[Technical/operational]],\"\",0,1)=\"Technical\",E35=\"Hull performance coating\",F35<G35),($C$8*I35),\nAND(_xlfn.XLOOKUP(E35,Measures[[#All],[Measure]],Measures[[#All],[Technical/operational]],\"\",0,1)=\"Technical\",E35<>\"Hull performance coating\",F35<G35),($C$8*I35)\n)","v":0},{"$error":"#DIV/0!"},{"$f":"_xlfn.XLOOKUP(E35,Measures[[#All],[Measure]],Measures[[#All],[OPEX \n'[$ per year']]],\"\",0,1)","v":""},{"$f":"_xlfn.IFS(E35=0,0,AND(_xlfn.XLOOKUP(E35,Measures[[#All],[Measure]],Measures[[#All],[Technical/operational]],\"\",0,1)=\"Technical\",F35>=G35),($C$12*I35),\nAND(_xlfn.XLOOKUP(E35,Measures[[#All],[Measure]],Measures[[#All],[Technical/operational]],\"\",0,1)=\"Operational\",F35<G35),($C$12*I35),\nAND(_xlfn.XLOOKUP(E35,Measures[[#All],[Measure]],Measures[[#All],[Technical/operational]],\"\",0,1)=\"Operational\",F35>=G35),($C$12*I35),\nAND(_xlfn.XLOOKUP(E35,Measures[[#All],[Measure]],Measures[[#All],[Technical/operational]],\"\",0,1)=\"Technical\",E35=\"Hull performance coating\",F35<G35),($C$12*I35),\nAND(_xlfn.XLOOKUP(E35,Measures[[#All],[Measure]],Measures[[#All],[Technical/operational]],\"\",0,1)=\"Technical\",E35<>\"Hull performance coating\",F35<G35),($C$12*I35)\n)","v":0},"","Not included",{"$f":"_xlfn.XLOOKUP(E35,Measures[[#All],[Measure]],Measures[[#All],[Fuel savings high '[%']]],0,0,1)","v":0},{"$f":"_xlfn.XLOOKUP(E35,Measures[[#All],[Measure]],Measures[[#All],[Fuel savings low '[%']]],0,0,1)","v":0},{"$f":"_xlfn.XLOOKUP(E35,Measures[[#All],[Measure]],Measures[[#All],[Typical EEXI / EEDI reduction '[%']]],0,0,1)","v":0}]
[20,{"$f":"'Measure summary'!A35","v":"Combinator optimizing"},{"$f":"IF(AND( _xlfn.XLOOKUP( 'Cost&CO2_Calc'!B36, Dashboard!$X$29:$X$42,Dashboard!$AB$29:$AB$42,FALSE,0)=TRUE,_xlfn.XLOOKUP( 'Cost&CO2_Calc'!B36, Dashboard!$X$29:$X$42,Dashboard!$AC$29:$AC$42,FALSE,0)=\"\",IFERROR(VLOOKUP(B36,Dashboard!$X$29:$AG$42,7,FALSE),FALSE)=1),1,0)","v":0},null,0,{"$f":"_xlfn.XLOOKUP(E36,Measures[[#All],[Measure]],Measures[[#All],[Lifetime '[Years']]],\"\",0,1)","v":""},0,{"$f":"_xlfn.IFS(E36=0,0,AND(_xlfn.XLOOKUP(E36,Measures[[#All],[Measure]],Measures[[#All],[Technical/operational]],\"\",0,1)=\"Technical\",E36=\"Hull performance coating\"),G36,\nAND(_xlfn.XLOOKUP(E36,Measures[[#All],[Measure]],Measures[[#All],[Technical/operational]],\"\",0,1)=\"Operational\",F36>=G36),G36,\nAND(_xlfn.XLOOKUP(E36,Measures[[#All],[Measure]],Measures[[#All],[Technical/operational]],\"\",0,1)=\"Operational\",F36<G36),G36,\nAND(_xlfn.XLOOKUP(E36,Measures[[#All],[Measure]],Measures[[#All],[Technical/operational]],\"\",0,1)=\"Technical\",E36<>\"Hull performance coating\",F36>=G36),G36,\nAND(_xlfn.XLOOKUP(E36,Measures[[#All],[Measure]],Measures[[#All],[Technical/operational]],\"\",0,1)=\"Technical\",E36<>\"Hull performance coating\",F36<G36),F36)","v":0},{"$f":"_xlfn.XLOOKUP(E36,Measures[[#All],[Measure]],Measures[[#All],[Typical fuel reduction '[%']]],0,0,1)","v":0},{"$f":"_xlfn.IFS(E36=0,0,AND(_xlfn.XLOOKUP(E36,Measures[[#All],[Measure]],Measures[[#All],[Technical/operational]],\"\",0,1)=\"Technical\",F36>=G36),($C$8*I36),\nAND(_xlfn.XLOOKUP(E36,Measures[[#All],[Measure]],Measures[[#All],[Technical/operational]],\"\",0,1)=\"Operational\",F36<G36),($C$8*I36),\nAND(_xlfn.XLOOKUP(E36,Measures[[#All],[Measure]],Measures[[#All],[Technical/operational]],\"\",0,1)=\"Operational\",F36>=G36),($C$8*I36),\nAND(_xlfn.XLOOKUP(E36,Measures[[#All],[Measure]],Measures[[#All],[Technical/operational]],\"\",0,1)=\"Technical\",E36=\"Hull performance coating\",F36<G36),($C$8*I36),\nAND(_xlfn.XLOOKUP(E36,Measures[[#All],[Measure]],Measures[[#All],[Technical/operational]],\"\",0,1)=\"Technical\",E36<>\"Hull performance coating\",F36<G36),($C$8*I36)\n)","v":0},{"$error":"#DIV/0!"},{"$f":"_xlfn.XLOOKUP(E36,Measures[[#All],[Measure]],Measures[[#All],[OPEX \n'[$ per year']]],\"\",0,1)","v":""},{"$f":"_xlfn.IFS(E36=0,0,AND(_xlfn.XLOOKUP(E36,Measures[[#All],[Measure]],Measures[[#All],[Technical/operational]],\"\",0,1)=\"Technical\",F36>=G36),($C$12*I36),\nAND(_xlfn.XLOOKUP(E36,Measures[[#All],[Measure]],Measures[[#All],[Technical/operational]],\"\",0,1)=\"Operational\",F36<G36),($C$12*I36),\nAND(_xlfn.XLOOKUP(E36,Measures[[#All],[Measure]],Measures[[#All],[Technical/operational]],\"\",0,1)=\"Operational\",F36>=G36),($C$12*I36),\nAND(_xlfn.XLOOKUP(E36,Measures[[#All],[Measure]],Measures[[#All],[Technical/operational]],\"\",0,1)=\"Technical\",E36=\"Hull performance coating\",F36<G36),($C$12*I36),\nAND(_xlfn.XLOOKUP(E36,Measures[[#All],[Measure]],Measures[[#All],[Technical/operational]],\"\",0,1)=\"Technical\",E36<>\"Hull performance coating\",F36<G36),($C$12*I36)\n)","v":0},"","Not included",{"$f":"_xlfn.XLOOKUP(E36,Measures[[#All],[Measure]],Measures[[#All],[Fuel savings high '[%']]],0,0,1)","v":0},{"$f":"_xlfn.XLOOKUP(E36,Measures[[#All],[Measure]],Measures[[#All],[Fuel savings low '[%']]],0,0,1)","v":0},{"$f":"_xlfn.XLOOKUP(E36,Measures[[#All],[Measure]],Measures[[#All],[Typical EEXI / EEDI reduction '[%']]],0,0,1)","v":0}]
[21,{"$f":"'Measure summary'!A36","v":"Trim and draft optimization"},{"$f":"IF(AND( _xlfn.XLOOKUP( 'Cost&CO2_Calc'!B37, Dashboard!$X$29:$X$42,Dashboard!$AB$29:$AB$42,FALSE,0)=TRUE,_xlfn.XLOOKUP( 'Cost&CO2_Calc'!B37, Dashboard!$X$29:$X$42,Dashboard!$AC$29:$AC$42,FALSE,0)=\"\",IFERROR(VLOOKUP(B37,Dashboard!$X$29:$AG$42,7,FALSE),FALSE)=1),1,0)","v":0},null,0,{"$f":"_xlfn.XLOOKUP(E37,Measures[[#All],[Measure]],Measures[[#All],[Lifetime '[Years']]],\"\",0,1)","v":""},0,{"$f":"_xlfn.IFS(E37=0,0,AND(_xlfn.XLOOKUP(E37,Measures[[#All],[Measure]],Measures[[#All],[Technical/operational]],\"\",0,1)=\"Technical\",E37=\"Hull performance coating\"),G37,\nAND(_xlfn.XLOOKUP(E37,Measures[[#All],[Measure]],Measures[[#All],[Technical/operational]],\"\",0,1)=\"Operational\",F37>=G37),G37,\nAND(_xlfn.XLOOKUP(E37,Measures[[#All],[Measure]],Measures[[#All],[Technical/operational]],\"\",0,1)=\"Operational\",F37<G37),G37,\nAND(_xlfn.XLOOKUP(E37,Measures[[#All],[Measure]],Measures[[#All],[Technical/operational]],\"\",0,1)=\"Technical\",E37<>\"Hull performance coating\",F37>=G37),G37,\nAND(_xlfn.XLOOKUP(E37,Measures[[#All],[Measure]],Measures[[#All],[Technical/operational]],\"\",0,1)=\"Technical\",E37<>\"Hull performance coating\",F37<G37),F37)","v":0},{"$f":"_xlfn.XLOOKUP(E37,Measures[[#All],[Measure]],Measures[[#All],[Typical fuel reduction '[%']]],0,0,1)","v":0},{"$f":"_xlfn.IFS(E37=0,0,AND(_xlfn.XLOOKUP(E37,Measures[[#All],[Measure]],Measures[[#All],[Technical/operational]],\"\",0,1)=\"Technical\",F37>=G37),($C$8*I37),\nAND(_xlfn.XLOOKUP(E37,Measures[[#All],[Measure]],Measures[[#All],[Technical/operational]],\"\",0,1)=\"Operational\",F37<G37),($C$8*I37),\nAND(_xlfn.XLOOKUP(E37,Measures[[#All],[Measure]],Measures[[#All],[Technical/operational]],\"\",0,1)=\"Operational\",F37>=G37),($C$8*I37),\nAND(_xlfn.XLOOKUP(E37,Measures[[#All],[Measure]],Measures[[#All],[Technical/operational]],\"\",0,1)=\"Technical\",E37=\"Hull performance coating\",F37<G37),($C$8*I37),\nAND(_xlfn.XLOOKUP(E37,Measures[[#All],[Measure]],Measures[[#All],[Technical/operational]],\"\",0,1)=\"Technical\",E37<>\"Hull performance coating\",F37<G37),($C$8*I37)\n)","v":0},{"$error":"#DIV/0!"},{"$f":"_xlfn.XLOOKUP(E37,Measures[[#All],[Measure]],Measures[[#All],[OPEX \n'[$ per year']]],\"\",0,1)","v":""},{"$f":"_xlfn.IFS(E37=0,0,AND(_xlfn.XLOOKUP(E37,Measures[[#All],[Measure]],Measures[[#All],[Technical/operational]],\"\",0,1)=\"Technical\",F37>=G37),($C$12*I37),\nAND(_xlfn.XLOOKUP(E37,Measures[[#All],[Measure]],Measures[[#All],[Technical/operational]],\"\",0,1)=\"Operational\",F37<G37),($C$12*I37),\nAND(_xlfn.XLOOKUP(E37,Measures[[#All],[Measure]],Measures[[#All],[Technical/operational]],\"\",0,1)=\"Operational\",F37>=G37),($C$12*I37),\nAND(_xlfn.XLOOKUP(E37,Measures[[#All],[Measure]],Measures[[#All],[Technical/operational]],\"\",0,1)=\"Technical\",E37=\"Hull performance coating\",F37<G37),($C$12*I37),\nAND(_xlfn.XLOOKUP(E37,Measures[[#All],[Measure]],Measures[[#All],[Technical/operational]],\"\",0,1)=\"Technical\",E37<>\"Hull performance coating\",F37<G37),($C$12*I37)\n)","v":0},"","Not included",{"$f":"_xlfn.XLOOKUP(E37,Measures[[#All],[Measure]],Measures[[#All],[Fuel savings high '[%']]],0,0,1)","v":0},{"$f":"_xlfn.XLOOKUP(E37,Measures[[#All],[Measure]],Measures[[#All],[Fuel savings low '[%']]],0,0,1)","v":0},{"$f":"_xlfn.XLOOKUP(E37,Measures[[#All],[Measure]],Measures[[#All],[Typical EEXI / EEDI reduction '[%']]],0,0,1)","v":0}]
[22,{"$f":"'Measure summary'!A37","v":"Weather routing"},{"$f":"IF(AND( _xlfn.XLOOKUP( 'Cost&CO2_Calc'!B38, Dashboard!$X$29:$X$42,Dashboard!$AB$29:$AB$42,FALSE,0)=TRUE,_xlfn.XLOOKUP( 'Cost&CO2_Calc'!B38, Dashboard!$X$29:$X$42,Dashboard!$AC$29:$AC$42,FALSE,0)=\"\",IFERROR(VLOOKUP(B38,Dashboard!$X$29:$AG$42,7,FALSE),FALSE)=1),1,0)","v":0},null,0,{"$f":"_xlfn.XLOOKUP(E38,Measures[[#All],[Measure]],Measures[[#All],[Lifetime '[Years']]],\"\",0,1)","v":""},0,{"$f":"_xlfn.IFS(E38=0,0,AND(_xlfn.XLOOKUP(E38,Measures[[#All],[Measure]],Measures[[#All],[Technical/operational]],\"\",0,1)=\"Technical\",E38=\"Hull performance coating\"),G38,\nAND(_xlfn.XLOOKUP(E38,Measures[[#All],[Measure]],Measures[[#All],[Technical/operational]],\"\",0,1)=\"Operational\",F38>=G38),G38,\nAND(_xlfn.XLOOKUP(E38,Measures[[#All],[Measure]],Measures[[#All],[Technical/operational]],\"\",0,1)=\"Operational\",F38<G38),G38,\nAND(_xlfn.XLOOKUP(E38,Measures[[#All],[Measure]],Measures[[#All],[Technical/operational]],\"\",0,1)=\"Technical\",E38<>\"Hull performance coating\",F38>=G38),G38,\nAND(_xlfn.XLOOKUP(E38,Measures[[#All],[Measure]],Measures[[#All],[Technical/operational]],\"\",0,1)=\"Technical\",E38<>\"Hull performance coating\",F38<G38),F38)","v":0},{"$f":"_xlfn.XLOOKUP(E38,Measures[[#All],[Measure]],Measures[[#All],[Typical fuel reduction '[%']]],0,0,1)","v":0},{"$f":"_xlfn.IFS(E38=0,0,AND(_xlfn.XLOOKUP(E38,Measures[[#All],[Measure]],Measures[[#All],[Technical/operational]],\"\",0,1)=\"Technical\",F38>=G38),($C$8*I38),\nAND(_xlfn.XLOOKUP(E38,Measures[[#All],[Measure]],Measures[[#All],[Technical/operational]],\"\",0,1)=\"Operational\",F38<G38),($C$8*I38),\nAND(_xlfn.XLOOKUP(E38,Measures[[#All],[Measure]],Measures[[#All],[Technical/operational]],\"\",0,1)=\"Operational\",F38>=G38),($C$8*I38),\nAND(_xlfn.XLOOKUP(E38,Measures[[#All],[Measure]],Measures[[#All],[Technical/operational]],\"\",0,1)=\"Technical\",E38=\"Hull performance coating\",F38<G38),($C$8*I38),\nAND(_xlfn.XLOOKUP(E38,Measures[[#All],[Measure]],Measures[[#All],[Technical/operational]],\"\",0,1)=\"Technical\",E38<>\"Hull performance coating\",F38<G38),($C$8*I38)\n)","v":0},{"$error":"#DIV/0!"},{"$f":"_xlfn.XLOOKUP(E38,Measures[[#All],[Measure]],Measures[[#All],[OPEX \n'[$ per year']]],\"\",0,1)","v":""},{"$f":"_xlfn.IFS(E38=0,0,AND(_xlfn.XLOOKUP(E38,Measures[[#All],[Measure]],Measures[[#All],[Technical/operational]],\"\",0,1)=\"Technical\",F38>=G38),($C$12*I38),\nAND(_xlfn.XLOOKUP(E38,Measures[[#All],[Measure]],Measures[[#All],[Technical/operational]],\"\",0,1)=\"Operational\",F38<G38),($C$12*I38),\nAND(_xlfn.XLOOKUP(E38,Measures[[#All],[Measure]],Measures[[#All],[Technical/operational]],\"\",0,1)=\"Operational\",F38>=G38),($C$12*I38),\nAND(_xlfn.XLOOKUP(E38,Measures[[#All],[Measure]],Measures[[#All],[Technical/operational]],\"\",0,1)=\"Technical\",E38=\"Hull performance coating\",F38<G38),($C$12*I38),\nAND(_xlfn.XLOOKUP(E38,Measures[[#All],[Measure]],Measures[[#All],[Technical/operational]],\"\",0,1)=\"Technical\",E38<>\"Hull performance coating\",F38<G38),($C$12*I38)\n)","v":0},"","Not included",{"$f":"_xlfn.XLOOKUP(E38,Measures[[#All],[Measure]],Measures[[#All],[Fuel savings high '[%']]],0,0,1)","v":0},{"$f":"_xlfn.XLOOKUP(E38,Measures[[#All],[Measure]],Measures[[#All],[Fuel savings low '[%']]],0,0,1)","v":0},{"$f":"_xlfn.XLOOKUP(E38,Measures[[#All],[Measure]],Measures[[#All],[Typical EEXI / EEDI reduction '[%']]],0,0,1)","v":0}]
[23,{"$f":"'Measure summary'!A38","v":"Speed management"},{"$f":"IF(AND( _xlfn.XLOOKUP( 'Cost&CO2_Calc'!B39, Dashboard!$X$29:$X$42,Dashboard!$AB$29:$AB$42,FALSE,0)=TRUE,_xlfn.XLOOKUP( 'Cost&CO2_Calc'!B39, Dashboard!$X$29:$X$42,Dashboard!$AC$29:$AC$42,FALSE,0)=\"\",IFERROR(VLOOKUP(B39,Dashboard!$X$29:$AG$42,7,FALSE),FALSE)=1),1,0)","v":0},null,0,{"$f":"_xlfn.XLOOKUP(E39,Measures[[#All],[Measure]],Measures[[#All],[Lifetime '[Years']]],\"\",0,1)","v":""},0,{"$f":"_xlfn.IFS(E39=0,0,AND(_xlfn.XLOOKUP(E39,Measures[[#All],[Measure]],Measures[[#All],[Technical/operational]],\"\",0,1)=\"Technical\",E39=\"Hull performance coating\"),G39,\nAND(_xlfn.XLOOKUP(E39,Measures[[#All],[Measure]],Measures[[#All],[Technical/operational]],\"\",0,1)=\"Operational\",F39>=G39),G39,\nAND(_xlfn.XLOOKUP(E39,Measures[[#All],[Measure]],Measures[[#All],[Technical/operational]],\"\",0,1)=\"Operational\",F39<G39),G39,\nAND(_xlfn.XLOOKUP(E39,Measures[[#All],[Measure]],Measures[[#All],[Technical/operational]],\"\",0,1)=\"Technical\",E39<>\"Hull performance coating\",F39>=G39),G39,\nAND(_xlfn.XLOOKUP(E39,Measures[[#All],[Measure]],Measures[[#All],[Technical/operational]],\"\",0,1)=\"Technical\",E39<>\"Hull performance coating\",F39<G39),F39)","v":0},{"$f":"_xlfn.XLOOKUP(E39,Measures[[#All],[Measure]],Measures[[#All],[Typical fuel reduction '[%']]],0,0,1)","v":0},{"$f":"_xlfn.IFS(E39=0,0,AND(_xlfn.XLOOKUP(E39,Measures[[#All],[Measure]],Measures[[#All],[Technical/operational]],\"\",0,1)=\"Technical\",F39>=G39),($C$8*I39),\nAND(_xlfn.XLOOKUP(E39,Measures[[#All],[Measure]],Measures[[#All],[Technical/operational]],\"\",0,1)=\"Operational\",F39<G39),($C$8*I39),\nAND(_xlfn.XLOOKUP(E39,Measures[[#All],[Measure]],Measures[[#All],[Technical/operational]],\"\",0,1)=\"Operational\",F39>=G39),($C$8*I39),\nAND(_xlfn.XLOOKUP(E39,Measures[[#All],[Measure]],Measures[[#All],[Technical/operational]],\"\",0,1)=\"Technical\",E39=\"Hull performance coating\",F39<G39),($C$8*I39),\nAND(_xlfn.XLOOKUP(E39,Measures[[#All],[Measure]],Measures[[#All],[Technical/operational]],\"\",0,1)=\"Technical\",E39<>\"Hull performance coating\",F39<G39),($C$8*I39)\n)","v":0},{"$error":"#DIV/0!"},{"$f":"_xlfn.XLOOKUP(E39,Measures[[#All],[Measure]],Measures[[#All],[OPEX \n'[$ per year']]],\"\",0,1)","v":""},{"$f":"_xlfn.IFS(E39=0,0,AND(_xlfn.XLOOKUP(E39,Measures[[#All],[Measure]],Measures[[#All],[Technical/operational]],\"\",0,1)=\"Technical\",F39>=G39),($C$12*I39),\nAND(_xlfn.XLOOKUP(E39,Measures[[#All],[Measure]],Measures[[#All],[Technical/operational]],\"\",0,1)=\"Operational\",F39<G39),($C$12*I39),\nAND(_xlfn.XLOOKUP(E39,Measures[[#All],[Measure]],Measures[[#All],[Technical/operational]],\"\",0,1)=\"Operational\",F39>=G39),($C$12*I39),\nAND(_xlfn.XLOOKUP(E39,Measures[[#All],[Measure]],Measures[[#All],[Technical/operational]],\"\",0,1)=\"Technical\",E39=\"Hull performance coating\",F39<G39),($C$12*I39),\nAND(_xlfn.XLOOKUP(E39,Measures[[#All],[Measure]],Measures[[#All],[Technical/operational]],\"\",0,1)=\"Technical\",E39<>\"Hull performance coating\",F39<G39),($C$12*I39)\n)","v":0},"","Not included",{"$f":"_xlfn.XLOOKUP(E39,Measures[[#All],[Measure]],Measures[[#All],[Fuel savings high '[%']]],0,0,1)","v":0},{"$f":"_xlfn.XLOOKUP(E39,Measures[[#All],[Measure]],Measures[[#All],[Fuel savings low '[%']]],0,0,1)","v":0},{"$f":"_xlfn.XLOOKUP(E39,Measures[[#All],[Measure]],Measures[[#All],[Typical EEXI / EEDI reduction '[%']]],0,0,1)","v":0}]
[24,{"$f":"'Measure summary'!A39","v":"Air lubrication"},{"$f":"IF(AND( _xlfn.XLOOKUP( 'Cost&CO2_Calc'!B40, Dashboard!$X$29:$X$42,Dashboard!$AB$29:$AB$42,FALSE,0)=TRUE,_xlfn.XLOOKUP( 'Cost&CO2_Calc'!B40, Dashboard!$X$29:$X$42,Dashboard!$AC$29:$AC$42,FALSE,0)=\"\",IFERROR(VLOOKUP(B40,Dashboard!$X$29:$AG$42,7,FALSE),FALSE)=1),1,0)","v":0},null,0,{"$f":"_xlfn.XLOOKUP(E40,Measures[[#All],[Measure]],Measures[[#All],[Lifetime '[Years']]],\"\",0,1)","v":""},0,{"$f":"_xlfn.IFS(E40=0,0,AND(_xlfn.XLOOKUP(E40,Measures[[#All],[Measure]],Measures[[#All],[Technical/operational]],\"\",0,1)=\"Technical\",E40=\"Hull performance coating\"),G40,\nAND(_xlfn.XLOOKUP(E40,Measures[[#All],[Measure]],Measures[[#All],[Technical/operational]],\"\",0,1)=\"Operational\",F40>=G40),G40,\nAND(_xlfn.XLOOKUP(E40,Measures[[#All],[Measure]],Measures[[#All],[Technical/operational]],\"\",0,1)=\"Operational\",F40<G40),G40,\nAND(_xlfn.XLOOKUP(E40,Measures[[#All],[Measure]],Measures[[#All],[Technical/operational]],\"\",0,1)=\"Technical\",E40<>\"Hull performance coating\",F40>=G40),G40,\nAND(_xlfn.XLOOKUP(E40,Measures[[#All],[Measure]],Measures[[#All],[Technical/operational]],\"\",0,1)=\"Technical\",E40<>\"Hull performance coating\",F40<G40),F40)","v":0},{"$f":"_xlfn.XLOOKUP(E40,Measures[[#All],[Measure]],Measures[[#All],[Typical fuel reduction '[%']]],0,0,1)","v":0},{"$f":"_xlfn.IFS(E40=0,0,AND(_xlfn.XLOOKUP(E40,Measures[[#All],[Measure]],Measures[[#All],[Technical/operational]],\"\",0,1)=\"Technical\",F40>=G40),($C$8*I40),\nAND(_xlfn.XLOOKUP(E40,Measures[[#All],[Measure]],Measures[[#All],[Technical/operational]],\"\",0,1)=\"Operational\",F40<G40),($C$8*I40),\nAND(_xlfn.XLOOKUP(E40,Measures[[#All],[Measure]],Measures[[#All],[Technical/operational]],\"\",0,1)=\"Operational\",F40>=G40),($C$8*I40),\nAND(_xlfn.XLOOKUP(E40,Measures[[#All],[Measure]],Measures[[#All],[Technical/operational]],\"\",0,1)=\"Technical\",E40=\"Hull performance coating\",F40<G40),($C$8*I40),\nAND(_xlfn.XLOOKUP(E40,Measures[[#All],[Measure]],Measures[[#All],[Technical/operational]],\"\",0,1)=\"Technical\",E40<>\"Hull performance coating\",F40<G40),($C$8*I40)\n)","v":0},{"$error":"#DIV/0!"},{"$f":"_xlfn.XLOOKUP(E40,Measures[[#All],[Measure]],Measures[[#All],[OPEX \n'[$ per year']]],\"\",0,1)","v":""},{"$f":"_xlfn.IFS(E40=0,0,AND(_xlfn.XLOOKUP(E40,Measures[[#All],[Measure]],Measures[[#All],[Technical/operational]],\"\",0,1)=\"Technical\",F40>=G40),($C$12*I40),\nAND(_xlfn.XLOOKUP(E40,Measures[[#All],[Measure]],Measures[[#All],[Technical/operational]],\"\",0,1)=\"Operational\",F40<G40),($C$12*I40),\nAND(_xlfn.XLOOKUP(E40,Measures[[#All],[Measure]],Measures[[#All],[Technical/operational]],\"\",0,1)=\"Operational\",F40>=G40),($C$12*I40),\nAND(_xlfn.XLOOKUP(E40,Measures[[#All],[Measure]],Measures[[#All],[Technical/operational]],\"\",0,1)=\"Technical\",E40=\"Hull performance coating\",F40<G40),($C$12*I40),\nAND(_xlfn.XLOOKUP(E40,Measures[[#All],[Measure]],Measures[[#All],[Technical/operational]],\"\",0,1)=\"Technical\",E40<>\"Hull performance coating\",F40<G40),($C$12*I40)\n)","v":0},"","Not included",{"$f":"_xlfn.XLOOKUP(E40,Measures[[#All],[Measure]],Measures[[#All],[Fuel savings high '[%']]],0,0,1)","v":0},{"$f":"_xlfn.XLOOKUP(E40,Measures[[#All],[Measure]],Measures[[#All],[Fuel savings low '[%']]],0,0,1)","v":0},{"$f":"_xlfn.XLOOKUP(E40,Measures[[#All],[Measure]],Measures[[#All],[Typical EEXI / EEDI reduction '[%']]],0,0,1)","v":0}]
[25,{"$f":"'Measure summary'!A40","v":"Hull performance coating"},{"$f":"IF(AND( _xlfn.XLOOKUP( 'Cost&CO2_Calc'!B41, Dashboard!$X$29:$X$42,Dashboard!$AB$29:$AB$42,FALSE,0)=TRUE,_xlfn.XLOOKUP( 'Cost&CO2_Calc'!B41, Dashboard!$X$29:$X$42,Dashboard!$AC$29:$AC$42,FALSE,0)=\"\",IFERROR(VLOOKUP(B41,Dashboard!$X$29:$AG$42,7,FALSE),FALSE)=1),1,0)","v":0},null,0,{"$f":"_xlfn.XLOOKUP(E41,Measures[[#All],[Measure]],Measures[[#All],[Lifetime '[Years']]],\"\",0,1)","v":""},0,{"$f":"_xlfn.IFS(E41=0,0,AND(_xlfn.XLOOKUP(E41,Measures[[#All],[Measure]],Measures[[#All],[Technical/operational]],\"\",0,1)=\"Technical\",E41=\"Hull performance coating\"),G41,\nAND(_xlfn.XLOOKUP(E41,Measures[[#All],[Measure]],Measures[[#All],[Technical/operational]],\"\",0,1)=\"Operational\",F41>=G41),G41,\nAND(_xlfn.XLOOKUP(E41,Measures[[#All],[Measure]],Measures[[#All],[Technical/operational]],\"\",0,1)=\"Operational\",F41<G41),G41,\nAND(_xlfn.XLOOKUP(E41,Measures[[#All],[Measure]],Measures[[#All],[Technical/operational]],\"\",0,1)=\"Technical\",E41<>\"Hull performance coating\",F41>=G41),G41,\nAND(_xlfn.XLOOKUP(E41,Measures[[#All],[Measure]],Measures[[#All],[Technical/operational]],\"\",0,1)=\"Technical\",E41<>\"Hull performance coating\",F41<G41),F41)","v":0},{"$f":"_xlfn.XLOOKUP(E41,Measures[[#All],[Measure]],Measures[[#All],[Typical fuel reduction '[%']]],0,0,1)","v":0},{"$f":"_xlfn.IFS(E41=0,0,AND(_xlfn.XLOOKUP(E41,Measures[[#All],[Measure]],Measures[[#All],[Technical/operational]],\"\",0,1)=\"Technical\",F41>=G41),($C$8*I41),\nAND(_xlfn.XLOOKUP(E41,Measures[[#All],[Measure]],Measures[[#All],[Technical/operational]],\"\",0,1)=\"Operational\",F41<G41),($C$8*I41),\nAND(_xlfn.XLOOKUP(E41,Measures[[#All],[Measure]],Measures[[#All],[Technical/operational]],\"\",0,1)=\"Operational\",F41>=G41),($C$8*I41),\nAND(_xlfn.XLOOKUP(E41,Measures[[#All],[Measure]],Measures[[#All],[Technical/operational]],\"\",0,1)=\"Technical\",E41=\"Hull performance coating\",F41<G41),($C$8*I41),\nAND(_xlfn.XLOOKUP(E41,Measures[[#All],[Measure]],Measures[[#All],[Technical/operational]],\"\",0,1)=\"Technical\",E41<>\"Hull performance coating\",F41<G41),($C$8*I41)\n)","v":0},{"$error":"#DIV/0!"},{"$f":"_xlfn.XLOOKUP(E41,Measures[[#All],[Measure]],Measures[[#All],[OPEX \n'[$ per year']]],\"\",0,1)","v":""},{"$f":"_xlfn.IFS(E41=0,0,AND(_xlfn.XLOOKUP(E41,Measures[[#All],[Measure]],Measures[[#All],[Technical/operational]],\"\",0,1)=\"Technical\",F41>=G41),($C$12*I41),\nAND(_xlfn.XLOOKUP(E41,Measures[[#All],[Measure]],Measures[[#All],[Technical/operational]],\"\",0,1)=\"Operational\",F41<G41),($C$12*I41),\nAND(_xlfn.XLOOKUP(E41,Measures[[#All],[Measure]],Measures[[#All],[Technical/operational]],\"\",0,1)=\"Operational\",F41>=G41),($C$12*I41),\nAND(_xlfn.XLOOKUP(E41,Measures[[#All],[Measure]],Measures[[#All],[Technical/operational]],\"\",0,1)=\"Technical\",E41=\"Hull performance coating\",F41<G41),($C$12*I41),\nAND(_xlfn.XLOOKUP(E41,Measures[[#All],[Measure]],Measures[[#All],[Technical/operational]],\"\",0,1)=\"Technical\",E41<>\"Hull performance coating\",F41<G41),($C$12*I41)\n)","v":0},"","Not included",{"$f":"_xlfn.XLOOKUP(E41,Measures[[#All],[Measure]],Measures[[#All],[Fuel savings high '[%']]],0,0,1)","v":0},{"$f":"_xlfn.XLOOKUP(E41,Measures[[#All],[Measure]],Measures[[#All],[Fuel savings low '[%']]],0,0,1)","v":0},{"$f":"_xlfn.XLOOKUP(E41,Measures[[#All],[Measure]],Measures[[#All],[Typical EEXI / EEDI reduction '[%']]],0,0,1)","v":0}]
[26,{"$f":"'Measure summary'!A41","v":"Hull cleaning"},{"$f":"IF(AND( _xlfn.XLOOKUP( 'Cost&CO2_Calc'!B42, Dashboard!$X$29:$X$42,Dashboard!$AB$29:$AB$42,FALSE,0)=TRUE,_xlfn.XLOOKUP( 'Cost&CO2_Calc'!B42, Dashboard!$X$29:$X$42,Dashboard!$AC$29:$AC$42,FALSE,0)=\"\",IFERROR(VLOOKUP(B42,Dashboard!$X$29:$AG$42,7,FALSE),FALSE)=1),1,0)","v":0},null,0,{"$f":"_xlfn.XLOOKUP(E42,Measures[[#All],[Measure]],Measures[[#All],[Lifetime '[Years']]],\"\",0,1)","v":""},0,{"$f":"_xlfn.IFS(E42=0,0,AND(_xlfn.XLOOKUP(E42,Measures[[#All],[Measure]],Measures[[#All],[Technical/operational]],\"\",0,1)=\"Technical\",E42=\"Hull performance coating\"),G42,\nAND(_xlfn.XLOOKUP(E42,Measures[[#All],[Measure]],Measures[[#All],[Technical/operational]],\"\",0,1)=\"Operational\",F42>=G42),G42,\nAND(_xlfn.XLOOKUP(E42,Measures[[#All],[Measure]],Measures[[#All],[Technical/operational]],\"\",0,1)=\"Operational\",F42<G42),G42,\nAND(_xlfn.XLOOKUP(E42,Measures[[#All],[Measure]],Measures[[#All],[Technical/operational]],\"\",0,1)=\"Technical\",E42<>\"Hull performance coating\",F42>=G42),G42,\nAND(_xlfn.XLOOKUP(E42,Measures[[#All],[Measure]],Measures[[#All],[Technical/operational]],\"\",0,1)=\"Technical\",E42<>\"Hull performance coating\",F42<G42),F42)","v":0},{"$f":"_xlfn.XLOOKUP(E42,Measures[[#All],[Measure]],Measures[[#All],[Typical fuel reduction '[%']]],0,0,1)","v":0},{"$f":"_xlfn.IFS(E42=0,0,AND(_xlfn.XLOOKUP(E42,Measures[[#All],[Measure]],Measures[[#All],[Technical/operational]],\"\",0,1)=\"Technical\",F42>=G42),($C$8*I42),\nAND(_xlfn.XLOOKUP(E42,Measures[[#All],[Measure]],Measures[[#All],[Technical/operational]],\"\",0,1)=\"Operational\",F42<G42),($C$8*I42),\nAND(_xlfn.XLOOKUP(E42,Measures[[#All],[Measure]],Measures[[#All],[Technical/operational]],\"\",0,1)=\"Operational\",F42>=G42),($C$8*I42),\nAND(_xlfn.XLOOKUP(E42,Measures[[#All],[Measure]],Measures[[#All],[Technical/operational]],\"\",0,1)=\"Technical\",E42=\"Hull performance coating\",F42<G42),($C$8*I42),\nAND(_xlfn.XLOOKUP(E42,Measures[[#All],[Measure]],Measures[[#All],[Technical/operational]],\"\",0,1)=\"Technical\",E42<>\"Hull performance coating\",F42<G42),($C$8*I42)\n)","v":0},{"$error":"#DIV/0!"},{"$f":"_xlfn.XLOOKUP(E42,Measures[[#All],[Measure]],Measures[[#All],[OPEX \n'[$ per year']]],\"\",0,1)","v":""},{"$f":"_xlfn.IFS(E42=0,0,AND(_xlfn.XLOOKUP(E42,Measures[[#All],[Measure]],Measures[[#All],[Technical/operational]],\"\",0,1)=\"Technical\",F42>=G42),($C$12*I42),\nAND(_xlfn.XLOOKUP(E42,Measures[[#All],[Measure]],Measures[[#All],[Technical/operational]],\"\",0,1)=\"Operational\",F42<G42),($C$12*I42),\nAND(_xlfn.XLOOKUP(E42,Measures[[#All],[Measure]],Measures[[#All],[Technical/operational]],\"\",0,1)=\"Operational\",F42>=G42),($C$12*I42),\nAND(_xlfn.XLOOKUP(E42,Measures[[#All],[Measure]],Measures[[#All],[Technical/operational]],\"\",0,1)=\"Technical\",E42=\"Hull performance coating\",F42<G42),($C$12*I42),\nAND(_xlfn.XLOOKUP(E42,Measures[[#All],[Measure]],Measures[[#All],[Technical/operational]],\"\",0,1)=\"Technical\",E42<>\"Hull performance coating\",F42<G42),($C$12*I42)\n)","v":0},"","Not included",{"$f":"_xlfn.XLOOKUP(E42,Measures[[#All],[Measure]],Measures[[#All],[Fuel savings high '[%']]],0,0,1)","v":0},{"$f":"_xlfn.XLOOKUP(E42,Measures[[#All],[Measure]],Measures[[#All],[Fuel savings low '[%']]],0,0,1)","v":0},{"$f":"_xlfn.XLOOKUP(E42,Measures[[#All],[Measure]],Measures[[#All],[Typical EEXI / EEDI reduction '[%']]],0,0,1)","v":0}]
[27,{"$f":"'Measure summary'!A42","v":"Hull form optimization"},{"$f":"IF(AND( _xlfn.XLOOKUP( 'Cost&CO2_Calc'!B43, Dashboard!$X$29:$X$42,Dashboard!$AB$29:$AB$42,FALSE,0)=TRUE,_xlfn.XLOOKUP( 'Cost&CO2_Calc'!B43, Dashboard!$X$29:$X$42,Dashboard!$AC$29:$AC$42,FALSE,0)=\"\",IFERROR(VLOOKUP(B43,Dashboard!$X$29:$AG$42,7,FALSE),FALSE)=1),1,0)","v":0},null,0,{"$f":"_xlfn.XLOOKUP(E43,Measures[[#All],[Measure]],Measures[[#All],[Lifetime '[Years']]],\"\",0,1)","v":""},0,{"$f":"_xlfn.IFS(E43=0,0,AND(_xlfn.XLOOKUP(E43,Measures[[#All],[Measure]],Measures[[#All],[Technical/operational]],\"\",0,1)=\"Technical\",E43=\"Hull performance coating\"),G43,\nAND(_xlfn.XLOOKUP(E43,Measures[[#All],[Measure]],Measures[[#All],[Technical/operational]],\"\",0,1)=\"Operational\",F43>=G43),G43,\nAND(_xlfn.XLOOKUP(E43,Measures[[#All],[Measure]],Measures[[#All],[Technical/operational]],\"\",0,1)=\"Operational\",F43<G43),G43,\nAND(_xlfn.XLOOKUP(E43,Measures[[#All],[Measure]],Measures[[#All],[Technical/operational]],\"\",0,1)=\"Technical\",E43<>\"Hull performance coating\",F43>=G43),G43,\nAND(_xlfn.XLOOKUP(E43,Measures[[#All],[Measure]],Measures[[#All],[Technical/operational]],\"\",0,1)=\"Technical\",E43<>\"Hull performance coating\",F43<G43),F43)","v":0},{"$f":"_xlfn.XLOOKUP(E43,Measures[[#All],[Measure]],Measures[[#All],[Typical fuel reduction '[%']]],0,0,1)","v":0},{"$f":"_xlfn.IFS(E43=0,0,AND(_xlfn.XLOOKUP(E43,Measures[[#All],[Measure]],Measures[[#All],[Technical/operational]],\"\",0,1)=\"Technical\",F43>=G43),($C$8*I43),\nAND(_xlfn.XLOOKUP(E43,Measures[[#All],[Measure]],Measures[[#All],[Technical/operational]],\"\",0,1)=\"Operational\",F43<G43),($C$8*I43),\nAND(_xlfn.XLOOKUP(E43,Measures[[#All],[Measure]],Measures[[#All],[Technical/operational]],\"\",0,1)=\"Operational\",F43>=G43),($C$8*I43),\nAND(_xlfn.XLOOKUP(E43,Measures[[#All],[Measure]],Measures[[#All],[Technical/operational]],\"\",0,1)=\"Technical\",E43=\"Hull performance coating\",F43<G43),($C$8*I43),\nAND(_xlfn.XLOOKUP(E43,Measures[[#All],[Measure]],Measures[[#All],[Technical/operational]],\"\",0,1)=\"Technical\",E43<>\"Hull performance coating\",F43<G43),($C$8*I43)\n)","v":0},{"$error":"#DIV/0!"},{"$f":"_xlfn.XLOOKUP(E43,Measures[[#All],[Measure]],Measures[[#All],[OPEX \n'[$ per year']]],\"\",0,1)","v":""},{"$f":"_xlfn.IFS(E43=0,0,AND(_xlfn.XLOOKUP(E43,Measures[[#All],[Measure]],Measures[[#All],[Technical/operational]],\"\",0,1)=\"Technical\",F43>=G43),($C$12*I43),\nAND(_xlfn.XLOOKUP(E43,Measures[[#All],[Measure]],Measures[[#All],[Technical/operational]],\"\",0,1)=\"Operational\",F43<G43),($C$12*I43),\nAND(_xlfn.XLOOKUP(E43,Measures[[#All],[Measure]],Measures[[#All],[Technical/operational]],\"\",0,1)=\"Operational\",F43>=G43),($C$12*I43),\nAND(_xlfn.XLOOKUP(E43,Measures[[#All],[Measure]],Measures[[#All],[Technical/operational]],\"\",0,1)=\"Technical\",E43=\"Hull performance coating\",F43<G43),($C$12*I43),\nAND(_xlfn.XLOOKUP(E43,Measures[[#All],[Measure]],Measures[[#All],[Technical/operational]],\"\",0,1)=\"Technical\",E43<>\"Hull performance coating\",F43<G43),($C$12*I43)\n)","v":0},"","Not included",{"$f":"_xlfn.XLOOKUP(E43,Measures[[#All],[Measure]],Measures[[#All],[Fuel savings high '[%']]],0,0,1)","v":0},{"$f":"_xlfn.XLOOKUP(E43,Measures[[#All],[Measure]],Measures[[#All],[Fuel savings low '[%']]],0,0,1)","v":0},{"$f":"_xlfn.XLOOKUP(E43,Measures[[#All],[Measure]],Measures[[#All],[Typical EEXI / EEDI reduction '[%']]],0,0,1)","v":0}]
[28,{"$f":"'Measure summary'!A43","v":"Propeller retrofitting"},{"$f":"IF(AND( _xlfn.XLOOKUP( 'Cost&CO2_Calc'!B44, Dashboard!$X$29:$X$42,Dashboard!$AB$29:$AB$42,FALSE,0)=TRUE,_xlfn.XLOOKUP( 'Cost&CO2_Calc'!B44, Dashboard!$X$29:$X$42,Dashboard!$AC$29:$AC$42,FALSE,0)=\"\",IFERROR(VLOOKUP(B44,Dashboard!$X$29:$AG$42,7,FALSE),FALSE)=1),1,0)","v":0},null,0,{"$f":"_xlfn.XLOOKUP(E44,Measures[[#All],[Measure]],Measures[[#All],[Lifetime '[Years']]],\"\",0,1)","v":""},0,{"$f":"_xlfn.IFS(E44=0,0,AND(_xlfn.XLOOKUP(E44,Measures[[#All],[Measure]],Measures[[#All],[Technical/operational]],\"\",0,1)=\"Technical\",E44=\"Hull performance coating\"),G44,\nAND(_xlfn.XLOOKUP(E44,Measures[[#All],[Measure]],Measures[[#All],[Technical/operational]],\"\",0,1)=\"Operational\",F44>=G44),G44,\nAND(_xlfn.XLOOKUP(E44,Measures[[#All],[Measure]],Measures[[#All],[Technical/operational]],\"\",0,1)=\"Operational\",F44<G44),G44,\nAND(_xlfn.XLOOKUP(E44,Measures[[#All],[Measure]],Measures[[#All],[Technical/operational]],\"\",0,1)=\"Technical\",E44<>\"Hull performance coating\",F44>=G44),G44,\nAND(_xlfn.XLOOKUP(E44,Measures[[#All],[Measure]],Measures[[#All],[Technical/operational]],\"\",0,1)=\"Technical\",E44<>\"Hull performance coating\",F44<G44),F44)","v":0},{"$f":"_xlfn.XLOOKUP(E44,Measures[[#All],[Measure]],Measures[[#All],[Typical fuel reduction '[%']]],0,0,1)","v":0},{"$f":"_xlfn.IFS(E44=0,0,AND(_xlfn.XLOOKUP(E44,Measures[[#All],[Measure]],Measures[[#All],[Technical/operational]],\"\",0,1)=\"Technical\",F44>=G44),($C$8*I44),\nAND(_xlfn.XLOOKUP(E44,Measures[[#All],[Measure]],Measures[[#All],[Technical/operational]],\"\",0,1)=\"Operational\",F44<G44),($C$8*I44),\nAND(_xlfn.XLOOKUP(E44,Measures[[#All],[Measure]],Measures[[#All],[Technical/operational]],\"\",0,1)=\"Operational\",F44>=G44),($C$8*I44),\nAND(_xlfn.XLOOKUP(E44,Measures[[#All],[Measure]],Measures[[#All],[Technical/operational]],\"\",0,1)=\"Technical\",E44=\"Hull performance coating\",F44<G44),($C$8*I44),\nAND(_xlfn.XLOOKUP(E44,Measures[[#All],[Measure]],Measures[[#All],[Technical/operational]],\"\",0,1)=\"Technical\",E44<>\"Hull performance coating\",F44<G44),($C$8*I44)\n)","v":0},{"$error":"#DIV/0!"},{"$f":"_xlfn.XLOOKUP(E44,Measures[[#All],[Measure]],Measures[[#All],[OPEX \n'[$ per year']]],\"\",0,1)","v":""},{"$f":"_xlfn.IFS(E44=0,0,AND(_xlfn.XLOOKUP(E44,Measures[[#All],[Measure]],Measures[[#All],[Technical/operational]],\"\",0,1)=\"Technical\",F44>=G44),($C$12*I44),\nAND(_xlfn.XLOOKUP(E44,Measures[[#All],[Measure]],Measures[[#All],[Technical/operational]],\"\",0,1)=\"Operational\",F44<G44),($C$12*I44),\nAND(_xlfn.XLOOKUP(E44,Measures[[#All],[Measure]],Measures[[#All],[Technical/operational]],\"\",0,1)=\"Operational\",F44>=G44),($C$12*I44),\nAND(_xlfn.XLOOKUP(E44,Measures[[#All],[Measure]],Measures[[#All],[Technical/operational]],\"\",0,1)=\"Technical\",E44=\"Hull performance coating\",F44<G44),($C$12*I44),\nAND(_xlfn.XLOOKUP(E44,Measures[[#All],[Measure]],Measures[[#All],[Technical/operational]],\"\",0,1)=\"Technical\",E44<>\"Hull performance coating\",F44<G44),($C$12*I44)\n)","v":0},"","Not included",{"$f":"_xlfn.XLOOKUP(E44,Measures[[#All],[Measure]],Measures[[#All],[Fuel savings high '[%']]],0,0,1)","v":0},{"$f":"_xlfn.XLOOKUP(E44,Measures[[#All],[Measure]],Measures[[#All],[Fuel savings low '[%']]],0,0,1)","v":0},{"$f":"_xlfn.XLOOKUP(E44,Measures[[#All],[Measure]],Measures[[#All],[Typical EEXI / EEDI reduction '[%']]],0,0,1)","v":0}]
[29,{"$f":"'Measure summary'!A44","v":"Propulsion improving devices (PIDs)"},{"$f":"IF(AND( _xlfn.XLOOKUP( 'Cost&CO2_Calc'!B45, Dashboard!$X$29:$X$42,Dashboard!$AB$29:$AB$42,FALSE,0)=TRUE,_xlfn.XLOOKUP( 'Cost&CO2_Calc'!B45, Dashboard!$X$29:$X$42,Dashboard!$AC$29:$AC$42,FALSE,0)=\"\",IFERROR(VLOOKUP(B45,Dashboard!$X$29:$AG$42,7,FALSE),FALSE)=1),1,0)","v":0},null,0,{"$f":"_xlfn.XLOOKUP(E45,Measures[[#All],[Measure]],Measures[[#All],[Lifetime '[Years']]],\"\",0,1)","v":""},0,{"$f":"_xlfn.IFS(E45=0,0,AND(_xlfn.XLOOKUP(E45,Measures[[#All],[Measure]],Measures[[#All],[Technical/operational]],\"\",0,1)=\"Technical\",E45=\"Hull performance coating\"),G45,\nAND(_xlfn.XLOOKUP(E45,Measures[[#All],[Measure]],Measures[[#All],[Technical/operational]],\"\",0,1)=\"Operational\",F45>=G45),G45,\nAND(_xlfn.XLOOKUP(E45,Measures[[#All],[Measure]],Measures[[#All],[Technical/operational]],\"\",0,1)=\"Operational\",F45<G45),G45,\nAND(_xlfn.XLOOKUP(E45,Measures[[#All],[Measure]],Measures[[#All],[Technical/operational]],\"\",0,1)=\"Technical\",E45<>\"Hull performance coating\",F45>=G45),G45,\nAND(_xlfn.XLOOKUP(E45,Measures[[#All],[Measure]],Measures[[#All],[Technical/operational]],\"\",0,1)=\"Technical\",E45<>\"Hull performance coating\",F45<G45),F45)","v":0},{"$f":"_xlfn.XLOOKUP(E45,Measures[[#All],[Measure]],Measures[[#All],[Typical fuel reduction '[%']]],0,0,1)","v":0},{"$f":"_xlfn.IFS(E45=0,0,AND(_xlfn.XLOOKUP(E45,Measures[[#All],[Measure]],Measures[[#All],[Technical/operational]],\"\",0,1)=\"Technical\",F45>=G45),($C$8*I45),\nAND(_xlfn.XLOOKUP(E45,Measures[[#All],[Measure]],Measures[[#All],[Technical/operational]],\"\",0,1)=\"Operational\",F45<G45),($C$8*I45),\nAND(_xlfn.XLOOKUP(E45,Measures[[#All],[Measure]],Measures[[#All],[Technical/operational]],\"\",0,1)=\"Operational\",F45>=G45),($C$8*I45),\nAND(_xlfn.XLOOKUP(E45,Measures[[#All],[Measure]],Measures[[#All],[Technical/operational]],\"\",0,1)=\"Technical\",E45=\"Hull performance coating\",F45<G45),($C$8*I45),\nAND(_xlfn.XLOOKUP(E45,Measures[[#All],[Measure]],Measures[[#All],[Technical/operational]],\"\",0,1)=\"Technical\",E45<>\"Hull performance coating\",F45<G45),($C$8*I45)\n)","v":0},{"$error":"#DIV/0!"},{"$f":"_xlfn.XLOOKUP(E45,Measures[[#All],[Measure]],Measures[[#All],[OPEX \n'[$ per year']]],\"\",0,1)","v":""},{"$f":"_xlfn.IFS(E45=0,0,AND(_xlfn.XLOOKUP(E45,Measures[[#All],[Measure]],Measures[[#All],[Technical/operational]],\"\",0,1)=\"Technical\",F45>=G45),($C$12*I45),\nAND(_xlfn.XLOOKUP(E45,Measures[[#All],[Measure]],Measures[[#All],[Technical/operational]],\"\",0,1)=\"Operational\",F45<G45),($C$12*I45),\nAND(_xlfn.XLOOKUP(E45,Measures[[#All],[Measure]],Measures[[#All],[Technical/operational]],\"\",0,1)=\"Operational\",F45>=G45),($C$12*I45),\nAND(_xlfn.XLOOKUP(E45,Measures[[#All],[Measure]],Measures[[#All],[Technical/operational]],\"\",0,1)=\"Technical\",E45=\"Hull performance coating\",F45<G45),($C$12*I45),\nAND(_xlfn.XLOOKUP(E45,Measures[[#All],[Measure]],Measures[[#All],[Technical/operational]],\"\",0,1)=\"Technical\",E45<>\"Hull performance coating\",F45<G45),($C$12*I45)\n)","v":0},"","Not included",{"$f":"_xlfn.XLOOKUP(E45,Measures[[#All],[Measure]],Measures[[#All],[Fuel savings high '[%']]],0,0,1)","v":0},{"$f":"_xlfn.XLOOKUP(E45,Measures[[#All],[Measure]],Measures[[#All],[Fuel savings low '[%']]],0,0,1)","v":0},{"$f":"_xlfn.XLOOKUP(E45,Measures[[#All],[Measure]],Measures[[#All],[Typical EEXI / EEDI reduction '[%']]],0,0,1)","v":0}]
[30,{"$f":"'Measure summary'!A45","v":"Propeller polishing"},{"$f":"IF(AND( _xlfn.XLOOKUP( 'Cost&CO2_Calc'!B46, Dashboard!$X$29:$X$42,Dashboard!$AB$29:$AB$42,FALSE,0)=TRUE,_xlfn.XLOOKUP( 'Cost&CO2_Calc'!B46, Dashboard!$X$29:$X$42,Dashboard!$AC$29:$AC$42,FALSE,0)=\"\",IFERROR(VLOOKUP(B46,Dashboard!$X$29:$AG$42,7,FALSE),FALSE)=1),1,0)","v":0},null,0,{"$f":"_xlfn.XLOOKUP(E46,Measures[[#All],[Measure]],Measures[[#All],[Lifetime '[Years']]],\"\",0,1)","v":""},0,{"$f":"_xlfn.IFS(E46=0,0,AND(_xlfn.XLOOKUP(E46,Measures[[#All],[Measure]],Measures[[#All],[Technical/operational]],\"\",0,1)=\"Technical\",E46=\"Hull performance coating\"),G46,\nAND(_xlfn.XLOOKUP(E46,Measures[[#All],[Measure]],Measures[[#All],[Technical/operational]],\"\",0,1)=\"Operational\",F46>=G46),G46,\nAND(_xlfn.XLOOKUP(E46,Measures[[#All],[Measure]],Measures[[#All],[Technical/operational]],\"\",0,1)=\"Operational\",F46<G46),G46,\nAND(_xlfn.XLOOKUP(E46,Measures[[#All],[Measure]],Measures[[#All],[Technical/operational]],\"\",0,1)=\"Technical\",E46<>\"Hull performance coating\",F46>=G46),G46,\nAND(_xlfn.XLOOKUP(E46,Measures[[#All],[Measure]],Measures[[#All],[Technical/operational]],\"\",0,1)=\"Technical\",E46<>\"Hull performance coating\",F46<G46),F46)","v":0},{"$f":"_xlfn.XLOOKUP(E46,Measures[[#All],[Measure]],Measures[[#All],[Typical fuel reduction '[%']]],0,0,1)","v":0},{"$f":"_xlfn.IFS(E46=0,0,AND(_xlfn.XLOOKUP(E46,Measures[[#All],[Measure]],Measures[[#All],[Technical/operational]],\"\",0,1)=\"Technical\",F46>=G46),($C$8*I46),\nAND(_xlfn.XLOOKUP(E46,Measures[[#All],[Measure]],Measures[[#All],[Technical/operational]],\"\",0,1)=\"Operational\",F46<G46),($C$8*I46),\nAND(_xlfn.XLOOKUP(E46,Measures[[#All],[Measure]],Measures[[#All],[Technical/operational]],\"\",0,1)=\"Operational\",F46>=G46),($C$8*I46),\nAND(_xlfn.XLOOKUP(E46,Measures[[#All],[Measure]],Measures[[#All],[Technical/operational]],\"\",0,1)=\"Technical\",E46=\"Hull performance coating\",F46<G46),($C$8*I46),\nAND(_xlfn.XLOOKUP(E46,Measures[[#All],[Measure]],Measures[[#All],[Technical/operational]],\"\",0,1)=\"Technical\",E46<>\"Hull performance coating\",F46<G46),($C$8*I46)\n)","v":0},{"$error":"#DIV/0!"},{"$f":"_xlfn.XLOOKUP(E46,Measures[[#All],[Measure]],Measures[[#All],[OPEX \n'[$ per year']]],\"\",0,1)","v":""},{"$f":"_xlfn.IFS(E46=0,0,AND(_xlfn.XLOOKUP(E46,Measures[[#All],[Measure]],Measures[[#All],[Technical/operational]],\"\",0,1)=\"Technical\",F46>=G46),($C$12*I46),\nAND(_xlfn.XLOOKUP(E46,Measures[[#All],[Measure]],Measures[[#All],[Technical/operational]],\"\",0,1)=\"Operational\",F46<G46),($C$12*I46),\nAND(_xlfn.XLOOKUP(E46,Measures[[#All],[Measure]],Measures[[#All],[Technical/operational]],\"\",0,1)=\"Operational\",F46>=G46),($C$12*I46),\nAND(_xlfn.XLOOKUP(E46,Measures[[#All],[Measure]],Measures[[#All],[Technical/operational]],\"\",0,1)=\"Technical\",E46=\"Hull performance coating\",F46<G46),($C$12*I46),\nAND(_xlfn.XLOOKUP(E46,Measures[[#All],[Measure]],Measures[[#All],[Technical/operational]],\"\",0,1)=\"Technical\",E46<>\"Hull performance coating\",F46<G46),($C$12*I46)\n)","v":0},"","Not included",{"$f":"_xlfn.XLOOKUP(E46,Measures[[#All],[Measure]],Measures[[#All],[Fuel savings high '[%']]],0,0,1)","v":0},{"$f":"_xlfn.XLOOKUP(E46,Measures[[#All],[Measure]],Measures[[#All],[Fuel savings low '[%']]],0,0,1)","v":0},{"$f":"_xlfn.XLOOKUP(E46,Measures[[#All],[Measure]],Measures[[#All],[Typical EEXI / EEDI reduction '[%']]],0,0,1)","v":0}]
[31,{"$f":"'Measure summary'!A46","v":0},{"$f":"IF(AND( _xlfn.XLOOKUP( 'Cost&CO2_Calc'!B47, Dashboard!$X$29:$X$42,Dashboard!$AB$29:$AB$42,FALSE,0)=TRUE,_xlfn.XLOOKUP( 'Cost&CO2_Calc'!B47, Dashboard!$X$29:$X$42,Dashboard!$AC$29:$AC$42,FALSE,0)=\"\",IFERROR(VLOOKUP(B47,Dashboard!$X$29:$AG$42,7,FALSE),FALSE)=1),1,0)","v":0},null,0,{"$f":"_xlfn.XLOOKUP(E47,Measures[[#All],[Measure]],Measures[[#All],[Lifetime '[Years']]],\"\",0,1)","v":""},0,{"$f":"_xlfn.IFS(E47=0,0,AND(_xlfn.XLOOKUP(E47,Measures[[#All],[Measure]],Measures[[#All],[Technical/operational]],\"\",0,1)=\"Technical\",E47=\"Hull performance coating\"),G47,\nAND(_xlfn.XLOOKUP(E47,Measures[[#All],[Measure]],Measures[[#All],[Technical/operational]],\"\",0,1)=\"Operational\",F47>=G47),G47,\nAND(_xlfn.XLOOKUP(E47,Measures[[#All],[Measure]],Measures[[#All],[Technical/operational]],\"\",0,1)=\"Operational\",F47<G47),G47,\nAND(_xlfn.XLOOKUP(E47,Measures[[#All],[Measure]],Measures[[#All],[Technical/operational]],\"\",0,1)=\"Technical\",E47<>\"Hull performance coating\",F47>=G47),G47,\nAND(_xlfn.XLOOKUP(E47,Measures[[#All],[Measure]],Measures[[#All],[Technical/operational]],\"\",0,1)=\"Technical\",E47<>\"Hull performance coating\",F47<G47),F47)","v":0},{"$f":"_xlfn.XLOOKUP(E47,Measures[[#All],[Measure]],Measures[[#All],[Typical fuel reduction '[%']]],0,0,1)","v":0},{"$f":"_xlfn.IFS(E47=0,0,AND(_xlfn.XLOOKUP(E47,Measures[[#All],[Measure]],Measures[[#All],[Technical/operational]],\"\",0,1)=\"Technical\",F47>=G47),($C$8*I47),\nAND(_xlfn.XLOOKUP(E47,Measures[[#All],[Measure]],Measures[[#All],[Technical/operational]],\"\",0,1)=\"Operational\",F47<G47),($C$8*I47),\nAND(_xlfn.XLOOKUP(E47,Measures[[#All],[Measure]],Measures[[#All],[Technical/operational]],\"\",0,1)=\"Operational\",F47>=G47),($C$8*I47),\nAND(_xlfn.XLOOKUP(E47,Measures[[#All],[Measure]],Measures[[#All],[Technical/operational]],\"\",0,1)=\"Technical\",E47=\"Hull performance coating\",F47<G47),($C$8*I47),\nAND(_xlfn.XLOOKUP(E47,Measures[[#All],[Measure]],Measures[[#All],[Technical/operational]],\"\",0,1)=\"Technical\",E47<>\"Hull performance coating\",F47<G47),($C$8*I47)\n)","v":0},{"$error":"#DIV/0!"},{"$f":"_xlfn.XLOOKUP(E47,Measures[[#All],[Measure]],Measures[[#All],[OPEX \n'[$ per year']]],\"\",0,1)","v":""},{"$f":"_xlfn.IFS(E47=0,0,AND(_xlfn.XLOOKUP(E47,Measures[[#All],[Measure]],Measures[[#All],[Technical/operational]],\"\",0,1)=\"Technical\",F47>=G47),($C$12*I47),\nAND(_xlfn.XLOOKUP(E47,Measures[[#All],[Measure]],Measures[[#All],[Technical/operational]],\"\",0,1)=\"Operational\",F47<G47),($C$12*I47),\nAND(_xlfn.XLOOKUP(E47,Measures[[#All],[Measure]],Measures[[#All],[Technical/operational]],\"\",0,1)=\"Operational\",F47>=G47),($C$12*I47),\nAND(_xlfn.XLOOKUP(E47,Measures[[#All],[Measure]],Measures[[#All],[Technical/operational]],\"\",0,1)=\"Technical\",E47=\"Hull performance coating\",F47<G47),($C$12*I47),\nAND(_xlfn.XLOOKUP(E47,Measures[[#All],[Measure]],Measures[[#All],[Technical/operational]],\"\",0,1)=\"Technical\",E47<>\"Hull performance coating\",F47<G47),($C$12*I47)\n)","v":0},"","Not included",{"$f":"_xlfn.XLOOKUP(E47,Measures[[#All],[Measure]],Measures[[#All],[Fuel savings high '[%']]],0,0,1)","v":0},{"$f":"_xlfn.XLOOKUP(E47,Measures[[#All],[Measure]],Measures[[#All],[Fuel savings low '[%']]],0,0,1)","v":0},{"$f":"_xlfn.XLOOKUP(E47,Measures[[#All],[Measure]],Measures[[#All],[Typical EEXI / EEDI reduction '[%']]],0,0,1)","v":0}]
[]
[]
[null,"Filtered Baseline - measure shown if included"]
[null,null,"Capex $ - Year 0",null,"Year"]
[null,"Measure",null,1,2,3,4,5,6,7,8,9,10,11,12,13,14,15,null,16,17,18,19,20,21,22,23,24,25,"NPV","Shortest lifetime","PVIFA","Annualized NPV"]
[null,"Discount rate [%]",null,{"$f":"$C$9","v":1.08},{"$f":"$C$9","v":1.08},1.08,1.08,1.08,1.08,1.08,1.08,1.08,1.08,1.08,1.08,1.08,1.08,1.08,null,1.08,1.08,1.08,1.08,1.08,1.08,1.08,1.08,1.08,1.08]
[null,"Fuel price [$ / ton]",null,{"$f":"$C$7","v":{"$error":"#DIV/0!"}},{"$f":"$C$7","v":{"$error":"#DIV/0!"}},{"$error":"#DIV/0!"},{"$error":"#DIV/0!"},{"$error":"#DIV/0!"},{"$error":"#DIV/0!"},{"$error":"#DIV/0!"},{"$error":"#DIV/0!"},{"$error":"#DIV/0!"},{"$error":"#DIV/0!"},{"$error":"#DIV/0!"},{"$error":"#DIV/0!"},{"$error":"#DIV/0!"},{"$error":"#DIV/0!"},{"$error":"#DIV/0!"},null,{"$error":"#DIV/0!"},{"$error":"#DIV/0!"},{"$error":"#DIV/0!"},{"$error":"#DIV/0!"},{"$error":"#DIV/0!"},{"$error":"#DIV/0!"},{"$error":"#DIV/0!"},{"$error":"#DIV/0!"},{"$error":"#DIV/0!"},{"$error":"#DIV/0!"},"Sum"]
[1,{"$f":"E17","v":0},{"$f":"IF($C$11=\"Newbuild\",_xlfn.IFS(B55=0,\"\",B55=\"Hull performance coating\",_xlfn.XLOOKUP(B55,Measures[[#All],[Measure]],Measures[[#All],[CAPEX NB '[$']]],0,0,1)*(G17/F17),\nB55<>\"Hull performance coating\",_xlfn.XLOOKUP(B55,Measures[[#All],[Measure]],Measures[[#All],[CAPEX NB '[$']]],0,0,1)),_xlfn.IFS(B55=0,\"\",B55=\"Hull performance coating\",_xlfn.XLOOKUP(B55,Measures[[#All],[Measure]],Measures[[#All],[CAPEX Retrofit '[$']]],0,0,1)*(G17/F17),\nB55<>\"Hull performance coating\",_xlfn.XLOOKUP(B55,Measures[[#All],[Measure]],Measures[[#All],[CAPEX Retrofit '[$']]],0,0,1)))","v":""},{"$f":"IF($B55=0,\"\",IF(D$52<=$H17,($L17-D$54*$J17)/(D$53^D$52),\"\"))","v":""},{"$f":"IF($B55=0,\"\",IF(E$52<=$H17,($L17-E$54*$J17)/(E$53^E$52),\"\"))","v":""},{"$f":"IF($B55=0,\"\",IF(F$52<=$H17,($L17-F$54*$J17)/(F$53^F$52),\"\"))","v":""},{"$f":"IF($B55=0,\"\",IF(G$52<=$H17,($L17-G$54*$J17)/(G$53^G$52),\"\"))","v":""},"","","","","","","","","","","",null,"","","","","","","","","","",{"$f":"C55+SUM(D55:AC55)","v":{"$error":"#VALUE!"}},{"$f":"H17","v":0},{"$f":"(1-(1+$AC$167)^-AE55)/$AC$167","v":0},{"$f":"IFERROR(AD55/AF55,\"\")","v":""}]
[2,{"$f":"E18","v":0},{"$f":"IF($C$11=\"Newbuild\",_xlfn.IFS(B56=0,\"\",B56=\"Hull performance coating\",_xlfn.XLOOKUP(B56,Measures[[#All],[Measure]],Measures[[#All],[CAPEX NB '[$']]],0,0,1)*(G18/F18),\nB56<>\"Hull performance coating\",_xlfn.XLOOKUP(B56,Measures[[#All],[Measure]],Measures[[#All],[CAPEX NB '[$']]],0,0,1)),_xlfn.IFS(B56=0,\"\",B56=\"Hull performance coating\",_xlfn.XLOOKUP(B56,Measures[[#All],[Measure]],Measures[[#All],[CAPEX Retrofit '[$']]],0,0,1)*(G18/F18),\nB56<>\"Hull performance coating\",_xlfn.XLOOKUP(B56,Measures[[#All],[Measure]],Measures[[#All],[CAPEX Retrofit '[$']]],0,0,1)))","v":""},{"$f":"IF($B56=0,\"\",IF(D$52<=$H18,($L18-D$54*$J18)/(D$53^D$52),\"\"))","v":""},{"$f":"IF($B56=0,\"\",IF(E$52<=$H18,($L18-E$54*$J18)/(E$53^E$52),\"\"))","v":""},"","","","","","","","","","","","","",null,"","","","","","","","","","",{"$f":"C56+SUM(D56:AC56)","v":{"$error":"#VALUE!"}},{"$f":"H18","v":0},0,""]
[3,{"$f":"E19","v":0},{"$f":"IF($C$11=\"Newbuild\",_xlfn.IFS(B57=0,\"\",B57=\"Hull performance coating\",_xlfn.XLOOKUP(B57,Measures[[#All],[Measure]],Measures[[#All],[CAPEX NB '[$']]],0,0,1)*(G19/F19),\nB57<>\"Hull performance coating\",_xlfn.XLOOKUP(B57,Measures[[#All],[Measure]],Measures[[#All],[CAPEX NB '[$']]],0,0,1)),_xlfn.IFS(B57=0,\"\",B57=\"Hull performance coating\",_xlfn.XLOOKUP(B57,Measures[[#All],[Measure]],Measures[[#All],[CAPEX Retrofit '[$']]],0,0,1)*(G19/F19),\nB57<>\"Hull performance coating\",_xlfn.XLOOKUP(B57,Measures[[#All],[Measure]],Measures[[#All],[CAPEX Retrofit '[$']]],0,0,1)))","v":""},"",{"$f":"IF($B57=0,\"\",IF(E$52<=$H19,($L19-E$54*$J19)/(E$53^E$52),\"\"))","v":""},"","","","","","","","","","","","","",null,"","","","","","","","","","",{"$error":"#VALUE!"},0,0,""]
[4,0,{"$f":"IF($C$11=\"Newbuild\",_xlfn.IFS(B58=0,\"\",B58=\"Hull performance coating\",_xlfn.XLOOKUP(B58,Measures[[#All],[Measure]],Measures[[#All],[CAPEX NB '[$']]],0,0,1)*(G20/F20),\nB58<>\"Hull performance coating\",_xlfn.XLOOKUP(B58,Measures[[#All],[Measure]],Measures[[#All],[CAPEX NB '[$']]],0,0,1)),_xlfn.IFS(B58=0,\"\",B58=\"Hull performance coating\",_xlfn.XLOOKUP(B58,Measures[[#All],[Measure]],Measures[[#All],[CAPEX Retrofit '[$']]],0,0,1)*(G20/F20),\nB58<>\"Hull performance coating\",_xlfn.XLOOKUP(B58,Measures[[#All],[Measure]],Measures[[#All],[CAPEX Retrofit '[$']]],0,0,1)))","v":""},"",{"$f":"IF($B58=0,\"\",IF(E$52<=$H20,($L20-E$54*$J20)/(E$53^E$52),\"\"))","v":""},"","","","","","","","","","","","","",null,"","","","","","","","","","",{"$error":"#VALUE!"},0,0,{"$f":"IFERROR(AD58/AF58,\"\")","v":""}]
[5,0,{"$f":"IF($C$11=\"Newbuild\",_xlfn.IFS(B59=0,\"\",B59=\"Hull performance coating\",_xlfn.XLOOKUP(B59,Measures[[#All],[Measure]],Measures[[#All],[CAPEX NB '[$']]],0,0,1)*(G21/F21),\nB59<>\"Hull performance coating\",_xlfn.XLOOKUP(B59,Measures[[#All],[Measure]],Measures[[#All],[CAPEX NB '[$']]],0,0,1)),_xlfn.IFS(B59=0,\"\",B59=\"Hull performance coating\",_xlfn.XLOOKUP(B59,Measures[[#All],[Measure]],Measures[[#All],[CAPEX Retrofit '[$']]],0,0,1)*(G21/F21),\nB59<>\"Hull performance coating\",_xlfn.XLOOKUP(B59,Measures[[#All],[Measure]],Measures[[#All],[CAPEX Retrofit '[$']]],0,0,1)))","v":""},"",{"$f":"IF($B59=0,\"\",IF(E$52<=$H21,($L21-E$54*$J21)/(E$53^E$52),\"\"))","v":""},"","","","","","","","","","","","","",null,"","","","","","","","","","",{"$f":"C59+SUM(D59:AC59)","v":{"$error":"#VALUE!"}},0,0,{"$f":"IFERROR(AD59/AF59,\"\")","v":""}]
[6,0,{"$f":"IF($C$11=\"Newbuild\",_xlfn.IFS(B60=0,\"\",B60=\"Hull performance coating\",_xlfn.XLOOKUP(B60,Measures[[#All],[Measure]],Measures[[#All],[CAPEX NB '[$']]],0,0,1)*(G22/F22),\nB60<>\"Hull performance coating\",_xlfn.XLOOKUP(B60,Measures[[#All],[Measure]],Measures[[#All],[CAPEX NB '[$']]],0,0,1)),_xlfn.IFS(B60=0,\"\",B60=\"Hull performance coating\",_xlfn.XLOOKUP(B60,Measures[[#All],[Measure]],Measures[[#All],[CAPEX Retrofit '[$']]],0,0,1)*(G22/F22),\nB60<>\"Hull performance coating\",_xlfn.XLOOKUP(B60,Measures[[#All],[Measure]],Measures[[#All],[CAPEX Retrofit '[$']]],0,0,1)))","v":""},"",{"$f":"IF($B60=0,\"\",IF(E$52<=$H22,($L22-E$54*$J22)/(E$53^E$52),\"\"))","v":""},"","","","","","","","","","","","","",null,"","","","","","","","","","",{"$f":"C60+SUM(D60:AC60)","v":{"$error":"#VALUE!"}},0,0,""]
[7,0,{"$f":"IF($C$11=\"Newbuild\",_xlfn.IFS(B61=0,\"\",B61=\"Hull performance coating\",_xlfn.XLOOKUP(B61,Measures[[#All],[Measure]],Measures[[#All],[CAPEX NB '[$']]],0,0,1)*(G23/F23),\nB61<>\"Hull performance coating\",_xlfn.XLOOKUP(B61,Measures[[#All],[Measure]],Measures[[#All],[CAPEX NB '[$']]],0,0,1)),_xlfn.IFS(B61=0,\"\",B61=\"Hull performance coating\",_xlfn.XLOOKUP(B61,Measures[[#All],[Measure]],Measures[[#All],[CAPEX Retrofit '[$']]],0,0,1)*(G23/F23),\nB61<>\"Hull performance coating\",_xlfn.XLOOKUP(B61,Measures[[#All],[Measure]],Measures[[#All],[CAPEX Retrofit '[$']]],0,0,1)))","v":""},"",{"$f":"IF($B61=0,\"\",IF(E$52<=$H23,($L23-E$54*$J23)/(E$53^E$52),\"\"))","v":""},"","","","","","","","","","","","","",null,"","","","","","","","","","",{"$error":"#VALUE!"},0,0,""]
[8,0,{"$f":"IF($C$11=\"Newbuild\",_xlfn.IFS(B62=0,\"\",B62=\"Hull performance coating\",_xlfn.XLOOKUP(B62,Measures[[#All],[Measure]],Measures[[#All],[CAPEX NB '[$']]],0,0,1)*(G24/F24),\nB62<>\"Hull performance coating\",_xlfn.XLOOKUP(B62,Measures[[#All],[Measure]],Measures[[#All],[CAPEX NB '[$']]],0,0,1)),_xlfn.IFS(B62=0,\"\",B62=\"Hull performance coating\",_xlfn.XLOOKUP(B62,Measures[[#All],[Measure]],Measures[[#All],[CAPEX Retrofit '[$']]],0,0,1)*(G24/F24),\nB62<>\"Hull performance coating\",_xlfn.XLOOKUP(B62,Measures[[#All],[Measure]],Measures[[#All],[CAPEX Retrofit '[$']]],0,0,1)))","v":""},"",{"$f":"IF($B62=0,\"\",IF(E$52<=$H24,($L24-E$54*$J24)/(E$53^E$52),\"\"))","v":""},"","","","","","","","","","","","","",null,"","","","","","","","","","",{"$error":"#VALUE!"},0,0,""]
[9,0,{"$f":"IF($C$11=\"Newbuild\",_xlfn.IFS(B63=0,\"\",B63=\"Hull performance coating\",_xlfn.XLOOKUP(B63,Measures[[#All],[Measure]],Measures[[#All],[CAPEX NB '[$']]],0,0,1)*(G25/F25),\nB63<>\"Hull performance coating\",_xlfn.XLOOKUP(B63,Measures[[#All],[Measure]],Measures[[#All],[CAPEX NB '[$']]],0,0,1)),_xlfn.IFS(B63=0,\"\",B63=\"Hull performance coating\",_xlfn.XLOOKUP(B63,Measures[[#All],[Measure]],Measures[[#All],[CAPEX Retrofit '[$']]],0,0,1)*(G25/F25),\nB63<>\"Hull performance coating\",_xlfn.XLOOKUP(B63,Measures[[#All],[Measure]],Measures[[#All],[CAPEX Retrofit '[$']]],0,0,1)))","v":""},"",{"$f":"IF($B63=0,\"\",IF(E$52<=$H25,($L25-E$54*$J25)/(E$53^E$52),\"\"))","v":""},"","",{"$f":"IF($B63=0,\"\",IF(H$52<=$H25,($L25-H$54*$J25)/(H$53^H$52),\"\"))","v":""},"","","","","","","","","","",null,"","","","","","","","","","",{"$error":"#VALUE!"},0,0,""]
[10,0,{"$f":"IF($C$11=\"Newbuild\",_xlfn.IFS(B64=0,\"\",B64=\"Hull performance coating\",_xlfn.XLOOKUP(B64,Measures[[#All],[Measure]],Measures[[#All],[CAPEX NB '[$']]],0,0,1)*(G26/F26),\nB64<>\"Hull performance coating\",_xlfn.XLOOKUP(B64,Measures[[#All],[Measure]],Measures[[#All],[CAPEX NB '[$']]],0,0,1)),_xlfn.IFS(B64=0,\"\",B64=\"Hull performance coating\",_xlfn.XLOOKUP(B64,Measures[[#All],[Measure]],Measures[[#All],[CAPEX Retrofit '[$']]],0,0,1)*(G26/F26),\nB64<>\"Hull performance coating\",_xlfn.XLOOKUP(B64,Measures[[#All],[Measure]],Measures[[#All],[CAPEX Retrofit '[$']]],0,0,1)))","v":""},"",{"$f":"IF($B64=0,\"\",IF(E$52<=$H26,($L26-E$54*$J26)/(E$53^E$52),\"\"))","v":""},"","","","","","","","","","","","","",null,"","","","","","","","","","",{"$error":"#VALUE!"},0,0,""]
[11,0,{"$f":"IF($C$11=\"Newbuild\",_xlfn.IFS(B65=0,\"\",B65=\"Hull performance coating\",_xlfn.XLOOKUP(B65,Measures[[#All],[Measure]],Measures[[#All],[CAPEX NB '[$']]],0,0,1)*(G27/F27),\nB65<>\"Hull performance coating\",_xlfn.XLOOKUP(B65,Measures[[#All],[Measure]],Measures[[#All],[CAPEX NB '[$']]],0,0,1)),_xlfn.IFS(B65=0,\"\",B65=\"Hull performance coating\",_xlfn.XLOOKUP(B65,Measures[[#All],[Measure]],Measures[[#All],[CAPEX Retrofit '[$']]],0,0,1)*(G27/F27),\nB65<>\"Hull performance coating\",_xlfn.XLOOKUP(B65,Measures[[#All],[Measure]],Measures[[#All],[CAPEX Retrofit '[$']]],0,0,1)))","v":""},"",{"$f":"IF($B65=0,\"\",IF(E$52<=$H27,($L27-E$54*$J27)/(E$53^E$52),\"\"))","v":""},"","","","","","","","","","","","","",null,"","","","","","","","","","",{"$error":"#VALUE!"},0,0,""]
[12,0,{"$f":"IF($C$11=\"Newbuild\",_xlfn.IFS(B66=0,\"\",B66=\"Hull performance coating\",_xlfn.XLOOKUP(B66,Measures[[#All],[Measure]],Measures[[#All],[CAPEX NB '[$']]],0,0,1)*(G28/F28),\nB66<>\"Hull performance coating\",_xlfn.XLOOKUP(B66,Measures[[#All],[Measure]],Measures[[#All],[CAPEX NB '[$']]],0,0,1)),_xlfn.IFS(B66=0,\"\",B66=\"Hull performance coating\",_xlfn.XLOOKUP(B66,Measures[[#All],[Measure]],Measures[[#All],[CAPEX Retrofit '[$']]],0,0,1)*(G28/F28),\nB66<>\"Hull performance coating\",_xlfn.XLOOKUP(B66,Measures[[#All],[Measure]],Measures[[#All],[CAPEX Retrofit '[$']]],0,0,1)))","v":""},{"$f":"IF($B66=0,\"\",IF(D$52<=$H28,($L28-D$54*$J28)/(D$53^D$52),\"\"))","v":""},{"$f":"IF($B66=0,\"\",IF(E$52<=$H28,($L28-E$54*$J28)/(E$53^E$52),\"\"))","v":""},"","","","","","","","","","","","","",null,"","","","","","","","","","",{"$error":"#VALUE!"},0,0,""]
[13,0,{"$f":"IF($C$11=\"Newbuild\",_xlfn.IFS(B67=0,\"\",B67=\"Hull performance coating\",_xlfn.XLOOKUP(B67,Measures[[#All],[Measure]],Measures[[#All],[CAPEX NB '[$']]],0,0,1)*(G29/F29),\nB67<>\"Hull performance coating\",_xlfn.XLOOKUP(B67,Measures[[#All],[Measure]],Measures[[#All],[CAPEX NB '[$']]],0,0,1)),_xlfn.IFS(B67=0,\"\",B67=\"Hull performance coating\",_xlfn.XLOOKUP(B67,Measures[[#All],[Measure]],Measures[[#All],[CAPEX Retrofit '[$']]],0,0,1)*(G29/F29),\nB67<>\"Hull performance coating\",_xlfn.XLOOKUP(B67,Measures[[#All],[Measure]],Measures[[#All],[CAPEX Retrofit '[$']]],0,0,1)))","v":""},"",{"$f":"IF($B67=0,\"\",IF(E$52<=$H29,($L29-E$54*$J29)/(E$53^E$52),\"\"))","v":""},"","","","","","","","","","","","","",null,"","","","","","","","","","",{"$error":"#VALUE!"},0,0,{"$f":"IFERROR(AD67/AF67,\"\")","v":""}]
[14,0,{"$f":"IF($C$11=\"Newbuild\",_xlfn.IFS(B68=0,\"\",B68=\"Hull performance coating\",_xlfn.XLOOKUP(B68,Measures[[#All],[Measure]],Measures[[#All],[CAPEX NB '[$']]],0,0,1)*(G30/F30),\nB68<>\"Hull performance coating\",_xlfn.XLOOKUP(B68,Measures[[#All],[Measure]],Measures[[#All],[CAPEX NB '[$']]],0,0,1)),_xlfn.IFS(B68=0,\"\",B68=\"Hull performance coating\",_xlfn.XLOOKUP(B68,Measures[[#All],[Measure]],Measures[[#All],[CAPEX Retrofit '[$']]],0,0,1)*(G30/F30),\nB68<>\"Hull performance coating\",_xlfn.XLOOKUP(B68,Measures[[#All],[Measure]],Measures[[#All],[CAPEX Retrofit '[$']]],0,0,1)))","v":""},{"$f":"IF($B68=0,\"\",IF(D$52<=$H30,($L30-D$54*$J30)/(D$53^D$52),\"\"))","v":""},{"$f":"IF($B68=0,\"\",IF(E$52<=$H30,($L30-E$54*$J30)/(E$53^E$52),\"\"))","v":""},"","","","","","","","","","","","","",null,"","","","","","","","","","",{"$f":"C68+SUM(D68:AC68)","v":{"$error":"#VALUE!"}},0,0,""]
[15,0,{"$f":"IF($C$11=\"Newbuild\",_xlfn.IFS(B69=0,\"\",B69=\"Hull performance coating\",_xlfn.XLOOKUP(B69,Measures[[#All],[Measure]],Measures[[#All],[CAPEX NB '[$']]],0,0,1)*(G31/F31),\nB69<>\"Hull performance coating\",_xlfn.XLOOKUP(B69,Measures[[#All],[Measure]],Measures[[#All],[CAPEX NB '[$']]],0,0,1)),_xlfn.IFS(B69=0,\"\",B69=\"Hull performance coating\",_xlfn.XLOOKUP(B69,Measures[[#All],[Measure]],Measures[[#All],[CAPEX Retrofit '[$']]],0,0,1)*(G31/F31),\nB69<>\"Hull performance coating\",_xlfn.XLOOKUP(B69,Measures[[#All],[Measure]],Measures[[#All],[CAPEX Retrofit '[$']]],0,0,1)))","v":""},"",{"$f":"IF($B69=0,\"\",IF(E$52<=$H31,($L31-E$54*$J31)/(E$53^E$52),\"\"))","v":""},"","","","","","","","","","","","","",null,"","","","","","","","","","",{"$error":"#VALUE!"},0,0,""]
[16,0,{"$f":"IF($C$11=\"Newbuild\",_xlfn.IFS(B70=0,\"\",B70=\"Hull performance coating\",_xlfn.XLOOKUP(B70,Measures[[#All],[Measure]],Measures[[#All],[CAPEX NB '[$']]],0,0,1)*(G32/F32),\nB70<>\"Hull performance coating\",_xlfn.XLOOKUP(B70,Measures[[#All],[Measure]],Measures[[#All],[CAPEX NB '[$']]],0,0,1)),_xlfn.IFS(B70=0,\"\",B70=\"Hull performance coating\",_xlfn.XLOOKUP(B70,Measures[[#All],[Measure]],Measures[[#All],[CAPEX Retrofit '[$']]],0,0,1)*(G32/F32),\nB70<>\"Hull performance coating\",_xlfn.XLOOKUP(B70,Measures[[#All],[Measure]],Measures[[#All],[CAPEX Retrofit '[$']]],0,0,1)))","v":""},"",{"$f":"IF($B70=0,\"\",IF(E$52<=$H32,($L32-E$54*$J32)/(E$53^E$52),\"\"))","v":""},"","","","","","","","","","","","","",null,"","","","","","","","","","",{"$f":"C70+SUM(D70:AC70)","v":{"$error":"#VALUE!"}},0,0,""]
[17,0,{"$f":"IF($C$11=\"Newbuild\",_xlfn.IFS(B71=0,\"\",B71=\"Hull performance coating\",_xlfn.XLOOKUP(B71,Measures[[#All],[Measure]],Measures[[#All],[CAPEX NB '[$']]],0,0,1)*(G33/F33),\nB71<>\"Hull performance coating\",_xlfn.XLOOKUP(B71,Measures[[#All],[Measure]],Measures[[#All],[CAPEX NB '[$']]],0,0,1)),_xlfn.IFS(B71=0,\"\",B71=\"Hull performance coating\",_xlfn.XLOOKUP(B71,Measures[[#All],[Measure]],Measures[[#All],[CAPEX Retrofit '[$']]],0,0,1)*(G33/F33),\nB71<>\"Hull performance coating\",_xlfn.XLOOKUP(B71,Measures[[#All],[Measure]],Measures[[#All],[CAPEX Retrofit '[$']]],0,0,1)))","v":""},"",{"$f":"IF($B71=0,\"\",IF(E$52<=$H33,($L33-E$54*$J33)/(E$53^E$52),\"\"))","v":""},"","","","","","","","","","","","","",null,"","","","","","","","","","",{"$error":"#VALUE!"},0,0,""]
[18,0,{"$f":"IF($C$11=\"Newbuild\",_xlfn.IFS(B72=0,\"\",B72=\"Hull performance coating\",_xlfn.XLOOKUP(B72,Measures[[#All],[Measure]],Measures[[#All],[CAPEX NB '[$']]],0,0,1)*(G34/F34),\nB72<>\"Hull performance coating\",_xlfn.XLOOKUP(B72,Measures[[#All],[Measure]],Measures[[#All],[CAPEX NB '[$']]],0,0,1)),_xlfn.IFS(B72=0,\"\",B72=\"Hull performance coating\",_xlfn.XLOOKUP(B72,Measures[[#All],[Measure]],Measures[[#All],[CAPEX Retrofit '[$']]],0,0,1)*(G34/F34),\nB72<>\"Hull performance coating\",_xlfn.XLOOKUP(B72,Measures[[#All],[Measure]],Measures[[#All],[CAPEX Retrofit '[$']]],0,0,1)))","v":""},"",{"$f":"IF($B72=0,\"\",IF(E$52<=$H34,($L34-E$54*$J34)/(E$53^E$52),\"\"))","v":""},"","","","","","","","","","","","","",null,"","","","","","","","","","",{"$error":"#VALUE!"},0,0,""]
[19,0,{"$f":"IF($C$11=\"Newbuild\",_xlfn.IFS(B73=0,\"\",B73=\"Hull performance coating\",_xlfn.XLOOKUP(B73,Measures[[#All],[Measure]],Measures[[#All],[CAPEX NB '[$']]],0,0,1)*(G35/F35),\nB73<>\"Hull performance coating\",_xlfn.XLOOKUP(B73,Measures[[#All],[Measure]],Measures[[#All],[CAPEX NB '[$']]],0,0,1)),_xlfn.IFS(B73=0,\"\",B73=\"Hull performance coating\",_xlfn.XLOOKUP(B73,Measures[[#All],[Measure]],Measures[[#All],[CAPEX Retrofit '[$']]],0,0,1)*(G35/F35),\nB73<>\"Hull performance coating\",_xlfn.XLOOKUP(B73,Measures[[#All],[Measure]],Measures[[#All],[CAPEX Retrofit '[$']]],0,0,1)))","v":""},"",{"$f":"IF($B73=0,\"\",IF(E$52<=$H35,($L35-E$54*$J35)/(E$53^E$52),\"\"))","v":""},"","","","","","","","","","","","","",null,"","","","","","","","","","",{"$error":"#VALUE!"},0,0,""]
[20,0,{"$f":"IF($C$11=\"Newbuild\",_xlfn.IFS(B74=0,\"\",B74=\"Hull performance coating\",_xlfn.XLOOKUP(B74,Measures[[#All],[Measure]],Measures[[#All],[CAPEX NB '[$']]],0,0,1)*(G36/F36),\nB74<>\"Hull performance coating\",_xlfn.XLOOKUP(B74,Measures[[#All],[Measure]],Measures[[#All],[CAPEX NB '[$']]],0,0,1)),_xlfn.IFS(B74=0,\"\",B74=\"Hull performance coating\",_xlfn.XLOOKUP(B74,Measures[[#All],[Measure]],Measures[[#All],[CAPEX Retrofit '[$']]],0,0,1)*(G36/F36),\nB74<>\"Hull performance coating\",_xlfn.XLOOKUP(B74,Measures[[#All],[Measure]],Measures[[#All],[CAPEX Retrofit '[$']]],0,0,1)))","v":""},"",{"$f":"IF($B74=0,\"\",IF(E$52<=$H36,($L36-E$54*$J36)/(E$53^E$52),\"\"))","v":""},"","","","","","","","","","","","","",null,"","","","","","","","","","",{"$error":"#VALUE!"},0,0,""]
[21,0,{"$f":"IF($C$11=\"Newbuild\",_xlfn.IFS(B75=0,\"\",B75=\"Hull performance coating\",_xlfn.XLOOKUP(B75,Measures[[#All],[Measure]],Measures[[#All],[CAPEX NB '[$']]],0,0,1)*(G37/F37),\nB75<>\"Hull performance coating\",_xlfn.XLOOKUP(B75,Measures[[#All],[Measure]],Measures[[#All],[CAPEX NB '[$']]],0,0,1)),_xlfn.IFS(B75=0,\"\",B75=\"Hull performance coating\",_xlfn.XLOOKUP(B75,Measures[[#All],[Measure]],Measures[[#All],[CAPEX Retrofit '[$']]],0,0,1)*(G37/F37),\nB75<>\"Hull performance coating\",_xlfn.XLOOKUP(B75,Measures[[#All],[Measure]],Measures[[#All],[CAPEX Retrofit '[$']]],0,0,1)))","v":""},"",{"$f":"IF($B75=0,\"\",IF(E$52<=$H37,($L37-E$54*$J37)/(E$53^E$52),\"\"))","v":""},"","","","","","","","","","","","","",null,"","","","","","","","","","",{"$error":"#VALUE!"},0,0,""]
[22,0,{"$f":"IF($C$11=\"Newbuild\",_xlfn.IFS(B76=0,\"\",B76=\"Hull performance coating\",_xlfn.XLOOKUP(B76,Measures[[#All],[Measure]],Measures[[#All],[CAPEX NB '[$']]],0,0,1)*(G38/F38),\nB76<>\"Hull performance coating\",_xlfn.XLOOKUP(B76,Measures[[#All],[Measure]],Measures[[#All],[CAPEX NB '[$']]],0,0,1)),_xlfn.IFS(B76=0,\"\",B76=\"Hull performance coating\",_xlfn.XLOOKUP(B76,Measures[[#All],[Measure]],Measures[[#All],[CAPEX Retrofit '[$']]],0,0,1)*(G38/F38),\nB76<>\"Hull performance coating\",_xlfn.XLOOKUP(B76,Measures[[#All],[Measure]],Measures[[#All],[CAPEX Retrofit '[$']]],0,0,1)))","v":""},"",{"$f":"IF($B76=0,\"\",IF(E$52<=$H38,($L38-E$54*$J38)/(E$53^E$52),\"\"))","v":""},"","","","","","","","","","","","","",null,"","","","","","","","","","",{"$error":"#VALUE!"},0,0,""]
[23,0,{"$f":"IF($C$11=\"Newbuild\",_xlfn.IFS(B77=0,\"\",B77=\"Hull performance coating\",_xlfn.XLOOKUP(B77,Measures[[#All],[Measure]],Measures[[#All],[CAPEX NB '[$']]],0,0,1)*(G39/F39),\nB77<>\"Hull performance coating\",_xlfn.XLOOKUP(B77,Measures[[#All],[Measure]],Measures[[#All],[CAPEX NB '[$']]],0,0,1)),_xlfn.IFS(B77=0,\"\",B77=\"Hull performance coating\",_xlfn.XLOOKUP(B77,Measures[[#All],[Measure]],Measures[[#All],[CAPEX Retrofit '[$']]],0,0,1)*(G39/F39),\nB77<>\"Hull performance coating\",_xlfn.XLOOKUP(B77,Measures[[#All],[Measure]],Measures[[#All],[CAPEX Retrofit '[$']]],0,0,1)))","v":""},"",{"$f":"IF($B77=0,\"\",IF(E$52<=$H39,($L39-E$54*$J39)/(E$53^E$52),\"\"))","v":""},"","","","","","","","","","","","","",null,"","","","","","","","","","",{"$error":"#VALUE!"},0,0,""]
[24,0,{"$f":"IF($C$11=\"Newbuild\",_xlfn.IFS(B78=0,\"\",B78=\"Hull performance coating\",_xlfn.XLOOKUP(B78,Measures[[#All],[Measure]],Measures[[#All],[CAPEX NB '[$']]],0,0,1)*(G40/F40),\nB78<>\"Hull performance coating\",_xlfn.XLOOKUP(B78,Measures[[#All],[Measure]],Measures[[#All],[CAPEX NB '[$']]],0,0,1)),_xlfn.IFS(B78=0,\"\",B78=\"Hull performance coating\",_xlfn.XLOOKUP(B78,Measures[[#All],[Measure]],Measures[[#All],[CAPEX Retrofit '[$']]],0,0,1)*(G40/F40),\nB78<>\"Hull performance coating\",_xlfn.XLOOKUP(B78,Measures[[#All],[Measure]],Measures[[#All],[CAPEX Retrofit '[$']]],0,0,1)))","v":""},"",{"$f":"IF($B78=0,\"\",IF(E$52<=$H40,($L40-E$54*$J40)/(E$53^E$52),\"\"))","v":""},"","","","","","","","","","","","","",null,"","","","","","","","","","",{"$error":"#VALUE!"},0,0,""]
[25,0,{"$f":"IF($C$11=\"Newbuild\",_xlfn.IFS(B79=0,\"\",B79=\"Hull performance coating\",_xlfn.XLOOKUP(B79,Measures[[#All],[Measure]],Measures[[#All],[CAPEX NB '[$']]],0,0,1)*(G41/F41),\nB79<>\"Hull performance coating\",_xlfn.XLOOKUP(B79,Measures[[#All],[Measure]],Measures[[#All],[CAPEX NB '[$']]],0,0,1)),_xlfn.IFS(B79=0,\"\",B79=\"Hull performance coating\",_xlfn.XLOOKUP(B79,Measures[[#All],[Measure]],Measures[[#All],[CAPEX Retrofit '[$']]],0,0,1)*(G41/F41),\nB79<>\"Hull performance coating\",_xlfn.XLOOKUP(B79,Measures[[#All],[Measure]],Measures[[#All],[CAPEX Retrofit '[$']]],0,0,1)))","v":""},"",{"$f":"IF($B79=0,\"\",IF(E$52<=$H41,($L41-E$54*$J41)/(E$53^E$52),\"\"))","v":""},"","","","","","","","","","","","","",null,"","","","","","","","","","",{"$error":"#VALUE!"},0,0,""]
[26,0,{"$f":"IF($C$11=\"Newbuild\",_xlfn.IFS(B80=0,\"\",B80=\"Hull performance coating\",_xlfn.XLOOKUP(B80,Measures[[#All],[Measure]],Measures[[#All],[CAPEX NB '[$']]],0,0,1)*(G42/F42),\nB80<>\"Hull performance coating\",_xlfn.XLOOKUP(B80,Measures[[#All],[Measure]],Measures[[#All],[CAPEX NB '[$']]],0,0,1)),_xlfn.IFS(B80=0,\"\",B80=\"Hull performance coating\",_xlfn.XLOOKUP(B80,Measures[[#All],[Measure]],Measures[[#All],[CAPEX Retrofit '[$']]],0,0,1)*(G42/F42),\nB80<>\"Hull performance coating\",_xlfn.XLOOKUP(B80,Measures[[#All],[Measure]],Measures[[#All],[CAPEX Retrofit '[$']]],0,0,1)))","v":""},"",{"$f":"IF($B80=0,\"\",IF(E$52<=$H42,($L42-E$54*$J42)/(E$53^E$52),\"\"))","v":""},"","","","","","","","","","","","","",null,"","","","","","","","","","",{"$error":"#VALUE!"},0,0,""]
[27,0,{"$f":"IF($C$11=\"Newbuild\",_xlfn.IFS(B81=0,\"\",B81=\"Hull performance coating\",_xlfn.XLOOKUP(B81,Measures[[#All],[Measure]],Measures[[#All],[CAPEX NB '[$']]],0,0,1)*(G43/F43),\nB81<>\"Hull performance coating\",_xlfn.XLOOKUP(B81,Measures[[#All],[Measure]],Measures[[#All],[CAPEX NB '[$']]],0,0,1)),_xlfn.IFS(B81=0,\"\",B81=\"Hull performance coating\",_xlfn.XLOOKUP(B81,Measures[[#All],[Measure]],Measures[[#All],[CAPEX Retrofit '[$']]],0,0,1)*(G43/F43),\nB81<>\"Hull performance coating\",_xlfn.XLOOKUP(B81,Measures[[#All],[Measure]],Measures[[#All],[CAPEX Retrofit '[$']]],0,0,1)))","v":""},"",{"$f":"IF($B81=0,\"\",IF(E$52<=$H43,($L43-E$54*$J43)/(E$53^E$52),\"\"))","v":""},"","","","","","","","","","","","","",null,"","","","","","","","","","",{"$error":"#VALUE!"},0,0,""]
[28,0,{"$f":"IF($C$11=\"Newbuild\",_xlfn.IFS(B82=0,\"\",B82=\"Hull performance coating\",_xlfn.XLOOKUP(B82,Measures[[#All],[Measure]],Measures[[#All],[CAPEX NB '[$']]],0,0,1)*(G44/F44),\nB82<>\"Hull performance coating\",_xlfn.XLOOKUP(B82,Measures[[#All],[Measure]],Measures[[#All],[CAPEX NB '[$']]],0,0,1)),_xlfn.IFS(B82=0,\"\",B82=\"Hull performance coating\",_xlfn.XLOOKUP(B82,Measures[[#All],[Measure]],Measures[[#All],[CAPEX Retrofit '[$']]],0,0,1)*(G44/F44),\nB82<>\"Hull performance coating\",_xlfn.XLOOKUP(B82,Measures[[#All],[Measure]],Measures[[#All],[CAPEX Retrofit '[$']]],0,0,1)))","v":""},"",{"$f":"IF($B82=0,\"\",IF(E$52<=$H44,($L44-E$54*$J44)/(E$53^E$52),\"\"))","v":""},"","","","","","","","","","","","","",null,"","","","","","","","","","",{"$error":"#VALUE!"},0,0,""]
[29,0,{"$f":"IF($C$11=\"Newbuild\",_xlfn.IFS(B83=0,\"\",B83=\"Hull performance coating\",_xlfn.XLOOKUP(B83,Measures[[#All],[Measure]],Measures[[#All],[CAPEX NB '[$']]],0,0,1)*(G45/F45),\nB83<>\"Hull performance coating\",_xlfn.XLOOKUP(B83,Measures[[#All],[Measure]],Measures[[#All],[CAPEX NB '[$']]],0,0,1)),_xlfn.IFS(B83=0,\"\",B83=\"Hull performance coating\",_xlfn.XLOOKUP(B83,Measures[[#All],[Measure]],Measures[[#All],[CAPEX Retrofit '[$']]],0,0,1)*(G45/F45),\nB83<>\"Hull performance coating\",_xlfn.XLOOKUP(B83,Measures[[#All],[Measure]],Measures[[#All],[CAPEX Retrofit '[$']]],0,0,1)))","v":""},"",{"$f":"IF($B83=0,\"\",IF(E$52<=$H45,($L45-E$54*$J45)/(E$53^E$52),\"\"))","v":""},"","","","","","","","","","","","","",null,"","","","","","","","","","",{"$error":"#VALUE!"},0,0,{"$f":"IFERROR(AD83/AF83,\"\")","v":""}]
[30,0,{"$f":"IF($C$11=\"Newbuild\",_xlfn.IFS(B84=0,\"\",B84=\"Hull performance coating\",_xlfn.XLOOKUP(B84,Measures[[#All],[Measure]],Measures[[#All],[CAPEX NB '[$']]],0,0,1)*(G46/F46),\nB84<>\"Hull performance coating\",_xlfn.XLOOKUP(B84,Measures[[#All],[Measure]],Measures[[#All],[CAPEX NB '[$']]],0,0,1)),_xlfn.IFS(B84=0,\"\",B84=\"Hull performance coating\",_xlfn.XLOOKUP(B84,Measures[[#All],[Measure]],Measures[[#All],[CAPEX Retrofit '[$']]],0,0,1)*(G46/F46),\nB84<>\"Hull performance coating\",_xlfn.XLOOKUP(B84,Measures[[#All],[Measure]],Measures[[#All],[CAPEX Retrofit '[$']]],0,0,1)))","v":""},"",{"$f":"IF($B84=0,\"\",IF(E$52<=$H46,($L46-E$54*$J46)/(E$53^E$52),\"\"))","v":""},"","","","","","","","","","","","","",null,"","","","","","","","","","",{"$error":"#VALUE!"},{"$f":"H46","v":0},0,{"$f":"IFERROR(AD84/AF84,\"\")","v":""}]
[31,{"$f":"E47","v":0},{"$f":"IF($C$11=\"Newbuild\",_xlfn.IFS(B85=0,\"\",B85=\"Hull performance coating\",_xlfn.XLOOKUP(B85,Measures[[#All],[Measure]],Measures[[#All],[CAPEX NB '[$']]],0,0,1)*(G47/F47),\nB85<>\"Hull performance coating\",_xlfn.XLOOKUP(B85,Measures[[#All],[Measure]],Measures[[#All],[CAPEX NB '[$']]],0,0,1)),_xlfn.IFS(B85=0,\"\",B85=\"Hull performance coating\",_xlfn.XLOOKUP(B85,Measures[[#All],[Measure]],Measures[[#All],[CAPEX Retrofit '[$']]],0,0,1)*(G47/F47),\nB85<>\"Hull performance coating\",_xlfn.XLOOKUP(B85,Measures[[#All],[Measure]],Measures[[#All],[CAPEX Retrofit '[$']]],0,0,1)))","v":""},"",{"$f":"IF($B85=0,\"\",IF(E$52<=$H47,($L47-E$54*$J47)/(E$53^E$52),\"\"))","v":""},"","","","","","","","","","","","","",null,"","","","","","","","","","",{"$f":"C85+SUM(D85:AC85)","v":{"$error":"#VALUE!"}},{"$f":"H47","v":0},0,{"$f":"IFERROR(AD85/AF85,\"\")","v":""}]
[]
[null,"Seperation line"]
[]
[null,"Sorted table based on catch - Catch value is used to calculate aggregated effect of each measure - Only catch value and sorting of measure list is of interest and used directly in the below calculations"]
[null,"Data cleaning","Expected lifetime measure","Expected lifetime vessel","Shortest lifetime","Fuel saving (%)","Δfuel used","Δ fuel cost","OPEX","Δ CO2","NPV annualized ","Catch","Fuel saving high","fuel saving low","EEXI reduction"]
[1,{"$f":"_xlfn._xlws.SORT(E17:R47,11,1)","v":0},"",0,0,0,0,{"$error":"#DIV/0!"},"",0,"","Not included",0,0,0]
[2,0,"",0,0,0,0,{"$error":"#DIV/0!"},"",0,"","Not included",0,0,0]
[3,0,"",0,0,0,0,{"$error":"#DIV/0!"},"",0,"","Not included",0,0,0]
[4,0,"",0,0,0,0,{"$error":"#DIV/0!"},"",0,"","Not included",0,0,0]
[5,0,"",0,0,0,0,{"$error":"#DIV/0!"},"",0,"","Not included",0,0,0]
[6,0,"",0,0,0,0,{"$error":"#DIV/0!"},"",0,"","Not included",0,0,0]
[7,0,"",0,0,0,0,{"$error":"#DIV/0!"},"",0,"","Not included",0,0,0]
[8,0,"",0,0,0,0,{"$error":"#DIV/0!"},"",0,"","Not included",0,0,0]
[9,0,"",0,0,0,0,{"$error":"#DIV/0!"},"",0,"","Not included",0,0,0]
[10,0,"",0,0,0,0,{"$error":"#DIV/0!"},"",0,"","Not included",0,0,0]
[11,0,"",0,0,0,0,{"$error":"#DIV/0!"},"",0,"","Not included",0,0,0]
[12,0,"",0,0,0,0,{"$error":"#DIV/0!"},"",0,"","Not included",0,0,0]
[13,0,"",0,0,0,0,{"$error":"#DIV/0!"},"",0,"","Not included",0,0,0]
[14,0,"",0,0,0,0,{"$error":"#DIV/0!"},"",0,"","Not included",0,0,0]
[15,0,"",0,0,0,0,{"$error":"#DIV/0!"},"",0,"","Not included",0,0,0]
[16,0,"",0,0,0,0,{"$error":"#DIV/0!"},"",0,"","Not included",0,0,0]
[17,0,"",0,0,0,0,{"$error":"#DIV/0!"},"",0,"","Not included",0,0,0]
[18,0,"",0,0,0,0,{"$error":"#DIV/0!"},"",0,"","Not included",0,0,0]
[19,0,"",0,0,0,0,{"$error":"#DIV/0!"},"",0,"","Not included",0,0,0]
[20,0,"",0,0,0,0,{"$error":"#DIV/0!"},"",0,"","Not included",0,0,0]
[21,0,"",0,0,0,0,{"$error":"#DIV/0!"},"",0,"","Not included",0,0,0]
[22,0,"",0,0,0,0,{"$error":"#DIV/0!"},"",0,"","Not included",0,0,0]
[23,0,"",0,0,0,0,{"$error":"#DIV/0!"},"",0,"","Not included",0,0,0]
[24,0,"",0,0,0,0,{"$error":"#DIV/0!"},"",0,"","Not included",0,0,0]
[25,0,"",0,0,0,0,{"$error":"#DIV/0!"},"",0,"","Not included",0,0,0]
[26,0,"",0,0,0,0,{"$error":"#DIV/0!"},"",0,"","Not included",0,0,0]
[27,0,"",0,0,0,0,{"$error":"#DIV/0!"},"",0,"","Not included",0,0,0]
[28,0,"",0,0,0,0,{"$error":"#DIV/0!"},"",0,"","Not included",0,0,0]
[29,0,"",0,0,0,0,{"$error":"#DIV/0!"},"",0,"","Not included",0,0,0]
[30,0,"",0,0,0,0,{"$error":"#DIV/0!"},"",0,"","Not included",0,0,0]
[31,0,"",0,0,0,0,{"$error":"#DIV/0!"},"",0,"","Not included",0,0,0]
[]
[]
[]
[]
[null,null,null,"AER"]
[null,null,null,"With decreasing baseline",null,null,null,null,null,null,null,null,null,null,null,null,null,null,null,null,null,null,null,null,null,null,null,null,null,"High",null,null,null,null,"Low",null,null,null,null,"Operational program implementation",null,null,null,"EEXI"]
[null,"Selected measure list","Data cleaning","Current fuel consumption","Current CO2 emission","Shortest lifetime","Fuel reduction (%)","Fuel reduction (%) Aggregated","Actual reduction from measure","Δfuel consumption","Δ Cost fuel","AER Δ CO2","Opex","Yearly cost (savings)","Payback period [years]","AER NPV Annualized","Catch AER","AER\n[g CO2/ton nm]","EEXI app","EEXI\n[g CO2/ton nm]","ΔAER\n[g CO2/ton nm]","ΔEEXI\n[g CO2/ton nm]","Cumulative\nΔAER\n[g CO2/ton nm]",null,"EEOI 4th study",null,"AER 4th study","AER ",null,"Fuel reduction (%)","Fuel reduction (%) Aggregated","Actual reduction from measure","AER 4th study","AER ","Fuel reduction (%)","Fuel reduction (%) Aggregated","Actual reduction from measure","AER 4th study","AER ","#times to implement","Expected lifetime measure","Expected lifetime vessel","Shortest","EEXi reduction (%)","Aggregated EEXI red (%)","actual eexi red (%)","Delta CO2","Catch EEXI","EEXI Current fuel consumption","EEXI Δfuel consumption"]
[null,"Baseline",{"$f":"IF(B129=\"\",0,B129)","v":"Baseline"},{"$f":"C8","v":0},{"$f":"C12","v":0},null,null,1,null,null,null,null,null,null,null,null,null,{"$f":"C10","v":0},null,{"$f":"C13","v":0},null,0,0,null,{"$f":"C11","v":"Select from list"},null,{"$f":"'Measure summary'!B54","v":0},{"$f":"'Measure summary'!B57","v":0},null,null,1,null,{"$f":"'Measure summary'!B54","v":0},{"$f":"'Measure summary'!B57","v":0},null,1,null,{"$f":"'Measure summary'!B54","v":0},{"$f":"'Measure summary'!B57","v":0},null,null,null,null,null,1,null,null,null,{"$f":"C8","v":0}]
[1,{"$f":"B91","v":0},{"$f":"IF(B130=0,0,B130)","v":0},{"$f":"IF(C130=0,0,D129*(1-G130))","v":0},{"$f":"IF(D130=0,0,E129*(1-G130))","v":0},{"$f":"E91","v":0},{"$f":"F91","v":0},{"$f":"H129*(100%-G130)","v":1},{"$f":"G130*H129","v":0},{"$f":"IF(C130=0,0,D129-D130)","v":0},{"$f":"J130*$C$7","v":{"$error":"#DIV/0!"}},{"$f":"I130*$C$12","v":0},{"$f":"I91","v":""},{"$f":"IF(C130=0,\"\",K130-M130)","v":""},{"$f":"IFERROR(((C169+M130)/N130),0)","v":0},{"$f":"AG169","v":0},{"$f":"IF(C130=0,\"Not included measure\",IF(L130=0,\"NA\",P130/L130))","v":"Not included measure"},{"$f":"(R129*(1-I130))","v":0},{"$f":"IFERROR(INDEX(Measures[],MATCH(B130,Measures[Measure],0),6),0)","v":0},{"$f":"IF(S130=0,T129,T129*(1-AT130))","v":0},{"$f":"R129-R130","v":0},{"$f":"IF(T129-T130=0,\"NA\",T129-T130)","v":"NA"},{"$f":"SUM($U$130:U130)","v":0},null,{"$f":"Y129*(1-I130)","v":{"$error":"#VALUE!"}},null,{"$f":"AA129*(1-I130)","v":0},{"$f":"AB129*(1-I130)","v":0},{"$f":"V130/T130","v":{"$error":"#VALUE!"}},{"$f":"M91","v":0},{"$f":"AE129*(100%-AD130)","v":1},{"$f":"AD130*AE129","v":0},{"$f":"AG129*(1-AF130)","v":0},{"$f":"AH129*(1-AF130)","v":0},{"$f":"N91","v":0},{"$f":"AJ129*(100%-AI130)","v":1},{"$f":"AI130*AJ129","v":0},{"$f":"AL129*(1-AK130)","v":0},{"$f":"AM129*(1-AK130)","v":0},{"$f":"_xlfn.IFS(C130=0,0,\nAND(_xlfn.XLOOKUP(C130,Measures[[#All],[Measure]],Measures[[#All],[Technical/operational]],\"\",0,1)=\"Technical\",AO130>=AP130),(AP130/AQ130),\nAND(_xlfn.XLOOKUP(C130,Measures[[#All],[Measure]],Measures[[#All],[Technical/operational]],\"\",0,1)=\"Operational\",AO130<AP130),(AP130/AO130),\nAND(_xlfn.XLOOKUP(C130,Measures[[#All],[Measure]],Measures[[#All],[Technical/operational]],\"\",0,1)=\"Operational\",AO130>=AP130),(AP130/AQ130),\nAND(_xlfn.XLOOKUP(C130,Measures[[#All],[Measure]],Measures[[#All],[Technical/operational]],\"\",0,1)=\"Technical\",C130=\"Hull performance coating\",AO130<AP130),(AP130/AO130),\nAND(_xlfn.XLOOKUP(C130,Measures[[#All],[Measure]],Measures[[#All],[Technical/operational]],\"\",0,1)=\"Technical\",C130<>\"Hull performance coating\",AO130<AP130),1)","v":0},{"$f":"_xlfn.XLOOKUP(C130,Measures[[#All],[Measure]],Measures[[#All],[Lifetime '[Years']]],\"\",0,1)","v":""},{"$f":"$C$3","v":0},{"$f":"_xlfn.IFS(C130=0,0,AND(_xlfn.XLOOKUP(C130,Measures[[#All],[Measure]],Measures[[#All],[Technical/operational]],\"\",0,1)=\"Technical\",C130=\"Hull performance coating\"),AP130,\nAND(_xlfn.XLOOKUP(C130,Measures[[#All],[Measure]],Measures[[#All],[Technical/operational]],\"\",0,1)=\"Operational\",AO130>=AP130),AP130,\nAND(_xlfn.XLOOKUP(C130,Measures[[#All],[Measure]],Measures[[#All],[Technical/operational]],\"\",0,1)=\"Operational\",AO130<AP130),AP130,\nAND(_xlfn.XLOOKUP(C130,Measures[[#All],[Measure]],Measures[[#All],[Technical/operational]],\"\",0,1)=\"Technical\",C130<>\"Hull performance coating\",AO130>=AP130),AP130,\nAND(_xlfn.XLOOKUP(C130,Measures[[#All],[Measure]],Measures[[#All],[Technical/operational]],\"\",0,1)=\"Technical\",C130<>\"Hull performance coating\",AO130<AP130),AO130)","v":0},{"$f":"IF(O91=\"NA\",0,O91)","v":0},{"$f":"AS129*(100%-AR130)","v":1},{"$f":"AR130*AS129","v":0},{"$f":"AT130*$C$12*S130","v":0},{"$f":"IF(C130=0,\"Not included measure\",IF(AU130=0,\"NA\",AG212/AU130))","v":"Not included measure"},{"$f":"IF(C130=0,0,AW129*(1-AR130))","v":0},{"$f":"IF(C130=0,0,AW129-AW130)","v":0}]
[2,0,{"$f":"IF(B131=0,0,B131)","v":0},{"$f":"IF(C131=0,0,D130*(1-G131))","v":0},{"$f":"IF(D131=0,0,E130*(1-G131))","v":0},{"$f":"E92","v":0},{"$f":"F92","v":0},{"$f":"H130*(100%-G131)","v":1},{"$f":"G131*H130","v":0},0,{"$error":"#DIV/0!"},{"$f":"I131*$C$12","v":0},"",{"$f":"IF(C131=0,\"\",K131-M131)","v":""},{"$f":"IFERROR(((C170+M131)/N131),0)","v":0},{"$f":"AG170","v":0},{"$f":"IF(C131=0,\"Not included measure\",IF(L131=0,\"NA\",P131/L131))","v":"Not included measure"},{"$f":"(R130*(1-I131))","v":0},{"$f":"IFERROR(INDEX(Measures[],MATCH(B131,Measures[Measure],0),6),0)","v":0},{"$f":"IF(S131=0,T130,T130*(1-AT131))","v":0},{"$f":"R130-R131","v":0},{"$f":"IF(T130-T131=0,\"NA\",T130-T131)","v":"NA"},{"$f":"SUM($U$130:U131)","v":0},null,{"$f":"Y130*(1-I131)","v":{"$error":"#VALUE!"}},null,0,{"$f":"AB130*(1-I131)","v":0},{"$error":"#VALUE!"},0,{"$f":"AE130*(100%-AD131)","v":1},{"$f":"AD131*AE130","v":0},{"$f":"AG130*(1-AF131)","v":0},{"$f":"AH130*(1-AF131)","v":0},0,{"$f":"AJ130*(100%-AI131)","v":1},{"$f":"AI131*AJ130","v":0},{"$f":"AL130*(1-AK131)","v":0},{"$f":"AM130*(1-AK131)","v":0},{"$f":"_xlfn.IFS(C131=0,0,\nAND(_xlfn.XLOOKUP(C131,Measures[[#All],[Measure]],Measures[[#All],[Technical/operational]],\"\",0,1)=\"Technical\",AO131>=AP131),(AP131/AQ131),\nAND(_xlfn.XLOOKUP(C131,Measures[[#All],[Measure]],Measures[[#All],[Technical/operational]],\"\",0,1)=\"Operational\",AO131<AP131),(AP131/AO131),\nAND(_xlfn.XLOOKUP(C131,Measures[[#All],[Measure]],Measures[[#All],[Technical/operational]],\"\",0,1)=\"Operational\",AO131>=AP131),(AP131/AQ131),\nAND(_xlfn.XLOOKUP(C131,Measures[[#All],[Measure]],Measures[[#All],[Technical/operational]],\"\",0,1)=\"Technical\",C131=\"Hull performance coating\",AO131<AP131),(AP131/AO131),\nAND(_xlfn.XLOOKUP(C131,Measures[[#All],[Measure]],Measures[[#All],[Technical/operational]],\"\",0,1)=\"Technical\",C131<>\"Hull performance coating\",AO131<AP131),1)","v":0},{"$f":"_xlfn.XLOOKUP(C131,Measures[[#All],[Measure]],Measures[[#All],[Lifetime '[Years']]],\"\",0,1)","v":""},{"$f":"$C$3","v":0},{"$f":"_xlfn.IFS(C131=0,0,AND(_xlfn.XLOOKUP(C131,Measures[[#All],[Measure]],Measures[[#All],[Technical/operational]],\"\",0,1)=\"Technical\",C131=\"Hull performance coating\"),AP131,\nAND(_xlfn.XLOOKUP(C131,Measures[[#All],[Measure]],Measures[[#All],[Technical/operational]],\"\",0,1)=\"Operational\",AO131>=AP131),AP131,\nAND(_xlfn.XLOOKUP(C131,Measures[[#All],[Measure]],Measures[[#All],[Technical/operational]],\"\",0,1)=\"Operational\",AO131<AP131),AP131,\nAND(_xlfn.XLOOKUP(C131,Measures[[#All],[Measure]],Measures[[#All],[Technical/operational]],\"\",0,1)=\"Technical\",C131<>\"Hull performance coating\",AO131>=AP131),AP131,\nAND(_xlfn.XLOOKUP(C131,Measures[[#All],[Measure]],Measures[[#All],[Technical/operational]],\"\",0,1)=\"Technical\",C131<>\"Hull performance coating\",AO131<AP131),AO131)","v":0},{"$f":"IF(O92=\"NA\",0,O92)","v":0},{"$f":"AS130*(100%-AR131)","v":1},0,0,"Not included measure",0,0]
[3,0,{"$f":"IF(B132=0,0,B132)","v":0},{"$f":"IF(C132=0,0,D131*(1-G132))","v":0},0,{"$f":"E93","v":0},0,{"$f":"H131*(100%-G132)","v":1},{"$f":"G132*H131","v":0},{"$f":"IF(C132=0,0,D131-D132)","v":0},{"$error":"#DIV/0!"},0,"","",0,{"$f":"AG171","v":0},"Not included measure",0,{"$f":"IFERROR(INDEX(Measures[],MATCH(B132,Measures[Measure],0),6),0)","v":0},0,0,"NA",{"$f":"SUM($U$130:U132)","v":0},null,{"$error":"#VALUE!"},null,0,0,{"$error":"#VALUE!"},0,{"$f":"AE131*(100%-AD132)","v":1},{"$f":"AD132*AE131","v":0},0,0,0,{"$f":"AJ131*(100%-AI132)","v":1},{"$f":"AI132*AJ131","v":0},0,0,{"$f":"_xlfn.IFS(C132=0,0,\nAND(_xlfn.XLOOKUP(C132,Measures[[#All],[Measure]],Measures[[#All],[Technical/operational]],\"\",0,1)=\"Technical\",AO132>=AP132),(AP132/AQ132),\nAND(_xlfn.XLOOKUP(C132,Measures[[#All],[Measure]],Measures[[#All],[Technical/operational]],\"\",0,1)=\"Operational\",AO132<AP132),(AP132/AO132),\nAND(_xlfn.XLOOKUP(C132,Measures[[#All],[Measure]],Measures[[#All],[Technical/operational]],\"\",0,1)=\"Operational\",AO132>=AP132),(AP132/AQ132),\nAND(_xlfn.XLOOKUP(C132,Measures[[#All],[Measure]],Measures[[#All],[Technical/operational]],\"\",0,1)=\"Technical\",C132=\"Hull performance coating\",AO132<AP132),(AP132/AO132),\nAND(_xlfn.XLOOKUP(C132,Measures[[#All],[Measure]],Measures[[#All],[Technical/operational]],\"\",0,1)=\"Technical\",C132<>\"Hull performance coating\",AO132<AP132),1)","v":0},{"$f":"_xlfn.XLOOKUP(C132,Measures[[#All],[Measure]],Measures[[#All],[Lifetime '[Years']]],\"\",0,1)","v":""},0,{"$f":"_xlfn.IFS(C132=0,0,AND(_xlfn.XLOOKUP(C132,Measures[[#All],[Measure]],Measures[[#All],[Technical/operational]],\"\",0,1)=\"Technical\",C132=\"Hull performance coating\"),AP132,\nAND(_xlfn.XLOOKUP(C132,Measures[[#All],[Measure]],Measures[[#All],[Technical/operational]],\"\",0,1)=\"Operational\",AO132>=AP132),AP132,\nAND(_xlfn.XLOOKUP(C132,Measures[[#All],[Measure]],Measures[[#All],[Technical/operational]],\"\",0,1)=\"Operational\",AO132<AP132),AP132,\nAND(_xlfn.XLOOKUP(C132,Measures[[#All],[Measure]],Measures[[#All],[Technical/operational]],\"\",0,1)=\"Technical\",C132<>\"Hull performance coating\",AO132>=AP132),AP132,\nAND(_xlfn.XLOOKUP(C132,Measures[[#All],[Measure]],Measures[[#All],[Technical/operational]],\"\",0,1)=\"Technical\",C132<>\"Hull performance coating\",AO132<AP132),AO132)","v":0},0,1,0,0,"Not included measure",0,0]
[4,0,0,{"$f":"IF(C133=0,0,D132*(1-G133))","v":0},0,{"$f":"E94","v":0},{"$f":"F94","v":0},{"$f":"H132*(100%-G133)","v":1},{"$f":"G133*H132","v":0},{"$f":"IF(C133=0,0,D132-D133)","v":0},{"$f":"J133*$C$7","v":{"$error":"#DIV/0!"}},{"$f":"I133*$C$12","v":0},{"$f":"I94","v":""},{"$f":"IF(C133=0,\"\",K133-M133)","v":""},0,{"$f":"AG172","v":0},"Not included measure",0,{"$f":"IFERROR(INDEX(Measures[],MATCH(B133,Measures[Measure],0),6),0)","v":0},0,0,"NA",{"$f":"SUM($U$130:U133)","v":0},null,{"$error":"#VALUE!"},null,0,0,{"$error":"#VALUE!"},0,{"$f":"AE132*(100%-AD133)","v":1},{"$f":"AD133*AE132","v":0},0,0,0,{"$f":"AJ132*(100%-AI133)","v":1},{"$f":"AI133*AJ132","v":0},0,0,{"$f":"_xlfn.IFS(C133=0,0,\nAND(_xlfn.XLOOKUP(C133,Measures[[#All],[Measure]],Measures[[#All],[Technical/operational]],\"\",0,1)=\"Technical\",AO133>=AP133),(AP133/AQ133),\nAND(_xlfn.XLOOKUP(C133,Measures[[#All],[Measure]],Measures[[#All],[Technical/operational]],\"\",0,1)=\"Operational\",AO133<AP133),(AP133/AO133),\nAND(_xlfn.XLOOKUP(C133,Measures[[#All],[Measure]],Measures[[#All],[Technical/operational]],\"\",0,1)=\"Operational\",AO133>=AP133),(AP133/AQ133),\nAND(_xlfn.XLOOKUP(C133,Measures[[#All],[Measure]],Measures[[#All],[Technical/operational]],\"\",0,1)=\"Technical\",C133=\"Hull performance coating\",AO133<AP133),(AP133/AO133),\nAND(_xlfn.XLOOKUP(C133,Measures[[#All],[Measure]],Measures[[#All],[Technical/operational]],\"\",0,1)=\"Technical\",C133<>\"Hull performance coating\",AO133<AP133),1)","v":0},{"$f":"_xlfn.XLOOKUP(C133,Measures[[#All],[Measure]],Measures[[#All],[Lifetime '[Years']]],\"\",0,1)","v":""},0,{"$f":"_xlfn.IFS(C133=0,0,AND(_xlfn.XLOOKUP(C133,Measures[[#All],[Measure]],Measures[[#All],[Technical/operational]],\"\",0,1)=\"Technical\",C133=\"Hull performance coating\"),AP133,\nAND(_xlfn.XLOOKUP(C133,Measures[[#All],[Measure]],Measures[[#All],[Technical/operational]],\"\",0,1)=\"Operational\",AO133>=AP133),AP133,\nAND(_xlfn.XLOOKUP(C133,Measures[[#All],[Measure]],Measures[[#All],[Technical/operational]],\"\",0,1)=\"Operational\",AO133<AP133),AP133,\nAND(_xlfn.XLOOKUP(C133,Measures[[#All],[Measure]],Measures[[#All],[Technical/operational]],\"\",0,1)=\"Technical\",C133<>\"Hull performance coating\",AO133>=AP133),AP133,\nAND(_xlfn.XLOOKUP(C133,Measures[[#All],[Measure]],Measures[[#All],[Technical/operational]],\"\",0,1)=\"Technical\",C133<>\"Hull performance coating\",AO133<AP133),AO133)","v":0},0,1,0,0,"Not included measure",0,0]
[5,0,{"$f":"IF(B134=0,0,B134)","v":0},{"$f":"IF(C134=0,0,D133*(1-G134))","v":0},0,{"$f":"E95","v":0},{"$f":"F95","v":0},{"$f":"H133*(100%-G134)","v":1},{"$f":"G134*H133","v":0},{"$f":"IF(C134=0,0,D133-D134)","v":0},{"$error":"#DIV/0!"},0,"","",0,0,"Not included measure",0,{"$f":"IFERROR(INDEX(Measures[],MATCH(B134,Measures[Measure],0),6),0)","v":0},0,0,"NA",{"$f":"SUM($U$130:U134)","v":0},null,{"$error":"#VALUE!"},null,0,0,{"$error":"#VALUE!"},0,{"$f":"AE133*(100%-AD134)","v":1},{"$f":"AD134*AE133","v":0},0,0,0,{"$f":"AJ133*(100%-AI134)","v":1},{"$f":"AI134*AJ133","v":0},0,0,{"$f":"_xlfn.IFS(C134=0,0,\nAND(_xlfn.XLOOKUP(C134,Measures[[#All],[Measure]],Measures[[#All],[Technical/operational]],\"\",0,1)=\"Technical\",AO134>=AP134),(AP134/AQ134),\nAND(_xlfn.XLOOKUP(C134,Measures[[#All],[Measure]],Measures[[#All],[Technical/operational]],\"\",0,1)=\"Operational\",AO134<AP134),(AP134/AO134),\nAND(_xlfn.XLOOKUP(C134,Measures[[#All],[Measure]],Measures[[#All],[Technical/operational]],\"\",0,1)=\"Operational\",AO134>=AP134),(AP134/AQ134),\nAND(_xlfn.XLOOKUP(C134,Measures[[#All],[Measure]],Measures[[#All],[Technical/operational]],\"\",0,1)=\"Technical\",C134=\"Hull performance coating\",AO134<AP134),(AP134/AO134),\nAND(_xlfn.XLOOKUP(C134,Measures[[#All],[Measure]],Measures[[#All],[Technical/operational]],\"\",0,1)=\"Technical\",C134<>\"Hull performance coating\",AO134<AP134),1)","v":0},{"$f":"_xlfn.XLOOKUP(C134,Measures[[#All],[Measure]],Measures[[#All],[Lifetime '[Years']]],\"\",0,1)","v":""},0,{"$f":"_xlfn.IFS(C134=0,0,AND(_xlfn.XLOOKUP(C134,Measures[[#All],[Measure]],Measures[[#All],[Technical/operational]],\"\",0,1)=\"Technical\",C134=\"Hull performance coating\"),AP134,\nAND(_xlfn.XLOOKUP(C134,Measures[[#All],[Measure]],Measures[[#All],[Technical/operational]],\"\",0,1)=\"Operational\",AO134>=AP134),AP134,\nAND(_xlfn.XLOOKUP(C134,Measures[[#All],[Measure]],Measures[[#All],[Technical/operational]],\"\",0,1)=\"Operational\",AO134<AP134),AP134,\nAND(_xlfn.XLOOKUP(C134,Measures[[#All],[Measure]],Measures[[#All],[Technical/operational]],\"\",0,1)=\"Technical\",C134<>\"Hull performance coating\",AO134>=AP134),AP134,\nAND(_xlfn.XLOOKUP(C134,Measures[[#All],[Measure]],Measures[[#All],[Technical/operational]],\"\",0,1)=\"Technical\",C134<>\"Hull performance coating\",AO134<AP134),AO134)","v":0},0,1,0,0,"Not included measure",0,0]
[6,0,0,{"$f":"IF(C135=0,0,D134*(1-G135))","v":0},0,0,{"$f":"F96","v":0},{"$f":"H134*(100%-G135)","v":1},0,0,{"$error":"#DIV/0!"},0,"",{"$f":"IF(C135=0,\"\",K135-M135)","v":""},{"$f":"IFERROR(((C174+M135)/N135),0)","v":0},0,"Not included measure",0,{"$f":"IFERROR(INDEX(Measures[],MATCH(B135,Measures[Measure],0),6),0)","v":0},0,0,"NA",{"$f":"SUM($U$130:U135)","v":0},null,{"$error":"#VALUE!"},null,0,0,{"$error":"#VALUE!"},0,{"$f":"AE134*(100%-AD135)","v":1},{"$f":"AD135*AE134","v":0},0,0,0,{"$f":"AJ134*(100%-AI135)","v":1},{"$f":"AI135*AJ134","v":0},0,0,{"$f":"_xlfn.IFS(C135=0,0,\nAND(_xlfn.XLOOKUP(C135,Measures[[#All],[Measure]],Measures[[#All],[Technical/operational]],\"\",0,1)=\"Technical\",AO135>=AP135),(AP135/AQ135),\nAND(_xlfn.XLOOKUP(C135,Measures[[#All],[Measure]],Measures[[#All],[Technical/operational]],\"\",0,1)=\"Operational\",AO135<AP135),(AP135/AO135),\nAND(_xlfn.XLOOKUP(C135,Measures[[#All],[Measure]],Measures[[#All],[Technical/operational]],\"\",0,1)=\"Operational\",AO135>=AP135),(AP135/AQ135),\nAND(_xlfn.XLOOKUP(C135,Measures[[#All],[Measure]],Measures[[#All],[Technical/operational]],\"\",0,1)=\"Technical\",C135=\"Hull performance coating\",AO135<AP135),(AP135/AO135),\nAND(_xlfn.XLOOKUP(C135,Measures[[#All],[Measure]],Measures[[#All],[Technical/operational]],\"\",0,1)=\"Technical\",C135<>\"Hull performance coating\",AO135<AP135),1)","v":0},{"$f":"_xlfn.XLOOKUP(C135,Measures[[#All],[Measure]],Measures[[#All],[Lifetime '[Years']]],\"\",0,1)","v":""},0,{"$f":"_xlfn.IFS(C135=0,0,AND(_xlfn.XLOOKUP(C135,Measures[[#All],[Measure]],Measures[[#All],[Technical/operational]],\"\",0,1)=\"Technical\",C135=\"Hull performance coating\"),AP135,\nAND(_xlfn.XLOOKUP(C135,Measures[[#All],[Measure]],Measures[[#All],[Technical/operational]],\"\",0,1)=\"Operational\",AO135>=AP135),AP135,\nAND(_xlfn.XLOOKUP(C135,Measures[[#All],[Measure]],Measures[[#All],[Technical/operational]],\"\",0,1)=\"Operational\",AO135<AP135),AP135,\nAND(_xlfn.XLOOKUP(C135,Measures[[#All],[Measure]],Measures[[#All],[Technical/operational]],\"\",0,1)=\"Technical\",C135<>\"Hull performance coating\",AO135>=AP135),AP135,\nAND(_xlfn.XLOOKUP(C135,Measures[[#All],[Measure]],Measures[[#All],[Technical/operational]],\"\",0,1)=\"Technical\",C135<>\"Hull performance coating\",AO135<AP135),AO135)","v":0},0,1,0,0,"Not included measure",0,0]
[7,0,0,0,0,{"$f":"E97","v":0},0,1,0,0,{"$error":"#DIV/0!"},0,"","",0,0,{"$f":"IF(C136=0,\"Not included measure\",IF(L136=0,\"NA\",P136/L136))","v":"Not included measure"},0,{"$f":"IFERROR(INDEX(Measures[],MATCH(B136,Measures[Measure],0),6),0)","v":0},0,0,"NA",{"$f":"SUM($U$130:U136)","v":0},null,{"$error":"#VALUE!"},null,0,0,{"$error":"#VALUE!"},0,{"$f":"AE135*(100%-AD136)","v":1},0,0,0,0,{"$f":"AJ135*(100%-AI136)","v":1},0,0,0,{"$f":"_xlfn.IFS(C136=0,0,\nAND(_xlfn.XLOOKUP(C136,Measures[[#All],[Measure]],Measures[[#All],[Technical/operational]],\"\",0,1)=\"Technical\",AO136>=AP136),(AP136/AQ136),\nAND(_xlfn.XLOOKUP(C136,Measures[[#All],[Measure]],Measures[[#All],[Technical/operational]],\"\",0,1)=\"Operational\",AO136<AP136),(AP136/AO136),\nAND(_xlfn.XLOOKUP(C136,Measures[[#All],[Measure]],Measures[[#All],[Technical/operational]],\"\",0,1)=\"Operational\",AO136>=AP136),(AP136/AQ136),\nAND(_xlfn.XLOOKUP(C136,Measures[[#All],[Measure]],Measures[[#All],[Technical/operational]],\"\",0,1)=\"Technical\",C136=\"Hull performance coating\",AO136<AP136),(AP136/AO136),\nAND(_xlfn.XLOOKUP(C136,Measures[[#All],[Measure]],Measures[[#All],[Technical/operational]],\"\",0,1)=\"Technical\",C136<>\"Hull performance coating\",AO136<AP136),1)","v":0},{"$f":"_xlfn.XLOOKUP(C136,Measures[[#All],[Measure]],Measures[[#All],[Lifetime '[Years']]],\"\",0,1)","v":""},0,{"$f":"_xlfn.IFS(C136=0,0,AND(_xlfn.XLOOKUP(C136,Measures[[#All],[Measure]],Measures[[#All],[Technical/operational]],\"\",0,1)=\"Technical\",C136=\"Hull performance coating\"),AP136,\nAND(_xlfn.XLOOKUP(C136,Measures[[#All],[Measure]],Measures[[#All],[Technical/operational]],\"\",0,1)=\"Operational\",AO136>=AP136),AP136,\nAND(_xlfn.XLOOKUP(C136,Measures[[#All],[Measure]],Measures[[#All],[Technical/operational]],\"\",0,1)=\"Operational\",AO136<AP136),AP136,\nAND(_xlfn.XLOOKUP(C136,Measures[[#All],[Measure]],Measures[[#All],[Technical/operational]],\"\",0,1)=\"Technical\",C136<>\"Hull performance coating\",AO136>=AP136),AP136,\nAND(_xlfn.XLOOKUP(C136,Measures[[#All],[Measure]],Measures[[#All],[Technical/operational]],\"\",0,1)=\"Technical\",C136<>\"Hull performance coating\",AO136<AP136),AO136)","v":0},0,1,0,0,"Not included measure",0,0]
[8,0,0,0,0,0,0,1,0,0,{"$error":"#DIV/0!"},0,"","",0,0,"Not included measure",0,{"$f":"IFERROR(INDEX(Measures[],MATCH(B137,Measures[Measure],0),6),0)","v":0},0,0,"NA",{"$f":"SUM($U$130:U137)","v":0},null,{"$error":"#VALUE!"},null,0,0,{"$f":"V137/T137","v":{"$error":"#VALUE!"}},0,1,0,0,0,0,{"$f":"AJ136*(100%-AI137)","v":1},0,0,0,{"$f":"_xlfn.IFS(C137=0,0,\nAND(_xlfn.XLOOKUP(C137,Measures[[#All],[Measure]],Measures[[#All],[Technical/operational]],\"\",0,1)=\"Technical\",AO137>=AP137),(AP137/AQ137),\nAND(_xlfn.XLOOKUP(C137,Measures[[#All],[Measure]],Measures[[#All],[Technical/operational]],\"\",0,1)=\"Operational\",AO137<AP137),(AP137/AO137),\nAND(_xlfn.XLOOKUP(C137,Measures[[#All],[Measure]],Measures[[#All],[Technical/operational]],\"\",0,1)=\"Operational\",AO137>=AP137),(AP137/AQ137),\nAND(_xlfn.XLOOKUP(C137,Measures[[#All],[Measure]],Measures[[#All],[Technical/operational]],\"\",0,1)=\"Technical\",C137=\"Hull performance coating\",AO137<AP137),(AP137/AO137),\nAND(_xlfn.XLOOKUP(C137,Measures[[#All],[Measure]],Measures[[#All],[Technical/operational]],\"\",0,1)=\"Technical\",C137<>\"Hull performance coating\",AO137<AP137),1)","v":0},{"$f":"_xlfn.XLOOKUP(C137,Measures[[#All],[Measure]],Measures[[#All],[Lifetime '[Years']]],\"\",0,1)","v":""},0,{"$f":"_xlfn.IFS(C137=0,0,AND(_xlfn.XLOOKUP(C137,Measures[[#All],[Measure]],Measures[[#All],[Technical/operational]],\"\",0,1)=\"Technical\",C137=\"Hull performance coating\"),AP137,\nAND(_xlfn.XLOOKUP(C137,Measures[[#All],[Measure]],Measures[[#All],[Technical/operational]],\"\",0,1)=\"Operational\",AO137>=AP137),AP137,\nAND(_xlfn.XLOOKUP(C137,Measures[[#All],[Measure]],Measures[[#All],[Technical/operational]],\"\",0,1)=\"Operational\",AO137<AP137),AP137,\nAND(_xlfn.XLOOKUP(C137,Measures[[#All],[Measure]],Measures[[#All],[Technical/operational]],\"\",0,1)=\"Technical\",C137<>\"Hull performance coating\",AO137>=AP137),AP137,\nAND(_xlfn.XLOOKUP(C137,Measures[[#All],[Measure]],Measures[[#All],[Technical/operational]],\"\",0,1)=\"Technical\",C137<>\"Hull performance coating\",AO137<AP137),AO137)","v":0},0,1,0,0,"Not included measure",0,0]
[9,0,{"$f":"IF(B138=0,0,B138)","v":0},0,0,0,0,1,0,0,{"$error":"#DIV/0!"},0,"","",0,0,{"$f":"IF(C138=0,\"Not included measure\",IF(L138=0,\"NA\",P138/L138))","v":"Not included measure"},0,{"$f":"IFERROR(INDEX(Measures[],MATCH(B138,Measures[Measure],0),6),0)","v":0},0,0,"NA",{"$f":"SUM($U$130:U138)","v":0},null,{"$error":"#VALUE!"},null,0,0,{"$f":"V138/T138","v":{"$error":"#VALUE!"}},0,1,0,0,0,0,1,0,0,0,{"$f":"_xlfn.IFS(C138=0,0,\nAND(_xlfn.XLOOKUP(C138,Measures[[#All],[Measure]],Measures[[#All],[Technical/operational]],\"\",0,1)=\"Technical\",AO138>=AP138),(AP138/AQ138),\nAND(_xlfn.XLOOKUP(C138,Measures[[#All],[Measure]],Measures[[#All],[Technical/operational]],\"\",0,1)=\"Operational\",AO138<AP138),(AP138/AO138),\nAND(_xlfn.XLOOKUP(C138,Measures[[#All],[Measure]],Measures[[#All],[Technical/operational]],\"\",0,1)=\"Operational\",AO138>=AP138),(AP138/AQ138),\nAND(_xlfn.XLOOKUP(C138,Measures[[#All],[Measure]],Measures[[#All],[Technical/operational]],\"\",0,1)=\"Technical\",C138=\"Hull performance coating\",AO138<AP138),(AP138/AO138),\nAND(_xlfn.XLOOKUP(C138,Measures[[#All],[Measure]],Measures[[#All],[Technical/operational]],\"\",0,1)=\"Technical\",C138<>\"Hull performance coating\",AO138<AP138),1)","v":0},{"$f":"_xlfn.XLOOKUP(C138,Measures[[#All],[Measure]],Measures[[#All],[Lifetime '[Years']]],\"\",0,1)","v":""},0,{"$f":"_xlfn.IFS(C138=0,0,AND(_xlfn.XLOOKUP(C138,Measures[[#All],[Measure]],Measures[[#All],[Technical/operational]],\"\",0,1)=\"Technical\",C138=\"Hull performance coating\"),AP138,\nAND(_xlfn.XLOOKUP(C138,Measures[[#All],[Measure]],Measures[[#All],[Technical/operational]],\"\",0,1)=\"Operational\",AO138>=AP138),AP138,\nAND(_xlfn.XLOOKUP(C138,Measures[[#All],[Measure]],Measures[[#All],[Technical/operational]],\"\",0,1)=\"Operational\",AO138<AP138),AP138,\nAND(_xlfn.XLOOKUP(C138,Measures[[#All],[Measure]],Measures[[#All],[Technical/operational]],\"\",0,1)=\"Technical\",C138<>\"Hull performance coating\",AO138>=AP138),AP138,\nAND(_xlfn.XLOOKUP(C138,Measures[[#All],[Measure]],Measures[[#All],[Technical/operational]],\"\",0,1)=\"Technical\",C138<>\"Hull performance coating\",AO138<AP138),AO138)","v":0},0,1,0,0,"Not included measure",0,0]
[10,0,0,{"$f":"IF(C139=0,0,D138*(1-G139))","v":0},0,0,0,1,0,0,{"$error":"#DIV/0!"},0,"","",0,0,"Not included measure",0,{"$f":"IFERROR(INDEX(Measures[],MATCH(B139,Measures[Measure],0),6),0)","v":0},0,0,"NA",{"$f":"SUM($U$130:U139)","v":0},null,{"$error":"#VALUE!"},null,0,0,{"$error":"#VALUE!"},0,1,0,0,0,0,1,0,0,0,{"$f":"_xlfn.IFS(C139=0,0,\nAND(_xlfn.XLOOKUP(C139,Measures[[#All],[Measure]],Measures[[#All],[Technical/operational]],\"\",0,1)=\"Technical\",AO139>=AP139),(AP139/AQ139),\nAND(_xlfn.XLOOKUP(C139,Measures[[#All],[Measure]],Measures[[#All],[Technical/operational]],\"\",0,1)=\"Operational\",AO139<AP139),(AP139/AO139),\nAND(_xlfn.XLOOKUP(C139,Measures[[#All],[Measure]],Measures[[#All],[Technical/operational]],\"\",0,1)=\"Operational\",AO139>=AP139),(AP139/AQ139),\nAND(_xlfn.XLOOKUP(C139,Measures[[#All],[Measure]],Measures[[#All],[Technical/operational]],\"\",0,1)=\"Technical\",C139=\"Hull performance coating\",AO139<AP139),(AP139/AO139),\nAND(_xlfn.XLOOKUP(C139,Measures[[#All],[Measure]],Measures[[#All],[Technical/operational]],\"\",0,1)=\"Technical\",C139<>\"Hull performance coating\",AO139<AP139),1)","v":0},{"$f":"_xlfn.XLOOKUP(C139,Measures[[#All],[Measure]],Measures[[#All],[Lifetime '[Years']]],\"\",0,1)","v":""},0,{"$f":"_xlfn.IFS(C139=0,0,AND(_xlfn.XLOOKUP(C139,Measures[[#All],[Measure]],Measures[[#All],[Technical/operational]],\"\",0,1)=\"Technical\",C139=\"Hull performance coating\"),AP139,\nAND(_xlfn.XLOOKUP(C139,Measures[[#All],[Measure]],Measures[[#All],[Technical/operational]],\"\",0,1)=\"Operational\",AO139>=AP139),AP139,\nAND(_xlfn.XLOOKUP(C139,Measures[[#All],[Measure]],Measures[[#All],[Technical/operational]],\"\",0,1)=\"Operational\",AO139<AP139),AP139,\nAND(_xlfn.XLOOKUP(C139,Measures[[#All],[Measure]],Measures[[#All],[Technical/operational]],\"\",0,1)=\"Technical\",C139<>\"Hull performance coating\",AO139>=AP139),AP139,\nAND(_xlfn.XLOOKUP(C139,Measures[[#All],[Measure]],Measures[[#All],[Technical/operational]],\"\",0,1)=\"Technical\",C139<>\"Hull performance coating\",AO139<AP139),AO139)","v":0},0,1,0,0,"Not included measure",0,0]
[11,0,0,0,{"$f":"IF(D140=0,0,E139*(1-G140))","v":0},{"$f":"E101","v":0},0,1,0,0,{"$error":"#DIV/0!"},0,"","",{"$f":"IFERROR(((C179+M140)/N140),0)","v":0},0,"Not included measure",0,{"$f":"IFERROR(INDEX(Measures[],MATCH(B140,Measures[Measure],0),6),0)","v":0},0,0,"NA",{"$f":"SUM($U$130:U140)","v":0},null,{"$error":"#VALUE!"},null,0,0,{"$error":"#VALUE!"},0,1,0,0,0,0,1,0,0,0,{"$f":"_xlfn.IFS(C140=0,0,\nAND(_xlfn.XLOOKUP(C140,Measures[[#All],[Measure]],Measures[[#All],[Technical/operational]],\"\",0,1)=\"Technical\",AO140>=AP140),(AP140/AQ140),\nAND(_xlfn.XLOOKUP(C140,Measures[[#All],[Measure]],Measures[[#All],[Technical/operational]],\"\",0,1)=\"Operational\",AO140<AP140),(AP140/AO140),\nAND(_xlfn.XLOOKUP(C140,Measures[[#All],[Measure]],Measures[[#All],[Technical/operational]],\"\",0,1)=\"Operational\",AO140>=AP140),(AP140/AQ140),\nAND(_xlfn.XLOOKUP(C140,Measures[[#All],[Measure]],Measures[[#All],[Technical/operational]],\"\",0,1)=\"Technical\",C140=\"Hull performance coating\",AO140<AP140),(AP140/AO140),\nAND(_xlfn.XLOOKUP(C140,Measures[[#All],[Measure]],Measures[[#All],[Technical/operational]],\"\",0,1)=\"Technical\",C140<>\"Hull performance coating\",AO140<AP140),1)","v":0},{"$f":"_xlfn.XLOOKUP(C140,Measures[[#All],[Measure]],Measures[[#All],[Lifetime '[Years']]],\"\",0,1)","v":""},0,{"$f":"_xlfn.IFS(C140=0,0,AND(_xlfn.XLOOKUP(C140,Measures[[#All],[Measure]],Measures[[#All],[Technical/operational]],\"\",0,1)=\"Technical\",C140=\"Hull performance coating\"),AP140,\nAND(_xlfn.XLOOKUP(C140,Measures[[#All],[Measure]],Measures[[#All],[Technical/operational]],\"\",0,1)=\"Operational\",AO140>=AP140),AP140,\nAND(_xlfn.XLOOKUP(C140,Measures[[#All],[Measure]],Measures[[#All],[Technical/operational]],\"\",0,1)=\"Operational\",AO140<AP140),AP140,\nAND(_xlfn.XLOOKUP(C140,Measures[[#All],[Measure]],Measures[[#All],[Technical/operational]],\"\",0,1)=\"Technical\",C140<>\"Hull performance coating\",AO140>=AP140),AP140,\nAND(_xlfn.XLOOKUP(C140,Measures[[#All],[Measure]],Measures[[#All],[Technical/operational]],\"\",0,1)=\"Technical\",C140<>\"Hull performance coating\",AO140<AP140),AO140)","v":0},0,1,0,0,"Not included measure",0,0]
[12,0,0,0,0,0,0,1,0,0,{"$error":"#DIV/0!"},0,"","",0,0,"Not included measure",0,{"$f":"IFERROR(INDEX(Measures[],MATCH(B141,Measures[Measure],0),6),0)","v":0},0,0,"NA",{"$f":"SUM($U$130:U141)","v":0},null,{"$error":"#VALUE!"},null,0,0,{"$error":"#VALUE!"},0,1,0,0,0,0,1,0,0,0,{"$f":"_xlfn.IFS(C141=0,0,\nAND(_xlfn.XLOOKUP(C141,Measures[[#All],[Measure]],Measures[[#All],[Technical/operational]],\"\",0,1)=\"Technical\",AO141>=AP141),(AP141/AQ141),\nAND(_xlfn.XLOOKUP(C141,Measures[[#All],[Measure]],Measures[[#All],[Technical/operational]],\"\",0,1)=\"Operational\",AO141<AP141),(AP141/AO141),\nAND(_xlfn.XLOOKUP(C141,Measures[[#All],[Measure]],Measures[[#All],[Technical/operational]],\"\",0,1)=\"Operational\",AO141>=AP141),(AP141/AQ141),\nAND(_xlfn.XLOOKUP(C141,Measures[[#All],[Measure]],Measures[[#All],[Technical/operational]],\"\",0,1)=\"Technical\",C141=\"Hull performance coating\",AO141<AP141),(AP141/AO141),\nAND(_xlfn.XLOOKUP(C141,Measures[[#All],[Measure]],Measures[[#All],[Technical/operational]],\"\",0,1)=\"Technical\",C141<>\"Hull performance coating\",AO141<AP141),1)","v":0},{"$f":"_xlfn.XLOOKUP(C141,Measures[[#All],[Measure]],Measures[[#All],[Lifetime '[Years']]],\"\",0,1)","v":""},0,{"$f":"_xlfn.IFS(C141=0,0,AND(_xlfn.XLOOKUP(C141,Measures[[#All],[Measure]],Measures[[#All],[Technical/operational]],\"\",0,1)=\"Technical\",C141=\"Hull performance coating\"),AP141,\nAND(_xlfn.XLOOKUP(C141,Measures[[#All],[Measure]],Measures[[#All],[Technical/operational]],\"\",0,1)=\"Operational\",AO141>=AP141),AP141,\nAND(_xlfn.XLOOKUP(C141,Measures[[#All],[Measure]],Measures[[#All],[Technical/operational]],\"\",0,1)=\"Operational\",AO141<AP141),AP141,\nAND(_xlfn.XLOOKUP(C141,Measures[[#All],[Measure]],Measures[[#All],[Technical/operational]],\"\",0,1)=\"Technical\",C141<>\"Hull performance coating\",AO141>=AP141),AP141,\nAND(_xlfn.XLOOKUP(C141,Measures[[#All],[Measure]],Measures[[#All],[Technical/operational]],\"\",0,1)=\"Technical\",C141<>\"Hull performance coating\",AO141<AP141),AO141)","v":0},0,1,0,0,"Not included measure",0,0]
[13,0,0,0,0,0,0,1,0,0,{"$error":"#DIV/0!"},0,"","",0,0,"Not included measure",0,{"$f":"IFERROR(INDEX(Measures[],MATCH(B142,Measures[Measure],0),6),0)","v":0},0,0,"NA",{"$f":"SUM($U$130:U142)","v":0},null,{"$error":"#VALUE!"},null,0,0,{"$error":"#VALUE!"},0,1,0,0,0,0,1,0,0,0,{"$f":"_xlfn.IFS(C142=0,0,\nAND(_xlfn.XLOOKUP(C142,Measures[[#All],[Measure]],Measures[[#All],[Technical/operational]],\"\",0,1)=\"Technical\",AO142>=AP142),(AP142/AQ142),\nAND(_xlfn.XLOOKUP(C142,Measures[[#All],[Measure]],Measures[[#All],[Technical/operational]],\"\",0,1)=\"Operational\",AO142<AP142),(AP142/AO142),\nAND(_xlfn.XLOOKUP(C142,Measures[[#All],[Measure]],Measures[[#All],[Technical/operational]],\"\",0,1)=\"Operational\",AO142>=AP142),(AP142/AQ142),\nAND(_xlfn.XLOOKUP(C142,Measures[[#All],[Measure]],Measures[[#All],[Technical/operational]],\"\",0,1)=\"Technical\",C142=\"Hull performance coating\",AO142<AP142),(AP142/AO142),\nAND(_xlfn.XLOOKUP(C142,Measures[[#All],[Measure]],Measures[[#All],[Technical/operational]],\"\",0,1)=\"Technical\",C142<>\"Hull performance coating\",AO142<AP142),1)","v":0},{"$f":"_xlfn.XLOOKUP(C142,Measures[[#All],[Measure]],Measures[[#All],[Lifetime '[Years']]],\"\",0,1)","v":""},0,{"$f":"_xlfn.IFS(C142=0,0,AND(_xlfn.XLOOKUP(C142,Measures[[#All],[Measure]],Measures[[#All],[Technical/operational]],\"\",0,1)=\"Technical\",C142=\"Hull performance coating\"),AP142,\nAND(_xlfn.XLOOKUP(C142,Measures[[#All],[Measure]],Measures[[#All],[Technical/operational]],\"\",0,1)=\"Operational\",AO142>=AP142),AP142,\nAND(_xlfn.XLOOKUP(C142,Measures[[#All],[Measure]],Measures[[#All],[Technical/operational]],\"\",0,1)=\"Operational\",AO142<AP142),AP142,\nAND(_xlfn.XLOOKUP(C142,Measures[[#All],[Measure]],Measures[[#All],[Technical/operational]],\"\",0,1)=\"Technical\",C142<>\"Hull performance coating\",AO142>=AP142),AP142,\nAND(_xlfn.XLOOKUP(C142,Measures[[#All],[Measure]],Measures[[#All],[Technical/operational]],\"\",0,1)=\"Technical\",C142<>\"Hull performance coating\",AO142<AP142),AO142)","v":0},0,1,0,0,"Not included measure",0,0]
[14,0,0,0,0,0,{"$f":"F104","v":0},1,0,0,{"$error":"#DIV/0!"},0,"","",0,0,"Not included measure",0,{"$f":"IFERROR(INDEX(Measures[],MATCH(B143,Measures[Measure],0),6),0)","v":0},0,0,"NA",{"$f":"SUM($U$130:U143)","v":0},null,{"$error":"#VALUE!"},null,0,0,{"$error":"#VALUE!"},0,1,0,0,0,0,1,0,0,0,{"$f":"_xlfn.IFS(C143=0,0,\nAND(_xlfn.XLOOKUP(C143,Measures[[#All],[Measure]],Measures[[#All],[Technical/operational]],\"\",0,1)=\"Technical\",AO143>=AP143),(AP143/AQ143),\nAND(_xlfn.XLOOKUP(C143,Measures[[#All],[Measure]],Measures[[#All],[Technical/operational]],\"\",0,1)=\"Operational\",AO143<AP143),(AP143/AO143),\nAND(_xlfn.XLOOKUP(C143,Measures[[#All],[Measure]],Measures[[#All],[Technical/operational]],\"\",0,1)=\"Operational\",AO143>=AP143),(AP143/AQ143),\nAND(_xlfn.XLOOKUP(C143,Measures[[#All],[Measure]],Measures[[#All],[Technical/operational]],\"\",0,1)=\"Technical\",C143=\"Hull performance coating\",AO143<AP143),(AP143/AO143),\nAND(_xlfn.XLOOKUP(C143,Measures[[#All],[Measure]],Measures[[#All],[Technical/operational]],\"\",0,1)=\"Technical\",C143<>\"Hull performance coating\",AO143<AP143),1)","v":0},{"$f":"_xlfn.XLOOKUP(C143,Measures[[#All],[Measure]],Measures[[#All],[Lifetime '[Years']]],\"\",0,1)","v":""},0,{"$f":"_xlfn.IFS(C143=0,0,AND(_xlfn.XLOOKUP(C143,Measures[[#All],[Measure]],Measures[[#All],[Technical/operational]],\"\",0,1)=\"Technical\",C143=\"Hull performance coating\"),AP143,\nAND(_xlfn.XLOOKUP(C143,Measures[[#All],[Measure]],Measures[[#All],[Technical/operational]],\"\",0,1)=\"Operational\",AO143>=AP143),AP143,\nAND(_xlfn.XLOOKUP(C143,Measures[[#All],[Measure]],Measures[[#All],[Technical/operational]],\"\",0,1)=\"Operational\",AO143<AP143),AP143,\nAND(_xlfn.XLOOKUP(C143,Measures[[#All],[Measure]],Measures[[#All],[Technical/operational]],\"\",0,1)=\"Technical\",C143<>\"Hull performance coating\",AO143>=AP143),AP143,\nAND(_xlfn.XLOOKUP(C143,Measures[[#All],[Measure]],Measures[[#All],[Technical/operational]],\"\",0,1)=\"Technical\",C143<>\"Hull performance coating\",AO143<AP143),AO143)","v":0},0,1,0,0,"Not included measure",0,0]
[15,0,0,0,0,0,0,1,0,0,{"$error":"#DIV/0!"},0,"","",0,0,"Not included measure",0,{"$f":"IFERROR(INDEX(Measures[],MATCH(B144,Measures[Measure],0),6),0)","v":0},0,0,"NA",{"$f":"SUM($U$130:U144)","v":0},null,{"$error":"#VALUE!"},null,0,0,{"$error":"#VALUE!"},0,1,0,0,0,0,1,0,0,0,{"$f":"_xlfn.IFS(C144=0,0,\nAND(_xlfn.XLOOKUP(C144,Measures[[#All],[Measure]],Measures[[#All],[Technical/operational]],\"\",0,1)=\"Technical\",AO144>=AP144),(AP144/AQ144),\nAND(_xlfn.XLOOKUP(C144,Measures[[#All],[Measure]],Measures[[#All],[Technical/operational]],\"\",0,1)=\"Operational\",AO144<AP144),(AP144/AO144),\nAND(_xlfn.XLOOKUP(C144,Measures[[#All],[Measure]],Measures[[#All],[Technical/operational]],\"\",0,1)=\"Operational\",AO144>=AP144),(AP144/AQ144),\nAND(_xlfn.XLOOKUP(C144,Measures[[#All],[Measure]],Measures[[#All],[Technical/operational]],\"\",0,1)=\"Technical\",C144=\"Hull performance coating\",AO144<AP144),(AP144/AO144),\nAND(_xlfn.XLOOKUP(C144,Measures[[#All],[Measure]],Measures[[#All],[Technical/operational]],\"\",0,1)=\"Technical\",C144<>\"Hull performance coating\",AO144<AP144),1)","v":0},{"$f":"_xlfn.XLOOKUP(C144,Measures[[#All],[Measure]],Measures[[#All],[Lifetime '[Years']]],\"\",0,1)","v":""},0,{"$f":"_xlfn.IFS(C144=0,0,AND(_xlfn.XLOOKUP(C144,Measures[[#All],[Measure]],Measures[[#All],[Technical/operational]],\"\",0,1)=\"Technical\",C144=\"Hull performance coating\"),AP144,\nAND(_xlfn.XLOOKUP(C144,Measures[[#All],[Measure]],Measures[[#All],[Technical/operational]],\"\",0,1)=\"Operational\",AO144>=AP144),AP144,\nAND(_xlfn.XLOOKUP(C144,Measures[[#All],[Measure]],Measures[[#All],[Technical/operational]],\"\",0,1)=\"Operational\",AO144<AP144),AP144,\nAND(_xlfn.XLOOKUP(C144,Measures[[#All],[Measure]],Measures[[#All],[Technical/operational]],\"\",0,1)=\"Technical\",C144<>\"Hull performance coating\",AO144>=AP144),AP144,\nAND(_xlfn.XLOOKUP(C144,Measures[[#All],[Measure]],Measures[[#All],[Technical/operational]],\"\",0,1)=\"Technical\",C144<>\"Hull performance coating\",AO144<AP144),AO144)","v":0},0,1,0,0,"Not included measure",0,0]
[16,0,0,0,0,0,0,1,0,0,{"$error":"#DIV/0!"},0,"","",0,0,"Not included measure",0,{"$f":"IFERROR(INDEX(Measures[],MATCH(B145,Measures[Measure],0),6),0)","v":0},0,0,"NA",{"$f":"SUM($U$130:U145)","v":0},null,{"$error":"#VALUE!"},null,0,0,{"$error":"#VALUE!"},0,1,0,0,0,0,1,0,0,0,{"$f":"_xlfn.IFS(C145=0,0,\nAND(_xlfn.XLOOKUP(C145,Measures[[#All],[Measure]],Measures[[#All],[Technical/operational]],\"\",0,1)=\"Technical\",AO145>=AP145),(AP145/AQ145),\nAND(_xlfn.XLOOKUP(C145,Measures[[#All],[Measure]],Measures[[#All],[Technical/operational]],\"\",0,1)=\"Operational\",AO145<AP145),(AP145/AO145),\nAND(_xlfn.XLOOKUP(C145,Measures[[#All],[Measure]],Measures[[#All],[Technical/operational]],\"\",0,1)=\"Operational\",AO145>=AP145),(AP145/AQ145),\nAND(_xlfn.XLOOKUP(C145,Measures[[#All],[Measure]],Measures[[#All],[Technical/operational]],\"\",0,1)=\"Technical\",C145=\"Hull performance coating\",AO145<AP145),(AP145/AO145),\nAND(_xlfn.XLOOKUP(C145,Measures[[#All],[Measure]],Measures[[#All],[Technical/operational]],\"\",0,1)=\"Technical\",C145<>\"Hull performance coating\",AO145<AP145),1)","v":0},{"$f":"_xlfn.XLOOKUP(C145,Measures[[#All],[Measure]],Measures[[#All],[Lifetime '[Years']]],\"\",0,1)","v":""},0,{"$f":"_xlfn.IFS(C145=0,0,AND(_xlfn.XLOOKUP(C145,Measures[[#All],[Measure]],Measures[[#All],[Technical/operational]],\"\",0,1)=\"Technical\",C145=\"Hull performance coating\"),AP145,\nAND(_xlfn.XLOOKUP(C145,Measures[[#All],[Measure]],Measures[[#All],[Technical/operational]],\"\",0,1)=\"Operational\",AO145>=AP145),AP145,\nAND(_xlfn.XLOOKUP(C145,Measures[[#All],[Measure]],Measures[[#All],[Technical/operational]],\"\",0,1)=\"Operational\",AO145<AP145),AP145,\nAND(_xlfn.XLOOKUP(C145,Measures[[#All],[Measure]],Measures[[#All],[Technical/operational]],\"\",0,1)=\"Technical\",C145<>\"Hull performance coating\",AO145>=AP145),AP145,\nAND(_xlfn.XLOOKUP(C145,Measures[[#All],[Measure]],Measures[[#All],[Technical/operational]],\"\",0,1)=\"Technical\",C145<>\"Hull performance coating\",AO145<AP145),AO145)","v":0},0,1,0,0,"Not included measure",0,0]
[17,0,0,0,0,0,0,1,0,0,{"$error":"#DIV/0!"},0,"","",0,0,"Not included measure",0,{"$f":"IFERROR(INDEX(Measures[],MATCH(B146,Measures[Measure],0),6),0)","v":0},0,0,"NA",{"$f":"SUM($U$130:U146)","v":0},null,{"$error":"#VALUE!"},null,0,0,{"$error":"#VALUE!"},0,1,0,0,0,0,1,0,0,0,{"$f":"_xlfn.IFS(C146=0,0,\nAND(_xlfn.XLOOKUP(C146,Measures[[#All],[Measure]],Measures[[#All],[Technical/operational]],\"\",0,1)=\"Technical\",AO146>=AP146),(AP146/AQ146),\nAND(_xlfn.XLOOKUP(C146,Measures[[#All],[Measure]],Measures[[#All],[Technical/operational]],\"\",0,1)=\"Operational\",AO146<AP146),(AP146/AO146),\nAND(_xlfn.XLOOKUP(C146,Measures[[#All],[Measure]],Measures[[#All],[Technical/operational]],\"\",0,1)=\"Operational\",AO146>=AP146),(AP146/AQ146),\nAND(_xlfn.XLOOKUP(C146,Measures[[#All],[Measure]],Measures[[#All],[Technical/operational]],\"\",0,1)=\"Technical\",C146=\"Hull performance coating\",AO146<AP146),(AP146/AO146),\nAND(_xlfn.XLOOKUP(C146,Measures[[#All],[Measure]],Measures[[#All],[Technical/operational]],\"\",0,1)=\"Technical\",C146<>\"Hull performance coating\",AO146<AP146),1)","v":0},{"$f":"_xlfn.XLOOKUP(C146,Measures[[#All],[Measure]],Measures[[#All],[Lifetime '[Years']]],\"\",0,1)","v":""},0,{"$f":"_xlfn.IFS(C146=0,0,AND(_xlfn.XLOOKUP(C146,Measures[[#All],[Measure]],Measures[[#All],[Technical/operational]],\"\",0,1)=\"Technical\",C146=\"Hull performance coating\"),AP146,\nAND(_xlfn.XLOOKUP(C146,Measures[[#All],[Measure]],Measures[[#All],[Technical/operational]],\"\",0,1)=\"Operational\",AO146>=AP146),AP146,\nAND(_xlfn.XLOOKUP(C146,Measures[[#All],[Measure]],Measures[[#All],[Technical/operational]],\"\",0,1)=\"Operational\",AO146<AP146),AP146,\nAND(_xlfn.XLOOKUP(C146,Measures[[#All],[Measure]],Measures[[#All],[Technical/operational]],\"\",0,1)=\"Technical\",C146<>\"Hull performance coating\",AO146>=AP146),AP146,\nAND(_xlfn.XLOOKUP(C146,Measures[[#All],[Measure]],Measures[[#All],[Technical/operational]],\"\",0,1)=\"Technical\",C146<>\"Hull performance coating\",AO146<AP146),AO146)","v":0},0,1,0,0,"Not included measure",0,0]
[18,0,0,0,0,0,0,1,0,0,{"$error":"#DIV/0!"},0,"","",0,0,"Not included measure",0,{"$f":"IFERROR(INDEX(Measures[],MATCH(B147,Measures[Measure],0),6),0)","v":0},0,0,"NA",{"$f":"SUM($U$130:U147)","v":0},null,{"$error":"#VALUE!"},null,0,0,null,0,1,0,0,0,0,1,0,0,0,{"$f":"_xlfn.IFS(C147=0,0,\nAND(_xlfn.XLOOKUP(C147,Measures[[#All],[Measure]],Measures[[#All],[Technical/operational]],\"\",0,1)=\"Technical\",AO147>=AP147),(AP147/AQ147),\nAND(_xlfn.XLOOKUP(C147,Measures[[#All],[Measure]],Measures[[#All],[Technical/operational]],\"\",0,1)=\"Operational\",AO147<AP147),(AP147/AO147),\nAND(_xlfn.XLOOKUP(C147,Measures[[#All],[Measure]],Measures[[#All],[Technical/operational]],\"\",0,1)=\"Operational\",AO147>=AP147),(AP147/AQ147),\nAND(_xlfn.XLOOKUP(C147,Measures[[#All],[Measure]],Measures[[#All],[Technical/operational]],\"\",0,1)=\"Technical\",C147=\"Hull performance coating\",AO147<AP147),(AP147/AO147),\nAND(_xlfn.XLOOKUP(C147,Measures[[#All],[Measure]],Measures[[#All],[Technical/operational]],\"\",0,1)=\"Technical\",C147<>\"Hull performance coating\",AO147<AP147),1)","v":0},{"$f":"_xlfn.XLOOKUP(C147,Measures[[#All],[Measure]],Measures[[#All],[Lifetime '[Years']]],\"\",0,1)","v":""},0,{"$f":"_xlfn.IFS(C147=0,0,AND(_xlfn.XLOOKUP(C147,Measures[[#All],[Measure]],Measures[[#All],[Technical/operational]],\"\",0,1)=\"Technical\",C147=\"Hull performance coating\"),AP147,\nAND(_xlfn.XLOOKUP(C147,Measures[[#All],[Measure]],Measures[[#All],[Technical/operational]],\"\",0,1)=\"Operational\",AO147>=AP147),AP147,\nAND(_xlfn.XLOOKUP(C147,Measures[[#All],[Measure]],Measures[[#All],[Technical/operational]],\"\",0,1)=\"Operational\",AO147<AP147),AP147,\nAND(_xlfn.XLOOKUP(C147,Measures[[#All],[Measure]],Measures[[#All],[Technical/operational]],\"\",0,1)=\"Technical\",C147<>\"Hull performance coating\",AO147>=AP147),AP147,\nAND(_xlfn.XLOOKUP(C147,Measures[[#All],[Measure]],Measures[[#All],[Technical/operational]],\"\",0,1)=\"Technical\",C147<>\"Hull performance coating\",AO147<AP147),AO147)","v":0},0,1,0,0,"Not included measure",0,0]
[19,0,0,0,0,0,0,1,0,0,{"$error":"#DIV/0!"},0,"","",0,0,"Not included measure",0,{"$f":"IFERROR(INDEX(Measures[],MATCH(B148,Measures[Measure],0),6),0)","v":0},0,0,"NA",{"$f":"SUM($U$130:U148)","v":0},null,{"$error":"#VALUE!"},null,0,0,null,0,1,0,0,0,0,1,0,0,0,{"$f":"_xlfn.IFS(C148=0,0,\nAND(_xlfn.XLOOKUP(C148,Measures[[#All],[Measure]],Measures[[#All],[Technical/operational]],\"\",0,1)=\"Technical\",AO148>=AP148),(AP148/AQ148),\nAND(_xlfn.XLOOKUP(C148,Measures[[#All],[Measure]],Measures[[#All],[Technical/operational]],\"\",0,1)=\"Operational\",AO148<AP148),(AP148/AO148),\nAND(_xlfn.XLOOKUP(C148,Measures[[#All],[Measure]],Measures[[#All],[Technical/operational]],\"\",0,1)=\"Operational\",AO148>=AP148),(AP148/AQ148),\nAND(_xlfn.XLOOKUP(C148,Measures[[#All],[Measure]],Measures[[#All],[Technical/operational]],\"\",0,1)=\"Technical\",C148=\"Hull performance coating\",AO148<AP148),(AP148/AO148),\nAND(_xlfn.XLOOKUP(C148,Measures[[#All],[Measure]],Measures[[#All],[Technical/operational]],\"\",0,1)=\"Technical\",C148<>\"Hull performance coating\",AO148<AP148),1)","v":0},{"$f":"_xlfn.XLOOKUP(C148,Measures[[#All],[Measure]],Measures[[#All],[Lifetime '[Years']]],\"\",0,1)","v":""},0,{"$f":"_xlfn.IFS(C148=0,0,AND(_xlfn.XLOOKUP(C148,Measures[[#All],[Measure]],Measures[[#All],[Technical/operational]],\"\",0,1)=\"Technical\",C148=\"Hull performance coating\"),AP148,\nAND(_xlfn.XLOOKUP(C148,Measures[[#All],[Measure]],Measures[[#All],[Technical/operational]],\"\",0,1)=\"Operational\",AO148>=AP148),AP148,\nAND(_xlfn.XLOOKUP(C148,Measures[[#All],[Measure]],Measures[[#All],[Technical/operational]],\"\",0,1)=\"Operational\",AO148<AP148),AP148,\nAND(_xlfn.XLOOKUP(C148,Measures[[#All],[Measure]],Measures[[#All],[Technical/operational]],\"\",0,1)=\"Technical\",C148<>\"Hull performance coating\",AO148>=AP148),AP148,\nAND(_xlfn.XLOOKUP(C148,Measures[[#All],[Measure]],Measures[[#All],[Technical/operational]],\"\",0,1)=\"Technical\",C148<>\"Hull performance coating\",AO148<AP148),AO148)","v":0},0,1,0,0,"Not included measure",0,0]
[20,0,0,0,0,0,0,1,0,0,{"$error":"#DIV/0!"},0,"","",0,0,"Not included measure",0,{"$f":"IFERROR(INDEX(Measures[],MATCH(B149,Measures[Measure],0),6),0)","v":0},0,0,"NA",{"$f":"SUM($U$130:U149)","v":0},null,{"$error":"#VALUE!"},null,0,0,null,0,1,0,0,0,0,1,0,0,0,{"$f":"_xlfn.IFS(C149=0,0,\nAND(_xlfn.XLOOKUP(C149,Measures[[#All],[Measure]],Measures[[#All],[Technical/operational]],\"\",0,1)=\"Technical\",AO149>=AP149),(AP149/AQ149),\nAND(_xlfn.XLOOKUP(C149,Measures[[#All],[Measure]],Measures[[#All],[Technical/operational]],\"\",0,1)=\"Operational\",AO149<AP149),(AP149/AO149),\nAND(_xlfn.XLOOKUP(C149,Measures[[#All],[Measure]],Measures[[#All],[Technical/operational]],\"\",0,1)=\"Operational\",AO149>=AP149),(AP149/AQ149),\nAND(_xlfn.XLOOKUP(C149,Measures[[#All],[Measure]],Measures[[#All],[Technical/operational]],\"\",0,1)=\"Technical\",C149=\"Hull performance coating\",AO149<AP149),(AP149/AO149),\nAND(_xlfn.XLOOKUP(C149,Measures[[#All],[Measure]],Measures[[#All],[Technical/operational]],\"\",0,1)=\"Technical\",C149<>\"Hull performance coating\",AO149<AP149),1)","v":0},{"$f":"_xlfn.XLOOKUP(C149,Measures[[#All],[Measure]],Measures[[#All],[Lifetime '[Years']]],\"\",0,1)","v":""},0,{"$f":"_xlfn.IFS(C149=0,0,AND(_xlfn.XLOOKUP(C149,Measures[[#All],[Measure]],Measures[[#All],[Technical/operational]],\"\",0,1)=\"Technical\",C149=\"Hull performance coating\"),AP149,\nAND(_xlfn.XLOOKUP(C149,Measures[[#All],[Measure]],Measures[[#All],[Technical/operational]],\"\",0,1)=\"Operational\",AO149>=AP149),AP149,\nAND(_xlfn.XLOOKUP(C149,Measures[[#All],[Measure]],Measures[[#All],[Technical/operational]],\"\",0,1)=\"Operational\",AO149<AP149),AP149,\nAND(_xlfn.XLOOKUP(C149,Measures[[#All],[Measure]],Measures[[#All],[Technical/operational]],\"\",0,1)=\"Technical\",C149<>\"Hull performance coating\",AO149>=AP149),AP149,\nAND(_xlfn.XLOOKUP(C149,Measures[[#All],[Measure]],Measures[[#All],[Technical/operational]],\"\",0,1)=\"Technical\",C149<>\"Hull performance coating\",AO149<AP149),AO149)","v":0},0,1,0,0,"Not included measure",0,0]
[21,0,0,0,0,0,0,1,0,0,{"$error":"#DIV/0!"},0,"","",0,0,"Not included measure",0,{"$f":"IFERROR(INDEX(Measures[],MATCH(B150,Measures[Measure],0),6),0)","v":0},0,0,"NA",{"$f":"SUM($U$130:U150)","v":0},null,{"$error":"#VALUE!"},null,0,0,null,0,1,0,0,0,0,1,0,0,0,{"$f":"_xlfn.IFS(C150=0,0,\nAND(_xlfn.XLOOKUP(C150,Measures[[#All],[Measure]],Measures[[#All],[Technical/operational]],\"\",0,1)=\"Technical\",AO150>=AP150),(AP150/AQ150),\nAND(_xlfn.XLOOKUP(C150,Measures[[#All],[Measure]],Measures[[#All],[Technical/operational]],\"\",0,1)=\"Operational\",AO150<AP150),(AP150/AO150),\nAND(_xlfn.XLOOKUP(C150,Measures[[#All],[Measure]],Measures[[#All],[Technical/operational]],\"\",0,1)=\"Operational\",AO150>=AP150),(AP150/AQ150),\nAND(_xlfn.XLOOKUP(C150,Measures[[#All],[Measure]],Measures[[#All],[Technical/operational]],\"\",0,1)=\"Technical\",C150=\"Hull performance coating\",AO150<AP150),(AP150/AO150),\nAND(_xlfn.XLOOKUP(C150,Measures[[#All],[Measure]],Measures[[#All],[Technical/operational]],\"\",0,1)=\"Technical\",C150<>\"Hull performance coating\",AO150<AP150),1)","v":0},{"$f":"_xlfn.XLOOKUP(C150,Measures[[#All],[Measure]],Measures[[#All],[Lifetime '[Years']]],\"\",0,1)","v":""},0,{"$f":"_xlfn.IFS(C150=0,0,AND(_xlfn.XLOOKUP(C150,Measures[[#All],[Measure]],Measures[[#All],[Technical/operational]],\"\",0,1)=\"Technical\",C150=\"Hull performance coating\"),AP150,\nAND(_xlfn.XLOOKUP(C150,Measures[[#All],[Measure]],Measures[[#All],[Technical/operational]],\"\",0,1)=\"Operational\",AO150>=AP150),AP150,\nAND(_xlfn.XLOOKUP(C150,Measures[[#All],[Measure]],Measures[[#All],[Technical/operational]],\"\",0,1)=\"Operational\",AO150<AP150),AP150,\nAND(_xlfn.XLOOKUP(C150,Measures[[#All],[Measure]],Measures[[#All],[Technical/operational]],\"\",0,1)=\"Technical\",C150<>\"Hull performance coating\",AO150>=AP150),AP150,\nAND(_xlfn.XLOOKUP(C150,Measures[[#All],[Measure]],Measures[[#All],[Technical/operational]],\"\",0,1)=\"Technical\",C150<>\"Hull performance coating\",AO150<AP150),AO150)","v":0},0,1,0,0,"Not included measure",0,0]
[22,0,0,0,0,0,0,1,0,0,{"$error":"#DIV/0!"},0,"","",0,0,"Not included measure",0,{"$f":"IFERROR(INDEX(Measures[],MATCH(B151,Measures[Measure],0),6),0)","v":0},0,0,"NA",{"$f":"SUM($U$130:U151)","v":0},null,{"$error":"#VALUE!"},null,0,0,null,0,1,0,0,0,0,1,0,0,0,{"$f":"_xlfn.IFS(C151=0,0,\nAND(_xlfn.XLOOKUP(C151,Measures[[#All],[Measure]],Measures[[#All],[Technical/operational]],\"\",0,1)=\"Technical\",AO151>=AP151),(AP151/AQ151),\nAND(_xlfn.XLOOKUP(C151,Measures[[#All],[Measure]],Measures[[#All],[Technical/operational]],\"\",0,1)=\"Operational\",AO151<AP151),(AP151/AO151),\nAND(_xlfn.XLOOKUP(C151,Measures[[#All],[Measure]],Measures[[#All],[Technical/operational]],\"\",0,1)=\"Operational\",AO151>=AP151),(AP151/AQ151),\nAND(_xlfn.XLOOKUP(C151,Measures[[#All],[Measure]],Measures[[#All],[Technical/operational]],\"\",0,1)=\"Technical\",C151=\"Hull performance coating\",AO151<AP151),(AP151/AO151),\nAND(_xlfn.XLOOKUP(C151,Measures[[#All],[Measure]],Measures[[#All],[Technical/operational]],\"\",0,1)=\"Technical\",C151<>\"Hull performance coating\",AO151<AP151),1)","v":0},{"$f":"_xlfn.XLOOKUP(C151,Measures[[#All],[Measure]],Measures[[#All],[Lifetime '[Years']]],\"\",0,1)","v":""},0,{"$f":"_xlfn.IFS(C151=0,0,AND(_xlfn.XLOOKUP(C151,Measures[[#All],[Measure]],Measures[[#All],[Technical/operational]],\"\",0,1)=\"Technical\",C151=\"Hull performance coating\"),AP151,\nAND(_xlfn.XLOOKUP(C151,Measures[[#All],[Measure]],Measures[[#All],[Technical/operational]],\"\",0,1)=\"Operational\",AO151>=AP151),AP151,\nAND(_xlfn.XLOOKUP(C151,Measures[[#All],[Measure]],Measures[[#All],[Technical/operational]],\"\",0,1)=\"Operational\",AO151<AP151),AP151,\nAND(_xlfn.XLOOKUP(C151,Measures[[#All],[Measure]],Measures[[#All],[Technical/operational]],\"\",0,1)=\"Technical\",C151<>\"Hull performance coating\",AO151>=AP151),AP151,\nAND(_xlfn.XLOOKUP(C151,Measures[[#All],[Measure]],Measures[[#All],[Technical/operational]],\"\",0,1)=\"Technical\",C151<>\"Hull performance coating\",AO151<AP151),AO151)","v":0},0,1,0,0,"Not included measure",0,0]
[23,0,0,0,0,0,0,1,0,0,{"$error":"#DIV/0!"},0,"","",0,0,"Not included measure",0,{"$f":"IFERROR(INDEX(Measures[],MATCH(B152,Measures[Measure],0),6),0)","v":0},0,0,"NA",{"$f":"SUM($U$130:U152)","v":0},null,{"$error":"#VALUE!"},null,0,0,null,0,1,0,0,0,0,1,0,0,0,{"$f":"_xlfn.IFS(C152=0,0,\nAND(_xlfn.XLOOKUP(C152,Measures[[#All],[Measure]],Measures[[#All],[Technical/operational]],\"\",0,1)=\"Technical\",AO152>=AP152),(AP152/AQ152),\nAND(_xlfn.XLOOKUP(C152,Measures[[#All],[Measure]],Measures[[#All],[Technical/operational]],\"\",0,1)=\"Operational\",AO152<AP152),(AP152/AO152),\nAND(_xlfn.XLOOKUP(C152,Measures[[#All],[Measure]],Measures[[#All],[Technical/operational]],\"\",0,1)=\"Operational\",AO152>=AP152),(AP152/AQ152),\nAND(_xlfn.XLOOKUP(C152,Measures[[#All],[Measure]],Measures[[#All],[Technical/operational]],\"\",0,1)=\"Technical\",C152=\"Hull performance coating\",AO152<AP152),(AP152/AO152),\nAND(_xlfn.XLOOKUP(C152,Measures[[#All],[Measure]],Measures[[#All],[Technical/operational]],\"\",0,1)=\"Technical\",C152<>\"Hull performance coating\",AO152<AP152),1)","v":0},{"$f":"_xlfn.XLOOKUP(C152,Measures[[#All],[Measure]],Measures[[#All],[Lifetime '[Years']]],\"\",0,1)","v":""},0,{"$f":"_xlfn.IFS(C152=0,0,AND(_xlfn.XLOOKUP(C152,Measures[[#All],[Measure]],Measures[[#All],[Technical/operational]],\"\",0,1)=\"Technical\",C152=\"Hull performance coating\"),AP152,\nAND(_xlfn.XLOOKUP(C152,Measures[[#All],[Measure]],Measures[[#All],[Technical/operational]],\"\",0,1)=\"Operational\",AO152>=AP152),AP152,\nAND(_xlfn.XLOOKUP(C152,Measures[[#All],[Measure]],Measures[[#All],[Technical/operational]],\"\",0,1)=\"Operational\",AO152<AP152),AP152,\nAND(_xlfn.XLOOKUP(C152,Measures[[#All],[Measure]],Measures[[#All],[Technical/operational]],\"\",0,1)=\"Technical\",C152<>\"Hull performance coating\",AO152>=AP152),AP152,\nAND(_xlfn.XLOOKUP(C152,Measures[[#All],[Measure]],Measures[[#All],[Technical/operational]],\"\",0,1)=\"Technical\",C152<>\"Hull performance coating\",AO152<AP152),AO152)","v":0},0,1,0,0,"Not included measure",0,0]
[24,0,0,0,0,0,0,1,0,0,{"$error":"#DIV/0!"},0,"","",0,0,"Not included measure",0,{"$f":"IFERROR(INDEX(Measures[],MATCH(B153,Measures[Measure],0),6),0)","v":0},0,0,"NA",{"$f":"SUM($U$130:U153)","v":0},null,{"$error":"#VALUE!"},null,0,0,null,0,1,0,0,0,0,1,0,0,0,{"$f":"_xlfn.IFS(C153=0,0,\nAND(_xlfn.XLOOKUP(C153,Measures[[#All],[Measure]],Measures[[#All],[Technical/operational]],\"\",0,1)=\"Technical\",AO153>=AP153),(AP153/AQ153),\nAND(_xlfn.XLOOKUP(C153,Measures[[#All],[Measure]],Measures[[#All],[Technical/operational]],\"\",0,1)=\"Operational\",AO153<AP153),(AP153/AO153),\nAND(_xlfn.XLOOKUP(C153,Measures[[#All],[Measure]],Measures[[#All],[Technical/operational]],\"\",0,1)=\"Operational\",AO153>=AP153),(AP153/AQ153),\nAND(_xlfn.XLOOKUP(C153,Measures[[#All],[Measure]],Measures[[#All],[Technical/operational]],\"\",0,1)=\"Technical\",C153=\"Hull performance coating\",AO153<AP153),(AP153/AO153),\nAND(_xlfn.XLOOKUP(C153,Measures[[#All],[Measure]],Measures[[#All],[Technical/operational]],\"\",0,1)=\"Technical\",C153<>\"Hull performance coating\",AO153<AP153),1)","v":0},{"$f":"_xlfn.XLOOKUP(C153,Measures[[#All],[Measure]],Measures[[#All],[Lifetime '[Years']]],\"\",0,1)","v":""},0,{"$f":"_xlfn.IFS(C153=0,0,AND(_xlfn.XLOOKUP(C153,Measures[[#All],[Measure]],Measures[[#All],[Technical/operational]],\"\",0,1)=\"Technical\",C153=\"Hull performance coating\"),AP153,\nAND(_xlfn.XLOOKUP(C153,Measures[[#All],[Measure]],Measures[[#All],[Technical/operational]],\"\",0,1)=\"Operational\",AO153>=AP153),AP153,\nAND(_xlfn.XLOOKUP(C153,Measures[[#All],[Measure]],Measures[[#All],[Technical/operational]],\"\",0,1)=\"Operational\",AO153<AP153),AP153,\nAND(_xlfn.XLOOKUP(C153,Measures[[#All],[Measure]],Measures[[#All],[Technical/operational]],\"\",0,1)=\"Technical\",C153<>\"Hull performance coating\",AO153>=AP153),AP153,\nAND(_xlfn.XLOOKUP(C153,Measures[[#All],[Measure]],Measures[[#All],[Technical/operational]],\"\",0,1)=\"Technical\",C153<>\"Hull performance coating\",AO153<AP153),AO153)","v":0},0,1,0,0,"Not included measure",0,0]
[25,0,0,0,0,0,0,1,0,0,{"$error":"#DIV/0!"},0,"","",0,0,"Not included measure",0,{"$f":"IFERROR(INDEX(Measures[],MATCH(B154,Measures[Measure],0),6),0)","v":0},0,0,"NA",{"$f":"SUM($U$130:U154)","v":0},null,{"$error":"#VALUE!"},null,0,0,null,0,1,0,0,0,0,1,0,0,0,{"$f":"_xlfn.IFS(C154=0,0,\nAND(_xlfn.XLOOKUP(C154,Measures[[#All],[Measure]],Measures[[#All],[Technical/operational]],\"\",0,1)=\"Technical\",AO154>=AP154),(AP154/AQ154),\nAND(_xlfn.XLOOKUP(C154,Measures[[#All],[Measure]],Measures[[#All],[Technical/operational]],\"\",0,1)=\"Operational\",AO154<AP154),(AP154/AO154),\nAND(_xlfn.XLOOKUP(C154,Measures[[#All],[Measure]],Measures[[#All],[Technical/operational]],\"\",0,1)=\"Operational\",AO154>=AP154),(AP154/AQ154),\nAND(_xlfn.XLOOKUP(C154,Measures[[#All],[Measure]],Measures[[#All],[Technical/operational]],\"\",0,1)=\"Technical\",C154=\"Hull performance coating\",AO154<AP154),(AP154/AO154),\nAND(_xlfn.XLOOKUP(C154,Measures[[#All],[Measure]],Measures[[#All],[Technical/operational]],\"\",0,1)=\"Technical\",C154<>\"Hull performance coating\",AO154<AP154),1)","v":0},{"$f":"_xlfn.XLOOKUP(C154,Measures[[#All],[Measure]],Measures[[#All],[Lifetime '[Years']]],\"\",0,1)","v":""},0,{"$f":"_xlfn.IFS(C154=0,0,AND(_xlfn.XLOOKUP(C154,Measures[[#All],[Measure]],Measures[[#All],[Technical/operational]],\"\",0,1)=\"Technical\",C154=\"Hull performance coating\"),AP154,\nAND(_xlfn.XLOOKUP(C154,Measures[[#All],[Measure]],Measures[[#All],[Technical/operational]],\"\",0,1)=\"Operational\",AO154>=AP154),AP154,\nAND(_xlfn.XLOOKUP(C154,Measures[[#All],[Measure]],Measures[[#All],[Technical/operational]],\"\",0,1)=\"Operational\",AO154<AP154),AP154,\nAND(_xlfn.XLOOKUP(C154,Measures[[#All],[Measure]],Measures[[#All],[Technical/operational]],\"\",0,1)=\"Technical\",C154<>\"Hull performance coating\",AO154>=AP154),AP154,\nAND(_xlfn.XLOOKUP(C154,Measures[[#All],[Measure]],Measures[[#All],[Technical/operational]],\"\",0,1)=\"Technical\",C154<>\"Hull performance coating\",AO154<AP154),AO154)","v":0},0,1,0,0,"Not included measure",0,0]
[26,0,0,0,0,0,0,1,0,0,{"$error":"#DIV/0!"},0,"","",0,0,"Not included measure",0,{"$f":"IFERROR(INDEX(Measures[],MATCH(B155,Measures[Measure],0),6),0)","v":0},0,0,"NA",{"$f":"SUM($U$130:U155)","v":0},null,{"$error":"#VALUE!"},null,0,0,null,0,1,0,0,0,0,1,0,0,0,{"$f":"_xlfn.IFS(C155=0,0,\nAND(_xlfn.XLOOKUP(C155,Measures[[#All],[Measure]],Measures[[#All],[Technical/operational]],\"\",0,1)=\"Technical\",AO155>=AP155),(AP155/AQ155),\nAND(_xlfn.XLOOKUP(C155,Measures[[#All],[Measure]],Measures[[#All],[Technical/operational]],\"\",0,1)=\"Operational\",AO155<AP155),(AP155/AO155),\nAND(_xlfn.XLOOKUP(C155,Measures[[#All],[Measure]],Measures[[#All],[Technical/operational]],\"\",0,1)=\"Operational\",AO155>=AP155),(AP155/AQ155),\nAND(_xlfn.XLOOKUP(C155,Measures[[#All],[Measure]],Measures[[#All],[Technical/operational]],\"\",0,1)=\"Technical\",C155=\"Hull performance coating\",AO155<AP155),(AP155/AO155),\nAND(_xlfn.XLOOKUP(C155,Measures[[#All],[Measure]],Measures[[#All],[Technical/operational]],\"\",0,1)=\"Technical\",C155<>\"Hull performance coating\",AO155<AP155),1)","v":0},{"$f":"_xlfn.XLOOKUP(C155,Measures[[#All],[Measure]],Measures[[#All],[Lifetime '[Years']]],\"\",0,1)","v":""},0,{"$f":"_xlfn.IFS(C155=0,0,AND(_xlfn.XLOOKUP(C155,Measures[[#All],[Measure]],Measures[[#All],[Technical/operational]],\"\",0,1)=\"Technical\",C155=\"Hull performance coating\"),AP155,\nAND(_xlfn.XLOOKUP(C155,Measures[[#All],[Measure]],Measures[[#All],[Technical/operational]],\"\",0,1)=\"Operational\",AO155>=AP155),AP155,\nAND(_xlfn.XLOOKUP(C155,Measures[[#All],[Measure]],Measures[[#All],[Technical/operational]],\"\",0,1)=\"Operational\",AO155<AP155),AP155,\nAND(_xlfn.XLOOKUP(C155,Measures[[#All],[Measure]],Measures[[#All],[Technical/operational]],\"\",0,1)=\"Technical\",C155<>\"Hull performance coating\",AO155>=AP155),AP155,\nAND(_xlfn.XLOOKUP(C155,Measures[[#All],[Measure]],Measures[[#All],[Technical/operational]],\"\",0,1)=\"Technical\",C155<>\"Hull performance coating\",AO155<AP155),AO155)","v":0},0,1,0,0,"Not included measure",0,0]
[27,0,0,0,0,0,0,1,0,0,{"$error":"#DIV/0!"},0,"","",0,0,"Not included measure",0,{"$f":"IFERROR(INDEX(Measures[],MATCH(B156,Measures[Measure],0),6),0)","v":0},0,0,"NA",{"$f":"SUM($U$130:U156)","v":0},null,{"$error":"#VALUE!"},null,0,0,null,0,1,0,0,0,0,1,0,0,0,{"$f":"_xlfn.IFS(C156=0,0,\nAND(_xlfn.XLOOKUP(C156,Measures[[#All],[Measure]],Measures[[#All],[Technical/operational]],\"\",0,1)=\"Technical\",AO156>=AP156),(AP156/AQ156),\nAND(_xlfn.XLOOKUP(C156,Measures[[#All],[Measure]],Measures[[#All],[Technical/operational]],\"\",0,1)=\"Operational\",AO156<AP156),(AP156/AO156),\nAND(_xlfn.XLOOKUP(C156,Measures[[#All],[Measure]],Measures[[#All],[Technical/operational]],\"\",0,1)=\"Operational\",AO156>=AP156),(AP156/AQ156),\nAND(_xlfn.XLOOKUP(C156,Measures[[#All],[Measure]],Measures[[#All],[Technical/operational]],\"\",0,1)=\"Technical\",C156=\"Hull performance coating\",AO156<AP156),(AP156/AO156),\nAND(_xlfn.XLOOKUP(C156,Measures[[#All],[Measure]],Measures[[#All],[Technical/operational]],\"\",0,1)=\"Technical\",C156<>\"Hull performance coating\",AO156<AP156),1)","v":0},{"$f":"_xlfn.XLOOKUP(C156,Measures[[#All],[Measure]],Measures[[#All],[Lifetime '[Years']]],\"\",0,1)","v":""},0,{"$f":"_xlfn.IFS(C156=0,0,AND(_xlfn.XLOOKUP(C156,Measures[[#All],[Measure]],Measures[[#All],[Technical/operational]],\"\",0,1)=\"Technical\",C156=\"Hull performance coating\"),AP156,\nAND(_xlfn.XLOOKUP(C156,Measures[[#All],[Measure]],Measures[[#All],[Technical/operational]],\"\",0,1)=\"Operational\",AO156>=AP156),AP156,\nAND(_xlfn.XLOOKUP(C156,Measures[[#All],[Measure]],Measures[[#All],[Technical/operational]],\"\",0,1)=\"Operational\",AO156<AP156),AP156,\nAND(_xlfn.XLOOKUP(C156,Measures[[#All],[Measure]],Measures[[#All],[Technical/operational]],\"\",0,1)=\"Technical\",C156<>\"Hull performance coating\",AO156>=AP156),AP156,\nAND(_xlfn.XLOOKUP(C156,Measures[[#All],[Measure]],Measures[[#All],[Technical/operational]],\"\",0,1)=\"Technical\",C156<>\"Hull performance coating\",AO156<AP156),AO156)","v":0},0,1,0,0,"Not included measure",0,0]
[28,0,0,0,0,0,0,1,0,0,{"$error":"#DIV/0!"},0,"","",0,0,"Not included measure",0,{"$f":"IFERROR(INDEX(Measures[],MATCH(B157,Measures[Measure],0),6),0)","v":0},0,0,"NA",{"$f":"SUM($U$130:U157)","v":0},null,{"$error":"#VALUE!"},null,0,0,null,0,1,0,0,0,0,1,0,0,0,{"$f":"_xlfn.IFS(C157=0,0,\nAND(_xlfn.XLOOKUP(C157,Measures[[#All],[Measure]],Measures[[#All],[Technical/operational]],\"\",0,1)=\"Technical\",AO157>=AP157),(AP157/AQ157),\nAND(_xlfn.XLOOKUP(C157,Measures[[#All],[Measure]],Measures[[#All],[Technical/operational]],\"\",0,1)=\"Operational\",AO157<AP157),(AP157/AO157),\nAND(_xlfn.XLOOKUP(C157,Measures[[#All],[Measure]],Measures[[#All],[Technical/operational]],\"\",0,1)=\"Operational\",AO157>=AP157),(AP157/AQ157),\nAND(_xlfn.XLOOKUP(C157,Measures[[#All],[Measure]],Measures[[#All],[Technical/operational]],\"\",0,1)=\"Technical\",C157=\"Hull performance coating\",AO157<AP157),(AP157/AO157),\nAND(_xlfn.XLOOKUP(C157,Measures[[#All],[Measure]],Measures[[#All],[Technical/operational]],\"\",0,1)=\"Technical\",C157<>\"Hull performance coating\",AO157<AP157),1)","v":0},{"$f":"_xlfn.XLOOKUP(C157,Measures[[#All],[Measure]],Measures[[#All],[Lifetime '[Years']]],\"\",0,1)","v":""},0,{"$f":"_xlfn.IFS(C157=0,0,AND(_xlfn.XLOOKUP(C157,Measures[[#All],[Measure]],Measures[[#All],[Technical/operational]],\"\",0,1)=\"Technical\",C157=\"Hull performance coating\"),AP157,\nAND(_xlfn.XLOOKUP(C157,Measures[[#All],[Measure]],Measures[[#All],[Technical/operational]],\"\",0,1)=\"Operational\",AO157>=AP157),AP157,\nAND(_xlfn.XLOOKUP(C157,Measures[[#All],[Measure]],Measures[[#All],[Technical/operational]],\"\",0,1)=\"Operational\",AO157<AP157),AP157,\nAND(_xlfn.XLOOKUP(C157,Measures[[#All],[Measure]],Measures[[#All],[Technical/operational]],\"\",0,1)=\"Technical\",C157<>\"Hull performance coating\",AO157>=AP157),AP157,\nAND(_xlfn.XLOOKUP(C157,Measures[[#All],[Measure]],Measures[[#All],[Technical/operational]],\"\",0,1)=\"Technical\",C157<>\"Hull performance coating\",AO157<AP157),AO157)","v":0},0,1,0,0,"Not included measure",0,0]
[29,0,0,0,0,0,0,1,0,0,{"$error":"#DIV/0!"},0,"","",0,0,"Not included measure",0,{"$f":"IFERROR(INDEX(Measures[],MATCH(B158,Measures[Measure],0),6),0)","v":0},0,0,"NA",{"$f":"SUM($U$130:U158)","v":0},null,{"$error":"#VALUE!"},null,0,0,null,0,1,0,0,0,0,1,0,0,0,{"$f":"_xlfn.IFS(C158=0,0,\nAND(_xlfn.XLOOKUP(C158,Measures[[#All],[Measure]],Measures[[#All],[Technical/operational]],\"\",0,1)=\"Technical\",AO158>=AP158),(AP158/AQ158),\nAND(_xlfn.XLOOKUP(C158,Measures[[#All],[Measure]],Measures[[#All],[Technical/operational]],\"\",0,1)=\"Operational\",AO158<AP158),(AP158/AO158),\nAND(_xlfn.XLOOKUP(C158,Measures[[#All],[Measure]],Measures[[#All],[Technical/operational]],\"\",0,1)=\"Operational\",AO158>=AP158),(AP158/AQ158),\nAND(_xlfn.XLOOKUP(C158,Measures[[#All],[Measure]],Measures[[#All],[Technical/operational]],\"\",0,1)=\"Technical\",C158=\"Hull performance coating\",AO158<AP158),(AP158/AO158),\nAND(_xlfn.XLOOKUP(C158,Measures[[#All],[Measure]],Measures[[#All],[Technical/operational]],\"\",0,1)=\"Technical\",C158<>\"Hull performance coating\",AO158<AP158),1)","v":0},{"$f":"_xlfn.XLOOKUP(C158,Measures[[#All],[Measure]],Measures[[#All],[Lifetime '[Years']]],\"\",0,1)","v":""},0,{"$f":"_xlfn.IFS(C158=0,0,AND(_xlfn.XLOOKUP(C158,Measures[[#All],[Measure]],Measures[[#All],[Technical/operational]],\"\",0,1)=\"Technical\",C158=\"Hull performance coating\"),AP158,\nAND(_xlfn.XLOOKUP(C158,Measures[[#All],[Measure]],Measures[[#All],[Technical/operational]],\"\",0,1)=\"Operational\",AO158>=AP158),AP158,\nAND(_xlfn.XLOOKUP(C158,Measures[[#All],[Measure]],Measures[[#All],[Technical/operational]],\"\",0,1)=\"Operational\",AO158<AP158),AP158,\nAND(_xlfn.XLOOKUP(C158,Measures[[#All],[Measure]],Measures[[#All],[Technical/operational]],\"\",0,1)=\"Technical\",C158<>\"Hull performance coating\",AO158>=AP158),AP158,\nAND(_xlfn.XLOOKUP(C158,Measures[[#All],[Measure]],Measures[[#All],[Technical/operational]],\"\",0,1)=\"Technical\",C158<>\"Hull performance coating\",AO158<AP158),AO158)","v":0},0,1,0,0,"Not included measure",0,0]
[30,0,0,0,0,0,0,1,0,0,{"$error":"#DIV/0!"},0,"","",0,0,"Not included measure",0,{"$f":"IFERROR(INDEX(Measures[],MATCH(B159,Measures[Measure],0),6),0)","v":0},0,0,"NA",{"$f":"SUM($U$130:U159)","v":0},null,{"$error":"#VALUE!"},null,0,0,null,0,1,0,0,0,0,1,0,0,0,{"$f":"_xlfn.IFS(C159=0,0,\nAND(_xlfn.XLOOKUP(C159,Measures[[#All],[Measure]],Measures[[#All],[Technical/operational]],\"\",0,1)=\"Technical\",AO159>=AP159),(AP159/AQ159),\nAND(_xlfn.XLOOKUP(C159,Measures[[#All],[Measure]],Measures[[#All],[Technical/operational]],\"\",0,1)=\"Operational\",AO159<AP159),(AP159/AO159),\nAND(_xlfn.XLOOKUP(C159,Measures[[#All],[Measure]],Measures[[#All],[Technical/operational]],\"\",0,1)=\"Operational\",AO159>=AP159),(AP159/AQ159),\nAND(_xlfn.XLOOKUP(C159,Measures[[#All],[Measure]],Measures[[#All],[Technical/operational]],\"\",0,1)=\"Technical\",C159=\"Hull performance coating\",AO159<AP159),(AP159/AO159),\nAND(_xlfn.XLOOKUP(C159,Measures[[#All],[Measure]],Measures[[#All],[Technical/operational]],\"\",0,1)=\"Technical\",C159<>\"Hull performance coating\",AO159<AP159),1)","v":0},{"$f":"_xlfn.XLOOKUP(C159,Measures[[#All],[Measure]],Measures[[#All],[Lifetime '[Years']]],\"\",0,1)","v":""},0,{"$f":"_xlfn.IFS(C159=0,0,AND(_xlfn.XLOOKUP(C159,Measures[[#All],[Measure]],Measures[[#All],[Technical/operational]],\"\",0,1)=\"Technical\",C159=\"Hull performance coating\"),AP159,\nAND(_xlfn.XLOOKUP(C159,Measures[[#All],[Measure]],Measures[[#All],[Technical/operational]],\"\",0,1)=\"Operational\",AO159>=AP159),AP159,\nAND(_xlfn.XLOOKUP(C159,Measures[[#All],[Measure]],Measures[[#All],[Technical/operational]],\"\",0,1)=\"Operational\",AO159<AP159),AP159,\nAND(_xlfn.XLOOKUP(C159,Measures[[#All],[Measure]],Measures[[#All],[Technical/operational]],\"\",0,1)=\"Technical\",C159<>\"Hull performance coating\",AO159>=AP159),AP159,\nAND(_xlfn.XLOOKUP(C159,Measures[[#All],[Measure]],Measures[[#All],[Technical/operational]],\"\",0,1)=\"Technical\",C159<>\"Hull performance coating\",AO159<AP159),AO159)","v":0},0,1,0,0,"Not included measure",0,0]
[31,0,0,0,0,0,0,1,0,0,{"$error":"#DIV/0!"},0,"","",0,0,"Not included measure",0,{"$f":"IFERROR(INDEX(Measures[],MATCH(B160,Measures[Measure],0),6),0)","v":0},0,0,"NA",{"$f":"SUM($U$130:U160)","v":0},null,{"$error":"#VALUE!"},null,0,0,null,0,1,0,0,0,0,1,0,0,0,{"$f":"_xlfn.IFS(C160=0,0,\nAND(_xlfn.XLOOKUP(C160,Measures[[#All],[Measure]],Measures[[#All],[Technical/operational]],\"\",0,1)=\"Technical\",AO160>=AP160),(AP160/AQ160),\nAND(_xlfn.XLOOKUP(C160,Measures[[#All],[Measure]],Measures[[#All],[Technical/operational]],\"\",0,1)=\"Operational\",AO160<AP160),(AP160/AO160),\nAND(_xlfn.XLOOKUP(C160,Measures[[#All],[Measure]],Measures[[#All],[Technical/operational]],\"\",0,1)=\"Operational\",AO160>=AP160),(AP160/AQ160),\nAND(_xlfn.XLOOKUP(C160,Measures[[#All],[Measure]],Measures[[#All],[Technical/operational]],\"\",0,1)=\"Technical\",C160=\"Hull performance coating\",AO160<AP160),(AP160/AO160),\nAND(_xlfn.XLOOKUP(C160,Measures[[#All],[Measure]],Measures[[#All],[Technical/operational]],\"\",0,1)=\"Technical\",C160<>\"Hull performance coating\",AO160<AP160),1)","v":0},{"$f":"_xlfn.XLOOKUP(C160,Measures[[#All],[Measure]],Measures[[#All],[Lifetime '[Years']]],\"\",0,1)","v":""},0,{"$f":"_xlfn.IFS(C160=0,0,AND(_xlfn.XLOOKUP(C160,Measures[[#All],[Measure]],Measures[[#All],[Technical/operational]],\"\",0,1)=\"Technical\",C160=\"Hull performance coating\"),AP160,\nAND(_xlfn.XLOOKUP(C160,Measures[[#All],[Measure]],Measures[[#All],[Technical/operational]],\"\",0,1)=\"Operational\",AO160>=AP160),AP160,\nAND(_xlfn.XLOOKUP(C160,Measures[[#All],[Measure]],Measures[[#All],[Technical/operational]],\"\",0,1)=\"Operational\",AO160<AP160),AP160,\nAND(_xlfn.XLOOKUP(C160,Measures[[#All],[Measure]],Measures[[#All],[Technical/operational]],\"\",0,1)=\"Technical\",C160<>\"Hull performance coating\",AO160>=AP160),AP160,\nAND(_xlfn.XLOOKUP(C160,Measures[[#All],[Measure]],Measures[[#All],[Technical/operational]],\"\",0,1)=\"Technical\",C160<>\"Hull performance coating\",AO160<AP160),AO160)","v":0},0,1,0,0,"Not included measure",0,0]
[]
[]
[null,"AER"]
[null,{"$f":"D127","v":"With decreasing baseline"}]
[null,null,"Capex $ - Year 0","Year","Year"]
[null,"Measure",null,1,2,3,4,5,6,7,8,9,10,11,12,13,14,15,null,16,17,18,19,20,21,22,23,24,25,"NPV","Shortest lifetime","PVIFA","Annualized NPV"]
[null,"Discount rate [%]",null,{"$f":"$C$9","v":1.08},{"$f":"$C$9","v":1.08},1.08,1.08,1.08,{"$f":"$C$9","v":1.08},1.08,1.08,1.08,1.08,1.08,1.08,1.08,1.08,1.08,null,1.08,1.08,1.08,1.08,1.08,1.08,1.08,1.08,1.08,1.08]
[null,"Fuel price [$ / ton]",null,{"$f":"$C$7","v":{"$error":"#DIV/0!"}},{"$f":"$C$7","v":{"$error":"#DIV/0!"}},{"$error":"#DIV/0!"},{"$error":"#DIV/0!"},{"$error":"#DIV/0!"},{"$error":"#DIV/0!"},{"$error":"#DIV/0!"},{"$error":"#DIV/0!"},{"$error":"#DIV/0!"},{"$error":"#DIV/0!"},{"$error":"#DIV/0!"},{"$error":"#DIV/0!"},{"$error":"#DIV/0!"},{"$error":"#DIV/0!"},{"$error":"#DIV/0!"},null,{"$error":"#DIV/0!"},{"$error":"#DIV/0!"},{"$error":"#DIV/0!"},{"$error":"#DIV/0!"},{"$error":"#DIV/0!"},{"$error":"#DIV/0!"},{"$error":"#DIV/0!"},{"$error":"#DIV/0!"},{"$error":"#DIV/0!"},{"$error":"#DIV/0!"},"Sum",null,null,null,"Expected lifetime measure","Expected lifetime vessel","Shortest","#Year to implement"]
[1,{"$f":"B130","v":0},{"$f":"_xlfn.IFS(B169=0,\"\",B169=\"Hull performance coating\",_xlfn.XLOOKUP(B169,Measures[[#All],[Measure]],Measures[[#All],[CAPEX NB '[$']]],0,0,1)*(AI169/AH169), B169<>\"Hull performance coating\",_xlfn.XLOOKUP(B169,Measures[[#All],[Measure]],Measures[[#All],[CAPEX NB '[$']]],0,0,1))","v":""},{"$f":"IF($B169=0,\"\",IF(D$166<=$F130,($M130-D$168*$J130)/(D$167^D$166),\"\"))","v":""},{"$f":"IF($B169=0,\"\",IF(E$166<=$F130,($M130-E$168*$J130)/(E$167^E$166),\"\"))","v":""},"","","","","","","","","","","","","",null,"","","","","","","","","","",{"$f":"C169+SUM(D169:AC169)","v":{"$error":"#VALUE!"}},{"$f":"F130","v":0},{"$f":"(1-(1+$AC$167)^-AE169)/$AC$167","v":0},{"$f":"IFERROR(AD169/AF169,0)","v":0},{"$f":"_xlfn.XLOOKUP(B169,Measures[[#All],[Measure]],Measures[[#All],[Lifetime '[Years']]],\"\",0,1)","v":""},{"$f":"$C$3","v":0},{"$f":"_xlfn.IFS(B169=0,0,AND(_xlfn.XLOOKUP(B169,Measures[[#All],[Measure]],Measures[[#All],[Technical/operational]],\"\",0,1)=\"Technical\",B169=\"Hull performance coating\"),AI169,\nAND(_xlfn.XLOOKUP(B169,Measures[[#All],[Measure]],Measures[[#All],[Technical/operational]],\"\",0,1)=\"Operational\",AH169>=AI169),AI169,\nAND(_xlfn.XLOOKUP(B169,Measures[[#All],[Measure]],Measures[[#All],[Technical/operational]],\"\",0,1)=\"Operational\",AH169<AI169),AI169,\nAND(_xlfn.XLOOKUP(B169,Measures[[#All],[Measure]],Measures[[#All],[Technical/operational]],\"\",0,1)=\"Technical\",B169<>\"Hull performance coating\",AH169>=AI169),AI169,\nAND(_xlfn.XLOOKUP(B169,Measures[[#All],[Measure]],Measures[[#All],[Technical/operational]],\"\",0,1)=\"Technical\",B169<>\"Hull performance coating\",AH169<AI169),AH169)","v":0}]
[2,0,{"$f":"_xlfn.IFS(B170=0,\"\",B170=\"Hull performance coating\",_xlfn.XLOOKUP(B170,Measures[[#All],[Measure]],Measures[[#All],[CAPEX NB '[$']]],0,0,1)*(AI170/AH170), B170<>\"Hull performance coating\",_xlfn.XLOOKUP(B170,Measures[[#All],[Measure]],Measures[[#All],[CAPEX NB '[$']]],0,0,1))","v":""},"",{"$f":"IF($B170=0,\"\",IF(E$166<=$F131,($M131-E$168*$J131)/(E$167^E$166),\"\"))","v":""},"","","","","","","","","","","","","",null,"","","","","","","","","","",{"$f":"C170+SUM(D170:AC170)","v":{"$error":"#VALUE!"}},0,{"$f":"(1-(1+$AC$167)^-AE170)/$AC$167","v":0},0,{"$f":"_xlfn.XLOOKUP(B170,Measures[[#All],[Measure]],Measures[[#All],[Lifetime '[Years']]],\"\",0,1)","v":""},{"$f":"$C$3","v":0},{"$f":"_xlfn.IFS(B170=0,0,AND(_xlfn.XLOOKUP(B170,Measures[[#All],[Measure]],Measures[[#All],[Technical/operational]],\"\",0,1)=\"Technical\",B170=\"Hull performance coating\"),AI170,\nAND(_xlfn.XLOOKUP(B170,Measures[[#All],[Measure]],Measures[[#All],[Technical/operational]],\"\",0,1)=\"Operational\",AH170>=AI170),AI170,\nAND(_xlfn.XLOOKUP(B170,Measures[[#All],[Measure]],Measures[[#All],[Technical/operational]],\"\",0,1)=\"Operational\",AH170<AI170),AI170,\nAND(_xlfn.XLOOKUP(B170,Measures[[#All],[Measure]],Measures[[#All],[Technical/operational]],\"\",0,1)=\"Technical\",B170<>\"Hull performance coating\",AH170>=AI170),AI170,\nAND(_xlfn.XLOOKUP(B170,Measures[[#All],[Measure]],Measures[[#All],[Technical/operational]],\"\",0,1)=\"Technical\",B170<>\"Hull performance coating\",AH170<AI170),AH170)","v":0}]
[3,0,{"$f":"_xlfn.IFS(B171=0,\"\",B171=\"Hull performance coating\",_xlfn.XLOOKUP(B171,Measures[[#All],[Measure]],Measures[[#All],[CAPEX NB '[$']]],0,0,1)*(AI171/AH171), B171<>\"Hull performance coating\",_xlfn.XLOOKUP(B171,Measures[[#All],[Measure]],Measures[[#All],[CAPEX NB '[$']]],0,0,1))","v":""},"",{"$f":"IF($B171=0,\"\",IF(E$166<=$F132,($M132-E$168*$J132)/(E$167^E$166),\"\"))","v":""},"","","","","","","","","","","","","",null,"","","","","","","","","","",{"$error":"#VALUE!"},0,{"$f":"(1-(1+$AC$167)^-AE171)/$AC$167","v":0},0,{"$f":"_xlfn.XLOOKUP(B171,Measures[[#All],[Measure]],Measures[[#All],[Lifetime '[Years']]],\"\",0,1)","v":""},0,{"$f":"_xlfn.IFS(B171=0,0,AND(_xlfn.XLOOKUP(B171,Measures[[#All],[Measure]],Measures[[#All],[Technical/operational]],\"\",0,1)=\"Technical\",B171=\"Hull performance coating\"),AI171,\nAND(_xlfn.XLOOKUP(B171,Measures[[#All],[Measure]],Measures[[#All],[Technical/operational]],\"\",0,1)=\"Operational\",AH171>=AI171),AI171,\nAND(_xlfn.XLOOKUP(B171,Measures[[#All],[Measure]],Measures[[#All],[Technical/operational]],\"\",0,1)=\"Operational\",AH171<AI171),AI171,\nAND(_xlfn.XLOOKUP(B171,Measures[[#All],[Measure]],Measures[[#All],[Technical/operational]],\"\",0,1)=\"Technical\",B171<>\"Hull performance coating\",AH171>=AI171),AI171,\nAND(_xlfn.XLOOKUP(B171,Measures[[#All],[Measure]],Measures[[#All],[Technical/operational]],\"\",0,1)=\"Technical\",B171<>\"Hull performance coating\",AH171<AI171),AH171)","v":0}]
[4,0,{"$f":"_xlfn.IFS(B172=0,\"\",B172=\"Hull performance coating\",_xlfn.XLOOKUP(B172,Measures[[#All],[Measure]],Measures[[#All],[CAPEX NB '[$']]],0,0,1)*(AI172/AH172), B172<>\"Hull performance coating\",_xlfn.XLOOKUP(B172,Measures[[#All],[Measure]],Measures[[#All],[CAPEX NB '[$']]],0,0,1))","v":""},"",{"$f":"IF($B172=0,\"\",IF(E$166<=$F133,($M133-E$168*$J133)/(E$167^E$166),\"\"))","v":""},"","","","","","","","","","","","","",null,"","","","","","","","","","",{"$error":"#VALUE!"},0,0,0,{"$f":"_xlfn.XLOOKUP(B172,Measures[[#All],[Measure]],Measures[[#All],[Lifetime '[Years']]],\"\",0,1)","v":""},0,{"$f":"_xlfn.IFS(B172=0,0,AND(_xlfn.XLOOKUP(B172,Measures[[#All],[Measure]],Measures[[#All],[Technical/operational]],\"\",0,1)=\"Technical\",B172=\"Hull performance coating\"),AI172,\nAND(_xlfn.XLOOKUP(B172,Measures[[#All],[Measure]],Measures[[#All],[Technical/operational]],\"\",0,1)=\"Operational\",AH172>=AI172),AI172,\nAND(_xlfn.XLOOKUP(B172,Measures[[#All],[Measure]],Measures[[#All],[Technical/operational]],\"\",0,1)=\"Operational\",AH172<AI172),AI172,\nAND(_xlfn.XLOOKUP(B172,Measures[[#All],[Measure]],Measures[[#All],[Technical/operational]],\"\",0,1)=\"Technical\",B172<>\"Hull performance coating\",AH172>=AI172),AI172,\nAND(_xlfn.XLOOKUP(B172,Measures[[#All],[Measure]],Measures[[#All],[Technical/operational]],\"\",0,1)=\"Technical\",B172<>\"Hull performance coating\",AH172<AI172),AH172)","v":0}]
[5,0,{"$f":"_xlfn.IFS(B173=0,\"\",B173=\"Hull performance coating\",_xlfn.XLOOKUP(B173,Measures[[#All],[Measure]],Measures[[#All],[CAPEX NB '[$']]],0,0,1)*(AI173/AH173), B173<>\"Hull performance coating\",_xlfn.XLOOKUP(B173,Measures[[#All],[Measure]],Measures[[#All],[CAPEX NB '[$']]],0,0,1))","v":""},"",{"$f":"IF($B173=0,\"\",IF(E$166<=$F134,($M134-E$168*$J134)/(E$167^E$166),\"\"))","v":""},"","","","","","","","","","","","","",null,"","","","","","","","","","",{"$f":"C173+SUM(D173:AC173)","v":{"$error":"#VALUE!"}},0,0,0,{"$f":"_xlfn.XLOOKUP(B173,Measures[[#All],[Measure]],Measures[[#All],[Lifetime '[Years']]],\"\",0,1)","v":""},0,{"$f":"_xlfn.IFS(B173=0,0,AND(_xlfn.XLOOKUP(B173,Measures[[#All],[Measure]],Measures[[#All],[Technical/operational]],\"\",0,1)=\"Technical\",B173=\"Hull performance coating\"),AI173,\nAND(_xlfn.XLOOKUP(B173,Measures[[#All],[Measure]],Measures[[#All],[Technical/operational]],\"\",0,1)=\"Operational\",AH173>=AI173),AI173,\nAND(_xlfn.XLOOKUP(B173,Measures[[#All],[Measure]],Measures[[#All],[Technical/operational]],\"\",0,1)=\"Operational\",AH173<AI173),AI173,\nAND(_xlfn.XLOOKUP(B173,Measures[[#All],[Measure]],Measures[[#All],[Technical/operational]],\"\",0,1)=\"Technical\",B173<>\"Hull performance coating\",AH173>=AI173),AI173,\nAND(_xlfn.XLOOKUP(B173,Measures[[#All],[Measure]],Measures[[#All],[Technical/operational]],\"\",0,1)=\"Technical\",B173<>\"Hull performance coating\",AH173<AI173),AH173)","v":0}]
[6,0,{"$f":"_xlfn.IFS(B174=0,\"\",B174=\"Hull performance coating\",_xlfn.XLOOKUP(B174,Measures[[#All],[Measure]],Measures[[#All],[CAPEX NB '[$']]],0,0,1)*(AI174/AH174), B174<>\"Hull performance coating\",_xlfn.XLOOKUP(B174,Measures[[#All],[Measure]],Measures[[#All],[CAPEX NB '[$']]],0,0,1))","v":""},"",{"$f":"IF($B174=0,\"\",IF(E$166<=$F135,($M135-E$168*$J135)/(E$167^E$166),\"\"))","v":""},"","","","","","","","","","","","","",null,"","","","","","","","","","",{"$error":"#VALUE!"},0,0,0,{"$f":"_xlfn.XLOOKUP(B174,Measures[[#All],[Measure]],Measures[[#All],[Lifetime '[Years']]],\"\",0,1)","v":""},0,{"$f":"_xlfn.IFS(B174=0,0,AND(_xlfn.XLOOKUP(B174,Measures[[#All],[Measure]],Measures[[#All],[Technical/operational]],\"\",0,1)=\"Technical\",B174=\"Hull performance coating\"),AI174,\nAND(_xlfn.XLOOKUP(B174,Measures[[#All],[Measure]],Measures[[#All],[Technical/operational]],\"\",0,1)=\"Operational\",AH174>=AI174),AI174,\nAND(_xlfn.XLOOKUP(B174,Measures[[#All],[Measure]],Measures[[#All],[Technical/operational]],\"\",0,1)=\"Operational\",AH174<AI174),AI174,\nAND(_xlfn.XLOOKUP(B174,Measures[[#All],[Measure]],Measures[[#All],[Technical/operational]],\"\",0,1)=\"Technical\",B174<>\"Hull performance coating\",AH174>=AI174),AI174,\nAND(_xlfn.XLOOKUP(B174,Measures[[#All],[Measure]],Measures[[#All],[Technical/operational]],\"\",0,1)=\"Technical\",B174<>\"Hull performance coating\",AH174<AI174),AH174)","v":0}]
[7,0,{"$f":"_xlfn.IFS(B175=0,\"\",B175=\"Hull performance coating\",_xlfn.XLOOKUP(B175,Measures[[#All],[Measure]],Measures[[#All],[CAPEX NB '[$']]],0,0,1)*(AI175/AH175), B175<>\"Hull performance coating\",_xlfn.XLOOKUP(B175,Measures[[#All],[Measure]],Measures[[#All],[CAPEX NB '[$']]],0,0,1))","v":""},"",{"$f":"IF($B175=0,\"\",IF(E$166<=$F136,($M136-E$168*$J136)/(E$167^E$166),\"\"))","v":""},"","","","","","","","","","","","","",null,"","","","","","","","","","",{"$error":"#VALUE!"},0,0,0,{"$f":"_xlfn.XLOOKUP(B175,Measures[[#All],[Measure]],Measures[[#All],[Lifetime '[Years']]],\"\",0,1)","v":""},0,{"$f":"_xlfn.IFS(B175=0,0,AND(_xlfn.XLOOKUP(B175,Measures[[#All],[Measure]],Measures[[#All],[Technical/operational]],\"\",0,1)=\"Technical\",B175=\"Hull performance coating\"),AI175,\nAND(_xlfn.XLOOKUP(B175,Measures[[#All],[Measure]],Measures[[#All],[Technical/operational]],\"\",0,1)=\"Operational\",AH175>=AI175),AI175,\nAND(_xlfn.XLOOKUP(B175,Measures[[#All],[Measure]],Measures[[#All],[Technical/operational]],\"\",0,1)=\"Operational\",AH175<AI175),AI175,\nAND(_xlfn.XLOOKUP(B175,Measures[[#All],[Measure]],Measures[[#All],[Technical/operational]],\"\",0,1)=\"Technical\",B175<>\"Hull performance coating\",AH175>=AI175),AI175,\nAND(_xlfn.XLOOKUP(B175,Measures[[#All],[Measure]],Measures[[#All],[Technical/operational]],\"\",0,1)=\"Technical\",B175<>\"Hull performance coating\",AH175<AI175),AH175)","v":0}]
[8,0,{"$f":"_xlfn.IFS(B176=0,\"\",B176=\"Hull performance coating\",_xlfn.XLOOKUP(B176,Measures[[#All],[Measure]],Measures[[#All],[CAPEX NB '[$']]],0,0,1)*(AI176/AH176), B176<>\"Hull performance coating\",_xlfn.XLOOKUP(B176,Measures[[#All],[Measure]],Measures[[#All],[CAPEX NB '[$']]],0,0,1))","v":""},"",{"$f":"IF($B176=0,\"\",IF(E$166<=$F137,($M137-E$168*$J137)/(E$167^E$166),\"\"))","v":""},"","","","","","","","","","","","","",null,"","","","","","","","","","",{"$error":"#VALUE!"},0,0,0,{"$f":"_xlfn.XLOOKUP(B176,Measures[[#All],[Measure]],Measures[[#All],[Lifetime '[Years']]],\"\",0,1)","v":""},0,{"$f":"_xlfn.IFS(B176=0,0,AND(_xlfn.XLOOKUP(B176,Measures[[#All],[Measure]],Measures[[#All],[Technical/operational]],\"\",0,1)=\"Technical\",B176=\"Hull performance coating\"),AI176,\nAND(_xlfn.XLOOKUP(B176,Measures[[#All],[Measure]],Measures[[#All],[Technical/operational]],\"\",0,1)=\"Operational\",AH176>=AI176),AI176,\nAND(_xlfn.XLOOKUP(B176,Measures[[#All],[Measure]],Measures[[#All],[Technical/operational]],\"\",0,1)=\"Operational\",AH176<AI176),AI176,\nAND(_xlfn.XLOOKUP(B176,Measures[[#All],[Measure]],Measures[[#All],[Technical/operational]],\"\",0,1)=\"Technical\",B176<>\"Hull performance coating\",AH176>=AI176),AI176,\nAND(_xlfn.XLOOKUP(B176,Measures[[#All],[Measure]],Measures[[#All],[Technical/operational]],\"\",0,1)=\"Technical\",B176<>\"Hull performance coating\",AH176<AI176),AH176)","v":0}]
[9,0,{"$f":"_xlfn.IFS(B177=0,\"\",B177=\"Hull performance coating\",_xlfn.XLOOKUP(B177,Measures[[#All],[Measure]],Measures[[#All],[CAPEX NB '[$']]],0,0,1)*(AI177/AH177), B177<>\"Hull performance coating\",_xlfn.XLOOKUP(B177,Measures[[#All],[Measure]],Measures[[#All],[CAPEX NB '[$']]],0,0,1))","v":""},"",{"$f":"IF($B177=0,\"\",IF(E$166<=$F138,($M138-E$168*$J138)/(E$167^E$166),\"\"))","v":""},"","","",{"$f":"IF($B177=0,\"\",IF(I$166<=$F138,($M138-I$168*$J138)/(I$167^I$166),\"\"))","v":""},"","","","","","","","","",null,"","","","","","","","","","",{"$f":"C177+SUM(D177:AC177)","v":{"$error":"#VALUE!"}},0,0,0,{"$f":"_xlfn.XLOOKUP(B177,Measures[[#All],[Measure]],Measures[[#All],[Lifetime '[Years']]],\"\",0,1)","v":""},0,{"$f":"_xlfn.IFS(B177=0,0,AND(_xlfn.XLOOKUP(B177,Measures[[#All],[Measure]],Measures[[#All],[Technical/operational]],\"\",0,1)=\"Technical\",B177=\"Hull performance coating\"),AI177,\nAND(_xlfn.XLOOKUP(B177,Measures[[#All],[Measure]],Measures[[#All],[Technical/operational]],\"\",0,1)=\"Operational\",AH177>=AI177),AI177,\nAND(_xlfn.XLOOKUP(B177,Measures[[#All],[Measure]],Measures[[#All],[Technical/operational]],\"\",0,1)=\"Operational\",AH177<AI177),AI177,\nAND(_xlfn.XLOOKUP(B177,Measures[[#All],[Measure]],Measures[[#All],[Technical/operational]],\"\",0,1)=\"Technical\",B177<>\"Hull performance coating\",AH177>=AI177),AI177,\nAND(_xlfn.XLOOKUP(B177,Measures[[#All],[Measure]],Measures[[#All],[Technical/operational]],\"\",0,1)=\"Technical\",B177<>\"Hull performance coating\",AH177<AI177),AH177)","v":0}]
[10,{"$f":"B139","v":0},{"$f":"_xlfn.IFS(B178=0,\"\",B178=\"Hull performance coating\",_xlfn.XLOOKUP(B178,Measures[[#All],[Measure]],Measures[[#All],[CAPEX NB '[$']]],0,0,1)*(AI178/AH178), B178<>\"Hull performance coating\",_xlfn.XLOOKUP(B178,Measures[[#All],[Measure]],Measures[[#All],[CAPEX NB '[$']]],0,0,1))","v":""},"",{"$f":"IF($B178=0,\"\",IF(E$166<=$F139,($M139-E$168*$J139)/(E$167^E$166),\"\"))","v":""},"","","","","","","","","","","","","",null,"","","","","","","","","","",{"$error":"#VALUE!"},{"$f":"F139","v":0},0,0,{"$f":"_xlfn.XLOOKUP(B178,Measures[[#All],[Measure]],Measures[[#All],[Lifetime '[Years']]],\"\",0,1)","v":""},0,{"$f":"_xlfn.IFS(B178=0,0,AND(_xlfn.XLOOKUP(B178,Measures[[#All],[Measure]],Measures[[#All],[Technical/operational]],\"\",0,1)=\"Technical\",B178=\"Hull performance coating\"),AI178,\nAND(_xlfn.XLOOKUP(B178,Measures[[#All],[Measure]],Measures[[#All],[Technical/operational]],\"\",0,1)=\"Operational\",AH178>=AI178),AI178,\nAND(_xlfn.XLOOKUP(B178,Measures[[#All],[Measure]],Measures[[#All],[Technical/operational]],\"\",0,1)=\"Operational\",AH178<AI178),AI178,\nAND(_xlfn.XLOOKUP(B178,Measures[[#All],[Measure]],Measures[[#All],[Technical/operational]],\"\",0,1)=\"Technical\",B178<>\"Hull performance coating\",AH178>=AI178),AI178,\nAND(_xlfn.XLOOKUP(B178,Measures[[#All],[Measure]],Measures[[#All],[Technical/operational]],\"\",0,1)=\"Technical\",B178<>\"Hull performance coating\",AH178<AI178),AH178)","v":0}]
[11,0,{"$f":"_xlfn.IFS(B179=0,\"\",B179=\"Hull performance coating\",_xlfn.XLOOKUP(B179,Measures[[#All],[Measure]],Measures[[#All],[CAPEX NB '[$']]],0,0,1)*(AI179/AH179), B179<>\"Hull performance coating\",_xlfn.XLOOKUP(B179,Measures[[#All],[Measure]],Measures[[#All],[CAPEX NB '[$']]],0,0,1))","v":""},"",{"$f":"IF($B179=0,\"\",IF(E$166<=$F140,($M140-E$168*$J140)/(E$167^E$166),\"\"))","v":""},"","","","","","","","","","","","","",null,"","","","","","","","","","",{"$error":"#VALUE!"},0,0,0,{"$f":"_xlfn.XLOOKUP(B179,Measures[[#All],[Measure]],Measures[[#All],[Lifetime '[Years']]],\"\",0,1)","v":""},0,{"$f":"_xlfn.IFS(B179=0,0,AND(_xlfn.XLOOKUP(B179,Measures[[#All],[Measure]],Measures[[#All],[Technical/operational]],\"\",0,1)=\"Technical\",B179=\"Hull performance coating\"),AI179,\nAND(_xlfn.XLOOKUP(B179,Measures[[#All],[Measure]],Measures[[#All],[Technical/operational]],\"\",0,1)=\"Operational\",AH179>=AI179),AI179,\nAND(_xlfn.XLOOKUP(B179,Measures[[#All],[Measure]],Measures[[#All],[Technical/operational]],\"\",0,1)=\"Operational\",AH179<AI179),AI179,\nAND(_xlfn.XLOOKUP(B179,Measures[[#All],[Measure]],Measures[[#All],[Technical/operational]],\"\",0,1)=\"Technical\",B179<>\"Hull performance coating\",AH179>=AI179),AI179,\nAND(_xlfn.XLOOKUP(B179,Measures[[#All],[Measure]],Measures[[#All],[Technical/operational]],\"\",0,1)=\"Technical\",B179<>\"Hull performance coating\",AH179<AI179),AH179)","v":0}]
[12,0,{"$f":"_xlfn.IFS(B180=0,\"\",B180=\"Hull performance coating\",_xlfn.XLOOKUP(B180,Measures[[#All],[Measure]],Measures[[#All],[CAPEX NB '[$']]],0,0,1)*(AI180/AH180), B180<>\"Hull performance coating\",_xlfn.XLOOKUP(B180,Measures[[#All],[Measure]],Measures[[#All],[CAPEX NB '[$']]],0,0,1))","v":""},"",{"$f":"IF($B180=0,\"\",IF(E$166<=$F141,($M141-E$168*$J141)/(E$167^E$166),\"\"))","v":""},"","","","","","","","","","","","","",null,"","","","","","","","","","",{"$error":"#VALUE!"},0,0,0,{"$f":"_xlfn.XLOOKUP(B180,Measures[[#All],[Measure]],Measures[[#All],[Lifetime '[Years']]],\"\",0,1)","v":""},0,{"$f":"_xlfn.IFS(B180=0,0,AND(_xlfn.XLOOKUP(B180,Measures[[#All],[Measure]],Measures[[#All],[Technical/operational]],\"\",0,1)=\"Technical\",B180=\"Hull performance coating\"),AI180,\nAND(_xlfn.XLOOKUP(B180,Measures[[#All],[Measure]],Measures[[#All],[Technical/operational]],\"\",0,1)=\"Operational\",AH180>=AI180),AI180,\nAND(_xlfn.XLOOKUP(B180,Measures[[#All],[Measure]],Measures[[#All],[Technical/operational]],\"\",0,1)=\"Operational\",AH180<AI180),AI180,\nAND(_xlfn.XLOOKUP(B180,Measures[[#All],[Measure]],Measures[[#All],[Technical/operational]],\"\",0,1)=\"Technical\",B180<>\"Hull performance coating\",AH180>=AI180),AI180,\nAND(_xlfn.XLOOKUP(B180,Measures[[#All],[Measure]],Measures[[#All],[Technical/operational]],\"\",0,1)=\"Technical\",B180<>\"Hull performance coating\",AH180<AI180),AH180)","v":0}]
[13,0,{"$f":"_xlfn.IFS(B181=0,\"\",B181=\"Hull performance coating\",_xlfn.XLOOKUP(B181,Measures[[#All],[Measure]],Measures[[#All],[CAPEX NB '[$']]],0,0,1)*(AI181/AH181), B181<>\"Hull performance coating\",_xlfn.XLOOKUP(B181,Measures[[#All],[Measure]],Measures[[#All],[CAPEX NB '[$']]],0,0,1))","v":""},"",{"$f":"IF($B181=0,\"\",IF(E$166<=$F142,($M142-E$168*$J142)/(E$167^E$166),\"\"))","v":""},"","","","","","","","","","","","","",null,"","","","","","","","","","",{"$error":"#VALUE!"},0,0,0,{"$f":"_xlfn.XLOOKUP(B181,Measures[[#All],[Measure]],Measures[[#All],[Lifetime '[Years']]],\"\",0,1)","v":""},0,{"$f":"_xlfn.IFS(B181=0,0,AND(_xlfn.XLOOKUP(B181,Measures[[#All],[Measure]],Measures[[#All],[Technical/operational]],\"\",0,1)=\"Technical\",B181=\"Hull performance coating\"),AI181,\nAND(_xlfn.XLOOKUP(B181,Measures[[#All],[Measure]],Measures[[#All],[Technical/operational]],\"\",0,1)=\"Operational\",AH181>=AI181),AI181,\nAND(_xlfn.XLOOKUP(B181,Measures[[#All],[Measure]],Measures[[#All],[Technical/operational]],\"\",0,1)=\"Operational\",AH181<AI181),AI181,\nAND(_xlfn.XLOOKUP(B181,Measures[[#All],[Measure]],Measures[[#All],[Technical/operational]],\"\",0,1)=\"Technical\",B181<>\"Hull performance coating\",AH181>=AI181),AI181,\nAND(_xlfn.XLOOKUP(B181,Measures[[#All],[Measure]],Measures[[#All],[Technical/operational]],\"\",0,1)=\"Technical\",B181<>\"Hull performance coating\",AH181<AI181),AH181)","v":0}]
[14,0,{"$f":"_xlfn.IFS(B182=0,\"\",B182=\"Hull performance coating\",_xlfn.XLOOKUP(B182,Measures[[#All],[Measure]],Measures[[#All],[CAPEX NB '[$']]],0,0,1)*(AI182/AH182), B182<>\"Hull performance coating\",_xlfn.XLOOKUP(B182,Measures[[#All],[Measure]],Measures[[#All],[CAPEX NB '[$']]],0,0,1))","v":""},"",{"$f":"IF($B182=0,\"\",IF(E$166<=$F143,($M143-E$168*$J143)/(E$167^E$166),\"\"))","v":""},"","","","","","","","","","","","","",null,"","","","","","","","","","",{"$error":"#VALUE!"},0,0,0,{"$f":"_xlfn.XLOOKUP(B182,Measures[[#All],[Measure]],Measures[[#All],[Lifetime '[Years']]],\"\",0,1)","v":""},0,{"$f":"_xlfn.IFS(B182=0,0,AND(_xlfn.XLOOKUP(B182,Measures[[#All],[Measure]],Measures[[#All],[Technical/operational]],\"\",0,1)=\"Technical\",B182=\"Hull performance coating\"),AI182,\nAND(_xlfn.XLOOKUP(B182,Measures[[#All],[Measure]],Measures[[#All],[Technical/operational]],\"\",0,1)=\"Operational\",AH182>=AI182),AI182,\nAND(_xlfn.XLOOKUP(B182,Measures[[#All],[Measure]],Measures[[#All],[Technical/operational]],\"\",0,1)=\"Operational\",AH182<AI182),AI182,\nAND(_xlfn.XLOOKUP(B182,Measures[[#All],[Measure]],Measures[[#All],[Technical/operational]],\"\",0,1)=\"Technical\",B182<>\"Hull performance coating\",AH182>=AI182),AI182,\nAND(_xlfn.XLOOKUP(B182,Measures[[#All],[Measure]],Measures[[#All],[Technical/operational]],\"\",0,1)=\"Technical\",B182<>\"Hull performance coating\",AH182<AI182),AH182)","v":0}]
[15,0,{"$f":"_xlfn.IFS(B183=0,\"\",B183=\"Hull performance coating\",_xlfn.XLOOKUP(B183,Measures[[#All],[Measure]],Measures[[#All],[CAPEX NB '[$']]],0,0,1)*(AI183/AH183), B183<>\"Hull performance coating\",_xlfn.XLOOKUP(B183,Measures[[#All],[Measure]],Measures[[#All],[CAPEX NB '[$']]],0,0,1))","v":""},"",{"$f":"IF($B183=0,\"\",IF(E$166<=$F144,($M144-E$168*$J144)/(E$167^E$166),\"\"))","v":""},"","","","","","","","","","","","","",null,"","","","","","","","","","",{"$error":"#VALUE!"},0,0,0,{"$f":"_xlfn.XLOOKUP(B183,Measures[[#All],[Measure]],Measures[[#All],[Lifetime '[Years']]],\"\",0,1)","v":""},0,{"$f":"_xlfn.IFS(B183=0,0,AND(_xlfn.XLOOKUP(B183,Measures[[#All],[Measure]],Measures[[#All],[Technical/operational]],\"\",0,1)=\"Technical\",B183=\"Hull performance coating\"),AI183,\nAND(_xlfn.XLOOKUP(B183,Measures[[#All],[Measure]],Measures[[#All],[Technical/operational]],\"\",0,1)=\"Operational\",AH183>=AI183),AI183,\nAND(_xlfn.XLOOKUP(B183,Measures[[#All],[Measure]],Measures[[#All],[Technical/operational]],\"\",0,1)=\"Operational\",AH183<AI183),AI183,\nAND(_xlfn.XLOOKUP(B183,Measures[[#All],[Measure]],Measures[[#All],[Technical/operational]],\"\",0,1)=\"Technical\",B183<>\"Hull performance coating\",AH183>=AI183),AI183,\nAND(_xlfn.XLOOKUP(B183,Measures[[#All],[Measure]],Measures[[#All],[Technical/operational]],\"\",0,1)=\"Technical\",B183<>\"Hull performance coating\",AH183<AI183),AH183)","v":0}]
[16,0,{"$f":"_xlfn.IFS(B184=0,\"\",B184=\"Hull performance coating\",_xlfn.XLOOKUP(B184,Measures[[#All],[Measure]],Measures[[#All],[CAPEX NB '[$']]],0,0,1)*(AI184/AH184), B184<>\"Hull performance coating\",_xlfn.XLOOKUP(B184,Measures[[#All],[Measure]],Measures[[#All],[CAPEX NB '[$']]],0,0,1))","v":""},"",{"$f":"IF($B184=0,\"\",IF(E$166<=$F145,($M145-E$168*$J145)/(E$167^E$166),\"\"))","v":""},"","","","","","","","","","","","","",null,"","","","","","","","","","",{"$error":"#VALUE!"},0,0,0,{"$f":"_xlfn.XLOOKUP(B184,Measures[[#All],[Measure]],Measures[[#All],[Lifetime '[Years']]],\"\",0,1)","v":""},0,{"$f":"_xlfn.IFS(B184=0,0,AND(_xlfn.XLOOKUP(B184,Measures[[#All],[Measure]],Measures[[#All],[Technical/operational]],\"\",0,1)=\"Technical\",B184=\"Hull performance coating\"),AI184,\nAND(_xlfn.XLOOKUP(B184,Measures[[#All],[Measure]],Measures[[#All],[Technical/operational]],\"\",0,1)=\"Operational\",AH184>=AI184),AI184,\nAND(_xlfn.XLOOKUP(B184,Measures[[#All],[Measure]],Measures[[#All],[Technical/operational]],\"\",0,1)=\"Operational\",AH184<AI184),AI184,\nAND(_xlfn.XLOOKUP(B184,Measures[[#All],[Measure]],Measures[[#All],[Technical/operational]],\"\",0,1)=\"Technical\",B184<>\"Hull performance coating\",AH184>=AI184),AI184,\nAND(_xlfn.XLOOKUP(B184,Measures[[#All],[Measure]],Measures[[#All],[Technical/operational]],\"\",0,1)=\"Technical\",B184<>\"Hull performance coating\",AH184<AI184),AH184)","v":0}]
[17,0,{"$f":"_xlfn.IFS(B185=0,\"\",B185=\"Hull performance coating\",_xlfn.XLOOKUP(B185,Measures[[#All],[Measure]],Measures[[#All],[CAPEX NB '[$']]],0,0,1)*(AI185/AH185), B185<>\"Hull performance coating\",_xlfn.XLOOKUP(B185,Measures[[#All],[Measure]],Measures[[#All],[CAPEX NB '[$']]],0,0,1))","v":""},"",{"$f":"IF($B185=0,\"\",IF(E$166<=$F146,($M146-E$168*$J146)/(E$167^E$166),\"\"))","v":""},"","","","","","","","","","","","","",null,"","","","","","","","","","",{"$error":"#VALUE!"},0,0,0,{"$f":"_xlfn.XLOOKUP(B185,Measures[[#All],[Measure]],Measures[[#All],[Lifetime '[Years']]],\"\",0,1)","v":""},0,{"$f":"_xlfn.IFS(B185=0,0,AND(_xlfn.XLOOKUP(B185,Measures[[#All],[Measure]],Measures[[#All],[Technical/operational]],\"\",0,1)=\"Technical\",B185=\"Hull performance coating\"),AI185,\nAND(_xlfn.XLOOKUP(B185,Measures[[#All],[Measure]],Measures[[#All],[Technical/operational]],\"\",0,1)=\"Operational\",AH185>=AI185),AI185,\nAND(_xlfn.XLOOKUP(B185,Measures[[#All],[Measure]],Measures[[#All],[Technical/operational]],\"\",0,1)=\"Operational\",AH185<AI185),AI185,\nAND(_xlfn.XLOOKUP(B185,Measures[[#All],[Measure]],Measures[[#All],[Technical/operational]],\"\",0,1)=\"Technical\",B185<>\"Hull performance coating\",AH185>=AI185),AI185,\nAND(_xlfn.XLOOKUP(B185,Measures[[#All],[Measure]],Measures[[#All],[Technical/operational]],\"\",0,1)=\"Technical\",B185<>\"Hull performance coating\",AH185<AI185),AH185)","v":0}]
[18,0,{"$f":"_xlfn.IFS(B186=0,\"\",B186=\"Hull performance coating\",_xlfn.XLOOKUP(B186,Measures[[#All],[Measure]],Measures[[#All],[CAPEX NB '[$']]],0,0,1)*(AI186/AH186), B186<>\"Hull performance coating\",_xlfn.XLOOKUP(B186,Measures[[#All],[Measure]],Measures[[#All],[CAPEX NB '[$']]],0,0,1))","v":""},"",{"$f":"IF($B186=0,\"\",IF(E$166<=$F147,($M147-E$168*$J147)/(E$167^E$166),\"\"))","v":""},"","","","","","","","","","","","","",null,"","","","","","","","","","",{"$error":"#VALUE!"},0,0,0,{"$f":"_xlfn.XLOOKUP(B186,Measures[[#All],[Measure]],Measures[[#All],[Lifetime '[Years']]],\"\",0,1)","v":""},0,{"$f":"_xlfn.IFS(B186=0,0,AND(_xlfn.XLOOKUP(B186,Measures[[#All],[Measure]],Measures[[#All],[Technical/operational]],\"\",0,1)=\"Technical\",B186=\"Hull performance coating\"),AI186,\nAND(_xlfn.XLOOKUP(B186,Measures[[#All],[Measure]],Measures[[#All],[Technical/operational]],\"\",0,1)=\"Operational\",AH186>=AI186),AI186,\nAND(_xlfn.XLOOKUP(B186,Measures[[#All],[Measure]],Measures[[#All],[Technical/operational]],\"\",0,1)=\"Operational\",AH186<AI186),AI186,\nAND(_xlfn.XLOOKUP(B186,Measures[[#All],[Measure]],Measures[[#All],[Technical/operational]],\"\",0,1)=\"Technical\",B186<>\"Hull performance coating\",AH186>=AI186),AI186,\nAND(_xlfn.XLOOKUP(B186,Measures[[#All],[Measure]],Measures[[#All],[Technical/operational]],\"\",0,1)=\"Technical\",B186<>\"Hull performance coating\",AH186<AI186),AH186)","v":0}]
[19,0,{"$f":"_xlfn.IFS(B187=0,\"\",B187=\"Hull performance coating\",_xlfn.XLOOKUP(B187,Measures[[#All],[Measure]],Measures[[#All],[CAPEX NB '[$']]],0,0,1)*(AI187/AH187), B187<>\"Hull performance coating\",_xlfn.XLOOKUP(B187,Measures[[#All],[Measure]],Measures[[#All],[CAPEX NB '[$']]],0,0,1))","v":""},"",{"$f":"IF($B187=0,\"\",IF(E$166<=$F148,($M148-E$168*$J148)/(E$167^E$166),\"\"))","v":""},"","","","","","","","","","","","","",null,"","","","","","","","","","",{"$error":"#VALUE!"},0,0,0,{"$f":"_xlfn.XLOOKUP(B187,Measures[[#All],[Measure]],Measures[[#All],[Lifetime '[Years']]],\"\",0,1)","v":""},0,{"$f":"_xlfn.IFS(B187=0,0,AND(_xlfn.XLOOKUP(B187,Measures[[#All],[Measure]],Measures[[#All],[Technical/operational]],\"\",0,1)=\"Technical\",B187=\"Hull performance coating\"),AI187,\nAND(_xlfn.XLOOKUP(B187,Measures[[#All],[Measure]],Measures[[#All],[Technical/operational]],\"\",0,1)=\"Operational\",AH187>=AI187),AI187,\nAND(_xlfn.XLOOKUP(B187,Measures[[#All],[Measure]],Measures[[#All],[Technical/operational]],\"\",0,1)=\"Operational\",AH187<AI187),AI187,\nAND(_xlfn.XLOOKUP(B187,Measures[[#All],[Measure]],Measures[[#All],[Technical/operational]],\"\",0,1)=\"Technical\",B187<>\"Hull performance coating\",AH187>=AI187),AI187,\nAND(_xlfn.XLOOKUP(B187,Measures[[#All],[Measure]],Measures[[#All],[Technical/operational]],\"\",0,1)=\"Technical\",B187<>\"Hull performance coating\",AH187<AI187),AH187)","v":0}]
[20,0,{"$f":"_xlfn.IFS(B188=0,\"\",B188=\"Hull performance coating\",_xlfn.XLOOKUP(B188,Measures[[#All],[Measure]],Measures[[#All],[CAPEX NB '[$']]],0,0,1)*(AI188/AH188), B188<>\"Hull performance coating\",_xlfn.XLOOKUP(B188,Measures[[#All],[Measure]],Measures[[#All],[CAPEX NB '[$']]],0,0,1))","v":""},"",{"$f":"IF($B188=0,\"\",IF(E$166<=$F149,($M149-E$168*$J149)/(E$167^E$166),\"\"))","v":""},"","","","","","","","","","","","","",null,"","","","","","","","","","",{"$error":"#VALUE!"},0,0,0,{"$f":"_xlfn.XLOOKUP(B188,Measures[[#All],[Measure]],Measures[[#All],[Lifetime '[Years']]],\"\",0,1)","v":""},0,{"$f":"_xlfn.IFS(B188=0,0,AND(_xlfn.XLOOKUP(B188,Measures[[#All],[Measure]],Measures[[#All],[Technical/operational]],\"\",0,1)=\"Technical\",B188=\"Hull performance coating\"),AI188,\nAND(_xlfn.XLOOKUP(B188,Measures[[#All],[Measure]],Measures[[#All],[Technical/operational]],\"\",0,1)=\"Operational\",AH188>=AI188),AI188,\nAND(_xlfn.XLOOKUP(B188,Measures[[#All],[Measure]],Measures[[#All],[Technical/operational]],\"\",0,1)=\"Operational\",AH188<AI188),AI188,\nAND(_xlfn.XLOOKUP(B188,Measures[[#All],[Measure]],Measures[[#All],[Technical/operational]],\"\",0,1)=\"Technical\",B188<>\"Hull performance coating\",AH188>=AI188),AI188,\nAND(_xlfn.XLOOKUP(B188,Measures[[#All],[Measure]],Measures[[#All],[Technical/operational]],\"\",0,1)=\"Technical\",B188<>\"Hull performance coating\",AH188<AI188),AH188)","v":0}]
[21,0,{"$f":"_xlfn.IFS(B189=0,\"\",B189=\"Hull performance coating\",_xlfn.XLOOKUP(B189,Measures[[#All],[Measure]],Measures[[#All],[CAPEX NB '[$']]],0,0,1)*(AI189/AH189), B189<>\"Hull performance coating\",_xlfn.XLOOKUP(B189,Measures[[#All],[Measure]],Measures[[#All],[CAPEX NB '[$']]],0,0,1))","v":""},"",{"$f":"IF($B189=0,\"\",IF(E$166<=$F150,($M150-E$168*$J150)/(E$167^E$166),\"\"))","v":""},"","","","","","","","","","","","","",null,"","","","","","","","","","",{"$error":"#VALUE!"},0,0,0,{"$f":"_xlfn.XLOOKUP(B189,Measures[[#All],[Measure]],Measures[[#All],[Lifetime '[Years']]],\"\",0,1)","v":""},0,{"$f":"_xlfn.IFS(B189=0,0,AND(_xlfn.XLOOKUP(B189,Measures[[#All],[Measure]],Measures[[#All],[Technical/operational]],\"\",0,1)=\"Technical\",B189=\"Hull performance coating\"),AI189,\nAND(_xlfn.XLOOKUP(B189,Measures[[#All],[Measure]],Measures[[#All],[Technical/operational]],\"\",0,1)=\"Operational\",AH189>=AI189),AI189,\nAND(_xlfn.XLOOKUP(B189,Measures[[#All],[Measure]],Measures[[#All],[Technical/operational]],\"\",0,1)=\"Operational\",AH189<AI189),AI189,\nAND(_xlfn.XLOOKUP(B189,Measures[[#All],[Measure]],Measures[[#All],[Technical/operational]],\"\",0,1)=\"Technical\",B189<>\"Hull performance coating\",AH189>=AI189),AI189,\nAND(_xlfn.XLOOKUP(B189,Measures[[#All],[Measure]],Measures[[#All],[Technical/operational]],\"\",0,1)=\"Technical\",B189<>\"Hull performance coating\",AH189<AI189),AH189)","v":0}]
[22,0,{"$f":"_xlfn.IFS(B190=0,\"\",B190=\"Hull performance coating\",_xlfn.XLOOKUP(B190,Measures[[#All],[Measure]],Measures[[#All],[CAPEX NB '[$']]],0,0,1)*(AI190/AH190), B190<>\"Hull performance coating\",_xlfn.XLOOKUP(B190,Measures[[#All],[Measure]],Measures[[#All],[CAPEX NB '[$']]],0,0,1))","v":""},"",{"$f":"IF($B190=0,\"\",IF(E$166<=$F151,($M151-E$168*$J151)/(E$167^E$166),\"\"))","v":""},"","","","","","","","","","","","","",null,"","","","","","","","","","",{"$error":"#VALUE!"},0,0,0,{"$f":"_xlfn.XLOOKUP(B190,Measures[[#All],[Measure]],Measures[[#All],[Lifetime '[Years']]],\"\",0,1)","v":""},0,{"$f":"_xlfn.IFS(B190=0,0,AND(_xlfn.XLOOKUP(B190,Measures[[#All],[Measure]],Measures[[#All],[Technical/operational]],\"\",0,1)=\"Technical\",B190=\"Hull performance coating\"),AI190,\nAND(_xlfn.XLOOKUP(B190,Measures[[#All],[Measure]],Measures[[#All],[Technical/operational]],\"\",0,1)=\"Operational\",AH190>=AI190),AI190,\nAND(_xlfn.XLOOKUP(B190,Measures[[#All],[Measure]],Measures[[#All],[Technical/operational]],\"\",0,1)=\"Operational\",AH190<AI190),AI190,\nAND(_xlfn.XLOOKUP(B190,Measures[[#All],[Measure]],Measures[[#All],[Technical/operational]],\"\",0,1)=\"Technical\",B190<>\"Hull performance coating\",AH190>=AI190),AI190,\nAND(_xlfn.XLOOKUP(B190,Measures[[#All],[Measure]],Measures[[#All],[Technical/operational]],\"\",0,1)=\"Technical\",B190<>\"Hull performance coating\",AH190<AI190),AH190)","v":0}]
[23,0,{"$f":"_xlfn.IFS(B191=0,\"\",B191=\"Hull performance coating\",_xlfn.XLOOKUP(B191,Measures[[#All],[Measure]],Measures[[#All],[CAPEX NB '[$']]],0,0,1)*(AI191/AH191), B191<>\"Hull performance coating\",_xlfn.XLOOKUP(B191,Measures[[#All],[Measure]],Measures[[#All],[CAPEX NB '[$']]],0,0,1))","v":""},"",{"$f":"IF($B191=0,\"\",IF(E$166<=$F152,($M152-E$168*$J152)/(E$167^E$166),\"\"))","v":""},"","","","","","","","","","","","","",null,"","","","","","","","","","",{"$error":"#VALUE!"},0,0,0,{"$f":"_xlfn.XLOOKUP(B191,Measures[[#All],[Measure]],Measures[[#All],[Lifetime '[Years']]],\"\",0,1)","v":""},0,{"$f":"_xlfn.IFS(B191=0,0,AND(_xlfn.XLOOKUP(B191,Measures[[#All],[Measure]],Measures[[#All],[Technical/operational]],\"\",0,1)=\"Technical\",B191=\"Hull performance coating\"),AI191,\nAND(_xlfn.XLOOKUP(B191,Measures[[#All],[Measure]],Measures[[#All],[Technical/operational]],\"\",0,1)=\"Operational\",AH191>=AI191),AI191,\nAND(_xlfn.XLOOKUP(B191,Measures[[#All],[Measure]],Measures[[#All],[Technical/operational]],\"\",0,1)=\"Operational\",AH191<AI191),AI191,\nAND(_xlfn.XLOOKUP(B191,Measures[[#All],[Measure]],Measures[[#All],[Technical/operational]],\"\",0,1)=\"Technical\",B191<>\"Hull performance coating\",AH191>=AI191),AI191,\nAND(_xlfn.XLOOKUP(B191,Measures[[#All],[Measure]],Measures[[#All],[Technical/operational]],\"\",0,1)=\"Technical\",B191<>\"Hull performance coating\",AH191<AI191),AH191)","v":0}]
[24,0,{"$f":"_xlfn.IFS(B192=0,\"\",B192=\"Hull performance coating\",_xlfn.XLOOKUP(B192,Measures[[#All],[Measure]],Measures[[#All],[CAPEX NB '[$']]],0,0,1)*(AI192/AH192), B192<>\"Hull performance coating\",_xlfn.XLOOKUP(B192,Measures[[#All],[Measure]],Measures[[#All],[CAPEX NB '[$']]],0,0,1))","v":""},"",{"$f":"IF($B192=0,\"\",IF(E$166<=$F153,($M153-E$168*$J153)/(E$167^E$166),\"\"))","v":""},"","","","","","","","","","","","","",null,"","","","","","","","","","",{"$error":"#VALUE!"},0,0,0,{"$f":"_xlfn.XLOOKUP(B192,Measures[[#All],[Measure]],Measures[[#All],[Lifetime '[Years']]],\"\",0,1)","v":""},0,{"$f":"_xlfn.IFS(B192=0,0,AND(_xlfn.XLOOKUP(B192,Measures[[#All],[Measure]],Measures[[#All],[Technical/operational]],\"\",0,1)=\"Technical\",B192=\"Hull performance coating\"),AI192,\nAND(_xlfn.XLOOKUP(B192,Measures[[#All],[Measure]],Measures[[#All],[Technical/operational]],\"\",0,1)=\"Operational\",AH192>=AI192),AI192,\nAND(_xlfn.XLOOKUP(B192,Measures[[#All],[Measure]],Measures[[#All],[Technical/operational]],\"\",0,1)=\"Operational\",AH192<AI192),AI192,\nAND(_xlfn.XLOOKUP(B192,Measures[[#All],[Measure]],Measures[[#All],[Technical/operational]],\"\",0,1)=\"Technical\",B192<>\"Hull performance coating\",AH192>=AI192),AI192,\nAND(_xlfn.XLOOKUP(B192,Measures[[#All],[Measure]],Measures[[#All],[Technical/operational]],\"\",0,1)=\"Technical\",B192<>\"Hull performance coating\",AH192<AI192),AH192)","v":0}]
[25,0,{"$f":"_xlfn.IFS(B193=0,\"\",B193=\"Hull performance coating\",_xlfn.XLOOKUP(B193,Measures[[#All],[Measure]],Measures[[#All],[CAPEX NB '[$']]],0,0,1)*(AI193/AH193), B193<>\"Hull performance coating\",_xlfn.XLOOKUP(B193,Measures[[#All],[Measure]],Measures[[#All],[CAPEX NB '[$']]],0,0,1))","v":""},"",{"$f":"IF($B193=0,\"\",IF(E$166<=$F154,($M154-E$168*$J154)/(E$167^E$166),\"\"))","v":""},"","","","","","","","","","","","","",null,"","","","","","","","","","",{"$error":"#VALUE!"},0,0,0,{"$f":"_xlfn.XLOOKUP(B193,Measures[[#All],[Measure]],Measures[[#All],[Lifetime '[Years']]],\"\",0,1)","v":""},0,{"$f":"_xlfn.IFS(B193=0,0,AND(_xlfn.XLOOKUP(B193,Measures[[#All],[Measure]],Measures[[#All],[Technical/operational]],\"\",0,1)=\"Technical\",B193=\"Hull performance coating\"),AI193,\nAND(_xlfn.XLOOKUP(B193,Measures[[#All],[Measure]],Measures[[#All],[Technical/operational]],\"\",0,1)=\"Operational\",AH193>=AI193),AI193,\nAND(_xlfn.XLOOKUP(B193,Measures[[#All],[Measure]],Measures[[#All],[Technical/operational]],\"\",0,1)=\"Operational\",AH193<AI193),AI193,\nAND(_xlfn.XLOOKUP(B193,Measures[[#All],[Measure]],Measures[[#All],[Technical/operational]],\"\",0,1)=\"Technical\",B193<>\"Hull performance coating\",AH193>=AI193),AI193,\nAND(_xlfn.XLOOKUP(B193,Measures[[#All],[Measure]],Measures[[#All],[Technical/operational]],\"\",0,1)=\"Technical\",B193<>\"Hull performance coating\",AH193<AI193),AH193)","v":0}]
[26,0,{"$f":"_xlfn.IFS(B194=0,\"\",B194=\"Hull performance coating\",_xlfn.XLOOKUP(B194,Measures[[#All],[Measure]],Measures[[#All],[CAPEX NB '[$']]],0,0,1)*(AI194/AH194), B194<>\"Hull performance coating\",_xlfn.XLOOKUP(B194,Measures[[#All],[Measure]],Measures[[#All],[CAPEX NB '[$']]],0,0,1))","v":""},"",{"$f":"IF($B194=0,\"\",IF(E$166<=$F155,($M155-E$168*$J155)/(E$167^E$166),\"\"))","v":""},"","","","","","","","","","","","","",null,"","","","","","","","","","",{"$error":"#VALUE!"},0,0,0,{"$f":"_xlfn.XLOOKUP(B194,Measures[[#All],[Measure]],Measures[[#All],[Lifetime '[Years']]],\"\",0,1)","v":""},0,{"$f":"_xlfn.IFS(B194=0,0,AND(_xlfn.XLOOKUP(B194,Measures[[#All],[Measure]],Measures[[#All],[Technical/operational]],\"\",0,1)=\"Technical\",B194=\"Hull performance coating\"),AI194,\nAND(_xlfn.XLOOKUP(B194,Measures[[#All],[Measure]],Measures[[#All],[Technical/operational]],\"\",0,1)=\"Operational\",AH194>=AI194),AI194,\nAND(_xlfn.XLOOKUP(B194,Measures[[#All],[Measure]],Measures[[#All],[Technical/operational]],\"\",0,1)=\"Operational\",AH194<AI194),AI194,\nAND(_xlfn.XLOOKUP(B194,Measures[[#All],[Measure]],Measures[[#All],[Technical/operational]],\"\",0,1)=\"Technical\",B194<>\"Hull performance coating\",AH194>=AI194),AI194,\nAND(_xlfn.XLOOKUP(B194,Measures[[#All],[Measure]],Measures[[#All],[Technical/operational]],\"\",0,1)=\"Technical\",B194<>\"Hull performance coating\",AH194<AI194),AH194)","v":0}]
[27,0,{"$f":"_xlfn.IFS(B195=0,\"\",B195=\"Hull performance coating\",_xlfn.XLOOKUP(B195,Measures[[#All],[Measure]],Measures[[#All],[CAPEX NB '[$']]],0,0,1)*(AI195/AH195), B195<>\"Hull performance coating\",_xlfn.XLOOKUP(B195,Measures[[#All],[Measure]],Measures[[#All],[CAPEX NB '[$']]],0,0,1))","v":""},"",{"$f":"IF($B195=0,\"\",IF(E$166<=$F156,($M156-E$168*$J156)/(E$167^E$166),\"\"))","v":""},"","","","","","","","","","","","","",null,"","","","","","","","","","",{"$error":"#VALUE!"},0,0,0,{"$f":"_xlfn.XLOOKUP(B195,Measures[[#All],[Measure]],Measures[[#All],[Lifetime '[Years']]],\"\",0,1)","v":""},0,{"$f":"_xlfn.IFS(B195=0,0,AND(_xlfn.XLOOKUP(B195,Measures[[#All],[Measure]],Measures[[#All],[Technical/operational]],\"\",0,1)=\"Technical\",B195=\"Hull performance coating\"),AI195,\nAND(_xlfn.XLOOKUP(B195,Measures[[#All],[Measure]],Measures[[#All],[Technical/operational]],\"\",0,1)=\"Operational\",AH195>=AI195),AI195,\nAND(_xlfn.XLOOKUP(B195,Measures[[#All],[Measure]],Measures[[#All],[Technical/operational]],\"\",0,1)=\"Operational\",AH195<AI195),AI195,\nAND(_xlfn.XLOOKUP(B195,Measures[[#All],[Measure]],Measures[[#All],[Technical/operational]],\"\",0,1)=\"Technical\",B195<>\"Hull performance coating\",AH195>=AI195),AI195,\nAND(_xlfn.XLOOKUP(B195,Measures[[#All],[Measure]],Measures[[#All],[Technical/operational]],\"\",0,1)=\"Technical\",B195<>\"Hull performance coating\",AH195<AI195),AH195)","v":0}]
[28,0,{"$f":"_xlfn.IFS(B196=0,\"\",B196=\"Hull performance coating\",_xlfn.XLOOKUP(B196,Measures[[#All],[Measure]],Measures[[#All],[CAPEX NB '[$']]],0,0,1)*(AI196/AH196), B196<>\"Hull performance coating\",_xlfn.XLOOKUP(B196,Measures[[#All],[Measure]],Measures[[#All],[CAPEX NB '[$']]],0,0,1))","v":""},"",{"$f":"IF($B196=0,\"\",IF(E$166<=$F157,($M157-E$168*$J157)/(E$167^E$166),\"\"))","v":""},"","","","","","","","","","","","","",null,"","","","","","","","","","",{"$error":"#VALUE!"},0,0,0,{"$f":"_xlfn.XLOOKUP(B196,Measures[[#All],[Measure]],Measures[[#All],[Lifetime '[Years']]],\"\",0,1)","v":""},0,{"$f":"_xlfn.IFS(B196=0,0,AND(_xlfn.XLOOKUP(B196,Measures[[#All],[Measure]],Measures[[#All],[Technical/operational]],\"\",0,1)=\"Technical\",B196=\"Hull performance coating\"),AI196,\nAND(_xlfn.XLOOKUP(B196,Measures[[#All],[Measure]],Measures[[#All],[Technical/operational]],\"\",0,1)=\"Operational\",AH196>=AI196),AI196,\nAND(_xlfn.XLOOKUP(B196,Measures[[#All],[Measure]],Measures[[#All],[Technical/operational]],\"\",0,1)=\"Operational\",AH196<AI196),AI196,\nAND(_xlfn.XLOOKUP(B196,Measures[[#All],[Measure]],Measures[[#All],[Technical/operational]],\"\",0,1)=\"Technical\",B196<>\"Hull performance coating\",AH196>=AI196),AI196,\nAND(_xlfn.XLOOKUP(B196,Measures[[#All],[Measure]],Measures[[#All],[Technical/operational]],\"\",0,1)=\"Technical\",B196<>\"Hull performance coating\",AH196<AI196),AH196)","v":0}]
[29,0,{"$f":"_xlfn.IFS(B197=0,\"\",B197=\"Hull performance coating\",_xlfn.XLOOKUP(B197,Measures[[#All],[Measure]],Measures[[#All],[CAPEX NB '[$']]],0,0,1)*(AI197/AH197), B197<>\"Hull performance coating\",_xlfn.XLOOKUP(B197,Measures[[#All],[Measure]],Measures[[#All],[CAPEX NB '[$']]],0,0,1))","v":""},"",{"$f":"IF($B197=0,\"\",IF(E$166<=$F158,($M158-E$168*$J158)/(E$167^E$166),\"\"))","v":""},"","","","","","","","","","","","","",null,"","","","","","","","","","",{"$error":"#VALUE!"},0,0,0,{"$f":"_xlfn.XLOOKUP(B197,Measures[[#All],[Measure]],Measures[[#All],[Lifetime '[Years']]],\"\",0,1)","v":""},0,{"$f":"_xlfn.IFS(B197=0,0,AND(_xlfn.XLOOKUP(B197,Measures[[#All],[Measure]],Measures[[#All],[Technical/operational]],\"\",0,1)=\"Technical\",B197=\"Hull performance coating\"),AI197,\nAND(_xlfn.XLOOKUP(B197,Measures[[#All],[Measure]],Measures[[#All],[Technical/operational]],\"\",0,1)=\"Operational\",AH197>=AI197),AI197,\nAND(_xlfn.XLOOKUP(B197,Measures[[#All],[Measure]],Measures[[#All],[Technical/operational]],\"\",0,1)=\"Operational\",AH197<AI197),AI197,\nAND(_xlfn.XLOOKUP(B197,Measures[[#All],[Measure]],Measures[[#All],[Technical/operational]],\"\",0,1)=\"Technical\",B197<>\"Hull performance coating\",AH197>=AI197),AI197,\nAND(_xlfn.XLOOKUP(B197,Measures[[#All],[Measure]],Measures[[#All],[Technical/operational]],\"\",0,1)=\"Technical\",B197<>\"Hull performance coating\",AH197<AI197),AH197)","v":0}]
[30,0,{"$f":"_xlfn.IFS(B198=0,\"\",B198=\"Hull performance coating\",_xlfn.XLOOKUP(B198,Measures[[#All],[Measure]],Measures[[#All],[CAPEX NB '[$']]],0,0,1)*(AI198/AH198), B198<>\"Hull performance coating\",_xlfn.XLOOKUP(B198,Measures[[#All],[Measure]],Measures[[#All],[CAPEX NB '[$']]],0,0,1))","v":""},"",{"$f":"IF($B198=0,\"\",IF(E$166<=$F159,($M159-E$168*$J159)/(E$167^E$166),\"\"))","v":""},"","","","","","","","","","","","","",null,"","","","","","","","","","",{"$error":"#VALUE!"},0,0,0,{"$f":"_xlfn.XLOOKUP(B198,Measures[[#All],[Measure]],Measures[[#All],[Lifetime '[Years']]],\"\",0,1)","v":""},0,{"$f":"_xlfn.IFS(B198=0,0,AND(_xlfn.XLOOKUP(B198,Measures[[#All],[Measure]],Measures[[#All],[Technical/operational]],\"\",0,1)=\"Technical\",B198=\"Hull performance coating\"),AI198,\nAND(_xlfn.XLOOKUP(B198,Measures[[#All],[Measure]],Measures[[#All],[Technical/operational]],\"\",0,1)=\"Operational\",AH198>=AI198),AI198,\nAND(_xlfn.XLOOKUP(B198,Measures[[#All],[Measure]],Measures[[#All],[Technical/operational]],\"\",0,1)=\"Operational\",AH198<AI198),AI198,\nAND(_xlfn.XLOOKUP(B198,Measures[[#All],[Measure]],Measures[[#All],[Technical/operational]],\"\",0,1)=\"Technical\",B198<>\"Hull performance coating\",AH198>=AI198),AI198,\nAND(_xlfn.XLOOKUP(B198,Measures[[#All],[Measure]],Measures[[#All],[Technical/operational]],\"\",0,1)=\"Technical\",B198<>\"Hull performance coating\",AH198<AI198),AH198)","v":0}]
[31,0,{"$f":"_xlfn.IFS(B199=0,\"\",B199=\"Hull performance coating\",_xlfn.XLOOKUP(B199,Measures[[#All],[Measure]],Measures[[#All],[CAPEX NB '[$']]],0,0,1)*(AI199/AH199), B199<>\"Hull performance coating\",_xlfn.XLOOKUP(B199,Measures[[#All],[Measure]],Measures[[#All],[CAPEX NB '[$']]],0,0,1))","v":""},"",{"$f":"IF($B199=0,\"\",IF(E$166<=$F160,($M160-E$168*$J160)/(E$167^E$166),\"\"))","v":""},"","","","","","","","","","","","","",null,"","","","","","","","","","",{"$error":"#VALUE!"},0,0,0,{"$f":"_xlfn.XLOOKUP(B199,Measures[[#All],[Measure]],Measures[[#All],[Lifetime '[Years']]],\"\",0,1)","v":""},0,{"$f":"_xlfn.IFS(B199=0,0,AND(_xlfn.XLOOKUP(B199,Measures[[#All],[Measure]],Measures[[#All],[Technical/operational]],\"\",0,1)=\"Technical\",B199=\"Hull performance coating\"),AI199,\nAND(_xlfn.XLOOKUP(B199,Measures[[#All],[Measure]],Measures[[#All],[Technical/operational]],\"\",0,1)=\"Operational\",AH199>=AI199),AI199,\nAND(_xlfn.XLOOKUP(B199,Measures[[#All],[Measure]],Measures[[#All],[Technical/operational]],\"\",0,1)=\"Operational\",AH199<AI199),AI199,\nAND(_xlfn.XLOOKUP(B199,Measures[[#All],[Measure]],Measures[[#All],[Technical/operational]],\"\",0,1)=\"Technical\",B199<>\"Hull performance coating\",AH199>=AI199),AI199,\nAND(_xlfn.XLOOKUP(B199,Measures[[#All],[Measure]],Measures[[#All],[Technical/operational]],\"\",0,1)=\"Technical\",B199<>\"Hull performance coating\",AH199<AI199),AH199)","v":0}]
[]
[]
[]
[]
[]
[]
[null,"EEDI"]
[null,{"$f":"D127","v":"With decreasing baseline"}]
[null,null,"Capex $ - Year 0",null,"Year"]
[null,"Measure",null,1,2,3,4,5,6,7,8,9,10,11,12,13,14,15,null,16,17,18,19,20,21,22,23,24,25,"NPV","Shortest lifetime","PVIFA","Annualized NPV"]
[null,"Discount rate [%]",null,{"$f":"$C$9","v":1.08},{"$f":"$C$9","v":1.08},1.08,1.08,1.08,{"$f":"$C$9","v":1.08},1.08,1.08,1.08,1.08,1.08,1.08,1.08,1.08,1.08,null,1.08,1.08,1.08,1.08,1.08,1.08,1.08,1.08,1.08,1.08]
[null,"Fuel price [$ / ton]",null,{"$f":"$C$7","v":{"$error":"#DIV/0!"}},{"$f":"$C$7","v":{"$error":"#DIV/0!"}},{"$error":"#DIV/0!"},{"$error":"#DIV/0!"},{"$error":"#DIV/0!"},{"$error":"#DIV/0!"},{"$error":"#DIV/0!"},{"$error":"#DIV/0!"},{"$error":"#DIV/0!"},{"$error":"#DIV/0!"},{"$error":"#DIV/0!"},{"$error":"#DIV/0!"},{"$error":"#DIV/0!"},{"$error":"#DIV/0!"},{"$error":"#DIV/0!"},null,{"$error":"#DIV/0!"},{"$error":"#DIV/0!"},{"$error":"#DIV/0!"},{"$error":"#DIV/0!"},{"$error":"#DIV/0!"},{"$error":"#DIV/0!"},{"$error":"#DIV/0!"},{"$error":"#DIV/0!"},{"$error":"#DIV/0!"},{"$error":"#DIV/0!"},"Sum"]
[1,{"$f":"B169","v":0},{"$f":"_xlfn.IFS(B212=0,\"\",B212<>0,_xlfn.XLOOKUP(B212,Measures[[#All],[Measure]],Measures[[#All],[CAPEX NB '[$']]],0,0,1))","v":""},{"$f":"IF($B212=0,\"\",IF(D$166<=$F130,($M130-D$168*$AX130)/(D$167^D$166),\"\"))","v":""},{"$f":"IF($B212=0,\"\",IF(E$166<=$F130,($M130-E$168*$AX130)/(E$167^E$166),\"\"))","v":""},"","","","","","","","","","","","","",null,{"$f":"IF($B212=0,\"\",IF(T$166<=$F130,($M130-T$168*$AX130)/(T$167^T$166),\"\"))","v":""},{"$f":"IF($B212=0,\"\",IF(U$166<=$F130,($M130-U$168*$AX130)/(U$167^U$166),\"\"))","v":""},"","","","","","","","",{"$f":"C212+SUM(D212:AC212)","v":{"$error":"#VALUE!"}},{"$f":"F130","v":0},{"$f":"(1-(1+$AC$167)^-AE212)/$AC$167","v":0},{"$f":"IFERROR(AD212/AF212,0)","v":0}]
[2,0,{"$f":"_xlfn.IFS(B213=0,\"\",B213<>0,_xlfn.XLOOKUP(B213,Measures[[#All],[Measure]],Measures[[#All],[CAPEX NB '[$']]],0,0,1))","v":""},{"$f":"IF($B213=0,\"\",IF(D$166<=$F131,($M131-D$168*$AX131)/(D$167^D$166),\"\"))","v":""},{"$f":"IF($B213=0,\"\",IF(E$166<=$F131,($M131-E$168*$AX131)/(E$167^E$166),\"\"))","v":""},"","","","","","","","","","","","","",null,"",{"$f":"IF($B213=0,\"\",IF(U$166<=$F131,($M131-U$168*$AX131)/(U$167^U$166),\"\"))","v":""},"","","","","","","","",{"$error":"#VALUE!"},0,{"$f":"(1-(1+$AC$167)^-AE213)/$AC$167","v":0},0]
[3,0,{"$f":"_xlfn.IFS(B214=0,\"\",B214<>0,_xlfn.XLOOKUP(B214,Measures[[#All],[Measure]],Measures[[#All],[CAPEX NB '[$']]],0,0,1))","v":""},"",{"$f":"IF($B214=0,\"\",IF(E$166<=$F132,($M132-E$168*$AX132)/(E$167^E$166),\"\"))","v":""},"","","","","","","","","","","","","",null,"",{"$f":"IF($B214=0,\"\",IF(U$166<=$F132,($M132-U$168*$AX132)/(U$167^U$166),\"\"))","v":""},"","","","","","","","",{"$error":"#VALUE!"},0,0,0]
[4,0,{"$f":"_xlfn.IFS(B215=0,\"\",B215<>0,_xlfn.XLOOKUP(B215,Measures[[#All],[Measure]],Measures[[#All],[CAPEX NB '[$']]],0,0,1))","v":""},"",{"$f":"IF($B215=0,\"\",IF(E$166<=$F133,($M133-E$168*$AX133)/(E$167^E$166),\"\"))","v":""},"","",{"$f":"IF($B215=0,\"\",IF(H$166<=$F133,($M133-H$168*$AX133)/(H$167^H$166),\"\"))","v":""},{"$f":"IF($B215=0,\"\",IF(I$166<=$F133,($M133-I$168*$AX133)/(I$167^I$166),\"\"))","v":""},"","","","","","","","","",null,"",{"$f":"IF($B215=0,\"\",IF(U$166<=$F133,($M133-U$168*$AX133)/(U$167^U$166),\"\"))","v":""},"","","","","","","","",{"$error":"#VALUE!"},0,0,0]
[5,0,{"$f":"_xlfn.IFS(B216=0,\"\",B216<>0,_xlfn.XLOOKUP(B216,Measures[[#All],[Measure]],Measures[[#All],[CAPEX NB '[$']]],0,0,1))","v":""},"","","","",{"$f":"IF($B216=0,\"\",IF(H$166<=$F134,($M134-H$168*$AX134)/(H$167^H$166),\"\"))","v":""},{"$f":"IF($B216=0,\"\",IF(I$166<=$F134,($M134-I$168*$AX134)/(I$167^I$166),\"\"))","v":""},"","","","","","","","","",null,"",{"$f":"IF($B216=0,\"\",IF(U$166<=$F134,($M134-U$168*$AX134)/(U$167^U$166),\"\"))","v":""},"","","","","","","","",{"$error":"#VALUE!"},0,0,0]
[6,0,{"$f":"_xlfn.IFS(B217=0,\"\",B217<>0,_xlfn.XLOOKUP(B217,Measures[[#All],[Measure]],Measures[[#All],[CAPEX NB '[$']]],0,0,1))","v":""},"","","","","",{"$f":"IF($B217=0,\"\",IF(I$166<=$F135,($M135-I$168*$AX135)/(I$167^I$166),\"\"))","v":""},"","","","","","","","","",null,"",{"$f":"IF($B217=0,\"\",IF(U$166<=$F135,($M135-U$168*$AX135)/(U$167^U$166),\"\"))","v":""},"","","","","","","","",{"$error":"#VALUE!"},0,0,0]
[7,0,{"$f":"_xlfn.IFS(B218=0,\"\",B218<>0,_xlfn.XLOOKUP(B218,Measures[[#All],[Measure]],Measures[[#All],[CAPEX NB '[$']]],0,0,1))","v":""},"","","","","",{"$f":"IF($B218=0,\"\",IF(I$166<=$F136,($M136-I$168*$AX136)/(I$167^I$166),\"\"))","v":""},"","","","","","","","","",null,"",{"$f":"IF($B218=0,\"\",IF(U$166<=$F136,($M136-U$168*$AX136)/(U$167^U$166),\"\"))","v":""},"","","","","","","","",{"$error":"#VALUE!"},0,0,0]
[8,0,{"$f":"_xlfn.IFS(B219=0,\"\",B219<>0,_xlfn.XLOOKUP(B219,Measures[[#All],[Measure]],Measures[[#All],[CAPEX NB '[$']]],0,0,1))","v":""},"","","","","",{"$f":"IF($B219=0,\"\",IF(I$166<=$F137,($M137-I$168*$AX137)/(I$167^I$166),\"\"))","v":""},"","","","","","","","","",null,"",{"$f":"IF($B219=0,\"\",IF(U$166<=$F137,($M137-U$168*$AX137)/(U$167^U$166),\"\"))","v":""},"","","","","","","","",{"$error":"#VALUE!"},0,0,0]
[9,0,{"$f":"_xlfn.IFS(B220=0,\"\",B220<>0,_xlfn.XLOOKUP(B220,Measures[[#All],[Measure]],Measures[[#All],[CAPEX NB '[$']]],0,0,1))","v":""},"","","","","",{"$f":"IF($B220=0,\"\",IF(I$166<=$F138,($M138-I$168*$AX138)/(I$167^I$166),\"\"))","v":""},"","","","","","","","","",null,"",{"$f":"IF($B220=0,\"\",IF(U$166<=$F138,($M138-U$168*$AX138)/(U$167^U$166),\"\"))","v":""},"","","","","","","","",{"$error":"#VALUE!"},0,0,0]
[10,0,{"$f":"_xlfn.IFS(B221=0,\"\",B221<>0,_xlfn.XLOOKUP(B221,Measures[[#All],[Measure]],Measures[[#All],[CAPEX NB '[$']]],0,0,1))","v":""},"","","","","",{"$f":"IF($B221=0,\"\",IF(I$166<=$F139,($M139-I$168*$AX139)/(I$167^I$166),\"\"))","v":""},"","","","","","","","","",null,"",{"$f":"IF($B221=0,\"\",IF(U$166<=$F139,($M139-U$168*$AX139)/(U$167^U$166),\"\"))","v":""},"","","","","","","","",{"$error":"#VALUE!"},0,0,0]
[11,0,{"$f":"_xlfn.IFS(B222=0,\"\",B222<>0,_xlfn.XLOOKUP(B222,Measures[[#All],[Measure]],Measures[[#All],[CAPEX NB '[$']]],0,0,1))","v":""},"","","","","",{"$f":"IF($B222=0,\"\",IF(I$166<=$F140,($M140-I$168*$AX140)/(I$167^I$166),\"\"))","v":""},"","","","","","","","","",null,"",{"$f":"IF($B222=0,\"\",IF(U$166<=$F140,($M140-U$168*$AX140)/(U$167^U$166),\"\"))","v":""},"","","","","","","","",{"$error":"#VALUE!"},0,0,0]
[12,0,{"$f":"_xlfn.IFS(B223=0,\"\",B223<>0,_xlfn.XLOOKUP(B223,Measures[[#All],[Measure]],Measures[[#All],[CAPEX NB '[$']]],0,0,1))","v":""},"","","","","",{"$f":"IF($B223=0,\"\",IF(I$166<=$F141,($M141-I$168*$AX141)/(I$167^I$166),\"\"))","v":""},"","","","","","","","","",null,"",{"$f":"IF($B223=0,\"\",IF(U$166<=$F141,($M141-U$168*$AX141)/(U$167^U$166),\"\"))","v":""},"","","","","","","","",{"$error":"#VALUE!"},0,{"$f":"(1-(1+$AC$167)^-AE223)/$AC$167","v":0},0]
[13,0,{"$f":"_xlfn.IFS(B224=0,\"\",B224<>0,_xlfn.XLOOKUP(B224,Measures[[#All],[Measure]],Measures[[#All],[CAPEX NB '[$']]],0,0,1))","v":""},{"$f":"IF($B224=0,\"\",IF(D$166<=$F142,($M142-D$168*$AX142)/(D$167^D$166),\"\"))","v":""},{"$f":"IF($B224=0,\"\",IF(E$166<=$F142,($M142-E$168*$AX142)/(E$167^E$166),\"\"))","v":""},"","","","","","",{"$f":"IF($B224=0,\"\",IF(L$166<=$F142,($M142-L$168*$AX142)/(L$167^L$166),\"\"))","v":""},{"$f":"IF($B224=0,\"\",IF(M$166<=$F142,($M142-M$168*$AX142)/(M$167^M$166),\"\"))","v":""},"","","","","",null,"","","","","","","","","","",{"$error":"#VALUE!"},0,{"$f":"(1-(1+$AC$167)^-AE224)/$AC$167","v":0},0]
[14,0,{"$f":"_xlfn.IFS(B225=0,\"\",B225<>0,_xlfn.XLOOKUP(B225,Measures[[#All],[Measure]],Measures[[#All],[CAPEX NB '[$']]],0,0,1))","v":""},{"$f":"IF($B225=0,\"\",IF(D$166<=$F143,($M143-D$168*$AX143)/(D$167^D$166),\"\"))","v":""},{"$f":"IF($B225=0,\"\",IF(E$166<=$F143,($M143-E$168*$AX143)/(E$167^E$166),\"\"))","v":""},"","","","","","","","","","","","","",null,"","","","","","","","","","",{"$f":"C225+SUM(D225:AC225)","v":{"$error":"#VALUE!"}},{"$f":"F143","v":0},{"$f":"(1-(1+$AC$167)^-AE225)/$AC$167","v":0},{"$f":"IFERROR(AD225/AF225,0)","v":0}]
[15,0,{"$f":"_xlfn.IFS(B226=0,\"\",B226<>0,_xlfn.XLOOKUP(B226,Measures[[#All],[Measure]],Measures[[#All],[CAPEX NB '[$']]],0,0,1))","v":""},"","","","","","","","","","","","","","","",null,"","","","","","","","","","",{"$error":"#VALUE!"},0,0,0]
[16,{"$f":"B188","v":0},{"$f":"_xlfn.IFS(B227=0,\"\",B227<>0,_xlfn.XLOOKUP(B227,Measures[[#All],[Measure]],Measures[[#All],[CAPEX NB '[$']]],0,0,1))","v":""},"","","","","","","","","","","","","","","","","","","","","","","","","","",{"$error":"#VALUE!"},0,0,0]
[17,0,{"$f":"_xlfn.IFS(B228=0,\"\",B228<>0,_xlfn.XLOOKUP(B228,Measures[[#All],[Measure]],Measures[[#All],[CAPEX NB '[$']]],0,0,1))","v":""},"","","","","","","","","","","","","","","","","","","","","","","","","","",{"$error":"#VALUE!"},0,0,0]
[18,0,{"$f":"_xlfn.IFS(B229=0,\"\",B229<>0,_xlfn.XLOOKUP(B229,Measures[[#All],[Measure]],Measures[[#All],[CAPEX NB '[$']]],0,0,1))","v":""},"","","","","","","","","","","","","","","","","","","","","","","","","",{"$f":"IF($B229=0,\"\",IF(AC$166<=$F147,($M147-AC$168*$AX147)/(AC$167^AC$166),\"\"))","v":""},{"$error":"#VALUE!"},0,0,0]
[19,0,{"$f":"_xlfn.IFS(B230=0,\"\",B230<>0,_xlfn.XLOOKUP(B230,Measures[[#All],[Measure]],Measures[[#All],[CAPEX NB '[$']]],0,0,1))","v":""},"","","","","","","","","","","","","","","","","","","","","","","","","","",{"$error":"#VALUE!"},0,0,0]
[20,0,{"$f":"_xlfn.IFS(B231=0,\"\",B231<>0,_xlfn.XLOOKUP(B231,Measures[[#All],[Measure]],Measures[[#All],[CAPEX NB '[$']]],0,0,1))","v":""},"","","","","","","","","","","","","","","","","","","","","","","","","","",{"$error":"#VALUE!"},0,0,0]
[21,0,{"$f":"_xlfn.IFS(B232=0,\"\",B232<>0,_xlfn.XLOOKUP(B232,Measures[[#All],[Measure]],Measures[[#All],[CAPEX NB '[$']]],0,0,1))","v":""},"","","","","","","","","","","","","","","","","","","","","","","","","","",{"$error":"#VALUE!"},0,0,0]
[22,0,{"$f":"_xlfn.IFS(B233=0,\"\",B233<>0,_xlfn.XLOOKUP(B233,Measures[[#All],[Measure]],Measures[[#All],[CAPEX NB '[$']]],0,0,1))","v":""},"","","","","","","","","","","","","","","","","","","","","","","","","","",{"$error":"#VALUE!"},0,0,0]
[23,0,{"$f":"_xlfn.IFS(B234=0,\"\",B234<>0,_xlfn.XLOOKUP(B234,Measures[[#All],[Measure]],Measures[[#All],[CAPEX NB '[$']]],0,0,1))","v":""},"","","","","","","","","","","","","","","","","","","","","",{"$f":"IF($B234=0,\"\",IF(Y$166<=$F152,($M152-Y$168*$AX152)/(Y$167^Y$166),\"\"))","v":""},"","","","",{"$error":"#VALUE!"},0,0,0]
[24,0,{"$f":"_xlfn.IFS(B235=0,\"\",B235<>0,_xlfn.XLOOKUP(B235,Measures[[#All],[Measure]],Measures[[#All],[CAPEX NB '[$']]],0,0,1))","v":""},"","","","","","","","","","","","","","","","","","","","","","","","","","",{"$error":"#VALUE!"},0,0,0]
[25,0,{"$f":"_xlfn.IFS(B236=0,\"\",B236<>0,_xlfn.XLOOKUP(B236,Measures[[#All],[Measure]],Measures[[#All],[CAPEX NB '[$']]],0,0,1))","v":""},"","","","","","","","","","","","","","","","","","","","","","","","","","",{"$error":"#VALUE!"},0,0,0]
[26,0,{"$f":"_xlfn.IFS(B237=0,\"\",B237<>0,_xlfn.XLOOKUP(B237,Measures[[#All],[Measure]],Measures[[#All],[CAPEX NB '[$']]],0,0,1))","v":""},"","","","","","","","","","","","","","","","","","","","","","","","","","",{"$error":"#VALUE!"},0,0,0]
[27,0,{"$f":"_xlfn.IFS(B238=0,\"\",B238<>0,_xlfn.XLOOKUP(B238,Measures[[#All],[Measure]],Measures[[#All],[CAPEX NB '[$']]],0,0,1))","v":""},"","","","","","","","","","","","","","","","","","","","","","","","","","",{"$error":"#VALUE!"},0,0,0]
[28,0,{"$f":"_xlfn.IFS(B239=0,\"\",B239<>0,_xlfn.XLOOKUP(B239,Measures[[#All],[Measure]],Measures[[#All],[CAPEX NB '[$']]],0,0,1))","v":""},"","","","","","","","","","","","","","","","","","","","","","","","","","",{"$error":"#VALUE!"},0,0,0]
[29,0,{"$f":"_xlfn.IFS(B240=0,\"\",B240<>0,_xlfn.XLOOKUP(B240,Measures[[#All],[Measure]],Measures[[#All],[CAPEX NB '[$']]],0,0,1))","v":""},"","","","","","","","","","","","","","","","","","","","","","","","","","",{"$error":"#VALUE!"},0,0,0]
[30,0,{"$f":"_xlfn.IFS(B241=0,\"\",B241<>0,_xlfn.XLOOKUP(B241,Measures[[#All],[Measure]],Measures[[#All],[CAPEX NB '[$']]],0,0,1))","v":""},"","","","","","","","","","","","","","","","","","","","","","","","","","",{"$error":"#VALUE!"},0,0,0]
[31,0,{"$f":"_xlfn.IFS(B242=0,\"\",B242<>0,_xlfn.XLOOKUP(B242,Measures[[#All],[Measure]],Measures[[#All],[CAPEX NB '[$']]],0,0,1))","v":""},"","","","","","","","","","","","","","","","","","","","","","","","","","",{"$error":"#VALUE!"},0,0,0]
[]
[]
[]
[null,"EEDI MACC"]
[null,1,2,3,4,5,6,7,8,9,10,11,12,13,14,15,16,17,18,19,20,21,22,23,24,25,26,27,28,29,30,31,32,33,34,35,36,37,38,39,40,41,42,43,44,45,46,47,48,49]
[]
[null,null,null,"With decreasing baseline",null,null,null,null,null,null,null,null,null,null,null,null,null,null,null,null,null,null,null,null,null,null,null,null,null,"High",null,null,null,null,"Low",null,null,null,null,"Operational program implementation",null,null,null,"EEXI"]
[null,"Selected measure list","Data cleaning","Current fuel consumption","Current CO2 consumption","Shortest lifetime","Fuel reduction (%)","Fuel reduction (%) Aggregated","Actual reduction from measure","Δfuel consumption","Δ Cost fuel","Δ CO2","Opex","Yearly cost (savings?)","Payback period [years]","NPV Annualized","Catch AER","AER\n[g CO2/ton nm]","EEXI app","EEXI\n[g CO2/ton nm]","ΔAER\n[g CO2/ton nm]","ΔEEXI\n[g CO2/ton nm]","Cumulative\nΔAER\n[g CO2/ton nm]","Cumulative\nΔEEXI\n[g CO2/ton nm]","EEOI 4th study",null,"AER 4th study","AER ",null,"Fuel reduction (%)","Fuel reduction (%) Aggregated","Actual reduction from measure","AER 4th study","AER ","Fuel reduction (%)","Fuel reduction (%) Aggregated","Actual reduction from measure","AER 4th study","AER ","#times to implement","Expected lifetime measure","Expected lifetime vessel","Shortest","EEXi reduction (%)","Aggregated EEXI red (%)","actual eexi red (%)","Delta CO2","Catch EEXI","EEXI Current fuel consumption","EEXI Δfuel consumption","Cumulative\nΔEEXI\n[g CO2/ton nm]"]
[null,"Baseline",{"$f":"IF(B251=\"\",0,B251)","v":"Baseline"},{"$f":"C8","v":0},{"$f":"C12","v":0},null,null,1,null,null,null,null,null,null,null,null,null,{"$f":"C132","v":0},null,{"$f":"C135","v":0},null,null,0,0,{"$f":"C133","v":0},null,{"$f":"'Measure summary'!B176","v":0},{"$f":"'Measure summary'!B179","v":0},null,null,1,null,{"$f":"'Measure summary'!B176","v":0},{"$f":"'Measure summary'!B179","v":0},null,1,null,{"$f":"'Measure summary'!B176","v":0},{"$f":"'Measure summary'!B179","v":0},null,null,null,null,null,1,null,null,null,{"$f":"C8","v":0},null,0]
[null,{"$f":"_xlfn._xlws.SORT(B130:AX160,47,1)","v":0},0,0,0,0,0,1,0,0,{"$error":"#DIV/0!"},0,"","",0,0,"Not included measure",0,0,0,0,"NA",0,0,{"$error":"#VALUE!"},0,0,0,{"$error":"#VALUE!"},0,1,0,0,0,0,1,0,0,0,0,"",0,0,0,1,0,0,"Not included measure",0,0,{"$f":"IF(V252=\"NA\",\"NA\",SUM($V$252:V252))","v":"NA"}]
[null,0,0,0,0,0,0,1,0,0,{"$error":"#DIV/0!"},0,"","",0,0,"Not included measure",0,0,0,0,"NA",0,0,{"$error":"#VALUE!"},0,0,0,{"$error":"#VALUE!"},0,1,0,0,0,0,1,0,0,0,0,"",0,0,0,1,0,0,"Not included measure",0,0,{"$f":"IF(V253=\"NA\",\"NA\",SUM($V$252:V253))","v":"NA"}]
[null,0,0,0,0,0,0,1,0,0,{"$error":"#DIV/0!"},0,"","",0,0,"Not included measure",0,0,0,0,"NA",0,0,{"$error":"#VALUE!"},0,0,0,{"$error":"#VALUE!"},0,1,0,0,0,0,1,0,0,0,0,"",0,0,0,1,0,0,"Not included measure",0,0,{"$f":"IF(V254=\"NA\",\"NA\",SUM($V$252:V254))","v":"NA"}]
[null,0,0,0,0,0,0,1,0,0,{"$error":"#DIV/0!"},0,"","",0,0,"Not included measure",0,0,0,0,"NA",0,0,{"$error":"#VALUE!"},0,0,0,{"$error":"#VALUE!"},0,1,0,0,0,0,1,0,0,0,0,"",0,0,0,1,0,0,"Not included measure",0,0,{"$f":"IF(V255=\"NA\",\"NA\",SUM($V$252:V255))","v":"NA"}]
[null,0,0,0,0,0,0,1,0,0,{"$error":"#DIV/0!"},0,"","",0,0,"Not included measure",0,0,0,0,"NA",0,0,{"$error":"#VALUE!"},0,0,0,{"$error":"#VALUE!"},0,1,0,0,0,0,1,0,0,0,0,"",0,0,0,1,0,0,"Not included measure",0,0,{"$f":"IF(V256=\"NA\",\"NA\",SUM($V$252:V256))","v":"NA"}]
[null,0,0,0,0,0,0,1,0,0,{"$error":"#DIV/0!"},0,"","",0,0,"Not included measure",0,0,0,0,"NA",0,0,{"$error":"#VALUE!"},0,0,0,{"$error":"#VALUE!"},0,1,0,0,0,0,1,0,0,0,0,"",0,0,0,1,0,0,"Not included measure",0,0,{"$f":"IF(V257=\"NA\",\"NA\",SUM($V$252:V257))","v":"NA"}]
[null,0,0,0,0,0,0,1,0,0,{"$error":"#DIV/0!"},0,"","",0,0,"Not included measure",0,0,0,0,"NA",0,0,{"$error":"#VALUE!"},0,0,0,{"$error":"#VALUE!"},0,1,0,0,0,0,1,0,0,0,0,"",0,0,0,1,0,0,"Not included measure",0,0,{"$f":"IF(V258=\"NA\",\"NA\",SUM($V$252:V258))","v":"NA"}]
[null,0,0,0,0,0,0,1,0,0,{"$error":"#DIV/0!"},0,"","",0,0,"Not included measure",0,0,0,0,"NA",0,0,{"$error":"#VALUE!"},0,0,0,{"$error":"#VALUE!"},0,1,0,0,0,0,1,0,0,0,0,"",0,0,0,1,0,0,"Not included measure",0,0,{"$f":"IF(V259=\"NA\",\"NA\",SUM($V$252:V259))","v":"NA"}]
[null,0,0,0,0,0,0,1,0,0,{"$error":"#DIV/0!"},0,"","",0,0,"Not included measure",0,0,0,0,"NA",0,0,{"$error":"#VALUE!"},0,0,0,{"$error":"#VALUE!"},0,1,0,0,0,0,1,0,0,0,0,"",0,0,0,1,0,0,"Not included measure",0,0,{"$f":"IF(V260=\"NA\",\"NA\",SUM($V$252:V260))","v":"NA"}]
[null,0,0,0,0,0,0,1,0,0,{"$error":"#DIV/0!"},0,"","",0,0,"Not included measure",0,0,0,0,"NA",0,0,{"$error":"#VALUE!"},0,0,0,{"$error":"#VALUE!"},0,1,0,0,0,0,1,0,0,0,0,"",0,0,0,1,0,0,"Not included measure",0,0,{"$f":"IF(V261=\"NA\",\"NA\",SUM($V$252:V261))","v":"NA"}]
[null,0,0,0,0,0,0,1,0,0,{"$error":"#DIV/0!"},0,"","",0,0,"Not included measure",0,0,0,0,"NA",0,0,{"$error":"#VALUE!"},0,0,0,{"$error":"#VALUE!"},0,1,0,0,0,0,1,0,0,0,0,"",0,0,0,1,0,0,"Not included measure",0,0,{"$f":"IF(V262=\"NA\",\"NA\",SUM($V$252:V262))","v":"NA"}]
[null,0,0,0,0,0,0,1,0,0,{"$error":"#DIV/0!"},0,"","",0,0,"Not included measure",0,0,0,0,"NA",0,0,{"$error":"#VALUE!"},0,0,0,{"$error":"#VALUE!"},0,1,0,0,0,0,1,0,0,0,0,"",0,0,0,1,0,0,"Not included measure",0,0,{"$f":"IF(V263=\"NA\",\"NA\",SUM($V$252:V263))","v":"NA"}]
[null,0,0,0,0,0,0,1,0,0,{"$error":"#DIV/0!"},0,"","",0,0,"Not included measure",0,0,0,0,"NA",0,0,{"$error":"#VALUE!"},0,0,0,{"$error":"#VALUE!"},0,1,0,0,0,0,1,0,0,0,0,"",0,0,0,1,0,0,"Not included measure",0,0,{"$f":"IF(V264=\"NA\",\"NA\",SUM($V$252:V264))","v":"NA"}]
[null,0,0,0,0,0,0,1,0,0,{"$error":"#DIV/0!"},0,"","",0,0,"Not included measure",0,0,0,0,"NA",0,0,{"$error":"#VALUE!"},0,0,0,{"$error":"#VALUE!"},0,1,0,0,0,0,1,0,0,0,0,"",0,0,0,1,0,0,"Not included measure",0,0,{"$f":"IF(V265=\"NA\",\"NA\",SUM($V$252:V265))","v":"NA"}]
[null,0,0,0,0,0,0,1,0,0,{"$error":"#DIV/0!"},0,"","",0,0,"Not included measure",0,0,0,0,"NA",0,0,{"$error":"#VALUE!"},0,0,0,{"$error":"#VALUE!"},0,1,0,0,0,0,1,0,0,0,0,"",0,0,0,1,0,0,"Not included measure",0,0,{"$f":"IF(V266=\"NA\",\"NA\",SUM($V$252:V266))","v":"NA"}]
[null,0,0,0,0,0,0,1,0,0,{"$error":"#DIV/0!"},0,"","",0,0,"Not included measure",0,0,0,0,"NA",0,0,{"$error":"#VALUE!"},0,0,0,{"$error":"#VALUE!"},0,1,0,0,0,0,1,0,0,0,0,"",0,0,0,1,0,0,"Not included measure",0,0,{"$f":"IF(V267=\"NA\",\"NA\",SUM($V$252:V267))","v":"NA"}]
[null,0,0,0,0,0,0,1,0,0,{"$error":"#DIV/0!"},0,"","",0,0,"Not included measure",0,0,0,0,"NA",0,0,{"$error":"#VALUE!"},0,0,0,{"$error":"#VALUE!"},0,1,0,0,0,0,1,0,0,0,0,"",0,0,0,1,0,0,"Not included measure",0,0,{"$f":"IF(V268=\"NA\",\"NA\",SUM($V$252:V268))","v":"NA"}]
[null,0,0,0,0,0,0,1,0,0,{"$error":"#DIV/0!"},0,"","",0,0,"Not included measure",0,0,0,0,"NA",0,0,{"$error":"#VALUE!"},0,0,0,0,0,1,0,0,0,0,1,0,0,0,0,"",0,0,0,1,0,0,"Not included measure",0,0,{"$f":"IF(V269=\"NA\",\"NA\",SUM($V$252:V269))","v":"NA"}]
[null,0,0,0,0,0,0,1,0,0,{"$error":"#DIV/0!"},0,"","",0,0,"Not included measure",0,0,0,0,"NA",0,0,{"$error":"#VALUE!"},0,0,0,0,0,1,0,0,0,0,1,0,0,0,0,"",0,0,0,1,0,0,"Not included measure",0,0,{"$f":"IF(V270=\"NA\",\"NA\",SUM($V$252:V270))","v":"NA"}]
[null,0,0,0,0,0,0,1,0,0,{"$error":"#DIV/0!"},0,"","",0,0,"Not included measure",0,0,0,0,"NA",0,0,{"$error":"#VALUE!"},0,0,0,0,0,1,0,0,0,0,1,0,0,0,0,"",0,0,0,1,0,0,"Not included measure",0,0,{"$f":"IF(V271=\"NA\",\"NA\",SUM($V$252:V271))","v":"NA"}]
[null,0,0,0,0,0,0,1,0,0,{"$error":"#DIV/0!"},0,"","",0,0,"Not included measure",0,0,0,0,"NA",0,0,{"$error":"#VALUE!"},0,0,0,0,0,1,0,0,0,0,1,0,0,0,0,"",0,0,0,1,0,0,"Not included measure",0,0,{"$f":"IF(V272=\"NA\",\"NA\",SUM($V$252:V272))","v":"NA"}]
[null,0,0,0,0,0,0,1,0,0,{"$error":"#DIV/0!"},0,"","",0,0,"Not included measure",0,0,0,0,"NA",0,0,{"$error":"#VALUE!"},0,0,0,0,0,1,0,0,0,0,1,0,0,0,0,"",0,0,0,1,0,0,"Not included measure",0,0,{"$f":"IF(V273=\"NA\",\"NA\",SUM($V$252:V273))","v":"NA"}]
[null,0,0,0,0,0,0,1,0,0,{"$error":"#DIV/0!"},0,"","",0,0,"Not included measure",0,0,0,0,"NA",0,0,{"$error":"#VALUE!"},0,0,0,0,0,1,0,0,0,0,1,0,0,0,0,"",0,0,0,1,0,0,"Not included measure",0,0,{"$f":"IF(V274=\"NA\",\"NA\",SUM($V$252:V274))","v":"NA"}]
[null,0,0,0,0,0,0,1,0,0,{"$error":"#DIV/0!"},0,"","",0,0,"Not included measure",0,0,0,0,"NA",0,0,{"$error":"#VALUE!"},0,0,0,0,0,1,0,0,0,0,1,0,0,0,0,"",0,0,0,1,0,0,"Not included measure",0,0,{"$f":"IF(V275=\"NA\",\"NA\",SUM($V$252:V275))","v":"NA"}]
[null,0,0,0,0,0,0,1,0,0,{"$error":"#DIV/0!"},0,"","",0,0,"Not included measure",0,0,0,0,"NA",0,0,{"$error":"#VALUE!"},0,0,0,0,0,1,0,0,0,0,1,0,0,0,0,"",0,0,0,1,0,0,"Not included measure",0,0,{"$f":"IF(V276=\"NA\",\"NA\",SUM($V$252:V276))","v":"NA"}]
[null,0,0,0,0,0,0,1,0,0,{"$error":"#DIV/0!"},0,"","",0,0,"Not included measure",0,0,0,0,"NA",0,0,{"$error":"#VALUE!"},0,0,0,0,0,1,0,0,0,0,1,0,0,0,0,"",0,0,0,1,0,0,"Not included measure",0,0,{"$f":"IF(V277=\"NA\",\"NA\",SUM($V$252:V277))","v":"NA"}]
[null,0,0,0,0,0,0,1,0,0,{"$error":"#DIV/0!"},0,"","",0,0,"Not included measure",0,0,0,0,"NA",0,0,{"$error":"#VALUE!"},0,0,0,0,0,1,0,0,0,0,1,0,0,0,0,"",0,0,0,1,0,0,"Not included measure",0,0,{"$f":"IF(V278=\"NA\",\"NA\",SUM($V$252:V278))","v":"NA"}]
[null,0,0,0,0,0,0,1,0,0,{"$error":"#DIV/0!"},0,"","",0,0,"Not included measure",0,0,0,0,"NA",0,0,{"$error":"#VALUE!"},0,0,0,0,0,1,0,0,0,0,1,0,0,0,0,"",0,0,0,1,0,0,"Not included measure",0,0,{"$f":"IF(V279=\"NA\",\"NA\",SUM($V$252:V279))","v":"NA"}]
[null,0,0,0,0,0,0,1,0,0,{"$error":"#DIV/0!"},0,"","",0,0,"Not included measure",0,0,0,0,"NA",0,0,{"$error":"#VALUE!"},0,0,0,0,0,1,0,0,0,0,1,0,0,0,0,"",0,0,0,1,0,0,"Not included measure",0,0,{"$f":"IF(V280=\"NA\",\"NA\",SUM($V$252:V280))","v":"NA"}]
[null,0,0,0,0,0,0,1,0,0,{"$error":"#DIV/0!"},0,"","",0,0,"Not included measure",0,0,0,0,"NA",0,0,{"$error":"#VALUE!"},0,0,0,0,0,1,0,0,0,0,1,0,0,0,0,"",0,0,0,1,0,0,"Not included measure",0,0,{"$f":"IF(V281=\"NA\",\"NA\",SUM($V$252:V281))","v":"NA"}]
[null,0,0,0,0,0,0,1,0,0,{"$error":"#DIV/0!"},0,"","",0,0,"Not included measure",0,0,0,0,"NA",0,0,{"$error":"#VALUE!"},0,0,0,0,0,1,0,0,0,0,1,0,0,0,0,"",0,0,0,1,0,0,"Not included measure",0,0]

{"sheet":"IMO 4th study AER","index":12,"n_rows":73,"n_cols":25,"rows_kept":73,"cut":false,"hidden":true,"merged":[[64,0,66,0],[39,0,40,0],[41,0,44,0],[45,0,50,0],[51,0,55,0],[56,0,59,0],[60,0,63,0],[31,0,38,0],[0,0,0,25],[1,0,2,0],[1,1,2,1],[1,3,2,3],[1,4,1,8],[1,10,1,14],[1,15,1,19],[1,20,1,24],[3,0,8,0],[9,0,13,0],[14,0,22,0],[23,0,26,0],[27,0,30,0]]}
["Carbon intensity per ship type and size category in year 2017 (Option 2)"]
["Ship type","Size category",null,"Units","EEOI (gCO2/t.nm)",null,null,null,null,null,"AER (gCO2/dwt.nm)",null,null,null,null,"DIST (kgCO2/nm)",null,null,null,null,"TIME (tCO2/h)"]
[null,null,null,null,"mean","median","lower quartile","upper quartile","spread scale","Avg. Tonn","mean","median","lower quartile","upper quartile","spread scale","mean","median","lower quartile","upper quartile","spread scale","mean","median","lower quartile","upper quartile","spread scale"]
["Bulk carrier","0 - 9,999",{"$f":"$A$4&\" \" &B4&\" \"&D4","v":"Bulk carrier 0 - 9,999 dwt"},"dwt",33.9,38.200000000000003,27.1,59.6,0.85,{"$f":"(1/E4)*1000*P4","v":3256.6371681415931},20.100000000000001,21.9,16.8,28.6,0.54,110.4,109.8,85.1,137.6,0.48,1,1,0.7,1.4,0.63]
[null,"10,000 - 34,999",{"$f":"$A$4&\" \" &B5&\" \"&D5","v":"Bulk carrier 10,000 - 34,999 dwt"},"dwt",12.1,12.1,10.3,15.2,0.4,{"$f":"(1/E5)*1000*P5","v":17818.18181818182},7.5,7.4,6.7,8.6,0.26,215.6,210.6,190.6,235.3,0.21,2.4,2.4,2.1,2.8,0.28999999999999998]
[null,"35,000 - 59,999","Bulk carrier 35,000 - 59,999 dwt","dwt",9,9.1,7.8,10.7,0.32,29855.555555555551,5.4,5.4,4.9000000000000004,6,0.22,268.7,270.2,240.8,298.60000000000002,0.21,3.1,3.1,2.7,3.5,0.25]
[null,"60,000 - 99,999","Bulk carrier 60,000 - 99,999 dwt","dwt",7.8,7.7,6.8,9,0.28000000000000003,39987.179487179492,4.0999999999999996,4.0999999999999996,3.7,4.5,0.21,311.89999999999998,304,279.39999999999998,339.5,0.2,3.6,3.5,3.2,4,0.23]
[null,"100,000 - 199,999","Bulk carrier 100,000 - 199,999 dwt","dwt",5.3,5.3,4.7,6.1,0.27,88943.39622641509,2.8,2.7,2.5,3,0.2,471.4,466.9,420.4,513.79999999999995,0.2,5.3,5.3,4.5999999999999996,6,0.26]
[null,"200,000-+",{"$f":"$A$4&\" \" &B9&\" \"&D9","v":"Bulk carrier 200,000-+ dwt"},"dwt",4.8,4.8,4.2,5.5,0.26,124270.83333333334,2.4,2.4,2.2000000000000002,2.6,0.2,596.5,560.79999999999995,482.5,671.5,0.34,7.1,6.7,5.5,8.3000000000000007,0.42]
["Chemical tanker","0 - 4,999",{"$f":"$A$10&\" \" &B10&\" \"&D10","v":"Chemical tanker 0 - 4,999 dwt"},"dwt",53.9,55.7,40.5,105.1,1.1599999999999999,2599.2578849721708,40.9,41.9,31.5,70.099999999999994,0.92,140.1,135.9,108.7,192.8,0.62,1.4,1.4,1,1.8,0.59]
[null,"5,000 - 9,999",{"$f":"$A$10&\" \" &B11&\" \"&D11","v":"Chemical tanker 5,000 - 9,999 dwt"},"dwt",36.700000000000003,38.4,31.2,46.9,0.41,5463.2152588555846,27,27.6,23,33.799999999999997,0.39,200.5,199.9,173.4,231.7,0.28999999999999998,2.2000000000000002,2.1,1.8,2.5,0.34]
[null,"10,000 - 19,999","Chemical tanker 10,000 - 19,999 dwt","dwt",23,24.9,20.100000000000001,30.6,0.42,11017.391304347826,16.2,17,14.1,20.5,0.38,253.4,255.4,222.3,296.8,0.28999999999999998,3,3,2.6,3.6,0.32]
[null,"20,000 - 39,999","Chemical tanker 20,000 - 39,999 dwt","dwt",15.9,16.100000000000001,13.8,18.899999999999999,0.32,22584.905660377357,11.1,11.1,9.6999999999999993,13.1,0.3,359.1,362.1,312,422.1,0.3,4.5,4.5,3.9,5.0999999999999996,0.27]
[null,"40,000-+","Chemical tanker 40,000-+ dwt","dwt",12,12.1,10.7,14,0.27,30525,7.5,7.6,6.6,8.5,0.24,366.3,366.4,328,403.9,0.21,4.5,4.4000000000000004,4,5,0.23]
["Container","0 - 999",{"$f":"$A$15&\" \" &B15&\" \"&D15","v":"Container 0 - 999 teu"},"teu",34.200000000000003,34.799999999999997,28.8,45.6,0.48,6321.6374269005846,22.6,23,19.3,28.7,0.41,216.2,211.3,180.4,245.4,0.31,2.8,2.7,2.1,3.3,0.43]
[null,"1,000 - 1,999",{"$f":"$A$15&\" \" &B16&\" \"&D16","v":"Container 1,000 - 1,999 teu"},"teu",26.5,27.3,23.6,31.5,0.28999999999999998,12056.603773584904,16.7,17.100000000000001,14.7,20,0.31,319.5,314.8,276.2,356.7,0.26,4.4000000000000004,4.3,3.6,5,0.33]
[null,"2,000 - 2,999","Container 2,000 - 2,999 teu","teu",19.8,19.600000000000001,17,22.5,0.28000000000000003,20636.363636363636,11.8,11.2,10.199999999999999,13.1,0.27,408.6,389.9,355.6,439.8,0.22,5.9,5.6,4.8,6.6,0.32]
[null,"3,000 - 4,999","Container 3,000 - 4,999 teu","teu",17.3,17.100000000000001,15.1,19.7,0.27,32456.647398843928,10.6,10.4,9.1999999999999993,11.8,0.25,561.5,530.79999999999995,475.7,618.1,0.27,8.5,8,6.8,9.6,0.35]
[null,"5,000 - 7,999","Container 5,000 - 7,999 teu","teu",16.600000000000001,16.600000000000001,14.9,18.3,0.2,46487.951807228914,10.3,10.199999999999999,9,11.4,0.23,771.7,773.1,665,857.3,0.25,12.6,12.5,10.4,14.6,0.33]
[null,"8,000 - 11,999","Container 8,000 - 11,999 teu","teu",13.5,13.7,12.3,15.1,0.21,67637.037037037036,8.3000000000000007,8.4,7.5,9.1999999999999993,0.2,913.1,910.6,840.9,989.3,0.16,15.2,15,13.7,17,0.22]
[null,"12,000 - 14,499","Container 12,000 - 14,499 teu","teu",10.6,10.5,9.6,11.5,0.18,96735.84905660378,6.9,6.9,6.4,7.4,0.15,1025.4000000000001,1041.5,933.3,1142.2,0.2,17.100000000000001,17.3,15.2,19.5,0.25]
[null,"14,500 - 19,999","Container 14,500 - 19,999 teu","teu",8.1999999999999993,8.3000000000000007,7.3,8.9,0.2,124926.82926829271,5.6,5.7,4.7,6,0.23,1024.4000000000001,1089.8,835,1152.2,0.28999999999999998,17.399999999999999,18.399999999999999,14.5,20,0.3]
[null,"20,000-+","Container 20,000-+ teu","teu",8,9.1,6.4,11.1,0.52,102425,4.2,4,3.3,7.2,0.95,819.4,767.4,639,1365.4,0.95,12.5,12.2,10.1,23.8,1.1200000000000001]
["General cargo","0 - 4,999",{"$f":"$A$24&\" \" &B24&\" \"&D24","v":"General cargo 0 - 4,999 dwt"},"dwt",33.700000000000003,35.4,28,47.6,0.55000000000000004,2195.8456973293764,22.8,22.7,18.7,29.2,0.46,74,69.900000000000006,59.2,81.599999999999994,0.32,0.6,0.6,0.5,0.7,0.45]
[null,"5,000 - 9,999",{"$f":"$A$24&\" \" &B25&\" \"&D25","v":"General cargo 5,000 - 9,999 dwt"},"dwt",30.3,30.7,25,39.799999999999997,0.48,4518.151815181518,18.899999999999999,18.7,16,22.6,0.35,136.9,128.9,110.8,154.19999999999999,0.34,1.4,1.3,1,1.6,0.48]
[null,"10,000 - 19,999","General cargo 10,000 - 19,999 dwt","dwt",28.1,27.9,23.2,35.200000000000003,0.43,8014.2348754448376,16.5,16.399999999999999,14.5,18.7,0.26,225.2,209.5,184.7,255.2,0.34,2.6,2.4,2,3.1,0.43]
[null,"20,000-+","General cargo 20,000-+ dwt","dwt",13.9,14.1,11.2,19,0.55000000000000004,22050.359712230213,8.3000000000000007,8.5,6.8,10.9,0.48,306.5,292.5,251.2,336.7,0.28999999999999998,3.7,3.6,3,4.2,0.34]
["Liquefied gas tanker","0 - 49,999",{"$f":"$A$28&\" \" &B28&\" \"&D28","v":"Liquefied gas tanker 0 - 49,999 cbm"},"cbm",39.799999999999997,58.2,41.1,80.2,0.67,5816.5829145728649,19.8,32.200000000000003,18.899999999999999,45.2,0.82,231.5,217.6,166.3,286.39999999999998,0.55000000000000004,2.9,2.6,1.9,3.7,0.68]
[null,"50,000 - 99,999",{"$f":"$A$28&\" \" &B29&\" \"&D29","v":"Liquefied gas tanker 50,000 - 99,999 cbm"},"cbm",20.5,20.7,17.899999999999999,25.4,0.36,24424.390243902439,9.4,9.4,8.6,10.4,0.2,500.7,495.2,467.9,537.5,0.14000000000000001,7.2,7.3,6.7,7.9,0.17]
[null,"100,000 - 199,999","Liquefied gas tanker 100,000 - 199,999 cbm","cbm",16.3,16.3,13.5,19.2,0.34,54625.766871165644,10.8,10.4,9.1,12.3,0.3,890.4,860.7,755.1,1009.3,0.3,13.2,12.6,10.5,15.5,0.4]
[null,"200,000-+","Liquefied gas tanker 200,000-+ cbm","cbm",17.8,17.600000000000001,14.8,25,0.57999999999999996,71533.70786516853,10.4,10.1,9.6999999999999993,11.5,0.18,1273.3,1251.0999999999999,1197.7,1308.8,0.09,20.3,19.899999999999999,19,21.3,0.12]
["Oil tanker","0 - 4,999",{"$f":"$A$32&\" \" &B32&\" \"&D32","v":"Oil tanker 0 - 4,999 dwt"},"dwt",78.5,109.1,53.5,283.3,2.1,2193.6305732484075,54,67.900000000000006,37.4,170.7,1.96,172.2,182.5,120,377.9,1.41,1.5,1.5,1,2.6,1.03]
[null,"5,000 - 9,999",{"$f":"$A$32&\" \" &B33&\" \"&D33","v":"Oil tanker 5,000 - 9,999 dwt"},"dwt",50.6,59.8,39.9,112.6,1.22,4361.660079051383,31.8,32.799999999999997,25.7,57.6,0.97,220.7,226.4,175.2,374.5,0.88,2.1,2.1,1.6,3,0.7]
[null,"10,000 - 19,999","Oil tanker 10,000 - 19,999 dwt","dwt",34.1,42.1,26,81.2,1.31,8847.5073313782977,20.6,21.6,16.7,31.5,0.68,301.7,305.7,243.1,434.5,0.63,3.1,3.2,2.4,4,0.5]
[null,"20,000 - 59,999","Oil tanker 20,000 - 59,999 dwt","dwt",22.2,23,18.100000000000001,32.5,0.63,19617.117117117119,9.6999999999999993,9.3000000000000007,8.1999999999999993,11.9,0.4,435.5,422.4,380.7,496.1,0.27,5.2,5,4.5,5.7,0.25]
[null,"60,000 - 79,999","Oil tanker 60,000 - 79,999 dwt","dwt",14.3,14.4,11.9,18,0.42,33853.146853146849,6.6,6.6,5.9,7.4,0.23,484.1,479.5,436,538,0.21,5.8,5.7,5.2,6.5,0.23]
[null,"80,000 - 119,999","Oil tanker 80,000 - 119,999 dwt","dwt",11.6,11.6,9.6,15,0.47,47336.206896551732,5,4.9000000000000004,4.4000000000000004,5.6,0.25,549.1,533.70000000000005,485.3,608.79999999999995,0.23,6.3,6.2,5.5,7.1,0.26]
[null,"120,000 - 199,999","Oil tanker 120,000 - 199,999 dwt","dwt",8.9,8.6,7.3,10.7,0.39,75910.112359550563,4.3,4.0999999999999996,3.8,4.5999999999999996,0.2,675.6,646.5,599.6,718.6,0.18,7.9,7.7,6.9,8.6,0.22]
[null,"200,000-+","Oil tanker 200,000-+ dwt","dwt",5.5,5.5,4.5999999999999996,6.6,0.36,154890.90909090909,2.8,2.7,2.5,3,0.2,851.9,834.6,750.8,926,0.21,10.4,10.199999999999999,8.9,11.6,0.27]
["Other liquids tankers","0 - 999",{"$f":"$A$40&\" \" &B40&\" \"&D40","v":"Other liquids tankers 0 - 999 dwt"},"dwt",1185.5,1116.2,1065.0999999999999,1389.2,0.28999999999999998,384.81653310839306,871.6,1042.3,873.5,1232.5999999999999,0.34,456.2,501.4,426.8,696.8,0.54,3,3.3,2.8,4.3,0.44]
[null,"1,000-+",{"$f":"$A$40&\" \" &B41&\" \"&D41","v":"Other liquids tankers 1,000-+ dwt"},"dwt",24,23,19,46.2,1.18,17145.833333333332,15.6,16.8,13.2,25.3,0.72,411.5,313.10000000000002,287.60000000000002,423.1,0.43,5.7,4.7,3.8,6.3,0.54]
["Ferry-pax only","0 - 299",{"$f":"$A$42&\" \" &B42&\" \"&D42","v":"Ferry-pax only 0 - 299 GT"},"GT",864.5,1175.5999999999999,801.7,1780.4,0.83,53.556969346443026,689.7,1046.2,699.8,1580.7,0.84,46.3,46.1,37.1,54.8,0.38,0.8,0.7,0.6,1.2,0.83]
[null,"300 - 999",{"$f":"$A$42&\" \" &B43&\" \"&D43","v":"Ferry-pax only 300 - 999 GT"},"GT",1119.3,1527.9,1053,2016.2,0.63,56.106495130885371,874.8,1216.5,774.9,1541.9,0.63,62.8,63.5,46.7,77.2,0.48,1.2,1.2,0.7,1.7,0.84]
[null,"1,000 - 1,999","Ferry-pax only 1,000 - 1,999 GT","GT",140.80000000000001,343.7,183.8,511.2,0.95,596.59090909090901,104.3,160.19999999999999,147.5,322.39999999999998,1.0900000000000001,84,103.2,91.4,116.6,0.24,0.7,0.9,0.9,0.9,0.06]
[null,"2,000-+","Ferry-pax only 2,000-+ GT","GT",176.3,245.2,134.9,455.1,1.31,1017.0164492342598,145.80000000000001,230,118.3,426.6,1.34,179.3,191.2,146.9,296.8,0.78,2,2.1,1.6,4.2,1.26]
["Cruise","0 - 1,999",{"$f":"$A$46&\" \" &B46&\" \"&D46","v":"Cruise 0 - 1,999 GT"},"GT",709.3,1152.9000000000001,517.6,1781.3,1.1000000000000001,346.96179331735516,662.8,1063.2,485.5,1670.9,1.1100000000000001,246.1,214.9,142.4,392.7,1.17,2.2000000000000002,1.9,1.4,3.1,0.91]
[null,"2,000 - 9,999",{"$f":"$A$46&\" \" &B47&\" \"&D47","v":"Cruise 2,000 - 9,999 GT"},"GT",214.9,312.89999999999998,192.4,753.4,1.79,939.50674732433686,197.7,285.39999999999998,166.1,707.4,1.9,201.9,196.2,149.6,287,0.7,2,1.9,1.6,2.8,0.64]
[null,"10,000 - 59,999","Cruise 10,000 - 59,999 GT","GT",149.4,155.9,107.9,262.10000000000002,0.99,3789.8259705488622,132.30000000000001,144,100.9,222.2,0.84,566.20000000000005,541.6,462.4,625.6,0.3,7.8,7.7,6.4,9,0.33]
[null,"60 000 - 99,999","Cruise 60 000 - 99,999 GT","GT",162.30000000000001,168.6,139.6,186.4,0.28000000000000003,7355.5144793592108,146.19999999999999,147.19999999999999,127.6,170.3,0.28999999999999998,1193.8,1197.5,1120.8,1288.5999999999999,0.14000000000000001,18.399999999999999,18.399999999999999,16.8,20.6,0.2]
[null,"100,000 - 149,999","Cruise 100,000 - 149,999 GT","GT",139.30000000000001,146.30000000000001,122.9,162,0.27,10117.013639626704,126.6,135.9,112,148.4,0.27,1409.3,1374.1,1305.9000000000001,1500.1,0.14000000000000001,22.9,22.5,20.5,24.6,0.18]
[null,"150,000-+","Cruise 150,000-+ GT","GT",109.4,125.6,94.5,138.80000000000001,0.35,12563.985374771482,96.7,106.7,88.7,123.7,0.33,1374.5,1333.2,1285,1468.9,0.14000000000000001,21.6,21.6,20.9,24.1,0.15]
["Ferry-RoPax","0 - 1,999",{"$f":"$A$52&\" \" &B52&\" \"&D52","v":"Ferry-RoPax 0 - 1,999 GT"},"GT",387.9,573.6,293.5,1410.2,1.95,293.63237947924728,326.8,414.8,254.8,1133.7,2.12,113.9,119.7,97.7,158.30000000000001,0.51,1.3,1.2,0.8,2.4,1.29]
[null,"2,000 - 4,999",{"$f":"$A$52&\" \" &B53&\" \"&D53","v":"Ferry-RoPax 2,000 - 4,999 GT"},"GT",354.4,325.7,221.8,784.6,1.73,552.20090293453723,287.5,243,196.6,542.6,1.42,195.7,194.6,171.7,235.6,0.33,2.2999999999999998,1.9,1.5,2.7,0.64]
[null,"5,000 - 9,999","Ferry-RoPax 5,000 - 9,999 GT","GT",245.7,308,142.5,614.79999999999995,1.53,1365.4863654863659,174.4,211.6,107.5,422.8,1.49,335.5,301.2,237.5,394.4,0.52,4.7,3.7,2.2999999999999998,6.8,1.21]
[null,"10,000 - 19,999","Ferry-RoPax 10,000 - 19,999 GT","GT",149.30000000000001,192.1,113,284.60000000000002,0.89,2928.3322170127258,110.9,124.8,84,194,0.88,437.2,437.2,343.3,548,0.47,6,6.2,4.8,8,0.53]
[null,"20,000-+","Ferry-RoPax 20,000-+ GT","GT",143.4,154.30000000000001,112.9,216.3,0.67,4930.9623430962347,110.3,114.2,81.099999999999994,160.69999999999999,0.7,707.1,668.4,563.5,849.1,0.43,11.8,11,8.8000000000000007,15.1,0.56999999999999995]
["Refrigerated bulk","0 - 1,999",{"$f":"$A$57&\" \" &B57&\" \"&D57","v":"Refrigerated bulk 0 - 1,999 dwt"},"dwt",184.3,207.3,127.6,402.1,1.32,870.32013022246338,145.5,165.1,101,295.5,1.18,160.4,159.1,124.3,248.9,0.78,1.5,1.5,1.2,2.1,0.63]
[null,"2,000 - 5,999",{"$f":"$A$57&\" \" &B58&\" \"&D58","v":"Refrigerated bulk 2,000 - 5,999 dwt"},"dwt",109.9,109.2,88.1,168.1,0.73,2635.122838944495,70.900000000000006,72.099999999999994,57,97.8,0.56999999999999995,289.60000000000002,287,240.6,350.8,0.38,3.3,3.3,2.7,4.2,0.46]
[null,"6,000 - 9,999","Refrigerated bulk 6,000 - 9,999 dwt","dwt",79.900000000000006,84.2,69.2,103,0.4,4461.8272841051312,46.4,48.7,41.2,60.4,0.39,356.5,366,314.10000000000002,433.3,0.33,5,5,4.3,6,0.34]
[null,"10,000-+","Refrigerated bulk 10,000-+ dwt","dwt",59,62.6,50.1,76.400000000000006,0.42,7688.1355932203396,36.1,37.1,32.4,42,0.26,453.6,443.3,414.2,497.4,0.19,7.4,7.3,6.7,8.1,0.2]
["Ro-Ro","0 - 4,999",{"$f":"$A$61&\" \" &B61&\" \"&D61","v":"Ro-Ro 0 - 4,999 dwt"},"dwt",139.19999999999999,238.7,107.3,559.79999999999995,1.9,1717.6724137931035,97.9,170.1,82.7,375.1,1.72,239.1,248.6,170.2,438.3,1.08,2,1.9,1.3,3.3,1.06]
[null,"5,000 - 9,999",{"$f":"$A$61&\" \" &B62&\" \"&D62","v":"Ro-Ro 5,000 - 9,999 dwt"},"dwt",70.099999999999994,67.8,54.7,92.7,0.56000000000000005,5078.4593437945796,48.4,46.7,38.1,62.1,0.51,356,342.4,273.7,408.7,0.39,4.7,4.4000000000000004,2.8,5.8,0.68]
[null,"10,000 - 14,999","Ro-Ro 10,000 - 14,999 dwt","dwt",53.8,51.4,43.7,65.2,0.42,8834.5724907063213,38.299999999999997,37.1,30.6,45.5,0.4,475.3,462.5,385.5,531.70000000000005,0.32,7.4,7.4,5.4,9.4,0.53]
[null,"15,000-+","Ro-Ro 15,000-+ dwt","dwt",26.6,26.6,17.7,41.7,0.9,19962.406015037592,18.8,18.5,12.7,28.7,0.86,531,527.5,415.4,652.70000000000005,0.45,8.1,8,6.4,10.1,0.46]
["Vehicle","0 - 29,999",{"$f":"$A$65&\" \" &B65&\" \"&D65","v":"Vehicle 0 - 29,999 GT"},"GT",135.80000000000001,146.19999999999999,106.3,198,0.63,1960.9720176730484,43.5,50.5,35.9,70.400000000000006,0.68,266.3,252.9,203.2,299.2,0.38,3.6,3.3,2.5,4.5,0.61]
[null,"30,000 - 49,999",{"$f":"$A$65&\" \" &B66&\" \"&D66","v":"Vehicle 30,000 - 49,999 GT"},"GT",72.400000000000006,72.8,64,82.8,0.26,4038.674033149171,21.3,21.4,19.2,24.6,0.25,292.39999999999998,292.5,265.7,311.39999999999998,0.16,4.4000000000000004,4.4000000000000004,4,4.8,0.19]
[null,"50,000-+","Vehicle 50,000-+ GT","GT",58.3,59.9,49.9,70.599999999999994,0.34,{"$f":"(1/E67)*1000*P67","v":5957.1183533447693},16.5,16.600000000000001,15.2,18.600000000000001,0.21,347.3,340.8,314.8,371.9,0.17,5.5,5.4,4.9000000000000004,6,0.2]
["Yacht","0-+",{"$f":"$A$68&\" \" &B68&\" \"&D68","v":"Yacht 0-+ GT"},"GT",426.8,584.29999999999995,393.1,896.8,0.86,{"$f":"(1/E68)*1000*P68","v":208.52858481724459},370.4,506.2,334.7,765.2,0.85,89,68.5,51.6,93.6,0.61,1,0.8,0.5,1.2,0.8]
["Service - tug","0-+",{"$f":"$A$69&\" \" &B69&\" \"&D69","v":"Service - tug 0-+ GT"},"GT",194.5,382.7,158,758.4,1.57,678.66323907455001,153.30000000000001,296.39999999999998,121,611.5,1.65,132,121.7,79.099999999999994,180.2,0.83,0.9,0.8,0.5,1.3,1.04]
["Miscellaneous\n- fishing","0-+",{"$f":"$A$70&\" \" &B70&\" \"&D70","v":"Miscellaneous\n- fishing 0-+ GT"},"GT",118.4,255.9,135.9,629.9,1.93,710.30405405405384,97.9,207.7,111.7,512.5,1.93,84.1,80,64.900000000000006,105.5,0.51,0.7,0.6,0.5,0.9,0.73]
["Offshore","0-+",{"$f":"$A$71&\" \" &B71&\" \"&D71","v":"Offshore 0-+ GT"},"GT",73.2,199.2,106.3,470.7,1.83,4142.0765027322404,43.8,119.6,66.599999999999994,310.89999999999998,2.04,303.2,272.89999999999998,171.2,438.9,0.98,2.6,2.2000000000000002,1.3,3.7,1.0900000000000001]
["Service - other","0-+",{"$f":"$A$72&\" \" &B72&\" \"&D72","v":"Service - other 0-+ GT"},"GT",56.9,164.2,72.2,490,2.54,3643.2337434094911,41.8,127.9,51.9,360.9,2.42,207.3,173.8,116.5,283.2,0.96,1.7,1.4,0.9,2.2999999999999998,1.04]
["Miscellaneous\n- other","0-+",{"$f":"$A$73&\" \" &B73&\" \"&D73","v":"Miscellaneous\n- other 0-+ GT"},"GT",37.799999999999997,50.4,30.2,67.2,0.73,12335.978835978836,24.4,32.799999999999997,19.8,53.3,1.02,466.3,485.4,267.89999999999998,645.6,0.78,5.7,5.4,2.9,7.8,0.93]

{"sheet":"IMO 4th study fuel cons.","index":13,"n_rows":73,"n_cols":23,"rows_kept":73,"cut":false,"hidden":true,"merged":[[60,0,63,0],[64,0,66,0],[1,4,1,7],[31,0,38,0],[39,0,40,0],[41,0,44,0],[45,0,50,0],[51,0,55,0],[56,0,59,0],[27,0,30,0],[3,0,8,0],[9,0,13,0],[14,0,22,0],[23,0,26,0],[1,13,2,13],[0,0,0,23],[1,0,2,0],[1,1,2,1],[1,3,2,3],[1,8,2,8],[1,9,2,9],[1,10,2,10],[1,11,2,11],[1,12,2,12],[1,22,2,22],[1,14,2,14],[1,15,2,15],[1,16,2,16],[1,17,1,19],[1,21,2,21]]}
["O.7     Detailed 2018 results\nTable 81 – Detailed results for 2018 describing the fleet (international, domestic and fishing) analysed using the bottom-up method"]
["Ship type","Size category",null,"Unit","Number of vessels",null,null,null,"Avg. DWT\n(tonnes)","Avg. main\nengine power (kW)","Avg. design speed (kn)","Avg. days at sea*","Avg. days international*","Avg. days in SECA*","Avg. SOG\nat sea* (kn)","Avg. Distance sailed* (nm)","Median\nAER","Avg. consumption (kt)*",null,null,null,"Total GHG emissions (in million\ntonnes\nCO2e)","Total CO2 emissions (in million tonnes)"]
[null,null,null,null,"Type 1\nand 2","Type 3","Type 4","Total",null,null,null,null,null,null,null,null,null,"Main","Aux.","Boiler"]
["Bulk carrier","0-9999","Bulk carrier 0 - 9,999 dwt","dwt",696,680,70,{"$f":"SUM(E4:G4)","v":1446},4271,1796,11.8,178,56,19,9.3000000000000007,40449,25.5,1,0.3,0.1,{"$f":"SUM(R4:T4)*1000","v":1400.0000000000002},3.8,3.7]
[null,"10000-34999","Bulk carrier 10,000 - 34,999 dwt","dwt",2014,0,0,{"$f":"SUM(E5:G5)","v":2014},27303,5941,13.8,177,255,34,11,47407,7.3,2.8,0.3,0.1,{"$f":"SUM(R5:T5)*1000","v":3199.9999999999995},20.3,20]
[null,"35000-59999","Bulk carrier 35,000 - 59,999 dwt","dwt",3391,0,0,3391,49487,8177,14.3,184,266,25,11.4,50781,5.4,3.7,0.4,0.2,4300.0000000000009,46.4,45.7]
[null,"60000-99999","Bulk carrier 60,000 - 99,999 dwt","dwt",3409,0,0,3409,76147,9748,14.4,214,302,30,11.4,59118,4.0999999999999996,4.9000000000000004,0.7,0.3,5900,63.9,63]
[null,"100000-199999","Bulk carrier 100,000 - 199,999 dwt","dwt",1242,0,0,1242,169868,16741,14.5,252,334,13,11.2,67978,2.7,9.1999999999999993,0.7,0.2,10099.999999999998,39.6,39]
[null,"200000-+","Bulk carrier 200,000-+ dwt","dwt",516,0,0,516,251667,20094,14.6,258,336,3,11.8,73223,2.2999999999999998,12.7,0.7,0.2,13599.999999999998,22.3,22]
["Chemical tanker","0-4999","Chemical tanker 0 - 4,999 dwt","dwt",1032,4908,127,6067,4080,987,12.2,168,21,46,9.6,39422,65.7,0.8,0.3,0.9,2000,15,14.8]
[null,"5000-9999","Chemical tanker 5,000 - 9,999 dwt","dwt",844,18,0,862,7276,3109,12.9,185,217,50,10.3,46505,28.7,1.6,0.8,0.7,3100.0000000000005,8.1999999999999993,8.1]
[null,"10000-19999","Chemical tanker 10,000 - 19,999 dwt","dwt",1088,0,0,1088,15324,5101,13.8,190,249,57,11.4,52632,17.899999999999999,2.7,0.8,1,4500,15.6,15.3]
[null,"20000-39999","Chemical tanker 20,000 - 39,999 dwt","dwt",706,0,0,{"$f":"SUM(E13:G13)","v":706},32492,8107,14.7,202,280,63,12.1,59216,11.1,4.5,1.2,1.3,7000,15.6,15.3]
[null,"40000-+","Chemical tanker 40,000-+ dwt","dwt",1289,0,0,1289,48796,8929,14.6,201,274,55,11.9,58155,7.7,4.7,1.2,1.2,7100.0000000000009,28.7,28.2]
["Container","0-999","Container 0 - 999 teu","teu",861,165,1,1027,8438,5077,16,196,163,43,11.8,55998,23.9,2.6,0.7,0.4,3699.9999999999995,10.199999999999999,10]
[null,"1000-1999","Container 1,000 - 1,999 teu","teu",1271,0,0,1271,19051,12083,19,210,270,30,13.4,68141,17.2,5.0999999999999996,1.5,0.4,7000,28.5,28]
[null,"2000-2999","Container 2,000 - 2,999 teu","teu",668,0,0,668,34894,20630,21.1,220,275,24,14.2,75381,11.4,7.9,1.5,0.6,10000,21.2,20.9]
[null,"3000-4999","Container 3,000 - 4,999 teu","teu",815,0,0,815,52372,34559,23.1,246,271,29,14.7,87456,10.3,12.7,2.4,0.5,15600,40.1,39.4]
[null,"5000-7999","Container 5,000 - 7,999 teu","teu",561,0,0,561,74661,52566,24.6,258,280,39,15.7,97500,9.8000000000000007,20.3,2.4,0.5,23200,41.3,40.700000000000003]
[null,"8000-11999","Container 8,000 - 11,999 teu","teu",623,0,0,623,110782,57901,23.9,261,301,38,16.3,102600,8.3000000000000007,26.4,2.9,0.5,29799.999999999996,58.8,57.9]
[null,"12000-14499","Container 12,000 - 14,499 teu","teu",227,0,0,227,149023,61231,23.8,246,297,33,16.3,96501,6.8,27.2,3.3,0.6,31100,22.3,22]
[null,"14500-19999","Container 14,500 - 19,999 teu","teu",101,0,0,101,179871,60202,20.2,250,309,51,16.5,99770,5.4,26.7,3.7,0.6,31000,9.9,9.6999999999999993]
[null,"20000-+","Container 20,000-+ teu","teu",44,0,0,44,195615,60210,20.3,210,292,43,16.3,82534,5.3,21,3.6,0.9,25500,3.5,3.5]
["General cargo","0-4999","General cargo 0 - 4,999 dwt","dwt",4880,6926,1490,13296,2104,1454,11.1,170,71,55,8.8000000000000007,36420,24.3,0.6,0.1,0,700,19.2,18.899999999999999]
[null,"5000-9999","General cargo 5,000 - 9,999 dwt","dwt",2245,0,0,2245,6985,3150,12.7,176,238,44,9.8000000000000007,41859,19.100000000000001,1.4,0.3,0.2,1900,13,12.8]
[null,"10000-19999","General cargo 10,000 - 19,999 dwt","dwt",1054,0,0,1054,13423,5280,14,192,267,39,11.4,53010,16.8,2.8,0.8,0.2,3800,12.9,12.7]
[null,"20000-+","General cargo 20,000-+ dwt","dwt",793,0,0,793,36980,9189,15,197,269,38,11.9,56593,8.5,4.5,0.8,0.2,5500,14,13.7]
["Liquefied gas tanker","0-49999","Liquefied gas tanker 0 - 49,999 cbm","cbm",1085,1589,11,2685,8603,2236,14.2,190,87,42,11.7,54325,38,2.4,0.4,1.1000000000000001,3900,16.100000000000001,15.8]
[null,"50000-99999","Liquefied gas tanker 50,000 - 99,999 cbm","cbm",308,0,0,308,52974,12832,16.399999999999999,229,324,22,14.1,78128,9.3000000000000007,8.9,3,0.8,12700.000000000002,12.3,12.1]
[null,"100000-199999","Liquefied gas tanker 100,000 - 199,999 cbm","cbm",436,0,0,436,83661,30996,19,271,339,8,14.9,97363,10.3,22.2,4.4000000000000004,1,27600,41.3,37.5]
[null,"200000-+","Liquefied gas tanker 200,000-+ cbm","cbm",46,0,0,46,121977,36735,19.2,252,364,5,16,97350,10.3,26.3,11.7,1.9,39900,5.8,5.7]
["Oil tanker","0-4999","Oil tanker 0 - 4,999 dwt","dwt",1734,7310,648,9692,3158,966,11.4,135,17,14,8.6999999999999993,29220,79.5,0.5,0.4,0.7,1600,23.5,23.2]
[null,"5000-9999","Oil tanker 5,000 - 9,999 dwt","dwt",779,0,0,779,6789,2761,12.1,142,136,11,9.1,31816,36.700000000000003,0.9,0.6,0.9,2400,6,5.9]
[null,"10000-19999","Oil tanker 10,000 - 19,999 dwt","dwt",235,0,0,235,14733,4417,12.9,136,149,18,9.8000000000000007,32892,24.3,1.4,0.9,1.4,3699.9999999999995,2.8,2.8]
[null,"20000-59999","Oil tanker 20,000 - 59,999 dwt","dwt",615,0,0,615,43750,8975,14.6,166,202,26,11.2,45492,10.6,3.4,1,2.8,7200,14,13.8]
[null,"60000-79999","Oil tanker 60,000 - 79,999 dwt","dwt",429,0,0,429,72826,11837,14.8,194,278,45,11.6,55066,6.7,5.2,1,2.8,9000,12.2,12.1]
[null,"80000-119999","Oil tanker 80,000 - 119,999 dwt","dwt",1029,0,0,1029,109262,13319,14.8,195,289,61,11.2,53429,4.9000000000000004,5.4,1.2,3.1,9700.0000000000018,31.5,31.1]
[null,"120000-199999","Oil tanker 120,000 - 199,999 dwt","dwt",597,0,0,597,155878,17446,15.1,220,313,44,11.4,61254,4.0999999999999996,8,1.8,3.5,13300,25.1,24.7]
[null,"200000-+","Oil tanker 200,000-+ dwt","dwt",755,0,0,755,307866,27159,15.5,252,342,10,11.9,72529,2.6,14.5,1.7,3.1,19300,46,45.3]
["Other liquids tankers","0-999","Other liquids tankers 0 - 999 dwt","dwt",26,443,64,533,3450,687,9.6,98,8,30,7.5,18414,1577.8,0.1,0.6,2.1,2800,1.5,1.5]
[null,"1000-+","Other liquids tankers 1,000-+ dwt","dwt",27,79,0,106,10813,2034,13.6,207,59,37,11.6,57892,82.9,4.8,0.9,1.2,6900,0.7,0.7]
["Ferry-pax only","0-299†","Ferry-pax only 0 - 299 GT","gt",663,8607,1410,10680,4034,1152,19.3,162,11,104,14.1,55365,1280.2,0.4,0.3,0,700,8.6,8.4]
[null,"300-999†","Ferry-pax only 300 - 999 GT","gt",666,0,0,666,102,3182,26.2,161,53,70,14.7,57572,926.9,0.7,0.3,0,1000,2.1,2.1]
[null,"1000-1999†","Ferry-pax only 1,000 - 1,999 GT","gt",51,0,0,51,354,2623,14.5,135,38,88,9.3000000000000007,31388,314,0.6,0.3,0,899.99999999999989,0.1,0.1]
[null,"2000-+","Ferry-pax only 2,000-+ GT","gt",55,0,0,55,1730,6539,16.2,199,77,28,12.4,59816,169,3.5,0.9,0,4400,0.8,0.8]
["Cruise","0-1999","Cruise 0 - 1,999 GT","gt",126,641,45,812,3115,911,12.7,93,17,74,8.1,18975,3770.5,0.1,0.4,2.2000000000000002,2700,1.7,1.7]
[null,"2000-9999","Cruise 2,000 - 9,999 GT","gt",110,0,0,110,867,3232,13.8,148,109,63,9.1999999999999993,33335,513.4,0.5,0.8,1.8,3100,1.1000000000000001,1.1000000000000001]
[null,"10000-59999","Cruise 10,000 - 59,999 GT","gt",105,0,0,105,4018,19378,19,206,232,63,13.4,66624,147.30000000000001,5,6.4,1.4,12800,4.3,4.2]
[null,"60000-99999","Cruise 60 000 - 99,999 GT","gt",98,0,0,98,8249,51518,21.8,256,272,94,15.3,94193,155.19999999999999,16.100000000000001,20.3,1,37400.000000000007,11.6,11.4]
[null,"100000-149999","Cruise 100,000 - 149,999 GT","gt",61,0,0,61,10935,67456,21.3,250,295,96,16,96582,140.5,24.4,20,1,45400,8.8000000000000007,8.6]
[null,"150000-+","Cruise 150,000-+ GT","gt",21,0,0,21,13499,73442,22,236,301,58,16.399999999999999,92891,109.6,23.2,19.8,1.2,44200,2.9,2.9]
["Ferry-RoPax","0-1999†","Ferry-RoPax 0 - 1,999 GT","gt",1040,1474,340,2854,2720,1383,13,165,9,95,9,36832,458.1,0.6,0.2,0.5,1300,5.7,5.6]
[null,"2000-4999","Ferry-RoPax 2,000 - 4,999 GT","gt",400,0,0,400,832,5668,17.399999999999999,167,64,94,11.4,46462,257.3,1.8,0.6,0.4,2800,3.5,3.5]
[null,"5000-9999","Ferry-RoPax 5,000 - 9,999 GT","gt",227,0,0,227,1891,12024,21.6,155,83,88,13.2,50015,205,3.2,1.2,0.5,4900,3.5,3.4]
[null,"10000-19999","Ferry-RoPax 10,000 - 19,999 GT","gt",231,0,0,231,3952,15780,20.3,190,124,80,15.1,69463,123,7.9,1.9,0.6,10400,7.6,7.5]
[null,"20000-+","Ferry-RoPax 20,000-+ GT","gt",282,0,0,282,6364,28255,22.6,219,203,145,16.5,87164,105.1,15.2,3.3,0.5,19000,17.100000000000001,16.7]
["Refrigerated bulk","0-1999","Refrigerated bulk 0 - 1,999 dwt","dwt",93,1201,77,1371,2409,793,12.1,147,29,22,9.1,33255,175.8,0.4,1,0.5,1900,1.9,1.9]
[null,"2000-5999","Refrigerated bulk 2,000 - 5,999 dwt","dwt",213,0,0,213,3986,3223,14.7,149,284,24,11.1,40891,76.099999999999994,1.2,2.1,0.5,3800,2.6,2.5]
[null,"6000-9999","Refrigerated bulk 6,000 - 9,999 dwt","dwt",182,0,0,182,7476,6206,17.399999999999999,150,313,16,13.6,50162,48.2,2.6,2.8,0.5,5900,3.4,3.3]
[null,"10000-+","Refrigerated bulk 10,000-+ dwt","dwt",157,0,0,157,12612,11505,20.2,218,340,51,16.3,85595,37.1,7.1,5.3,0.3,12700,6.3,6.2]
["Ro-Ro","0-4999","Ro-Ro 0 - 4,999 dwt","dwt",615,1175,384,2174,1406,1618,11.2,129,56,24,8.1,26155,226.2,0.7,0.9,0.5,2100,6.8,6.7]
[null,"5000-9999","Ro-Ro 5,000 - 9,999 dwt","dwt",200,0,2,202,6955,9909,17.600000000000001,201,183,73,14.2,68850,50.7,6.1,1.4,0.4,7900,5,4.9000000000000004]
[null,"10000-14999","Ro-Ro 10,000 - 14,999 dwt","dwt",135,0,0,135,12101,15939,19.600000000000001,218,264,137,15.5,81605,39.299999999999997,10,1.9,0.5,12400,5.3,5.2]
[null,"15000-+","Ro-Ro 15,000-+ dwt","dwt",89,0,0,89,27488,19505,19.100000000000001,199,299,171,15.2,72760,22.4,11.1,1.8,0.5,13400,3.8,3.7]
["Vehicle","0-29999","Vehicle 0 - 29,999 GT","gt",168,7,0,175,5151,7264,17.3,213,167,63,13.6,69764,53.9,4.5999999999999996,0.9,0.4,5900,3.2,3.1]
[null,"30000-49999","Vehicle 30,000 - 49,999 GT","gt",189,0,0,189,13571,11831,19.399999999999999,254,297,36,14.7,90133,21.8,7.1,1,0.3,8400,5,4.9000000000000004]
[null,"50000-+","Vehicle 50,000-+ GT","gt",487,0,0,{"$f":"SUM(E67:G67)","v":487},20947,14588,19.899999999999999,281,309,47,15.5,104956,16.399999999999999,10.4,0.9,0.2,11500,17.8,17.5]
["Yacht","0-+†","Yacht 0-+ GT","gt",1665,7914,542,{"$f":"SUM(E68:G68)","v":10121},1077,1116,16.7,78,36,64,10.7,20358,405.8,0.4,0,0,400,4.9000000000000004,4.9000000000000004]
["Service - tug","0-+†",{"$f":"A69&\" 0-+ \"&\"GT\"","v":"Service - tug 0-+ GT"},"gt",8805,58478,8983,76266,1218,1086,11.9,80,14,82,6.6,14451,422.7,0.3,0.2,0,{"$f":"SUM(R69:T69)*1000","v":500},41,40.299999999999997]
["Miscellaneous\n- fishing","0-+†",{"$f":"A70&\" 0-+ \"&\"GT\"","v":"Miscellaneous\n- fishing 0-+ GT"},"gt",9140,17583,9807,36530,468,983,11.7,164,42,89,7.5,32028,304.3,0.3,0.3,0,600,40.700000000000003,40]
["Offshore","0-+†","Offshore 0-+ GT","gt",4322,11696,875,16893,4765,2010,13.9,80,25,111,8.5,17852,152.80000000000001,0.6,0.5,0,1100,20.9,20.5]
["Service - other","0-+†","Service - other 0-+ GT","gt",3157,8104,1158,12419,2496,1620,13.6,96,25,90,8.1,19960,205.3,0.6,0.4,0,1000,14.3,14.1]
["Miscellaneous\n- other","0-+†","Miscellaneous\n- other 0-+ GT","gt",138,55,56,249,11496,15301,18.2,102,70,154,10.7,27189,31.6,2.1,0.4,0.2,2700,1.3,1.3]

{"sheet":"EE lighting system","index":14,"n_rows":66,"n_cols":13,"rows_kept":66,"cut":false,"hidden":false,"merged":[[0,0,1,0],[0,1,0,3],[0,6,0,7],[0,9,0,11]]}
["Ship type and size","Measure applicability to engines",null,null,"CAPEX NB","CAPEX Retrofit addition","Operational Cost",null,"Lifetime","Total fuel savings %",null,null,"EEXI / EEDI savings"]
[null,"Main","Aux","Boiler","$","%","$ per year","$ per 5 year","Years","Low","High","Typical","%"]
[{"$f":"DropDownList!$A$3&\" \"&DropDownList!A4","v":"Bulk carrier 0  - 9,999 dwt"},null,1,null,117500,0.25,0,0,25,2.5000000000000001E-3,5.0000000000000001E-3,3.0000000000000001E-3,2E-3]
[{"$f":"DropDownList!$A$3&\" \"&DropDownList!A5","v":"Bulk carrier 10,000 - 34,999 dwt"},null,1,null,117500,0.25,0,0,25,2.5000000000000001E-3,5.0000000000000001E-3,3.0000000000000001E-3,2E-3]
[{"$f":"DropDownList!$A$3&\" \"&DropDownList!A6","v":"Bulk carrier 35,000 - 59,999 dwt"},null,1,null,117500,0.25,0,0,25,2.5000000000000001E-3,5.0000000000000001E-3,3.0000000000000001E-3,2E-3]
[{"$f":"DropDownList!$A$3&\" \"&DropDownList!A7","v":"Bulk carrier 60,000 - 99,999 dwt"},null,1,null,117500,0.25,0,0,25,2.5000000000000001E-3,5.0000000000000001E-3,3.0000000000000001E-3,2E-3]
[{"$f":"DropDownList!$A$3&\" \"&DropDownList!A8","v":"Bulk carrier 100,000 - 199,999 dwt"},null,1,null,117500,0.25,0,0,25,2.5000000000000001E-3,5.0000000000000001E-3,3.0000000000000001E-3,2E-3]
[{"$f":"DropDownList!$A$3&\" \"&DropDownList!A9","v":"Bulk carrier 200,000-+ dwt"},null,1,null,117500,0.25,0,0,25,2.5000000000000001E-3,5.0000000000000001E-3,3.0000000000000001E-3,2E-3]
[{"$f":"DropDownList!$B$3&\" \"&DropDownList!B4","v":"Chemical tanker 0 - 4,999 dwt"},null,1,null,117500,0.25,0,0,25,2.5000000000000001E-3,5.0000000000000001E-3,3.0000000000000001E-3,2E-3]
[{"$f":"DropDownList!$B$3&\" \"&DropDownList!B5","v":"Chemical tanker 5,000 - 9,999 dwt"},null,1,null,117500,0.25,0,0,25,2.5000000000000001E-3,5.0000000000000001E-3,3.0000000000000001E-3,2E-3]
[{"$f":"DropDownList!$B$3&\" \"&DropDownList!B6","v":"Chemical tanker 10,000 - 19,999 dwt"},null,1,null,117500,0.25,0,0,25,2.5000000000000001E-3,5.0000000000000001E-3,3.0000000000000001E-3,2E-3]
[{"$f":"DropDownList!$B$3&\" \"&DropDownList!B7","v":"Chemical tanker 20,000 - 39,999 dwt"},null,1,null,117500,0.25,0,0,25,2.5000000000000001E-3,5.0000000000000001E-3,3.0000000000000001E-3,2E-3]
[{"$f":"DropDownList!$B$3&\" \"&DropDownList!B8","v":"Chemical tanker 40,000-+ dwt"},null,1,null,117500,0.25,0,0,25,2.5000000000000001E-3,5.0000000000000001E-3,3.0000000000000001E-3,2E-3]
[{"$f":"DropDownList!$C$3&\" \"&DropDownList!C4","v":"Container 0-999 teu"},null,1,null,117500,0.25,0,0,25,2.5000000000000001E-3,5.0000000000000001E-3,3.0000000000000001E-3,2E-3]
[{"$f":"DropDownList!$C$3&\" \"&DropDownList!C5","v":"Container 1,000 - 1,999 teu"},null,1,null,117500,0.25,0,0,25,2.5000000000000001E-3,5.0000000000000001E-3,3.0000000000000001E-3,2E-3]
[{"$f":"DropDownList!$C$3&\" \"&DropDownList!C6","v":"Container 2,000 - 2,999 teu"},null,1,null,117500,0.25,0,0,25,2.5000000000000001E-3,5.0000000000000001E-3,3.0000000000000001E-3,2E-3]
[{"$f":"DropDownList!$C$3&\" \"&DropDownList!C7","v":"Container 3,000 - 4,999 teu"},null,1,null,117500,0.25,0,0,25,2.5000000000000001E-3,5.0000000000000001E-3,3.0000000000000001E-3,2E-3]
[{"$f":"DropDownList!$C$3&\" \"&DropDownList!C8","v":"Container 5,000 - 7,999 teu"},null,1,null,117500,0.25,0,0,25,2.5000000000000001E-3,5.0000000000000001E-3,3.0000000000000001E-3,2E-3]
[{"$f":"DropDownList!$C$3&\" \"&DropDownList!C9","v":"Container 8,000 - 11,999 teu"},null,1,null,117500,0.25,0,0,25,2.5000000000000001E-3,5.0000000000000001E-3,3.0000000000000001E-3,2E-3]
[{"$f":"DropDownList!$C$3&\" \"&DropDownList!C10","v":"Container 12,000 - 14,499 teu"},null,1,null,117500,0.25,0,0,25,2.5000000000000001E-3,5.0000000000000001E-3,3.0000000000000001E-3,2E-3]
[{"$f":"DropDownList!$C$3&\" \"&DropDownList!C11","v":"Container 14,500 - 19,999 teu"},null,1,null,117500,0.25,0,0,25,2.5000000000000001E-3,5.0000000000000001E-3,3.0000000000000001E-3,2E-3]
[{"$f":"DropDownList!$C$3&\" \"&DropDownList!C12","v":"Container 20,000-+ teu"},null,1,null,117500,0.25,0,0,25,2.5000000000000001E-3,5.0000000000000001E-3,3.0000000000000001E-3,2E-3]
[{"$f":"DropDownList!$D$3&\" \"&DropDownList!D4","v":"General cargo 0 - 4,999 dwt"},null,1,null,117500,0.25,0,0,25,2.5000000000000001E-3,5.0000000000000001E-3,3.0000000000000001E-3,2E-3]
[{"$f":"DropDownList!$D$3&\" \"&DropDownList!D5","v":"General cargo 5,000 - 9,999 dwt"},null,1,null,117500,0.25,0,0,25,2.5000000000000001E-3,5.0000000000000001E-3,3.0000000000000001E-3,2E-3]
[{"$f":"DropDownList!$D$3&\" \"&DropDownList!D6","v":"General cargo 10,000 - 19,999 dwt"},null,1,null,117500,0.25,0,0,25,2.5000000000000001E-3,5.0000000000000001E-3,3.0000000000000001E-3,2E-3]
[{"$f":"DropDownList!$D$3&\" \"&DropDownList!D7","v":"General cargo 20,000-+ dwt"},null,1,null,117500,0.25,0,0,25,2.5000000000000001E-3,5.0000000000000001E-3,3.0000000000000001E-3,2E-3]
[{"$f":"DropDownList!$E$3&\" \"&DropDownList!E4","v":"Liquefied gas tanker 0 - 49,999 cbm"},null,1,null,117500,0.25,0,0,25,2.5000000000000001E-3,5.0000000000000001E-3,3.0000000000000001E-3,2E-3]
[{"$f":"DropDownList!$E$3&\" \"&DropDownList!E5","v":"Liquefied gas tanker 40,000 - 99,999 cbm"},null,1,null,117500,0.25,0,0,25,2.5000000000000001E-3,5.0000000000000001E-3,3.0000000000000001E-3,2E-3]
[{"$f":"DropDownList!$E$3&\" \"&DropDownList!E6","v":"Liquefied gas tanker 100,000 - 199,999 cbm"},null,1,null,117500,0.25,0,0,25,2.5000000000000001E-3,5.0000000000000001E-3,3.0000000000000001E-3,2E-3]
[{"$f":"DropDownList!$E$3&\" \"&DropDownList!E7","v":"Liquefied gas tanker 200,000-+ cbm"},null,1,null,117500,0.25,0,0,25,2.5000000000000001E-3,5.0000000000000001E-3,3.0000000000000001E-3,2E-3]
[{"$f":"DropDownList!$G$3&\" \"&DropDownList!G4","v":"Ferry-pax only 0 - 299 GT"},null,1,null,235000,0.25,0,0,25,2.5000000000000001E-3,1.4999999999999999E-2,3.0000000000000001E-3,2E-3]
[{"$f":"DropDownList!$G$3&\" \"&DropDownList!G5","v":"Ferry-pax only 300 - 999 GT"},null,1,null,587500,0.25,0,0,25,2.5000000000000001E-3,1.4999999999999999E-2,3.0000000000000001E-3,2E-3]
[{"$f":"DropDownList!$G$3&\" \"&DropDownList!G6","v":"Ferry-pax only 1,000 - 1,999 GT"},null,1,null,587500,0.25,0,0,25,2.5000000000000001E-3,1.4999999999999999E-2,3.0000000000000001E-3,2E-3]
[{"$f":"DropDownList!$G$3&\" \"&DropDownList!G7","v":"Ferry-pax only 2,000-+ GT"},null,1,null,822500,0.25,0,0,25,2.5000000000000001E-3,1.4999999999999999E-2,4.0000000000000001E-3,2E-3]
[{"$f":"DropDownList!$H$3&\" \"&DropDownList!H4","v":"Cruise 0 - 1,999 GT"},null,1,null,235000,0.25,0,0,25,2.5000000000000001E-3,1.4999999999999999E-2,3.0000000000000001E-3,2E-3]
[{"$f":"DropDownList!$H$3&\" \"&DropDownList!H5","v":"Cruise 2,000 - 9,999 GT"},null,1,null,587500,0.25,0,0,25,2.5000000000000001E-3,1.4999999999999999E-2,3.0000000000000001E-3,2E-3]
[{"$f":"DropDownList!$H$3&\" \"&DropDownList!H6","v":"Cruise 10,000 - 59,999 GT"},null,1,null,117500,0.25,0,0,25,2.5000000000000001E-3,1.4999999999999999E-2,3.0000000000000001E-3,2E-3]
[{"$f":"DropDownList!$H$3&\" \"&DropDownList!H7","v":"Cruise 60,000 - 99,999 GT"},null,1,null,881250,0.25,0,0,25,2.5000000000000001E-3,1.4999999999999999E-2,5.0000000000000001E-3,2E-3]
[{"$f":"DropDownList!$H$3&\" \"&DropDownList!H8","v":"Cruise 100,000 - 149,999 GT"},null,1,null,1175000,0.25,0,0,25,2.5000000000000001E-3,1.4999999999999999E-2,5.0000000000000001E-3,2E-3]
[{"$f":"DropDownList!$H$3&\" \"&DropDownList!H9","v":"Cruise 150,000-+ GT"},null,1,null,1175000,0.25,0,0,25,2.5000000000000001E-3,1.4999999999999999E-2,5.0000000000000001E-3,2E-3]
[{"$f":"DropDownList!$I$3&\" \"&DropDownList!I4","v":"Ferry-RoPax 0 - 1,999 GT"},null,1,null,235000,0.25,0,0,25,2.5000000000000001E-3,0.01,3.0000000000000001E-3,2E-3]
[{"$f":"DropDownList!$I$3&\" \"&DropDownList!I5","v":"Ferry-RoPax 2,000 - 4,999 GT"},null,1,null,587500,0.25,0,0,25,2.5000000000000001E-3,0.01,3.0000000000000001E-3,2E-3]
[{"$f":"DropDownList!$I$3&\" \"&DropDownList!I6","v":"Ferry-RoPax 5,000 - 9,999 GT"},null,1,null,587500,0.25,0,0,25,2.5000000000000001E-3,0.01,3.0000000000000001E-3,2E-3]
[{"$f":"DropDownList!$I$3&\" \"&DropDownList!I7","v":"Ferry-RoPax 10,000 - 19,999 GT"},null,1,null,881250,0.25,0,0,25,2.5000000000000001E-3,0.01,5.0000000000000001E-3,2E-3]
[{"$f":"DropDownList!$I$3&\" \"&DropDownList!I8","v":"Ferry-RoPax 20,000-+ GT"},null,1,null,1175000,0.25,0,0,25,2.5000000000000001E-3,0.01,5.0000000000000001E-3,2E-3]
[{"$f":"DropDownList!$J$3&\" \"&DropDownList!J4","v":"Refrigerated bulk 0 - 1,999 dwt"},null,1,null,117500,0.25,0,0,25,2.5000000000000001E-3,5.0000000000000001E-3,3.0000000000000001E-3,2E-3]
[{"$f":"DropDownList!$J$3&\" \"&DropDownList!J5","v":"Refrigerated bulk 2,000 - 5,999 dwt"},null,1,null,117500,0.25,0,0,25,2.5000000000000001E-3,5.0000000000000001E-3,3.0000000000000001E-3,2E-3]
[{"$f":"DropDownList!$J$3&\" \"&DropDownList!J6","v":"Refrigerated bulk 6,000 - 9,999 dwt"},null,1,null,117500,0.25,0,0,25,2.5000000000000001E-3,5.0000000000000001E-3,3.0000000000000001E-3,2E-3]
[{"$f":"DropDownList!$J$3&\" \"&DropDownList!J7","v":"Refrigerated bulk 10,000-+ dwt"},null,1,null,117500,0.25,0,0,25,2.5000000000000001E-3,5.0000000000000001E-3,3.0000000000000001E-3,2E-3]
[{"$f":"DropDownList!$K$3&\" \"&DropDownList!K4","v":"Ro-Ro 0 - 4,999 dwt"},null,1,null,117500,0.25,0,0,25,2.5000000000000001E-3,5.0000000000000001E-3,3.0000000000000001E-3,2E-3]
[{"$f":"DropDownList!$K$3&\" \"&DropDownList!K5","v":"Ro-Ro 5,000 - 9,999 dwt"},null,1,null,117500,0.25,0,0,25,2.5000000000000001E-3,5.0000000000000001E-3,3.0000000000000001E-3,2E-3]
[{"$f":"DropDownList!$K$3&\" \"&DropDownList!K6","v":"Ro-Ro 10,000 - 14,999 dwt"},null,1,null,117500,0.25,0,0,25,2.5000000000000001E-3,5.0000000000000001E-3,3.0000000000000001E-3,2E-3]
[{"$f":"DropDownList!$K$3&\" \"&DropDownList!K7","v":"Ro-Ro 15,000-+ dwt"},null,1,null,117500,0.25,0,0,25,2.5000000000000001E-3,5.0000000000000001E-3,3.0000000000000001E-3,2E-3]
[{"$f":"DropDownList!$L$3&\" \"&DropDownList!L4","v":"Vehicle 0 - 29,999 GT"},null,1,null,117500,0.25,0,0,25,2.5000000000000001E-3,5.0000000000000001E-3,3.0000000000000001E-3,2E-3]
[{"$f":"DropDownList!$L$3&\" \"&DropDownList!L5","v":"Vehicle 30,000 - 49,999 GT"},null,1,null,117500,0.25,0,0,25,2.5000000000000001E-3,5.0000000000000001E-3,3.0000000000000001E-3,2E-3]
[{"$f":"DropDownList!$L$3&\" \"&DropDownList!L6","v":"Vehicle 50,000-+ GT"},null,1,null,117500,0.25,0,0,25,2.5000000000000001E-3,5.0000000000000001E-3,3.0000000000000001E-3,2E-3]
["Oil tanker 0 - 4,999 dwt",null,1,null,117500,0.25,0,0,25,2.5000000000000001E-3,5.0000000000000001E-3,3.0000000000000001E-3,2E-3]
["Oil tanker 5,000 - 9,999 dwt",null,1,null,117500,0.25,0,0,25,2.5000000000000001E-3,5.0000000000000001E-3,3.0000000000000001E-3,2E-3]
["Oil tanker 10,000 - 19,999 dwt",null,1,null,117500,0.25,0,0,25,2.5000000000000001E-3,5.0000000000000001E-3,3.0000000000000001E-3,2E-3]
["Oil tanker 20,000 - 59,999 dwt",null,1,null,117500,0.25,0,0,25,2.5000000000000001E-3,5.0000000000000001E-3,3.0000000000000001E-3,2E-3]
["Oil tanker 60,000 - 79,999 dwt",null,1,null,117500,0.25,0,0,25,2.5000000000000001E-3,5.0000000000000001E-3,3.0000000000000001E-3,2E-3]
["Oil tanker 80,000 - 119,999 dwt",null,1,null,117500,0.25,0,0,25,2.5000000000000001E-3,5.0000000000000001E-3,3.0000000000000001E-3,2E-3]
["Oil tanker 120,000 - 199,999 dwt",null,1,null,117500,0.25,0,0,25,2.5000000000000001E-3,5.0000000000000001E-3,3.0000000000000001E-3,2E-3]
["Oil tanker 200,000-+ dwt",null,1,null,117500,0.25,0,0,25,2.5000000000000001E-3,5.0000000000000001E-3,3.0000000000000001E-3,2E-3]
["Other liquids tankers 0-999 dwt",null,1,null,117500,0.25,0,0,25,2.5000000000000001E-3,5.0000000000000001E-3,3.0000000000000001E-3,2E-3]
["Other liquids tankers 1,000-+ dwt",null,1,null,117500,0.25,0,0,25,2.5000000000000001E-3,5.0000000000000001E-3,3.0000000000000001E-3,2E-3]

{"sheet":"Freq. controlled el. motors ","index":15,"n_rows":66,"n_cols":13,"rows_kept":66,"cut":false,"hidden":false,"merged":[[0,0,1,0],[0,1,0,3],[0,6,0,7],[0,9,0,11]]}
["Ship type and size","Measure applicability to engines",null,null,"CAPEX NB","CAPEX Retrofit addition","Operational Cost",null,"Lifetime","Total fuel savings %",null,null,"EEXI / EEDI savings"]
[null,"Main","Aux","Boiler","$","%","$ per year","$ per 5 year","Years","Low","High","Typical","%"]
[{"$f":"DropDownList!$A$3&\" \"&DropDownList!A4","v":"Bulk carrier 0  - 9,999 dwt"},null,1,null,470000,0.25,3000,0,25,2E-3,0.02,6.0000000000000001E-3,2E-3]
[{"$f":"DropDownList!$A$3&\" \"&DropDownList!A5","v":"Bulk carrier 10,000 - 34,999 dwt"},null,1,null,470000,0.25,3000,0,25,2E-3,0.02,6.0000000000000001E-3,2E-3]
[{"$f":"DropDownList!$A$3&\" \"&DropDownList!A6","v":"Bulk carrier 35,000 - 59,999 dwt"},null,1,null,470000,0.25,3000,0,25,2E-3,0.02,6.0000000000000001E-3,2E-3]
[{"$f":"DropDownList!$A$3&\" \"&DropDownList!A7","v":"Bulk carrier 60,000 - 99,999 dwt"},null,1,null,470000,0.25,3000,0,25,2E-3,0.02,6.0000000000000001E-3,2E-3]
[{"$f":"DropDownList!$A$3&\" \"&DropDownList!A8","v":"Bulk carrier 100,000 - 199,999 dwt"},null,1,null,587500,0.25,3000,0,25,2E-3,0.02,6.0000000000000001E-3,2E-3]
[{"$f":"DropDownList!$A$3&\" \"&DropDownList!A9","v":"Bulk carrier 200,000-+ dwt"},null,1,null,705000,0.25,3000,0,25,2E-3,0.02,6.0000000000000001E-3,2E-3]
[{"$f":"DropDownList!$B$3&\" \"&DropDownList!B4","v":"Chemical tanker 0 - 4,999 dwt"},null,1,null,470000,0.25,3000,0,25,2E-3,0.02,6.0000000000000001E-3,2E-3]
[{"$f":"DropDownList!$B$3&\" \"&DropDownList!B5","v":"Chemical tanker 5,000 - 9,999 dwt"},null,1,null,470000,0.25,3000,0,25,2E-3,0.02,6.0000000000000001E-3,2E-3]
[{"$f":"DropDownList!$B$3&\" \"&DropDownList!B6","v":"Chemical tanker 10,000 - 19,999 dwt"},null,1,null,470000,0.25,3000,0,25,2E-3,0.02,6.0000000000000001E-3,2E-3]
[{"$f":"DropDownList!$B$3&\" \"&DropDownList!B7","v":"Chemical tanker 20,000 - 39,999 dwt"},null,1,null,470000,0.25,3000,0,25,2E-3,0.02,6.0000000000000001E-3,2E-3]
[{"$f":"DropDownList!$B$3&\" \"&DropDownList!B8","v":"Chemical tanker 40,000-+ dwt"},null,1,null,470000,0.25,3000,0,25,2E-3,0.02,6.0000000000000001E-3,2E-3]
[{"$f":"DropDownList!$C$3&\" \"&DropDownList!C4","v":"Container 0-999 teu"},null,1,null,470000,0.25,3000,0,25,2E-3,0.02,6.0000000000000001E-3,2E-3]
[{"$f":"DropDownList!$C$3&\" \"&DropDownList!C5","v":"Container 1,000 - 1,999 teu"},null,1,null,470000,0.25,3000,0,25,2E-3,0.02,6.0000000000000001E-3,2E-3]
[{"$f":"DropDownList!$C$3&\" \"&DropDownList!C6","v":"Container 2,000 - 2,999 teu"},null,1,null,470000,0.25,3000,0,25,2E-3,0.02,6.0000000000000001E-3,2E-3]
[{"$f":"DropDownList!$C$3&\" \"&DropDownList!C7","v":"Container 3,000 - 4,999 teu"},null,1,null,528750,0.25,3000,0,25,2E-3,0.02,6.0000000000000001E-3,2E-3]
[{"$f":"DropDownList!$C$3&\" \"&DropDownList!C8","v":"Container 5,000 - 7,999 teu"},null,1,null,587500,0.25,3000,0,25,2E-3,0.02,6.0000000000000001E-3,2E-3]
[{"$f":"DropDownList!$C$3&\" \"&DropDownList!C9","v":"Container 8,000 - 11,999 teu"},null,1,null,587500,0.25,3000,0,25,2E-3,0.02,6.0000000000000001E-3,2E-3]
[{"$f":"DropDownList!$C$3&\" \"&DropDownList!C10","v":"Container 12,000 - 14,499 teu"},null,1,null,705000,0.25,3000,0,25,2E-3,0.02,6.0000000000000001E-3,2E-3]
[{"$f":"DropDownList!$C$3&\" \"&DropDownList!C11","v":"Container 14,500 - 19,999 teu"},null,1,null,705000,0.25,3000,0,25,2E-3,0.02,6.0000000000000001E-3,2E-3]
[{"$f":"DropDownList!$C$3&\" \"&DropDownList!C12","v":"Container 20,000-+ teu"},null,1,null,822500,0.25,3000,0,25,2E-3,0.02,6.0000000000000001E-3,2E-3]
[{"$f":"DropDownList!$D$3&\" \"&DropDownList!D4","v":"General cargo 0 - 4,999 dwt"},null,1,null,470000,0.25,3000,0,25,2E-3,0.02,6.0000000000000001E-3,2E-3]
[{"$f":"DropDownList!$D$3&\" \"&DropDownList!D5","v":"General cargo 5,000 - 9,999 dwt"},null,1,null,470000,0.25,3000,0,25,2E-3,0.02,6.0000000000000001E-3,2E-3]
[{"$f":"DropDownList!$D$3&\" \"&DropDownList!D6","v":"General cargo 10,000 - 19,999 dwt"},null,1,null,470000,0.25,3000,0,25,2E-3,0.02,6.0000000000000001E-3,2E-3]
[{"$f":"DropDownList!$D$3&\" \"&DropDownList!D7","v":"General cargo 20,000-+ dwt"},null,1,null,470000,0.25,3000,0,25,2E-3,0.02,6.0000000000000001E-3,2E-3]
[{"$f":"DropDownList!$E$3&\" \"&DropDownList!E4","v":"Liquefied gas tanker 0 - 49,999 cbm"},null,1,null,470000,0.25,3000,0,25,2E-3,0.02,6.0000000000000001E-3,2E-3]
[{"$f":"DropDownList!$E$3&\" \"&DropDownList!E5","v":"Liquefied gas tanker 40,000 - 99,999 cbm"},null,1,null,470000,0.25,3000,0,25,2E-3,0.02,6.0000000000000001E-3,2E-3]
[{"$f":"DropDownList!$E$3&\" \"&DropDownList!E6","v":"Liquefied gas tanker 100,000 - 199,999 cbm"},null,1,null,528750,0.25,3000,0,25,2E-3,0.02,6.0000000000000001E-3,2E-3]
[{"$f":"DropDownList!$E$3&\" \"&DropDownList!E7","v":"Liquefied gas tanker 200,000-+ cbm"},null,1,null,528750,0.25,3000,0,25,2E-3,0.02,6.0000000000000001E-3,2E-3]
[{"$f":"DropDownList!$G$3&\" \"&DropDownList!G4","v":"Ferry-pax only 0 - 299 GT"},null,1,null,470000,0.25,3000,0,25,2E-3,0.02,6.0000000000000001E-3,2E-3]
[{"$f":"DropDownList!$G$3&\" \"&DropDownList!G5","v":"Ferry-pax only 300 - 999 GT"},null,1,null,470000,0.25,3000,0,25,2E-3,0.02,6.0000000000000001E-3,2E-3]
[{"$f":"DropDownList!$G$3&\" \"&DropDownList!G6","v":"Ferry-pax only 1,000 - 1,999 GT"},null,1,null,470000,0.25,3000,0,25,2E-3,0.02,6.0000000000000001E-3,2E-3]
[{"$f":"DropDownList!$G$3&\" \"&DropDownList!G7","v":"Ferry-pax only 2,000-+ GT"},null,1,null,470000,0.25,3000,0,25,2E-3,0.02,6.0000000000000001E-3,2E-3]
[{"$f":"DropDownList!$H$3&\" \"&DropDownList!H4","v":"Cruise 0 - 1,999 GT"},null,1,null,470000,0.25,3000,0,25,2E-3,0.02,6.0000000000000001E-3,2E-3]
[{"$f":"DropDownList!$H$3&\" \"&DropDownList!H5","v":"Cruise 2,000 - 9,999 GT"},null,1,null,470000,0.25,3000,0,25,2E-3,0.02,6.0000000000000001E-3,2E-3]
[{"$f":"DropDownList!$H$3&\" \"&DropDownList!H6","v":"Cruise 10,000 - 59,999 GT"},null,1,null,470000,0.25,3000,0,25,2E-3,0.02,6.0000000000000001E-3,2E-3]
[{"$f":"DropDownList!$H$3&\" \"&DropDownList!H7","v":"Cruise 60,000 - 99,999 GT"},null,1,null,587500,0.25,3000,0,25,2E-3,0.02,6.0000000000000001E-3,2E-3]
[{"$f":"DropDownList!$H$3&\" \"&DropDownList!H8","v":"Cruise 100,000 - 149,999 GT"},null,1,null,587500,0.25,3000,0,25,2E-3,0.02,6.0000000000000001E-3,2E-3]
[{"$f":"DropDownList!$H$3&\" \"&DropDownList!H9","v":"Cruise 150,000-+ GT"},null,1,null,705000,0.25,3000,0,25,2E-3,0.02,6.0000000000000001E-3,2E-3]
[{"$f":"DropDownList!$I$3&\" \"&DropDownList!I4","v":"Ferry-RoPax 0 - 1,999 GT"},null,1,null,470000,0.25,3000,0,25,2E-3,0.02,6.0000000000000001E-3,2E-3]
[{"$f":"DropDownList!$I$3&\" \"&DropDownList!I5","v":"Ferry-RoPax 2,000 - 4,999 GT"},null,1,null,470000,0.25,3000,0,25,2E-3,0.02,6.0000000000000001E-3,2E-3]
[{"$f":"DropDownList!$I$3&\" \"&DropDownList!I6","v":"Ferry-RoPax 5,000 - 9,999 GT"},null,1,null,470000,0.25,3000,0,25,2E-3,0.02,6.0000000000000001E-3,2E-3]
[{"$f":"DropDownList!$I$3&\" \"&DropDownList!I7","v":"Ferry-RoPax 10,000 - 19,999 GT"},null,1,null,528750,0.25,3000,0,25,2E-3,0.02,6.0000000000000001E-3,2E-3]
[{"$f":"DropDownList!$I$3&\" \"&DropDownList!I8","v":"Ferry-RoPax 20,000-+ GT"},null,1,null,587500,0.25,3000,0,25,2E-3,0.02,6.0000000000000001E-3,2E-3]
[{"$f":"DropDownList!$J$3&\" \"&DropDownList!J4","v":"Refrigerated bulk 0 - 1,999 dwt"},null,1,null,470000,0.25,3000,0,25,2E-3,0.02,6.0000000000000001E-3,2E-3]
[{"$f":"DropDownList!$J$3&\" \"&DropDownList!J5","v":"Refrigerated bulk 2,000 - 5,999 dwt"},null,1,null,470000,0.25,3000,0,25,2E-3,0.02,6.0000000000000001E-3,2E-3]
[{"$f":"DropDownList!$J$3&\" \"&DropDownList!J6","v":"Refrigerated bulk 6,000 - 9,999 dwt"},null,1,null,528750,0.25,3000,0,25,2E-3,0.02,6.0000000000000001E-3,2E-3]
[{"$f":"DropDownList!$J$3&\" \"&DropDownList!J7","v":"Refrigerated bulk 10,000-+ dwt"},null,1,null,587500,0.25,3000,0,25,2E-3,0.02,6.0000000000000001E-3,2E-3]
[{"$f":"DropDownList!$K$3&\" \"&DropDownList!K4","v":"Ro-Ro 0 - 4,999 dwt"},null,1,null,470000,0.25,3000,0,25,2E-3,0.02,6.0000000000000001E-3,2E-3]
[{"$f":"DropDownList!$K$3&\" \"&DropDownList!K5","v":"Ro-Ro 5,000 - 9,999 dwt"},null,1,null,470000,0.25,3000,0,25,2E-3,0.02,6.0000000000000001E-3,2E-3]
[{"$f":"DropDownList!$K$3&\" \"&DropDownList!K6","v":"Ro-Ro 10,000 - 14,999 dwt"},null,1,null,528750,0.25,3000,0,25,2E-3,0.02,6.0000000000000001E-3,2E-3]
[{"$f":"DropDownList!$K$3&\" \"&DropDownList!K7","v":"Ro-Ro 15,000-+ dwt"},null,1,null,528750,0.25,3000,0,25,2E-3,0.02,6.0000000000000001E-3,2E-3]
[{"$f":"DropDownList!$L$3&\" \"&DropDownList!L4","v":"Vehicle 0 - 29,999 GT"},null,1,null,470000,0.25,3000,0,25,2E-3,0.02,6.0000000000000001E-3,2E-3]
[{"$f":"DropDownList!$L$3&\" \"&DropDownList!L5","v":"Vehicle 30,000 - 49,999 GT"},null,1,null,470000,0.25,3000,0,25,2E-3,0.02,6.0000000000000001E-3,2E-3]
[{"$f":"DropDownList!$L$3&\" \"&DropDownList!L6","v":"Vehicle 50,000-+ GT"},null,1,null,528750,0.25,3000,0,25,2E-3,0.02,6.0000000000000001E-3,2E-3]
["Oil tanker 0 - 4,999 dwt",null,1,null,470000,0.25,3000,0,25,2E-3,0.02,6.0000000000000001E-3,2E-3]
["Oil tanker 5,000 - 9,999 dwt",null,1,null,470000,0.25,3000,0,25,2E-3,0.02,6.0000000000000001E-3,2E-3]
["Oil tanker 10,000 - 19,999 dwt",null,1,null,587500,0.25,3000,0,25,2E-3,0.02,6.0000000000000001E-3,2E-3]
["Oil tanker 20,000 - 59,999 dwt",null,1,null,587500,0.25,3000,0,25,2E-3,0.02,6.0000000000000001E-3,2E-3]
["Oil tanker 60,000 - 79,999 dwt",null,1,null,587500,0.25,3000,0,25,2E-3,0.02,6.0000000000000001E-3,2E-3]
["Oil tanker 80,000 - 119,999 dwt",null,1,null,705000,0.25,3000,0,25,2E-3,0.02,6.0000000000000001E-3,2E-3]
["Oil tanker 120,000 - 199,999 dwt",null,1,null,705000,0.25,3000,0,25,2E-3,0.02,6.0000000000000001E-3,2E-3]
["Oil tanker 200,000-+ dwt",null,1,null,822500,0.25,3000,0,25,2E-3,0.02,6.0000000000000001E-3,2E-3]
["Other liquids tankers 0-999 dwt",null,1,null,470000,0.25,3000,0,25,2E-3,0.02,6.0000000000000001E-3,2E-3]
["Other liquids tankers 1,000-+ dwt",null,1,null,470000,0.25,3000,0,25,2E-3,0.02,6.0000000000000001E-3,2E-3]

{"sheet":"Fixed sails or wings","index":16,"n_rows":66,"n_cols":15,"rows_kept":66,"cut":false,"hidden":false,"merged":[[0,0,1,0],[0,1,0,3],[0,6,0,7],[0,9,0,11]]}
["Ship type and size","Measure applicability to engines",null,null,"NB CAPEX","CAPEX Retrofit addition","Operational Cost",null,"Lifetime","Total fuel savings %",null,null,"EEXI / EEDI savings","Number of sails"]
[null,"Main","Aux","Boiler","$","%","$ per year","$ per 5 year","Years","Low","High","Typical","%",null,"Installation per sail"]
[{"$f":"DropDownList!$A$3&\" \"&DropDownList!A4","v":"Bulk carrier 0  - 9,999 dwt"},1,-1,null,587500,0.5,{"$f":"E3*2%","v":11750},0,15,0.03,0.15,0.04,2.5000000000000001E-2,1,500000]
[{"$f":"DropDownList!$A$3&\" \"&DropDownList!A5","v":"Bulk carrier 10,000 - 34,999 dwt"},1,-1,null,1175000,0.5,{"$f":"E4*2%","v":23500},0,15,0.03,0.15,0.05,2.5000000000000001E-2,2,500000]
[{"$f":"DropDownList!$A$3&\" \"&DropDownList!A6","v":"Bulk carrier 35,000 - 59,999 dwt"},1,-1,null,2350000,0.5,47000,0,15,0.03,0.15,7.0000000000000007E-2,2.5000000000000001E-2,4,500000]
[{"$f":"DropDownList!$A$3&\" \"&DropDownList!A7","v":"Bulk carrier 60,000 - 99,999 dwt"},1,-1,null,2350000,0.5,47000,0,15,0.03,0.15,7.0000000000000007E-2,2.5000000000000001E-2,4,500000]
[{"$f":"DropDownList!$A$3&\" \"&DropDownList!A8","v":"Bulk carrier 100,000 - 199,999 dwt"},1,-1,null,3525000,0.5,70500,0,15,0.03,0.15,0.08,2.5000000000000001E-2,6,500000]
[{"$f":"DropDownList!$A$3&\" \"&DropDownList!A9","v":"Bulk carrier 200,000-+ dwt"},1,-1,null,3525000,0.5,70500,0,15,0.03,0.15,0.08,2.5000000000000001E-2,6,500000]
[{"$f":"DropDownList!$B$3&\" \"&DropDownList!B4","v":"Chemical tanker 0 - 4,999 dwt"},1,-1,null,587500,0.5,11750,0,15,0.03,0.15,0.04,2.5000000000000001E-2,1,500000]
[{"$f":"DropDownList!$B$3&\" \"&DropDownList!B5","v":"Chemical tanker 5,000 - 9,999 dwt"},1,-1,null,1175000,0.5,23500,0,15,0.03,0.15,0.05,2.5000000000000001E-2,2,500000]
[{"$f":"DropDownList!$B$3&\" \"&DropDownList!B6","v":"Chemical tanker 10,000 - 19,999 dwt"},1,-1,null,1175000,0.5,23500,0,15,0.03,0.15,0.05,2.5000000000000001E-2,2,500000]
[{"$f":"DropDownList!$B$3&\" \"&DropDownList!B7","v":"Chemical tanker 20,000 - 39,999 dwt"},1,-1,null,2350000,0.5,47000,0,15,0.03,0.15,7.0000000000000007E-2,2.5000000000000001E-2,4,500000]
[{"$f":"DropDownList!$B$3&\" \"&DropDownList!B8","v":"Chemical tanker 40,000-+ dwt"},1,-1,null,2350000,0.5,47000,0,15,0.03,0.15,7.0000000000000007E-2,2.5000000000000001E-2,4,500000]
[{"$f":"DropDownList!$C$3&\" \"&DropDownList!C4","v":"Container 0-999 teu"},null,null,null,null,null,null,null,null,null,null,null,null,null,500000]
[{"$f":"DropDownList!$C$3&\" \"&DropDownList!C5","v":"Container 1,000 - 1,999 teu"},null,null,null,null,null,null,null,null,null,null,null,null,null,500000]
[{"$f":"DropDownList!$C$3&\" \"&DropDownList!C6","v":"Container 2,000 - 2,999 teu"},null,null,null,null,null,null,null,null,null,null,null,null,null,500000]
[{"$f":"DropDownList!$C$3&\" \"&DropDownList!C7","v":"Container 3,000 - 4,999 teu"},null,null,null,null,null,null,null,null,null,null,null,null,null,500000]
[{"$f":"DropDownList!$C$3&\" \"&DropDownList!C8","v":"Container 5,000 - 7,999 teu"},null,null,null,null,null,null,null,null,null,null,null,null,null,500000]
[{"$f":"DropDownList!$C$3&\" \"&DropDownList!C9","v":"Container 8,000 - 11,999 teu"},null,null,null,null,null,null,null,null,null,null,null,null,null,500000]
[{"$f":"DropDownList!$C$3&\" \"&DropDownList!C10","v":"Container 12,000 - 14,499 teu"},null,null,null,null,null,null,null,null,null,null,null,null,null,500000]
[{"$f":"DropDownList!$C$3&\" \"&DropDownList!C11","v":"Container 14,500 - 19,999 teu"},null,null,null,null,null,null,null,null,null,null,null,null,null,500000]
[{"$f":"DropDownList!$C$3&\" \"&DropDownList!C12","v":"Container 20,000-+ teu"},null,null,null,null,null,null,null,null,null,null,null,null,null,500000]
[{"$f":"DropDownList!$D$3&\" \"&DropDownList!D4","v":"General cargo 0 - 4,999 dwt"},1,-1,null,587500,0.5,{"$f":"E23*2%","v":11750},0,15,0.03,0.15,0.04,2.5000000000000001E-2,1,500000]
[{"$f":"DropDownList!$D$3&\" \"&DropDownList!D5","v":"General cargo 5,000 - 9,999 dwt"},1,-1,null,587500,0.5,{"$f":"E24*2%","v":11750},0,15,0.03,0.15,0.04,2.5000000000000001E-2,1,500000]
[{"$f":"DropDownList!$D$3&\" \"&DropDownList!D6","v":"General cargo 10,000 - 19,999 dwt"},1,-1,null,1175000,0.5,23500,0,15,0.03,0.15,0.05,2.5000000000000001E-2,2,500000]
[{"$f":"DropDownList!$D$3&\" \"&DropDownList!D7","v":"General cargo 20,000-+ dwt"},1,-1,null,2350000,0.5,47000,0,15,0.03,0.15,7.0000000000000007E-2,2.5000000000000001E-2,4,500000]
[{"$f":"DropDownList!$E$3&\" \"&DropDownList!E4","v":"Liquefied gas tanker 0 - 49,999 cbm"},1,-1,null,1175000,0.5,23500,0,15,0.03,0.15,0.05,2.5000000000000001E-2,2,500000]
[{"$f":"DropDownList!$E$3&\" \"&DropDownList!E5","v":"Liquefied gas tanker 40,000 - 99,999 cbm"},1,-1,null,2350000,0.5,47000,0,15,0.03,0.15,7.0000000000000007E-2,2.5000000000000001E-2,4,500000]
[{"$f":"DropDownList!$E$3&\" \"&DropDownList!E6","v":"Liquefied gas tanker 100,000 - 199,999 cbm"},1,-1,null,2350000,0.5,47000,0,15,0.03,0.15,7.0000000000000007E-2,2.5000000000000001E-2,4,500000]
[{"$f":"DropDownList!$E$3&\" \"&DropDownList!E7","v":"Liquefied gas tanker 200,000-+ cbm"},1,-1,null,2350000,0.5,47000,0,15,0.03,0.15,7.0000000000000007E-2,2.5000000000000001E-2,4,500000]
[{"$f":"DropDownList!$G$3&\" \"&DropDownList!G4","v":"Ferry-pax only 0 - 299 GT"}]
[{"$f":"DropDownList!$G$3&\" \"&DropDownList!G5","v":"Ferry-pax only 300 - 999 GT"}]
[{"$f":"DropDownList!$G$3&\" \"&DropDownList!G6","v":"Ferry-pax only 1,000 - 1,999 GT"}]
[{"$f":"DropDownList!$G$3&\" \"&DropDownList!G7","v":"Ferry-pax only 2,000-+ GT"}]
[{"$f":"DropDownList!$H$3&\" \"&DropDownList!H4","v":"Cruise 0 - 1,999 GT"},1,-1,null,587500,0.5,{"$f":"E35*2%","v":11750},0,15,0.03,0.15,0.04,2.5000000000000001E-2,1,500000]
[{"$f":"DropDownList!$H$3&\" \"&DropDownList!H5","v":"Cruise 2,000 - 9,999 GT"},1,-1,null,587500,0.5,{"$f":"E36*2%","v":11750},0,15,0.03,0.15,0.04,2.5000000000000001E-2,1,500000]
[{"$f":"DropDownList!$H$3&\" \"&DropDownList!H6","v":"Cruise 10,000 - 59,999 GT"},1,-1,null,587500,0.5,11750,0,15,0.03,0.15,0.04,2.5000000000000001E-2,1,500000]
[{"$f":"DropDownList!$H$3&\" \"&DropDownList!H7","v":"Cruise 60,000 - 99,999 GT"},1,-1,null,587500,0.5,11750,0,15,0.03,0.15,0.04,2.5000000000000001E-2,1,500000]
[{"$f":"DropDownList!$H$3&\" \"&DropDownList!H8","v":"Cruise 100,000 - 149,999 GT"},1,-1,null,587500,0.5,11750,0,15,0.03,0.15,0.04,2.5000000000000001E-2,1,500000]
[{"$f":"DropDownList!$H$3&\" \"&DropDownList!H9","v":"Cruise 150,000-+ GT"},1,-1,null,587500,0.5,11750,0,15,0.03,0.15,0.04,2.5000000000000001E-2,1,500000]
[{"$f":"DropDownList!$I$3&\" \"&DropDownList!I4","v":"Ferry-RoPax 0 - 1,999 GT"}]
[{"$f":"DropDownList!$I$3&\" \"&DropDownList!I5","v":"Ferry-RoPax 2,000 - 4,999 GT"}]
[{"$f":"DropDownList!$I$3&\" \"&DropDownList!I6","v":"Ferry-RoPax 5,000 - 9,999 GT"}]
[{"$f":"DropDownList!$I$3&\" \"&DropDownList!I7","v":"Ferry-RoPax 10,000 - 19,999 GT"}]
[{"$f":"DropDownList!$I$3&\" \"&DropDownList!I8","v":"Ferry-RoPax 20,000-+ GT"}]
[{"$f":"DropDownList!$J$3&\" \"&DropDownList!J4","v":"Refrigerated bulk 0 - 1,999 dwt"},1,-1,null,587500,0.5,{"$f":"E46*2%","v":11750},0,15,0.03,0.15,0.04,2.5000000000000001E-2,1,500000]
[{"$f":"DropDownList!$J$3&\" \"&DropDownList!J5","v":"Refrigerated bulk 2,000 - 5,999 dwt"},1,-1,null,587500,0.5,{"$f":"E47*2%","v":11750},0,15,0.03,0.15,0.04,2.5000000000000001E-2,1,500000]
[{"$f":"DropDownList!$J$3&\" \"&DropDownList!J6","v":"Refrigerated bulk 6,000 - 9,999 dwt"},1,-1,null,1175000,0.5,23500,0,15,0.03,0.15,0.05,2.5000000000000001E-2,2,500000]
[{"$f":"DropDownList!$J$3&\" \"&DropDownList!J7","v":"Refrigerated bulk 10,000-+ dwt"},1,-1,null,1175000,0.5,23500,0,15,0.03,0.15,0.05,2.5000000000000001E-2,2,500000]
[{"$f":"DropDownList!$K$3&\" \"&DropDownList!K4","v":"Ro-Ro 0 - 4,999 dwt"},1,-1,null,587500,0.5,11750,0,15,0.03,0.15,0.04,2.5000000000000001E-2,1,500000]
[{"$f":"DropDownList!$K$3&\" \"&DropDownList!K5","v":"Ro-Ro 5,000 - 9,999 dwt"},1,-1,null,1175000,0.5,23500,0,15,0.03,0.15,0.05,2.5000000000000001E-2,2,500000]
[{"$f":"DropDownList!$K$3&\" \"&DropDownList!K6","v":"Ro-Ro 10,000 - 14,999 dwt"},1,-1,null,2350000,0.5,47000,0,15,0.03,0.15,7.0000000000000007E-2,2.5000000000000001E-2,4,500000]
[{"$f":"DropDownList!$K$3&\" \"&DropDownList!K7","v":"Ro-Ro 15,000-+ dwt"},1,-1,null,2350000,0.5,47000,0,15,0.03,0.15,7.0000000000000007E-2,2.5000000000000001E-2,4,500000]
[{"$f":"DropDownList!$L$3&\" \"&DropDownList!L4","v":"Vehicle 0 - 29,999 GT"},1,-1,null,1175000,0.5,23500,0,15,0.03,0.15,0.05,2.5000000000000001E-2,2,500000]
[{"$f":"DropDownList!$L$3&\" \"&DropDownList!L5","v":"Vehicle 30,000 - 49,999 GT"},1,-1,null,2350000,0.5,47000,0,15,0.03,0.15,7.0000000000000007E-2,2.5000000000000001E-2,4,500000]
[{"$f":"DropDownList!$L$3&\" \"&DropDownList!L6","v":"Vehicle 50,000-+ GT"},1,-1,null,2350000,0.5,47000,0,15,0.03,0.15,7.0000000000000007E-2,2.5000000000000001E-2,4,500000]
["Oil tanker 0 - 4,999 dwt",1,-1,null,587500,0.5,11750,0,25,0.03,0.15,0.04,2.5000000000000001E-2,1,500000]
["Oil tanker 5,000 - 9,999 dwt",1,-1,null,1175000,0.5,23500,0,25,0.03,0.15,0.05,2.5000000000000001E-2,2,500000]
["Oil tanker 10,000 - 19,999 dwt",1,-1,null,1175000,0.5,23500,0,25,0.03,0.15,0.05,2.5000000000000001E-2,2,500000]
["Oil tanker 20,000 - 59,999 dwt",1,-1,null,2350000,0.5,47000,0,25,0.03,0.15,7.0000000000000007E-2,2.5000000000000001E-2,4,500000]
["Oil tanker 60,000 - 79,999 dwt",1,-1,null,2350000,0.5,47000,0,25,0.03,0.15,7.0000000000000007E-2,2.5000000000000001E-2,4,500000]
["Oil tanker 80,000 - 119,999 dwt",1,-1,null,2350000,0.5,47000,0,25,0.03,0.15,7.0000000000000007E-2,2.5000000000000001E-2,4,500000]
["Oil tanker 120,000 - 199,999 dwt",1,-1,null,2350000,0.5,47000,0,25,0.03,0.15,7.0000000000000007E-2,2.5000000000000001E-2,4,500000]
["Oil tanker 200,000-+ dwt",1,-1,null,2350000,0.5,47000,0,25,0.03,0.15,7.0000000000000007E-2,2.5000000000000001E-2,4,500000]
["Other liquids tankers 0-999 dwt",1,-1,null,587500,0.5,11750,0,15,0.03,0.15,7.0000000000000007E-2,2.5000000000000001E-2,1,500000]
["Other liquids tankers 1,000-+ dwt",1,-1,null,1175000,0.5,23500,0,15,0.03,0.15,7.0000000000000007E-2,2.5000000000000001E-2,2,500000]

{"sheet":"Kite","index":17,"n_rows":66,"n_cols":13,"rows_kept":66,"cut":false,"hidden":false,"merged":[[0,1,0,3],[0,6,0,7],[0,0,1,0],[0,9,0,11]]}
["Ship type and size","Measure applicability to engines",null,null,"CAPEX NB","CAPEX Retrofit addition","Operational Cost",null,"Lifetime","Total fuel savings %",null,null,"EEXI / EEDI savings"]
[null,"Main","Aux","Boiler","$","%","$ per year","$ per 5 year","Years","Low","High","Typical","%"]
[{"$f":"DropDownList!$A$3&\" \"&DropDownList!A4","v":"Bulk carrier 0  - 9,999 dwt"},1,null,null,352500,0.2,{"$f":"E3*2%","v":7050},0,10,0.02,0.08,0.05,0.02]
[{"$f":"DropDownList!$A$3&\" \"&DropDownList!A5","v":"Bulk carrier 10,000 - 34,999 dwt"},1,null,null,822500,0.2,{"$f":"E4*2%","v":16450},0,10,0.02,0.08,0.05,0.02]
[{"$f":"DropDownList!$A$3&\" \"&DropDownList!A6","v":"Bulk carrier 35,000 - 59,999 dwt"},1,null,null,1175000,0.2,23500,0,10,0.02,0.08,0.04,0.02]
[{"$f":"DropDownList!$A$3&\" \"&DropDownList!A7","v":"Bulk carrier 60,000 - 99,999 dwt"},1,null,null,2350000,0.2,47000,0,10,0.02,0.08,0.04,0.02]
[{"$f":"DropDownList!$A$3&\" \"&DropDownList!A8","v":"Bulk carrier 100,000 - 199,999 dwt"},1,null,null,2937500,0.2,58750,0,10,0.02,0.08,0.03,0.02]
[{"$f":"DropDownList!$A$3&\" \"&DropDownList!A9","v":"Bulk carrier 200,000-+ dwt"},1,null,null,4112500,0.2,82250,0,10,0.02,0.08,0.03,0.02]
[{"$f":"DropDownList!$B$3&\" \"&DropDownList!B4","v":"Chemical tanker 0 - 4,999 dwt"},1,null,null,352500,0.2,7050,0,10,0.02,0.08,0.04,0.02]
[{"$f":"DropDownList!$B$3&\" \"&DropDownList!B5","v":"Chemical tanker 5,000 - 9,999 dwt"},1,null,null,822500,0.2,16450,0,10,0.02,0.08,0.05,0.02]
[{"$f":"DropDownList!$B$3&\" \"&DropDownList!B6","v":"Chemical tanker 10,000 - 19,999 dwt"},1,null,null,1175000,0.2,23500,0,10,0.02,0.08,0.03,0.02]
[{"$f":"DropDownList!$B$3&\" \"&DropDownList!B7","v":"Chemical tanker 20,000 - 39,999 dwt"},1,null,null,2350000,0.2,47000,0,10,0.02,0.08,0.03,0.02]
[{"$f":"DropDownList!$B$3&\" \"&DropDownList!B8","v":"Chemical tanker 40,000-+ dwt"},1,null,null,2937500,0.2,58750,0,10,0.02,0.08,0.04,0.02]
[{"$f":"DropDownList!$C$3&\" \"&DropDownList!C4","v":"Container 0-999 teu"},1,null,null,293750,0.2,5875,0,10,0.02,0.08,0.03,0.02]
[{"$f":"DropDownList!$C$3&\" \"&DropDownList!C5","v":"Container 1,000 - 1,999 teu"},1,null,null,352500,0.2,7050,0,10,0.02,0.08,0.03,0.02]
[{"$f":"DropDownList!$C$3&\" \"&DropDownList!C6","v":"Container 2,000 - 2,999 teu"},1,null,null,470000,0.2,9400,0,10,0.02,0.08,0.04,0.02]
[{"$f":"DropDownList!$C$3&\" \"&DropDownList!C7","v":"Container 3,000 - 4,999 teu"},1,null,null,822500,0.2,16450,0,10,0.02,0.08,0.04,0.02]
[{"$f":"DropDownList!$C$3&\" \"&DropDownList!C8","v":"Container 5,000 - 7,999 teu"},1,null,null,1175000,0.2,23500,0,10,0.02,0.08,0.05,0.02]
[{"$f":"DropDownList!$C$3&\" \"&DropDownList!C9","v":"Container 8,000 - 11,999 teu"},1,null,null,2350000,0.2,47000,0,10,0.02,0.08,0.05,0.02]
[{"$f":"DropDownList!$C$3&\" \"&DropDownList!C10","v":"Container 12,000 - 14,499 teu"},1,null,null,2937500,0.2,58750,0,10,0.02,0.08,0.03,0.02]
[{"$f":"DropDownList!$C$3&\" \"&DropDownList!C11","v":"Container 14,500 - 19,999 teu"},1,null,null,2937500,0.2,58750,0,10,0.02,0.08,0.03,0.02]
[{"$f":"DropDownList!$C$3&\" \"&DropDownList!C12","v":"Container 20,000-+ teu"},1,null,null,3525000,0.2,70500,0,10,0.02,0.08,0.03,0.02]
[{"$f":"DropDownList!$D$3&\" \"&DropDownList!D4","v":"General cargo 0 - 4,999 dwt"},1,null,null,293750,0.2,5875,0,10,0.02,0.08,0.05,0.02]
[{"$f":"DropDownList!$D$3&\" \"&DropDownList!D5","v":"General cargo 5,000 - 9,999 dwt"},1,null,null,587500,0.2,11750,0,10,0.02,0.08,0.05,0.02]
[{"$f":"DropDownList!$D$3&\" \"&DropDownList!D6","v":"General cargo 10,000 - 19,999 dwt"},1,null,null,1175000,0.2,23500,0,10,0.02,0.08,0.04,0.02]
[{"$f":"DropDownList!$D$3&\" \"&DropDownList!D7","v":"General cargo 20,000-+ dwt"},1,null,null,1762500,0.2,35250,0,10,0.02,0.08,0.03,0.02]
[{"$f":"DropDownList!$E$3&\" \"&DropDownList!E4","v":"Liquefied gas tanker 0 - 49,999 cbm"},1,null,null,293750,0.2,5875,0,10,0.02,0.08,0.05,0.02]
[{"$f":"DropDownList!$E$3&\" \"&DropDownList!E5","v":"Liquefied gas tanker 40,000 - 99,999 cbm"},1,null,null,1175000,0.2,23500,0,10,0.02,0.08,0.04,0.02]
[{"$f":"DropDownList!$E$3&\" \"&DropDownList!E6","v":"Liquefied gas tanker 100,000 - 199,999 cbm"},1,null,null,2350000,0.2,47000,0,10,0.02,0.08,0.04,0.02]
[{"$f":"DropDownList!$E$3&\" \"&DropDownList!E7","v":"Liquefied gas tanker 200,000-+ cbm"},1,null,null,3525000,0.2,70500,0,10,0.02,0.08,0.03,0.02]
[{"$f":"DropDownList!$G$3&\" \"&DropDownList!G4","v":"Ferry-pax only 0 - 299 GT"}]
[{"$f":"DropDownList!$G$3&\" \"&DropDownList!G5","v":"Ferry-pax only 300 - 999 GT"}]
[{"$f":"DropDownList!$G$3&\" \"&DropDownList!G6","v":"Ferry-pax only 1,000 - 1,999 GT"}]
[{"$f":"DropDownList!$G$3&\" \"&DropDownList!G7","v":"Ferry-pax only 2,000-+ GT"}]
[{"$f":"DropDownList!$H$3&\" \"&DropDownList!H4","v":"Cruise 0 - 1,999 GT"},1,null,null,293750,0.2,{"$f":"E35*2%","v":5875},0,10,0.02,0.08,0.03,0.02]
[{"$f":"DropDownList!$H$3&\" \"&DropDownList!H5","v":"Cruise 2,000 - 9,999 GT"},1,null,null,587500,0.2,{"$f":"E36*2%","v":11750},0,10,0.02,0.08,0.04,0.02]
[{"$f":"DropDownList!$H$3&\" \"&DropDownList!H6","v":"Cruise 10,000 - 59,999 GT"},1,null,null,822500,0.2,16450,0,10,0.02,0.08,0.04,0.02]
[{"$f":"DropDownList!$H$3&\" \"&DropDownList!H7","v":"Cruise 60,000 - 99,999 GT"},1,null,null,940000,0.2,18800,0,10,0.02,0.08,0.04,0.02]
[{"$f":"DropDownList!$H$3&\" \"&DropDownList!H8","v":"Cruise 100,000 - 149,999 GT"},1,null,null,1175000,0.2,23500,0,10,0.02,0.08,0.04,0.02]
[{"$f":"DropDownList!$H$3&\" \"&DropDownList!H9","v":"Cruise 150,000-+ GT"},1,null,null,1175000,0.2,23500,0,10,0.02,0.08,0.03,0.02]
[{"$f":"DropDownList!$I$3&\" \"&DropDownList!I4","v":"Ferry-RoPax 0 - 1,999 GT"},1,null,null,293750,0.2,5875,0,10,0.02,0.08,0.03,0.02]
[{"$f":"DropDownList!$I$3&\" \"&DropDownList!I5","v":"Ferry-RoPax 2,000 - 4,999 GT"},1,null,null,587500,0.2,11750,0,10,0.02,0.08,0.04,0.02]
[{"$f":"DropDownList!$I$3&\" \"&DropDownList!I6","v":"Ferry-RoPax 5,000 - 9,999 GT"},1,null,null,822500,0.2,16450,0,10,0.02,0.08,0.05,0.02]
[{"$f":"DropDownList!$I$3&\" \"&DropDownList!I7","v":"Ferry-RoPax 10,000 - 19,999 GT"},1,null,null,940000,0.2,18800,0,10,0.02,0.08,0.05,0.02]
[{"$f":"DropDownList!$I$3&\" \"&DropDownList!I8","v":"Ferry-RoPax 20,000-+ GT"},1,null,null,1175000,0.2,23500,0,10,0.02,0.08,0.04,0.02]
[{"$f":"DropDownList!$J$3&\" \"&DropDownList!J4","v":"Refrigerated bulk 0 - 1,999 dwt"},1,null,null,293750,0.2,5875,0,10,0.02,0.08,0.04,0.02]
[{"$f":"DropDownList!$J$3&\" \"&DropDownList!J5","v":"Refrigerated bulk 2,000 - 5,999 dwt"},1,null,null,587500,0.2,11750,0,10,0.02,0.08,0.05,0.02]
[{"$f":"DropDownList!$J$3&\" \"&DropDownList!J6","v":"Refrigerated bulk 6,000 - 9,999 dwt"},1,null,null,822500,0.2,16450,0,10,0.02,0.08,0.05,0.02]
[{"$f":"DropDownList!$J$3&\" \"&DropDownList!J7","v":"Refrigerated bulk 10,000-+ dwt"},1,null,null,940000,0.2,18800,0,10,0.02,0.08,0.04,0.02]
[{"$f":"DropDownList!$K$3&\" \"&DropDownList!K4","v":"Ro-Ro 0 - 4,999 dwt"},1,null,null,293750,0.2,5875,0,10,0.02,0.08,0.05,0.02]
[{"$f":"DropDownList!$K$3&\" \"&DropDownList!K5","v":"Ro-Ro 5,000 - 9,999 dwt"},1,null,null,352500,0.2,7050,0,10,0.02,0.08,0.05,0.02]
[{"$f":"DropDownList!$K$3&\" \"&DropDownList!K6","v":"Ro-Ro 10,000 - 14,999 dwt"},1,null,null,822500,0.2,16450,0,10,0.02,0.08,0.04,0.02]
[{"$f":"DropDownList!$K$3&\" \"&DropDownList!K7","v":"Ro-Ro 15,000-+ dwt"},1,null,null,1175000,0.2,23500,0,10,0.02,0.08,0.04,0.02]
[{"$f":"DropDownList!$L$3&\" \"&DropDownList!L4","v":"Vehicle 0 - 29,999 GT"},1,null,null,293750,0.2,5875,0,10,0.02,0.08,0.04,0.02]
[{"$f":"DropDownList!$L$3&\" \"&DropDownList!L5","v":"Vehicle 30,000 - 49,999 GT"},1,null,null,822500,0.2,16450,0,10,0.02,0.08,0.04,0.02]
[{"$f":"DropDownList!$L$3&\" \"&DropDownList!L6","v":"Vehicle 50,000-+ GT"},1,null,null,1175000,0.2,23500,0,10,0.02,0.08,0.03,0.02]
["Oil tanker 0 - 4,999 dwt",1,null,null,293750,0.2,5875,0,10,0.02,0.08,0.04,0.02]
["Oil tanker 5,000 - 9,999 dwt",1,null,null,352500,0.2,7050,0,10,0.02,0.08,0.04,0.02]
["Oil tanker 10,000 - 19,999 dwt",1,null,null,587500,0.2,11750,0,10,0.02,0.08,0.05,0.02]
["Oil tanker 20,000 - 59,999 dwt",1,null,null,822500,0.2,16450,0,10,0.02,0.08,0.05,0.02]
["Oil tanker 60,000 - 79,999 dwt",1,null,null,1175000,0.2,23500,0,10,0.02,0.08,0.05,0.02]
["Oil tanker 80,000 - 119,999 dwt",1,null,null,2350000,0.2,47000,0,10,0.02,0.08,0.04,0.02]
["Oil tanker 120,000 - 199,999 dwt",1,null,null,2937500,0.2,58750,0,10,0.02,0.08,0.03,0.02]
["Oil tanker 200,000-+ dwt",1,null,null,4112500,0.2,82250,0,10,0.02,0.08,0.02,0.02]
["Other liquids tankers 0-999 dwt",1,null,null,293750,0.2,5875,0,10,0.02,0.08,0.04,0.02]
["Other liquids tankers 1,000-+ dwt",1,null,null,822500,0.2,16450,0,10,0.02,0.08,0.04,0.02]

{"sheet":"Solar panels","index":18,"n_rows":66,"n_cols":13,"rows_kept":66,"cut":false,"hidden":false,"merged":[[0,0,1,0],[0,1,0,3],[0,6,0,7],[0,9,0,11]]}
["Ship type and size","Measure applicability to engines",null,null,"Installation","CAPEX Retrofit addition","Operational Cost",null,"Lifetime","Total fuel savings %",null,null,"EEXI / EEDI savings"]
[null,"Main","Aux","Boiler","$","%","$ per year","$ per 5 year","Years","Low","High","Typical","%"]
["Bulk carrier 0  - 9,999 dwt"]
["Bulk carrier 10,000 - 34,999 dwt"]
["Bulk carrier 35,000 - 59,999 dwt"]
["Bulk carrier 60,000 - 99,999 dwt"]
["Bulk carrier 100,000 - 199,999 dwt"]
["Bulk carrier 200,000-+ dwt"]
["Chemical tanker 0 - 4,999 dwt"]
["Chemical tanker 5,000 - 9,999 dwt"]
["Chemical tanker 10,000 - 19,999 dwt"]
["Chemical tanker 20,000 - 39,999 dwt"]
["Chemical tanker 40,000-+ dwt"]
["Container 0-999 teu"]
["Container 1,000 - 1,999 teu"]
["Container 2,000 - 2,999 teu"]
["Container 3,000 - 4,999 teu"]
["Container 5,000 - 7,999 teu"]
["Container 8,000 - 11,999 teu"]
["Container 12,000 - 14,499 teu"]
["Container 14,500 - 19,999 teu"]
["Container 20,000-+ teu"]
["General cargo 0 - 4,999 dwt"]
["General cargo 5,000 - 9,999 dwt"]
["General cargo 10,000 - 19,999 dwt"]
["General cargo 20,000-+ dwt"]
["Liquefied gas tanker 0 - 49,999 cbm"]
["Liquefied gas tanker 40,000 - 99,999 cbm"]
["Liquefied gas tanker 100,000 - 199,999 cbm"]
["Liquefied gas tanker 200,000-+ cbm"]
["Ferry-pax only 0 - 299 GT"]
["Ferry-pax only 300 - 999 GT"]
["Ferry-pax only 1,000 - 1,999 GT"]
["Ferry-pax only 2,000-+ GT"]
["Cruise 0 - 1,999 GT"]
["Cruise 2,000 - 9,999 GT"]
["Cruise 10,000 - 59,999 GT"]
["Cruise 60,000 - 99,999 GT"]
["Cruise 100,000 - 149,999 GT"]
["Cruise 150,000-+ GT"]
["Ferry-RoPax 0 - 1,999 GT"]
["Ferry-RoPax 2,000 - 4,999 GT"]
["Ferry-RoPax 5,000 - 9,999 GT"]
["Ferry-RoPax 10,000 - 19,999 GT"]
["Ferry-RoPax 20,000-+ GT"]
["Refrigerated bulk 0 - 1,999 dwt"]
["Refrigerated bulk 2,000 - 5,999 dwt"]
["Refrigerated bulk 6,000 - 9,999 dwt"]
["Refrigerated bulk 10,000-+ dwt"]
["Ro-Ro 0 - 4,999 dwt"]
["Ro-Ro 5,000 - 9,999 dwt"]
["Ro-Ro 10,000 - 14,999 dwt"]
["Ro-Ro 15,000-+ dwt"]
["Vehicle 0 - 29,999 GT",1,1,null,434750,0.2,0,0,20,1E-3,7.0000000000000001E-3,2E-3,2E-3]
["Vehicle 30,000 - 49,999 GT",1,1,null,434750,0.2,0,0,20,1E-3,7.0000000000000001E-3,2E-3,2E-3]
["Vehicle 50,000-+ GT",1,1,null,458250,0.2,0,0,20,1E-3,7.0000000000000001E-3,2E-3,2E-3]
["Oil tanker 0 - 4,999 dwt"]
["Oil tanker 5,000 - 9,999 dwt"]
["Oil tanker 10,000 - 19,999 dwt"]
["Oil tanker 20,000 - 59,999 dwt"]
["Oil tanker 60,000 - 79,999 dwt"]
["Oil tanker 80,000 - 119,999 dwt"]
["Oil tanker 120,000 - 199,999 dwt"]
["Oil tanker 200,000-+ dwt"]
["Other liquids tankers 0-999 dwt"]
["Other liquids tankers 1,000-+ dwt"]

{"sheet":"Rotor sails","index":19,"n_rows":66,"n_cols":16,"rows_kept":66,"cut":false,"hidden":false,"merged":[[0,0,1,0],[0,1,0,3],[0,6,0,7],[0,9,0,11]]}
["Ship type and size","Measure applicability to engines",null,null,"Installation","CAPEX Retrofit addition","Operational Cost",null,"Lifetime","Total fuel savings %",null,null,"EEXI / EEDI savings","Number of sails"]
[null,"Main","Aux","Boiler","$","%","$ per year","$ per 5 year","Years","Low","High","Typical","%",null,null,"Installation per sail"]
["Bulk carrier 0  - 9,999 dwt",1,-1,null,1645000,0.5,{"$f":"E3*2%","v":32900},0,15,0.03,0.15,0.05,2.5000000000000001E-2,2,null,700000]
["Bulk carrier 10,000 - 34,999 dwt",1,-1,null,1645000,0.5,{"$f":"E4*2%","v":32900},0,15,0.03,0.15,0.05,2.5000000000000001E-2,2,null,700000]
["Bulk carrier 35,000 - 59,999 dwt",1,-1,null,3290000,0.5,65800,0,15,0.03,0.15,7.0000000000000007E-2,2.5000000000000001E-2,4,null,700000]
["Bulk carrier 60,000 - 99,999 dwt",1,-1,null,3290000,0.5,65800,0,15,0.03,0.15,7.0000000000000007E-2,2.5000000000000001E-2,4,null,700000]
["Bulk carrier 100,000 - 199,999 dwt",1,-1,null,3290000,0.5,65800,0,15,0.03,0.15,7.0000000000000007E-2,2.5000000000000001E-2,4,null,700000]
["Bulk carrier 200,000-+ dwt",1,-1,null,3290000,0.5,65800,0,15,0.03,0.15,7.0000000000000007E-2,2.5000000000000001E-2,4,null,700000]
["Chemical tanker 0 - 4,999 dwt",1,-1,null,1645000,0.5,32900,0,15,0.03,0.15,0.05,2.5000000000000001E-2,2,null,700000]
["Chemical tanker 5,000 - 9,999 dwt",1,-1,null,1645000,0.5,32900,0,15,0.03,0.15,0.05,2.5000000000000001E-2,2,null,700000]
["Chemical tanker 10,000 - 19,999 dwt",1,-1,null,3290000,0.5,65800,0,15,0.03,0.15,7.0000000000000007E-2,2.5000000000000001E-2,4,null,700000]
["Chemical tanker 20,000 - 39,999 dwt",1,-1,null,3290000,0.5,65800,0,15,0.03,0.15,7.0000000000000007E-2,2.5000000000000001E-2,4,null,700000]
["Chemical tanker 40,000-+ dwt",1,-1,null,3290000,0.5,65800,0,15,0.03,0.15,7.0000000000000007E-2,2.5000000000000001E-2,4,null,700000]
["Container 0-999 teu",null,null,null,null,null,null,null,null,null,null,null,null,null,null,700000]
["Container 1,000 - 1,999 teu",null,null,null,null,null,null,null,null,null,null,null,null,null,null,700000]
["Container 2,000 - 2,999 teu",null,null,null,null,null,null,null,null,null,null,null,null,null,null,700000]
["Container 3,000 - 4,999 teu",null,null,null,null,null,null,null,null,null,null,null,null,null,null,700000]
["Container 5,000 - 7,999 teu",null,null,null,null,null,null,null,null,null,null,null,null,null,null,700000]
["Container 8,000 - 11,999 teu",null,null,null,null,null,null,null,null,null,null,null,null,null,null,700000]
["Container 12,000 - 14,499 teu",null,null,null,null,null,null,null,null,null,null,null,null,null,null,700000]
["Container 14,500 - 19,999 teu",null,null,null,null,null,null,null,null,null,null,null,null,null,null,700000]
["Container 20,000-+ teu",null,null,null,null,null,null,null,null,null,null,null,null,null,null,700000]
["General cargo 0 - 4,999 dwt",1,-1,null,1645000,0.5,{"$f":"E23*2%","v":32900},0,15,0.03,0.15,0.05,2.5000000000000001E-2,2,null,700000]
["General cargo 5,000 - 9,999 dwt",1,-1,null,1645000,0.5,{"$f":"E24*2%","v":32900},0,15,0.03,0.15,0.05,2.5000000000000001E-2,2,null,700000]
["General cargo 10,000 - 19,999 dwt",1,-1,null,3290000,0.5,65800,0,15,0.03,0.15,7.0000000000000007E-2,2.5000000000000001E-2,4,null,700000]
["General cargo 20,000-+ dwt",1,-1,null,3290000,0.5,65800,0,15,0.03,0.15,7.0000000000000007E-2,2.5000000000000001E-2,4,null,700000]
["Liquefied gas tanker 0 - 49,999 cbm",1,-1,null,1645000,0.5,32900,0,15,0.03,0.15,0.05,2.5000000000000001E-2,2,null,700000]
["Liquefied gas tanker 40,000 - 99,999 cbm",1,-1,null,1645000,0.5,32900,0,15,0.03,0.15,0.05,2.5000000000000001E-2,2,null,700000]
["Liquefied gas tanker 100,000 - 199,999 cbm",1,-1,null,3290000,0.5,65800,0,15,0.03,0.15,7.0000000000000007E-2,2.5000000000000001E-2,4,null,700000]
["Liquefied gas tanker 200,000-+ cbm",1,-1,null,3290000,0.5,65800,0,15,0.03,0.15,7.0000000000000007E-2,2.5000000000000001E-2,4,null,700000]
["Ferry-pax only 0 - 299 GT",null,null,null,null,null,null,null,null,null,null,null,null,null,null,700000]
["Ferry-pax only 300 - 999 GT",null,null,null,null,null,null,null,null,null,null,null,null,null,null,700000]
["Ferry-pax only 1,000 - 1,999 GT",null,null,null,null,null,null,null,null,null,null,null,null,null,null,700000]
["Ferry-pax only 2,000-+ GT",null,null,null,null,null,null,null,null,null,null,null,null,null,null,700000]
["Cruise 0 - 1,999 GT",1,-1,null,822500,0.5,{"$f":"E35*2%","v":16450},0,15,0.03,0.15,0.04,2.5000000000000001E-2,1,null,700000]
["Cruise 2,000 - 9,999 GT",1,-1,null,822500,0.5,{"$f":"E36*2%","v":16450},0,15,0.03,0.15,0.04,2.5000000000000001E-2,1,null,700000]
["Cruise 10,000 - 59,999 GT",1,-1,null,822500,0.5,16450,0,15,0.03,0.15,0.04,2.5000000000000001E-2,1,null,700000]
["Cruise 60,000 - 99,999 GT",1,-1,null,822500,0.5,16450,0,15,0.03,0.15,0.04,2.5000000000000001E-2,1,null,700000]
["Cruise 100,000 - 149,999 GT",1,-1,null,822500,0.5,16450,0,15,0.03,0.15,0.04,2.5000000000000001E-2,1,null,700000]
["Cruise 150,000-+ GT",1,-1,null,822500,0.5,16450,0,15,0.03,0.15,0.04,2.5000000000000001E-2,1,null,700000]
["Ferry-RoPax 0 - 1,999 GT",1,-1,null,822500,0.5,16450,0,15,0.03,0.15,0.04,2.5000000000000001E-2,1,null,700000]
["Ferry-RoPax 2,000 - 4,999 GT",1,-1,null,822500,0.5,16450,0,15,0.03,0.15,0.04,2.5000000000000001E-2,1,null,700000]
["Ferry-RoPax 5,000 - 9,999 GT",1,-1,null,822500,0.5,16450,0,15,0.03,0.15,0.04,2.5000000000000001E-2,1,null,700000]
["Ferry-RoPax 10,000 - 19,999 GT",1,-1,null,822500,0.5,16450,0,15,0.03,0.15,0.04,2.5000000000000001E-2,1,null,700000]
["Ferry-RoPax 20,000-+ GT",1,-1,null,822500,0.5,16450,0,15,0.03,0.15,0.04,2.5000000000000001E-2,1,null,700000]
["Refrigerated bulk 0 - 1,999 dwt",1,-1,null,1645000,0.5,32900,0,15,0.03,0.15,0.05,2.5000000000000001E-2,2,null,700000]
["Refrigerated bulk 2,000 - 5,999 dwt",1,-1,null,1645000,0.5,32900,0,15,0.03,0.15,0.05,2.5000000000000001E-2,2,null,700000]
["Refrigerated bulk 6,000 - 9,999 dwt",1,-1,null,1645000,0.5,32900,0,15,0.03,0.15,0.05,2.5000000000000001E-2,2,null,700000]
["Refrigerated bulk 10,000-+ dwt",1,-1,null,1645000,0.5,32900,0,15,0.03,0.15,0.05,2.5000000000000001E-2,2,null,700000]
["Ro-Ro 0 - 4,999 dwt",1,-1,null,1645000,0.5,32900,0,15,0.03,0.15,0.05,2.5000000000000001E-2,2,null,700000]
["Ro-Ro 5,000 - 9,999 dwt",1,-1,null,1645000,0.5,32900,0,15,0.03,0.15,0.05,2.5000000000000001E-2,2,null,700000]
["Ro-Ro 10,000 - 14,999 dwt",1,-1,null,3290000,0.5,65800,0,15,0.03,0.15,7.0000000000000007E-2,2.5000000000000001E-2,4,null,700000]
["Ro-Ro 15,000-+ dwt",1,-1,null,3290000,0.5,65800,0,15,0.03,0.15,7.0000000000000007E-2,2.5000000000000001E-2,4,null,700000]
["Vehicle 0 - 29,999 GT",1,-1,null,1645000,0.5,32900,0,15,0.03,0.15,0.05,2.5000000000000001E-2,2,null,700000]
["Vehicle 30,000 - 49,999 GT",1,-1,null,3290000,0.5,65800,0,15,0.03,0.15,7.0000000000000007E-2,2.5000000000000001E-2,4,null,700000]
["Vehicle 50,000-+ GT",1,-1,null,3290000,0.5,65800,0,15,0.03,0.15,7.0000000000000007E-2,2.5000000000000001E-2,4,null,700000]
["Oil tanker 0 - 4,999 dwt",1,-1,null,1645000,0.5,32900,0,15,0.03,0.15,0.05,2.5000000000000001E-2,2,null,700000]
["Oil tanker 5,000 - 9,999 dwt",1,-1,null,1645000,0.5,32900,0,15,0.03,0.15,0.05,2.5000000000000001E-2,2,null,700000]
["Oil tanker 10,000 - 19,999 dwt",1,-1,null,3290000,0.5,65800,0,15,0.03,0.15,7.0000000000000007E-2,2.5000000000000001E-2,4,null,700000]
["Oil tanker 20,000 - 59,999 dwt",1,-1,null,3290000,0.5,65800,0,15,0.03,0.15,7.0000000000000007E-2,2.5000000000000001E-2,4,null,700000]
["Oil tanker 60,000 - 79,999 dwt",1,-1,null,3290000,0.5,65800,0,15,0.03,0.15,7.0000000000000007E-2,2.5000000000000001E-2,4,null,700000]
["Oil tanker 80,000 - 119,999 dwt",1,-1,null,3290000,0.5,65800,0,15,0.03,0.15,7.0000000000000007E-2,2.5000000000000001E-2,4,null,700000]
["Oil tanker 120,000 - 199,999 dwt",1,-1,null,3290000,0.5,65800,0,15,0.03,0.15,7.0000000000000007E-2,2.5000000000000001E-2,4,null,700000]
["Oil tanker 200,000-+ dwt",1,-1,null,4935000,0.5,98700,0,15,0.03,0.15,0.08,2.5000000000000001E-2,6,null,700000]
["Other liquids tankers 0-999 dwt",1,-1,null,822500,0.5,16450,0,15,0.03,0.15,0.05,2.5000000000000001E-2,1,null,700000]
["Other liquids tankers 1,000-+ dwt",1,-1,null,1645000,0.5,32900,0,15,0.03,0.15,0.06,2.5000000000000001E-2,2,null,700000]

{"sheet":"Aux systems optimization","index":20,"n_rows":66,"n_cols":13,"rows_kept":66,"cut":false,"hidden":false,"merged":[[0,0,1,0],[0,1,0,3],[0,6,0,7],[0,9,0,11]]}
["Ship type and size","Measure applicability to engines",null,null,"Installation","CAPEX Retrofit addition","Operational Cost",null,"Lifetime","Total fuel savings %",null,null,"EEXI / EEDI savings"]
[null,"Main","Aux","Boiler","$","%","$ per year","$ per 5 year","Years","Low","High","Typical","%"]
[{"$f":"DropDownList!$A$3&\" \"&DropDownList!A4","v":"Bulk carrier 0  - 9,999 dwt"},1,1,null,11750,0.2,0,0,25,0.01,0.02,0.01,2E-3]
[{"$f":"DropDownList!$A$3&\" \"&DropDownList!A5","v":"Bulk carrier 10,000 - 34,999 dwt"},1,1,null,35250,0.2,0,0,25,0.01,0.02,0.01,2E-3]
[{"$f":"DropDownList!$A$3&\" \"&DropDownList!A6","v":"Bulk carrier 35,000 - 59,999 dwt"},1,1,null,58750,0.2,0,0,25,0.01,0.02,0.01,2E-3]
[{"$f":"DropDownList!$A$3&\" \"&DropDownList!A7","v":"Bulk carrier 60,000 - 99,999 dwt"},1,1,null,82250,0.2,0,0,25,0.01,0.02,0.01,2E-3]
[{"$f":"DropDownList!$A$3&\" \"&DropDownList!A8","v":"Bulk carrier 100,000 - 199,999 dwt"},1,1,null,117500,0.2,0,0,25,0.01,0.02,0.01,2E-3]
[{"$f":"DropDownList!$A$3&\" \"&DropDownList!A9","v":"Bulk carrier 200,000-+ dwt"},1,1,null,199750,0.2,0,0,25,0.01,0.02,0.01,2E-3]
[{"$f":"DropDownList!$B$3&\" \"&DropDownList!B4","v":"Chemical tanker 0 - 4,999 dwt"},1,1,null,11750,0.2,0,0,25,0.01,0.02,0.01,2E-3]
[{"$f":"DropDownList!$B$3&\" \"&DropDownList!B5","v":"Chemical tanker 5,000 - 9,999 dwt"},1,1,null,35250,0.2,0,0,25,0.01,0.02,0.01,2E-3]
[{"$f":"DropDownList!$B$3&\" \"&DropDownList!B6","v":"Chemical tanker 10,000 - 19,999 dwt"},1,1,null,35250,0.2,0,0,25,0.01,0.02,0.01,2E-3]
[{"$f":"DropDownList!$B$3&\" \"&DropDownList!B7","v":"Chemical tanker 20,000 - 39,999 dwt"},1,1,null,58750,0.2,0,0,25,0.01,0.02,0.01,2E-3]
[{"$f":"DropDownList!$B$3&\" \"&DropDownList!B8","v":"Chemical tanker 40,000-+ dwt"},1,1,null,117500,0.2,0,0,25,0.01,0.02,0.01,2E-3]
[{"$f":"DropDownList!$C$3&\" \"&DropDownList!C4","v":"Container 0-999 teu"},1,1,null,11750,0.2,0,0,25,0.01,0.02,0.01,2E-3]
[{"$f":"DropDownList!$C$3&\" \"&DropDownList!C5","v":"Container 1,000 - 1,999 teu"},1,1,null,35250,0.2,0,0,25,0.01,0.02,0.01,2E-3]
[{"$f":"DropDownList!$C$3&\" \"&DropDownList!C6","v":"Container 2,000 - 2,999 teu"},1,1,null,35250,0.2,0,0,25,0.01,0.02,0.01,2E-3]
[{"$f":"DropDownList!$C$3&\" \"&DropDownList!C7","v":"Container 3,000 - 4,999 teu"},1,1,null,58750,0.2,0,0,25,0.01,0.02,0.01,2E-3]
[{"$f":"DropDownList!$C$3&\" \"&DropDownList!C8","v":"Container 5,000 - 7,999 teu"},1,1,null,58750,0.2,0,0,25,0.01,0.02,0.01,2E-3]
[{"$f":"DropDownList!$C$3&\" \"&DropDownList!C9","v":"Container 8,000 - 11,999 teu"},1,1,null,82250,0.2,0,0,25,0.01,0.02,0.01,2E-3]
[{"$f":"DropDownList!$C$3&\" \"&DropDownList!C10","v":"Container 12,000 - 14,499 teu"},1,1,null,117500,0.2,0,0,25,0.01,0.02,0.01,2E-3]
[{"$f":"DropDownList!$C$3&\" \"&DropDownList!C11","v":"Container 14,500 - 19,999 teu"},1,1,null,176250,0.2,0,0,25,0.01,0.02,0.01,2E-3]
[{"$f":"DropDownList!$C$3&\" \"&DropDownList!C12","v":"Container 20,000-+ teu"},1,1,null,199750,0.2,0,0,25,0.01,0.02,0.01,2E-3]
[{"$f":"DropDownList!$D$3&\" \"&DropDownList!D4","v":"General cargo 0 - 4,999 dwt"},1,1,null,11750,0.2,0,0,25,0.01,0.02,0.01,2E-3]
[{"$f":"DropDownList!$D$3&\" \"&DropDownList!D5","v":"General cargo 5,000 - 9,999 dwt"},1,1,null,35250,0.2,0,0,25,0.01,0.02,0.01,2E-3]
[{"$f":"DropDownList!$D$3&\" \"&DropDownList!D6","v":"General cargo 10,000 - 19,999 dwt"},1,1,null,58750,0.2,0,0,25,0.01,0.02,0.01,2E-3]
[{"$f":"DropDownList!$D$3&\" \"&DropDownList!D7","v":"General cargo 20,000-+ dwt"},1,1,null,117500,0.2,0,0,25,0.01,0.02,0.01,2E-3]
[{"$f":"DropDownList!$E$3&\" \"&DropDownList!E4","v":"Liquefied gas tanker 0 - 49,999 cbm"},1,1,null,11750,0.2,0,0,25,0.01,0.02,0.01,2E-3]
[{"$f":"DropDownList!$E$3&\" \"&DropDownList!E5","v":"Liquefied gas tanker 40,000 - 99,999 cbm"},1,1,null,35250,0.2,0,0,25,0.01,0.02,0.01,2E-3]
[{"$f":"DropDownList!$E$3&\" \"&DropDownList!E6","v":"Liquefied gas tanker 100,000 - 199,999 cbm"},1,1,null,58750,0.2,0,0,25,0.01,0.02,0.01,2E-3]
[{"$f":"DropDownList!$E$3&\" \"&DropDownList!E7","v":"Liquefied gas tanker 200,000-+ cbm"},1,1,null,117500,0.2,0,0,25,0.01,0.02,0.01,2E-3]
[{"$f":"DropDownList!$G$3&\" \"&DropDownList!G4","v":"Ferry-pax only 0 - 299 GT"},1,1,null,11750,0.2,0,0,25,0.01,0.02,1.4999999999999999E-2,2E-3]
[{"$f":"DropDownList!$G$3&\" \"&DropDownList!G5","v":"Ferry-pax only 300 - 999 GT"},1,1,null,17625,0.2,0,0,25,0.01,0.02,1.4999999999999999E-2,2E-3]
[{"$f":"DropDownList!$G$3&\" \"&DropDownList!G6","v":"Ferry-pax only 1,000 - 1,999 GT"},1,1,null,23500,0.2,0,0,25,0.01,0.02,1.4999999999999999E-2,2E-3]
[{"$f":"DropDownList!$G$3&\" \"&DropDownList!G7","v":"Ferry-pax only 2,000-+ GT"},1,1,null,29375,0.2,0,0,25,0.01,0.02,1.4999999999999999E-2,2E-3]
[{"$f":"DropDownList!$H$3&\" \"&DropDownList!H4","v":"Cruise 0 - 1,999 GT"},1,1,null,11750,0.2,0,0,25,0.01,0.02,1.4999999999999999E-2,2E-3]
[{"$f":"DropDownList!$H$3&\" \"&DropDownList!H5","v":"Cruise 2,000 - 9,999 GT"},1,1,null,35250,0.2,0,0,25,0.01,0.02,1.4999999999999999E-2,2E-3]
[{"$f":"DropDownList!$H$3&\" \"&DropDownList!H6","v":"Cruise 10,000 - 59,999 GT"},1,1,null,35250,0.2,0,0,25,0.01,0.02,1.4999999999999999E-2,2E-3]
[{"$f":"DropDownList!$H$3&\" \"&DropDownList!H7","v":"Cruise 60,000 - 99,999 GT"},1,1,null,58750,0.2,0,0,25,0.01,0.02,1.4999999999999999E-2,2E-3]
[{"$f":"DropDownList!$H$3&\" \"&DropDownList!H8","v":"Cruise 100,000 - 149,999 GT"},1,1,null,58750,0.2,0,0,25,0.01,0.02,1.4999999999999999E-2,2E-3]
[{"$f":"DropDownList!$H$3&\" \"&DropDownList!H9","v":"Cruise 150,000-+ GT"},1,1,null,82250,0.2,0,0,25,0.01,0.02,1.4999999999999999E-2,2E-3]
[{"$f":"DropDownList!$I$3&\" \"&DropDownList!I4","v":"Ferry-RoPax 0 - 1,999 GT"},1,1,null,35250,0.2,0,0,25,0.01,0.02,1.4999999999999999E-2,2E-3]
[{"$f":"DropDownList!$I$3&\" \"&DropDownList!I5","v":"Ferry-RoPax 2,000 - 4,999 GT"},1,1,null,35250,0.2,0,0,25,0.01,0.02,1.4999999999999999E-2,2E-3]
[{"$f":"DropDownList!$I$3&\" \"&DropDownList!I6","v":"Ferry-RoPax 5,000 - 9,999 GT"},1,1,null,58750,0.2,0,0,25,0.01,0.02,1.4999999999999999E-2,2E-3]
[{"$f":"DropDownList!$I$3&\" \"&DropDownList!I7","v":"Ferry-RoPax 10,000 - 19,999 GT"},1,1,null,82250,0.2,0,0,25,0.01,0.02,1.4999999999999999E-2,2E-3]
[{"$f":"DropDownList!$I$3&\" \"&DropDownList!I8","v":"Ferry-RoPax 20,000-+ GT"},1,1,null,117500,0.2,0,0,25,0.01,0.02,1.4999999999999999E-2,2E-3]
[{"$f":"DropDownList!$J$3&\" \"&DropDownList!J4","v":"Refrigerated bulk 0 - 1,999 dwt"},1,1,null,11750,0.2,0,0,25,0.01,0.02,1.4999999999999999E-2,2E-3]
[{"$f":"DropDownList!$J$3&\" \"&DropDownList!J5","v":"Refrigerated bulk 2,000 - 5,999 dwt"},1,1,null,35250,0.2,0,0,25,0.01,0.02,1.4999999999999999E-2,2E-3]
[{"$f":"DropDownList!$J$3&\" \"&DropDownList!J6","v":"Refrigerated bulk 6,000 - 9,999 dwt"},1,1,null,58750,0.2,0,0,25,0.01,0.02,1.4999999999999999E-2,2E-3]
[{"$f":"DropDownList!$J$3&\" \"&DropDownList!J7","v":"Refrigerated bulk 10,000-+ dwt"},1,1,null,82250,0.2,0,0,25,0.01,0.02,1.4999999999999999E-2,2E-3]
[{"$f":"DropDownList!$K$3&\" \"&DropDownList!K4","v":"Ro-Ro 0 - 4,999 dwt"},1,1,null,11750,0.2,0,0,25,0.01,0.02,0.01,2E-3]
[{"$f":"DropDownList!$K$3&\" \"&DropDownList!K5","v":"Ro-Ro 5,000 - 9,999 dwt"},1,1,null,35250,0.2,0,0,25,0.01,0.02,0.01,2E-3]
[{"$f":"DropDownList!$K$3&\" \"&DropDownList!K6","v":"Ro-Ro 10,000 - 14,999 dwt"},1,1,null,58750,0.2,0,0,25,0.01,0.02,0.01,2E-3]
[{"$f":"DropDownList!$K$3&\" \"&DropDownList!K7","v":"Ro-Ro 15,000-+ dwt"},1,1,null,117500,0.2,0,0,25,0.01,0.02,0.01,2E-3]
[{"$f":"DropDownList!$L$3&\" \"&DropDownList!L4","v":"Vehicle 0 - 29,999 GT"},1,1,null,35250,0.2,0,0,25,0.01,0.02,0.01,2E-3]
[{"$f":"DropDownList!$L$3&\" \"&DropDownList!L5","v":"Vehicle 30,000 - 49,999 GT"},1,1,null,58750,0.2,0,0,25,0.01,0.02,0.01,2E-3]
[{"$f":"DropDownList!$L$3&\" \"&DropDownList!L6","v":"Vehicle 50,000-+ GT"},1,1,null,117500,0.2,0,0,25,0.01,0.02,0.01,2E-3]
["Oil tanker 0 - 4,999 dwt",1,1,null,11750,0.2,0,0,25,0.01,0.02,0.01,2E-3]
["Oil tanker 5,000 - 9,999 dwt",1,1,null,23500,0.2,0,0,25,0.01,0.02,0.01,2E-3]
["Oil tanker 10,000 - 19,999 dwt",1,1,null,35250,0.2,0,0,25,0.01,0.02,0.01,2E-3]
["Oil tanker 20,000 - 59,999 dwt",1,1,null,58750,0.2,0,0,25,0.01,0.02,0.01,2E-3]
["Oil tanker 60,000 - 79,999 dwt",1,1,null,82250,0.2,0,0,25,0.01,0.02,0.01,2E-3]
["Oil tanker 80,000 - 119,999 dwt",1,1,null,117500,0.2,0,0,25,0.01,0.02,0.01,2E-3]
["Oil tanker 120,000 - 199,999 dwt",1,1,null,176250,0.2,0,0,25,0.01,0.02,0.01,2E-3]
["Oil tanker 200,000-+ dwt",1,1,null,199750,0.2,0,0,25,0.01,0.02,0.01,2E-3]
["Other liquids tankers 0-999 dwt",1,1,null,11750,0.2,0,0,25,0.01,0.02,0.01,2E-3]
["Other liquids tankers 1,000-+ dwt",1,1,null,35250,0.2,0,0,25,0.01,0.02,0.01,2E-3]

{"sheet":"Engine performance opt. (auto)","index":21,"n_rows":66,"n_cols":15,"rows_kept":66,"cut":false,"hidden":false,"merged":[[0,14,1,14],[0,0,1,0],[0,1,0,3],[0,6,0,7],[0,9,0,11],[0,13,1,13]]}
["Ship type and size","Measure applicability to engines",null,null,"Installation","CAPEX Retrofit addition","Operational Cost",null,"Lifetime","Total fuel savings %",null,null,"EEXI / EEDI savings","Number of cylinders","Avg Installation cost per cylinder"]
[null,"Main","Aux","Boiler","$","%","$ per year","$ per 5 year","Years","Low","High","Typical","%"]
[{"$f":"DropDownList!$A$3&\" \"&DropDownList!A4","v":"Bulk carrier 0  - 9,999 dwt"}]
[{"$f":"DropDownList!$A$3&\" \"&DropDownList!A5","v":"Bulk carrier 10,000 - 34,999 dwt"},1,null,null,37600,0.2,0,0,25,0.01,0.03,0.02,null,8,4000]
[{"$f":"DropDownList!$A$3&\" \"&DropDownList!A6","v":"Bulk carrier 35,000 - 59,999 dwt"},1,null,null,37600,0.2,0,0,25,0.01,0.03,0.02,null,8,4000]
[{"$f":"DropDownList!$A$3&\" \"&DropDownList!A7","v":"Bulk carrier 60,000 - 99,999 dwt"},1,null,null,47000,0.2,0,0,25,0.01,0.03,0.02,null,10,4000]
[{"$f":"DropDownList!$A$3&\" \"&DropDownList!A8","v":"Bulk carrier 100,000 - 199,999 dwt"},1,null,null,56400,0.2,0,0,25,0.01,0.03,0.02,null,12,4000]
[{"$f":"DropDownList!$A$3&\" \"&DropDownList!A9","v":"Bulk carrier 200,000-+ dwt"},1,null,null,82250,0.2,0,0,25,0.01,0.03,0.02,null,14,5000]
[{"$f":"DropDownList!$B$3&\" \"&DropDownList!B4","v":"Chemical tanker 0 - 4,999 dwt"}]
[{"$f":"DropDownList!$B$3&\" \"&DropDownList!B5","v":"Chemical tanker 5,000 - 9,999 dwt"}]
[{"$f":"DropDownList!$B$3&\" \"&DropDownList!B6","v":"Chemical tanker 10,000 - 19,999 dwt"},1,null,null,37600,0.2,0,0,25,0.01,0.03,0.02,null,8,4000]
[{"$f":"DropDownList!$B$3&\" \"&DropDownList!B7","v":"Chemical tanker 20,000 - 39,999 dwt"},1,null,null,56400,0.2,0,0,25,0.01,0.03,0.02,null,12,4000]
[{"$f":"DropDownList!$B$3&\" \"&DropDownList!B8","v":"Chemical tanker 40,000-+ dwt"},1,null,null,70500,0.2,0,0,25,0.01,0.03,0.02,null,12,5000]
[{"$f":"DropDownList!$C$3&\" \"&DropDownList!C4","v":"Container 0-999 teu"}]
[{"$f":"DropDownList!$C$3&\" \"&DropDownList!C5","v":"Container 1,000 - 1,999 teu"}]
[{"$f":"DropDownList!$C$3&\" \"&DropDownList!C6","v":"Container 2,000 - 2,999 teu"},1,null,null,47000,0.2,0,0,25,0.01,0.03,0.02,null,10,4000]
[{"$f":"DropDownList!$C$3&\" \"&DropDownList!C7","v":"Container 3,000 - 4,999 teu"},1,null,null,47000,0.2,0,0,25,0.01,0.03,0.02,null,10,4000]
[{"$f":"DropDownList!$C$3&\" \"&DropDownList!C8","v":"Container 5,000 - 7,999 teu"},1,null,null,56400,0.2,0,0,25,0.01,0.03,0.02,null,12,4000]
[{"$f":"DropDownList!$C$3&\" \"&DropDownList!C9","v":"Container 8,000 - 11,999 teu"},1,null,null,56400,0.2,0,0,25,0.01,0.03,0.02,null,12,4000]
[{"$f":"DropDownList!$C$3&\" \"&DropDownList!C10","v":"Container 12,000 - 14,499 teu"},1,null,null,82250,0.2,0,0,25,0.01,0.03,0.02,null,14,5000]
[{"$f":"DropDownList!$C$3&\" \"&DropDownList!C11","v":"Container 14,500 - 19,999 teu"},1,null,null,82250,0.2,0,0,25,0.01,0.03,0.02,null,14,5000]
[{"$f":"DropDownList!$C$3&\" \"&DropDownList!C12","v":"Container 20,000-+ teu"},1,null,null,112800,0.2,0,0,25,0.01,0.03,0.02,null,16,6000]
[{"$f":"DropDownList!$D$3&\" \"&DropDownList!D4","v":"General cargo 0 - 4,999 dwt"}]
[{"$f":"DropDownList!$D$3&\" \"&DropDownList!D5","v":"General cargo 5,000 - 9,999 dwt"}]
[{"$f":"DropDownList!$D$3&\" \"&DropDownList!D6","v":"General cargo 10,000 - 19,999 dwt"},1,null,null,37600,0.2,0,0,25,0.01,0.03,0.02,null,8,4000]
[{"$f":"DropDownList!$D$3&\" \"&DropDownList!D7","v":"General cargo 20,000-+ dwt"},1,null,null,47000,0.2,0,0,25,0.01,0.03,0.02,null,10,4000]
[{"$f":"DropDownList!$E$3&\" \"&DropDownList!E4","v":"Liquefied gas tanker 0 - 49,999 cbm"},1,null,null,37600,0.2,0,0,25,0.01,0.03,0.02,null,8,4000]
[{"$f":"DropDownList!$E$3&\" \"&DropDownList!E5","v":"Liquefied gas tanker 40,000 - 99,999 cbm"},1,null,null,37600,0.2,0,0,25,0.01,0.03,0.02,null,8,4000]
[{"$f":"DropDownList!$E$3&\" \"&DropDownList!E6","v":"Liquefied gas tanker 100,000 - 199,999 cbm"},1,null,null,47000,0.2,0,0,25,0.01,0.03,0.02,null,10,4000]
[{"$f":"DropDownList!$E$3&\" \"&DropDownList!E7","v":"Liquefied gas tanker 200,000-+ cbm"},1,null,null,56400,0.2,0,0,25,0.01,0.03,0.02,null,12,4000]
[{"$f":"DropDownList!$G$3&\" \"&DropDownList!G4","v":"Ferry-pax only 0 - 299 GT"}]
[{"$f":"DropDownList!$G$3&\" \"&DropDownList!G5","v":"Ferry-pax only 300 - 999 GT"}]
[{"$f":"DropDownList!$G$3&\" \"&DropDownList!G6","v":"Ferry-pax only 1,000 - 1,999 GT"}]
[{"$f":"DropDownList!$G$3&\" \"&DropDownList!G7","v":"Ferry-pax only 2,000-+ GT"}]
[{"$f":"DropDownList!$H$3&\" \"&DropDownList!H4","v":"Cruise 0 - 1,999 GT"}]
[{"$f":"DropDownList!$H$3&\" \"&DropDownList!H5","v":"Cruise 2,000 - 9,999 GT"}]
[{"$f":"DropDownList!$H$3&\" \"&DropDownList!H6","v":"Cruise 10,000 - 59,999 GT"}]
[{"$f":"DropDownList!$H$3&\" \"&DropDownList!H7","v":"Cruise 60,000 - 99,999 GT"}]
[{"$f":"DropDownList!$H$3&\" \"&DropDownList!H8","v":"Cruise 100,000 - 149,999 GT"}]
[{"$f":"DropDownList!$H$3&\" \"&DropDownList!H9","v":"Cruise 150,000-+ GT"}]
[{"$f":"DropDownList!$I$3&\" \"&DropDownList!I4","v":"Ferry-RoPax 0 - 1,999 GT"}]
[{"$f":"DropDownList!$I$3&\" \"&DropDownList!I5","v":"Ferry-RoPax 2,000 - 4,999 GT"}]
[{"$f":"DropDownList!$I$3&\" \"&DropDownList!I6","v":"Ferry-RoPax 5,000 - 9,999 GT"}]
[{"$f":"DropDownList!$I$3&\" \"&DropDownList!I7","v":"Ferry-RoPax 10,000 - 19,999 GT"}]
[{"$f":"DropDownList!$I$3&\" \"&DropDownList!I8","v":"Ferry-RoPax 20,000-+ GT"}]
[{"$f":"DropDownList!$J$3&\" \"&DropDownList!J4","v":"Refrigerated bulk 0 - 1,999 dwt"}]
[{"$f":"DropDownList!$J$3&\" \"&DropDownList!J5","v":"Refrigerated bulk 2,000 - 5,999 dwt"}]
[{"$f":"DropDownList!$J$3&\" \"&DropDownList!J6","v":"Refrigerated bulk 6,000 - 9,999 dwt"},1,null,null,47000,0.2,0,0,25,0.01,0.03,0.02,null,10,4000]
[{"$f":"DropDownList!$J$3&\" \"&DropDownList!J7","v":"Refrigerated bulk 10,000-+ dwt"},1,null,null,47000,0.2,0,0,25,0.01,0.03,0.02,null,10,4000]
[{"$f":"DropDownList!$K$3&\" \"&DropDownList!K4","v":"Ro-Ro 0 - 4,999 dwt"}]
[{"$f":"DropDownList!$K$3&\" \"&DropDownList!K5","v":"Ro-Ro 5,000 - 9,999 dwt"}]
[{"$f":"DropDownList!$K$3&\" \"&DropDownList!K6","v":"Ro-Ro 10,000 - 14,999 dwt"},1,null,null,47000,0.2,0,0,25,0.01,0.03,0.02,null,10,4000]
[{"$f":"DropDownList!$K$3&\" \"&DropDownList!K7","v":"Ro-Ro 15,000-+ dwt"},1,null,null,56400,0.2,0,0,25,0.01,0.03,0.02,null,12,4000]
[{"$f":"DropDownList!$L$3&\" \"&DropDownList!L4","v":"Vehicle 0 - 29,999 GT"},1,null,null,37600,0.2,0,0,25,0.01,0.03,0.02,null,8,4000]
[{"$f":"DropDownList!$L$3&\" \"&DropDownList!L5","v":"Vehicle 30,000 - 49,999 GT"},1,null,null,47000,0.2,0,0,25,0.01,0.03,0.02,null,10,4000]
[{"$f":"DropDownList!$L$3&\" \"&DropDownList!L6","v":"Vehicle 50,000-+ GT"},1,null,null,56400,0.2,0,0,25,0.01,0.03,0.02,null,12,4000]
["Oil tanker 0 - 4,999 dwt"]
["Oil tanker 5,000 - 9,999 dwt"]
["Oil tanker 10,000 - 19,999 dwt",1,null,null,47000,0.2,0,0,25,0.01,0.03,0.02,null,10,4000]
["Oil tanker 20,000 - 59,999 dwt",1,null,null,56400,0.2,0,0,25,0.01,0.03,0.02,null,12,4000]
["Oil tanker 60,000 - 79,999 dwt",1,null,null,56400,0.2,0,0,25,0.01,0.03,0.02,null,12,4000]
["Oil tanker 80,000 - 119,999 dwt",1,null,null,82250,0.2,0,0,25,0.01,0.03,0.02,null,14,5000]
["Oil tanker 120,000 - 199,999 dwt",1,null,null,82250,0.2,0,0,25,0.01,0.03,0.02,null,14,5000]
["Oil tanker 200,000-+ dwt",1,null,null,112800,0.2,0,0,25,0.01,0.03,0.02,null,16,6000]
["Other liquids tankers 0-999 dwt"]
["Other liquids tankers 1,000-+ dwt"]

{"sheet":"Engine performance opt. (man.)","index":22,"n_rows":66,"n_cols":13,"rows_kept":66,"cut":false,"hidden":false,"merged":[[0,0,1,0],[0,1,0,3],[0,6,0,7],[0,9,0,11]]}
["Ship type and size","Measure applicability to engines",null,null,"Installation","CAPEX Retrofit addition","Operational Cost",null,"Lifetime","Total fuel savings %",null,null,"EEXI / EEDI savings"]
[null,"Main","Aux","Boiler","$","%","$ per year","$ per 5 year","Years","Low","High","Typical","%"]
[{"$f":"DropDownList!$A$3&\" \"&DropDownList!A4","v":"Bulk carrier 0  - 9,999 dwt"},1,1,null,4700,0.2,0,0,25,0.01,0.03,0.02]
[{"$f":"DropDownList!$A$3&\" \"&DropDownList!A5","v":"Bulk carrier 10,000 - 34,999 dwt"},1,1,null,4700,0.2,0,0,25,0.01,0.03,0.02]
[{"$f":"DropDownList!$A$3&\" \"&DropDownList!A6","v":"Bulk carrier 35,000 - 59,999 dwt"},1,1,null,7050,0.2,0,0,25,0.01,0.03,0.02]
[{"$f":"DropDownList!$A$3&\" \"&DropDownList!A7","v":"Bulk carrier 60,000 - 99,999 dwt"},1,1,null,7050,0.2,0,0,25,0.01,0.03,0.02]
[{"$f":"DropDownList!$A$3&\" \"&DropDownList!A8","v":"Bulk carrier 100,000 - 199,999 dwt"},1,1,null,9400,0.2,0,0,25,0.01,0.03,0.02]
[{"$f":"DropDownList!$A$3&\" \"&DropDownList!A9","v":"Bulk carrier 200,000-+ dwt"},1,1,null,11750,0.2,0,0,25,0.01,0.03,0.02]
[{"$f":"DropDownList!$B$3&\" \"&DropDownList!B4","v":"Chemical tanker 0 - 4,999 dwt"},1,1,null,4700,0.2,0,0,25,0.01,0.03,0.02]
[{"$f":"DropDownList!$B$3&\" \"&DropDownList!B5","v":"Chemical tanker 5,000 - 9,999 dwt"},1,1,null,4700,0.2,0,0,25,0.01,0.03,0.02]
[{"$f":"DropDownList!$B$3&\" \"&DropDownList!B6","v":"Chemical tanker 10,000 - 19,999 dwt"},1,1,null,7050,0.2,0,0,25,0.01,0.03,0.02]
[{"$f":"DropDownList!$B$3&\" \"&DropDownList!B7","v":"Chemical tanker 20,000 - 39,999 dwt"},1,1,null,7050,0.2,0,0,25,0.01,0.03,0.02]
[{"$f":"DropDownList!$B$3&\" \"&DropDownList!B8","v":"Chemical tanker 40,000-+ dwt"},1,1,null,9400,0.2,0,0,25,0.01,0.03,0.02]
[{"$f":"DropDownList!$C$3&\" \"&DropDownList!C4","v":"Container 0-999 teu"},1,1,null,4700,0.2,0,0,25,0.01,0.03,0.02]
[{"$f":"DropDownList!$C$3&\" \"&DropDownList!C5","v":"Container 1,000 - 1,999 teu"},1,1,null,4700,0.2,0,0,25,0.01,0.03,0.02]
[{"$f":"DropDownList!$C$3&\" \"&DropDownList!C6","v":"Container 2,000 - 2,999 teu"},1,1,null,7050,0.2,0,0,25,0.01,0.03,0.02]
[{"$f":"DropDownList!$C$3&\" \"&DropDownList!C7","v":"Container 3,000 - 4,999 teu"},1,1,null,7050,0.2,0,0,25,0.01,0.03,0.02]
[{"$f":"DropDownList!$C$3&\" \"&DropDownList!C8","v":"Container 5,000 - 7,999 teu"},1,1,null,7050,0.2,0,0,25,0.01,0.03,0.02]
[{"$f":"DropDownList!$C$3&\" \"&DropDownList!C9","v":"Container 8,000 - 11,999 teu"},1,1,null,9400,0.2,0,0,25,0.01,0.03,0.02]
[{"$f":"DropDownList!$C$3&\" \"&DropDownList!C10","v":"Container 12,000 - 14,499 teu"},1,1,null,9400,0.2,0,0,25,0.01,0.03,0.02]
[{"$f":"DropDownList!$C$3&\" \"&DropDownList!C11","v":"Container 14,500 - 19,999 teu"},1,1,null,11750,0.2,0,0,25,0.01,0.03,0.02]
[{"$f":"DropDownList!$C$3&\" \"&DropDownList!C12","v":"Container 20,000-+ teu"},1,1,null,11750,0.2,0,0,25,0.01,0.03,0.02]
[{"$f":"DropDownList!$D$3&\" \"&DropDownList!D4","v":"General cargo 0 - 4,999 dwt"},1,1,null,4700,0.2,0,0,25,0.01,0.03,0.02]
[{"$f":"DropDownList!$D$3&\" \"&DropDownList!D5","v":"General cargo 5,000 - 9,999 dwt"},1,1,null,4700,0.2,0,0,25,0.01,0.03,0.02]
[{"$f":"DropDownList!$D$3&\" \"&DropDownList!D6","v":"General cargo 10,000 - 19,999 dwt"},1,1,null,4700,0.2,0,0,25,0.01,0.03,0.02]
[{"$f":"DropDownList!$D$3&\" \"&DropDownList!D7","v":"General cargo 20,000-+ dwt"},1,1,null,7050,0.2,0,0,25,0.01,0.03,0.02]
[{"$f":"DropDownList!$E$3&\" \"&DropDownList!E4","v":"Liquefied gas tanker 0 - 49,999 cbm"},1,1,null,4700,0.2,0,0,25,0.01,0.03,0.02]
[{"$f":"DropDownList!$E$3&\" \"&DropDownList!E5","v":"Liquefied gas tanker 40,000 - 99,999 cbm"},1,1,null,7050,0.2,0,0,25,0.01,0.03,0.02]
[{"$f":"DropDownList!$E$3&\" \"&DropDownList!E6","v":"Liquefied gas tanker 100,000 - 199,999 cbm"},1,1,null,9400,0.2,0,0,25,0.01,0.03,0.02]
[{"$f":"DropDownList!$E$3&\" \"&DropDownList!E7","v":"Liquefied gas tanker 200,000-+ cbm"},1,1,null,11750,0.2,0,0,25,0.01,0.03,0.02]
[{"$f":"DropDownList!$G$3&\" \"&DropDownList!G4","v":"Ferry-pax only 0 - 299 GT"},1,1,null,4700,0.2,0,0,25,0.01,0.03,0.02]
[{"$f":"DropDownList!$G$3&\" \"&DropDownList!G5","v":"Ferry-pax only 300 - 999 GT"},1,1,null,4700,0.2,0,0,25,0.01,0.03,0.02]
[{"$f":"DropDownList!$G$3&\" \"&DropDownList!G6","v":"Ferry-pax only 1,000 - 1,999 GT"},1,1,null,7050,0.2,0,0,25,0.01,0.03,0.02]
[{"$f":"DropDownList!$G$3&\" \"&DropDownList!G7","v":"Ferry-pax only 2,000-+ GT"},1,1,null,7050,0.2,0,0,25,0.01,0.03,0.02]
[{"$f":"DropDownList!$H$3&\" \"&DropDownList!H4","v":"Cruise 0 - 1,999 GT"},1,1,null,4700,0.2,0,0,25,0.01,0.03,0.02]
[{"$f":"DropDownList!$H$3&\" \"&DropDownList!H5","v":"Cruise 2,000 - 9,999 GT"},1,1,null,4700,0.2,0,0,25,0.01,0.03,0.02]
[{"$f":"DropDownList!$H$3&\" \"&DropDownList!H6","v":"Cruise 10,000 - 59,999 GT"},1,1,null,7050,0.2,0,0,25,0.01,0.03,0.02]
[{"$f":"DropDownList!$H$3&\" \"&DropDownList!H7","v":"Cruise 60,000 - 99,999 GT"},1,1,null,7050,0.2,0,0,25,0.01,0.03,0.02]
[{"$f":"DropDownList!$H$3&\" \"&DropDownList!H8","v":"Cruise 100,000 - 149,999 GT"},1,1,null,9400,0.2,0,0,25,0.01,0.03,0.02]
[{"$f":"DropDownList!$H$3&\" \"&DropDownList!H9","v":"Cruise 150,000-+ GT"},1,1,null,9400,0.2,0,0,25,0.01,0.03,0.02]
[{"$f":"DropDownList!$I$3&\" \"&DropDownList!I4","v":"Ferry-RoPax 0 - 1,999 GT"},1,1,null,4700,0.2,0,0,25,0.01,0.03,0.02]
[{"$f":"DropDownList!$I$3&\" \"&DropDownList!I5","v":"Ferry-RoPax 2,000 - 4,999 GT"},1,1,null,7050,0.2,0,0,25,0.01,0.03,0.02]
[{"$f":"DropDownList!$I$3&\" \"&DropDownList!I6","v":"Ferry-RoPax 5,000 - 9,999 GT"},1,1,null,7050,0.2,0,0,25,0.01,0.03,0.02]
[{"$f":"DropDownList!$I$3&\" \"&DropDownList!I7","v":"Ferry-RoPax 10,000 - 19,999 GT"},1,1,null,9400,0.2,0,0,25,0.01,0.03,0.02]
[{"$f":"DropDownList!$I$3&\" \"&DropDownList!I8","v":"Ferry-RoPax 20,000-+ GT"},1,1,null,9400,0.2,0,0,25,0.01,0.03,0.02]
[{"$f":"DropDownList!$J$3&\" \"&DropDownList!J4","v":"Refrigerated bulk 0 - 1,999 dwt"},1,1,null,4700,0.2,0,0,25,0.01,0.03,0.02]
[{"$f":"DropDownList!$J$3&\" \"&DropDownList!J5","v":"Refrigerated bulk 2,000 - 5,999 dwt"},1,1,null,4700,0.2,0,0,25,0.01,0.03,0.02]
[{"$f":"DropDownList!$J$3&\" \"&DropDownList!J6","v":"Refrigerated bulk 6,000 - 9,999 dwt"},1,1,null,4700,0.2,0,0,25,0.01,0.03,0.02]
[{"$f":"DropDownList!$J$3&\" \"&DropDownList!J7","v":"Refrigerated bulk 10,000-+ dwt"},1,1,null,7050,0.2,0,0,25,0.01,0.03,0.02]
[{"$f":"DropDownList!$K$3&\" \"&DropDownList!K4","v":"Ro-Ro 0 - 4,999 dwt"},1,1,null,4700,0.2,0,0,25,0.01,0.03,0.02]
[{"$f":"DropDownList!$K$3&\" \"&DropDownList!K5","v":"Ro-Ro 5,000 - 9,999 dwt"},1,1,null,4700,0.2,0,0,25,0.01,0.03,0.02]
[{"$f":"DropDownList!$K$3&\" \"&DropDownList!K6","v":"Ro-Ro 10,000 - 14,999 dwt"},1,1,null,7050,0.2,0,0,25,0.01,0.03,0.02]
[{"$f":"DropDownList!$K$3&\" \"&DropDownList!K7","v":"Ro-Ro 15,000-+ dwt"},1,1,null,9400,0.2,0,0,25,0.01,0.03,0.02]
[{"$f":"DropDownList!$L$3&\" \"&DropDownList!L4","v":"Vehicle 0 - 29,999 GT"},1,1,null,4700,0.2,0,0,25,0.01,0.03,0.02]
[{"$f":"DropDownList!$L$3&\" \"&DropDownList!L5","v":"Vehicle 30,000 - 49,999 GT"},1,1,null,7050,0.2,0,0,25,0.01,0.03,0.02]
[{"$f":"DropDownList!$L$3&\" \"&DropDownList!L6","v":"Vehicle 50,000-+ GT"},1,1,null,9400,0.2,0,0,25,0.01,0.03,0.02]
["Oil tanker 0 - 4,999 dwt",1,1,null,4700,0.2,0,0,25,0.01,0.03,0.02]
["Oil tanker 5,000 - 9,999 dwt",1,1,null,7050,0.2,0,0,25,0.01,0.03,0.02]
["Oil tanker 10,000 - 19,999 dwt",1,1,null,7050,0.2,0,0,25,0.01,0.03,0.02]
["Oil tanker 20,000 - 59,999 dwt",1,1,null,7050,0.2,0,0,25,0.01,0.03,0.02]
["Oil tanker 60,000 - 79,999 dwt",1,1,null,9400,0.2,0,0,25,0.01,0.03,0.02]
["Oil tanker 80,000 - 119,999 dwt",1,1,null,9400,0.2,0,0,25,0.01,0.03,0.02]
["Oil tanker 120,000 - 199,999 dwt",1,1,null,11750,0.2,0,0,25,0.01,0.03,0.02]
["Oil tanker 200,000-+ dwt",1,1,null,11750,0.2,0,0,25,0.01,0.03,0.02]
["Other liquids tankers 0-999 dwt",1,1,null,4700,0.2,0,0,25,0.01,0.03,0.02]
["Other liquids tankers 1,000-+ dwt",1,1,null,7050,0.2,0,0,25,0.01,0.03,0.02]

{"sheet":"Engine de-rating","index":23,"n_rows":66,"n_cols":13,"rows_kept":66,"cut":false,"hidden":false,"merged":[[0,0,1,0],[0,1,0,3],[0,6,0,7],[0,9,0,11]]}
["Ship type and size","Measure applicability to engines",null,null,"Installation","CAPEX Retrofit addition","Operational Cost",null,"Lifetime","Total fuel savings %",null,null,"EEXI / EEDI savings"]
[null,"Main","Aux","Boiler","$","%","$ per year","$ per 5 year","Years","Low","High","Typical","%"]
[{"$f":"DropDownList!$A$3&\" \"&DropDownList!A4","v":"Bulk carrier 0  - 9,999 dwt"},1,null,null,58750,0,0,0,25,0.02,0.06,0.03,0.03]
[{"$f":"DropDownList!$A$3&\" \"&DropDownList!A5","v":"Bulk carrier 10,000 - 34,999 dwt"},1,null,null,117500,0,0,0,25,0.02,0.06,0.03,0.03]
[{"$f":"DropDownList!$A$3&\" \"&DropDownList!A6","v":"Bulk carrier 35,000 - 59,999 dwt"},1,null,null,587500,0,0,0,25,0.02,0.06,0.03,0.03]
[{"$f":"DropDownList!$A$3&\" \"&DropDownList!A7","v":"Bulk carrier 60,000 - 99,999 dwt"},1,null,null,1175000,0,0,0,25,0.02,0.06,0.03,0.03]
[{"$f":"DropDownList!$A$3&\" \"&DropDownList!A8","v":"Bulk carrier 100,000 - 199,999 dwt"},1,null,null,1762500,0,0,0,25,0.02,0.06,0.03,0.03]
[{"$f":"DropDownList!$A$3&\" \"&DropDownList!A9","v":"Bulk carrier 200,000-+ dwt"},1,null,null,2350000,0,0,0,25,0.02,0.06,0.03,0.03]
[{"$f":"DropDownList!$B$3&\" \"&DropDownList!B4","v":"Chemical tanker 0 - 4,999 dwt"},1,null,null,82250,0,0,0,25,0.02,0.06,0.03,0.03]
[{"$f":"DropDownList!$B$3&\" \"&DropDownList!B5","v":"Chemical tanker 5,000 - 9,999 dwt"},1,null,null,141000,0,0,0,25,0.02,0.06,0.03,0.03]
[{"$f":"DropDownList!$B$3&\" \"&DropDownList!B6","v":"Chemical tanker 10,000 - 19,999 dwt"},1,null,null,470000,0,0,0,25,0.02,0.06,0.03,0.03]
[{"$f":"DropDownList!$B$3&\" \"&DropDownList!B7","v":"Chemical tanker 20,000 - 39,999 dwt"},1,null,null,1057500,0,0,0,25,0.02,0.06,0.03,0.03]
[{"$f":"DropDownList!$B$3&\" \"&DropDownList!B8","v":"Chemical tanker 40,000-+ dwt"},1,null,null,1762500,0,0,0,25,0.02,0.06,0.03,0.03]
[{"$f":"DropDownList!$C$3&\" \"&DropDownList!C4","v":"Container 0-999 teu"},1,null,null,58750,0,0,0,25,0.02,0.06,0.03,0.03]
[{"$f":"DropDownList!$C$3&\" \"&DropDownList!C5","v":"Container 1,000 - 1,999 teu"},1,null,null,117500,0,0,0,25,0.02,0.06,0.03,0.03]
[{"$f":"DropDownList!$C$3&\" \"&DropDownList!C6","v":"Container 2,000 - 2,999 teu"},1,null,null,176250,0,0,0,25,0.02,0.06,0.03,0.03]
[{"$f":"DropDownList!$C$3&\" \"&DropDownList!C7","v":"Container 3,000 - 4,999 teu"},1,null,null,235000,0,0,0,25,0.02,0.06,0.03,0.03]
[{"$f":"DropDownList!$C$3&\" \"&DropDownList!C8","v":"Container 5,000 - 7,999 teu"},1,null,null,352500,0,0,0,25,0.02,0.06,0.03,0.03]
[{"$f":"DropDownList!$C$3&\" \"&DropDownList!C9","v":"Container 8,000 - 11,999 teu"},1,null,null,587500,0,0,0,25,0.02,0.06,0.03,0.03]
[{"$f":"DropDownList!$C$3&\" \"&DropDownList!C10","v":"Container 12,000 - 14,499 teu"},1,null,null,1175000,0,0,0,25,0.02,0.06,0.03,0.03]
[{"$f":"DropDownList!$C$3&\" \"&DropDownList!C11","v":"Container 14,500 - 19,999 teu"},1,null,null,1762500,0,0,0,25,0.02,0.06,0.03,0.03]
[{"$f":"DropDownList!$C$3&\" \"&DropDownList!C12","v":"Container 20,000-+ teu"},1,null,null,2350000,0,0,0,25,0.02,0.06,0.03,0.03]
[{"$f":"DropDownList!$D$3&\" \"&DropDownList!D4","v":"General cargo 0 - 4,999 dwt"},1,null,null,82250,0,0,0,25,0.02,0.06,0.03,0.03]
[{"$f":"DropDownList!$D$3&\" \"&DropDownList!D5","v":"General cargo 5,000 - 9,999 dwt"},1,null,null,352500,0,0,0,25,0.02,0.06,0.03,0.03]
[{"$f":"DropDownList!$D$3&\" \"&DropDownList!D6","v":"General cargo 10,000 - 19,999 dwt"},1,null,null,587500,0,0,0,25,0.02,0.06,0.03,0.03]
[{"$f":"DropDownList!$D$3&\" \"&DropDownList!D7","v":"General cargo 20,000-+ dwt"},1,null,null,1175000,0,0,0,25,0.02,0.06,0.03,0.03]
[{"$f":"DropDownList!$E$3&\" \"&DropDownList!E4","v":"Liquefied gas tanker 0 - 49,999 cbm"},1,null,null,176250,0,0,0,25,0.02,0.06,0.03,0.03]
[{"$f":"DropDownList!$E$3&\" \"&DropDownList!E5","v":"Liquefied gas tanker 40,000 - 99,999 cbm"},1,null,null,587500,0,0,0,25,0.02,0.06,0.03,0.03]
[{"$f":"DropDownList!$E$3&\" \"&DropDownList!E6","v":"Liquefied gas tanker 100,000 - 199,999 cbm"},1,null,null,1175000,0,0,0,25,0.02,0.06,0.03,0.03]
[{"$f":"DropDownList!$E$3&\" \"&DropDownList!E7","v":"Liquefied gas tanker 200,000-+ cbm"},1,null,null,1762500,0,0,0,25,0.02,0.06,0.03,0.03]
[{"$f":"DropDownList!$G$3&\" \"&DropDownList!G4","v":"Ferry-pax only 0 - 299 GT"},1,null,null,58750,0,0,0,25,0.02,0.06,0.03,0.03]
[{"$f":"DropDownList!$G$3&\" \"&DropDownList!G5","v":"Ferry-pax only 300 - 999 GT"},1,null,null,117500,0,0,0,25,0.02,0.06,0.03,0.03]
[{"$f":"DropDownList!$G$3&\" \"&DropDownList!G6","v":"Ferry-pax only 1,000 - 1,999 GT"},1,null,null,352500,0,0,0,25,0.02,0.06,0.03,0.03]
[{"$f":"DropDownList!$G$3&\" \"&DropDownList!G7","v":"Ferry-pax only 2,000-+ GT"},1,null,null,587500,0,0,0,25,0.02,0.06,0.03,0.03]
[{"$f":"DropDownList!$H$3&\" \"&DropDownList!H4","v":"Cruise 0 - 1,999 GT"},1,null,null,117500,0,0,0,25,0.02,0.06,0.03,0.03]
[{"$f":"DropDownList!$H$3&\" \"&DropDownList!H5","v":"Cruise 2,000 - 9,999 GT"},1,null,null,352500,0,0,0,25,0.02,0.06,0.03,0.03]
[{"$f":"DropDownList!$H$3&\" \"&DropDownList!H6","v":"Cruise 10,000 - 59,999 GT"},1,null,null,587500,0,0,0,25,0.02,0.06,0.03,0.03]
[{"$f":"DropDownList!$H$3&\" \"&DropDownList!H7","v":"Cruise 60,000 - 99,999 GT"},1,null,null,940000,0,0,0,25,0.02,0.06,0.03,0.03]
[{"$f":"DropDownList!$H$3&\" \"&DropDownList!H8","v":"Cruise 100,000 - 149,999 GT"},1,null,null,1410000,0,0,0,25,0.02,0.06,0.03,0.03]
[{"$f":"DropDownList!$H$3&\" \"&DropDownList!H9","v":"Cruise 150,000-+ GT"},1,null,null,1997500,0,0,0,25,0.02,0.06,0.03,0.03]
[{"$f":"DropDownList!$I$3&\" \"&DropDownList!I4","v":"Ferry-RoPax 0 - 1,999 GT"},1,null,null,82250,0,0,0,25,0.02,0.06,0.03,0.03]
[{"$f":"DropDownList!$I$3&\" \"&DropDownList!I5","v":"Ferry-RoPax 2,000 - 4,999 GT"},1,null,null,117500,0,0,0,25,0.02,0.06,0.03,0.03]
[{"$f":"DropDownList!$I$3&\" \"&DropDownList!I6","v":"Ferry-RoPax 5,000 - 9,999 GT"},1,null,null,235000,0,0,0,25,0.02,0.06,0.03,0.03]
[{"$f":"DropDownList!$I$3&\" \"&DropDownList!I7","v":"Ferry-RoPax 10,000 - 19,999 GT"},1,null,null,411250,0,0,0,25,0.02,0.06,0.03,0.03]
[{"$f":"DropDownList!$I$3&\" \"&DropDownList!I8","v":"Ferry-RoPax 20,000-+ GT"},1,null,null,470000,0,0,0,25,0.02,0.06,0.03,0.03]
[{"$f":"DropDownList!$J$3&\" \"&DropDownList!J4","v":"Refrigerated bulk 0 - 1,999 dwt"},1,null,null,58750,0,0,0,25,0.02,0.06,0.03,0.03]
[{"$f":"DropDownList!$J$3&\" \"&DropDownList!J5","v":"Refrigerated bulk 2,000 - 5,999 dwt"},1,null,null,117500,0,0,0,25,0.02,0.06,0.03,0.03]
[{"$f":"DropDownList!$J$3&\" \"&DropDownList!J6","v":"Refrigerated bulk 6,000 - 9,999 dwt"},1,null,null,235000,0,0,0,25,0.02,0.06,0.03,0.03]
[{"$f":"DropDownList!$J$3&\" \"&DropDownList!J7","v":"Refrigerated bulk 10,000-+ dwt"},1,null,null,352500,0,0,0,25,0.02,0.06,0.03,0.03]
[{"$f":"DropDownList!$K$3&\" \"&DropDownList!K4","v":"Ro-Ro 0 - 4,999 dwt"},1,null,null,117500,0,0,0,25,0.02,0.06,0.03,0.03]
[{"$f":"DropDownList!$K$3&\" \"&DropDownList!K5","v":"Ro-Ro 5,000 - 9,999 dwt"},1,null,null,587500,0,0,0,25,0.02,0.06,0.03,0.03]
[{"$f":"DropDownList!$K$3&\" \"&DropDownList!K6","v":"Ro-Ro 10,000 - 14,999 dwt"},1,null,null,822500,0,0,0,25,0.02,0.06,0.03,0.03]
[{"$f":"DropDownList!$K$3&\" \"&DropDownList!K7","v":"Ro-Ro 15,000-+ dwt"},1,null,null,1175000,0,0,0,25,0.02,0.06,0.03,0.03]
[{"$f":"DropDownList!$L$3&\" \"&DropDownList!L4","v":"Vehicle 0 - 29,999 GT"},1,null,null,587500,0,0,0,25,0.02,0.06,0.03,0.03]
[{"$f":"DropDownList!$L$3&\" \"&DropDownList!L5","v":"Vehicle 30,000 - 49,999 GT"},1,null,null,881250,0,0,0,25,0.02,0.06,0.03,0.03]
[{"$f":"DropDownList!$L$3&\" \"&DropDownList!L6","v":"Vehicle 50,000-+ GT"},1,null,null,1175000,0,0,0,25,0.02,0.06,0.03,0.03]
["Oil tanker 0 - 4,999 dwt",1,null,null,117500,0,0,0,25,0.02,0.06,0.03,0.03]
["Oil tanker 5,000 - 9,999 dwt",1,null,null,176250,0,0,0,25,0.02,0.06,0.03,0.03]
["Oil tanker 10,000 - 19,999 dwt",1,null,null,235000,0,0,0,25,0.02,0.06,0.03,0.03]
["Oil tanker 20,000 - 59,999 dwt",1,null,null,352500,0,0,0,25,0.02,0.06,0.03,0.03]
["Oil tanker 60,000 - 79,999 dwt",1,null,null,587500,0,0,0,25,0.02,0.06,0.03,0.03]
["Oil tanker 80,000 - 119,999 dwt",1,null,null,1175000,0,0,0,25,0.02,0.06,0.03,0.03]
["Oil tanker 120,000 - 199,999 dwt",1,null,null,1762500,0,0,0,25,0.02,0.06,0.03,0.03]
["Oil tanker 200,000-+ dwt",1,null,null,2350000,0,0,0,25,0.02,0.06,0.03,0.03]
["Other liquids tankers 0-999 dwt",1,null,null,88125,0,0,0,25,0.02,0.06,0.03,0.03]
["Other liquids tankers 1,000-+ dwt",1,null,null,117500,0,0,0,25,0.02,0.06,0.03,0.03]

{"sheet":"Exhaust gas boilers on aux","index":24,"n_rows":66,"n_cols":13,"rows_kept":66,"cut":false,"hidden":false,"merged":[[0,0,1,0],[0,1,0,3],[0,6,0,7],[0,9,0,11]]}
["Ship type and size","Measure applicability to engines",null,null,"Installation","CAPEX Retrofit addition","Operational Cost",null,"Lifetime","Total fuel savings %",null,null,"EEXI / EEDI savings"]
[null,"Main","Aux","Boiler","$","%","$ per year","$ per 5 year","Years","Low","High","Typical","%"]
[{"$f":"DropDownList!$A$3&\" \"&DropDownList!A4","v":"Bulk carrier 0  - 9,999 dwt"},null,1,null,58750,0.25,0,0,25,5.0000000000000001E-3,0.02,0.01]
[{"$f":"DropDownList!$A$3&\" \"&DropDownList!A5","v":"Bulk carrier 10,000 - 34,999 dwt"},null,1,null,64625,0.25,0,0,25,5.0000000000000001E-3,0.02,0.01]
[{"$f":"DropDownList!$A$3&\" \"&DropDownList!A6","v":"Bulk carrier 35,000 - 59,999 dwt"},null,1,null,70500,0.25,0,0,25,5.0000000000000001E-3,0.02,0.01]
[{"$f":"DropDownList!$A$3&\" \"&DropDownList!A7","v":"Bulk carrier 60,000 - 99,999 dwt"},null,1,null,76375,0.25,0,0,25,5.0000000000000001E-3,0.02,0.01]
[{"$f":"DropDownList!$A$3&\" \"&DropDownList!A8","v":"Bulk carrier 100,000 - 199,999 dwt"},null,1,null,82250,0.25,0,0,25,5.0000000000000001E-3,0.02,0.01]
[{"$f":"DropDownList!$A$3&\" \"&DropDownList!A9","v":"Bulk carrier 200,000-+ dwt"},null,1,null,88125,0.25,0,0,25,5.0000000000000001E-3,0.02,0.01]
[{"$f":"DropDownList!$B$3&\" \"&DropDownList!B4","v":"Chemical tanker 0 - 4,999 dwt"},null,1,null,58750,0.25,0,0,25,5.0000000000000001E-3,0.02,1.4999999999999999E-2]
[{"$f":"DropDownList!$B$3&\" \"&DropDownList!B5","v":"Chemical tanker 5,000 - 9,999 dwt"},null,1,null,64625,0.25,0,0,25,5.0000000000000001E-3,0.02,1.4999999999999999E-2]
[{"$f":"DropDownList!$B$3&\" \"&DropDownList!B6","v":"Chemical tanker 10,000 - 19,999 dwt"},null,1,null,64625,0.25,0,0,25,5.0000000000000001E-3,0.02,1.4999999999999999E-2]
[{"$f":"DropDownList!$B$3&\" \"&DropDownList!B7","v":"Chemical tanker 20,000 - 39,999 dwt"},null,1,null,69325,0.25,0,0,25,5.0000000000000001E-3,0.02,1.4999999999999999E-2]
[{"$f":"DropDownList!$B$3&\" \"&DropDownList!B8","v":"Chemical tanker 40,000-+ dwt"},null,1,null,70500,0.25,0,0,25,5.0000000000000001E-3,0.02,1.4999999999999999E-2]
[{"$f":"DropDownList!$C$3&\" \"&DropDownList!C4","v":"Container 0-999 teu"},null,1,null,58750,0.25,0,0,25,5.0000000000000001E-3,0.02,0.01]
[{"$f":"DropDownList!$C$3&\" \"&DropDownList!C5","v":"Container 1,000 - 1,999 teu"},null,1,null,61100,0.25,0,0,25,5.0000000000000001E-3,0.02,0.01]
[{"$f":"DropDownList!$C$3&\" \"&DropDownList!C6","v":"Container 2,000 - 2,999 teu"},null,1,null,64625,0.25,0,0,25,5.0000000000000001E-3,0.02,0.01]
[{"$f":"DropDownList!$C$3&\" \"&DropDownList!C7","v":"Container 3,000 - 4,999 teu"},null,1,null,66975,0.25,0,0,25,5.0000000000000001E-3,0.02,0.01]
[{"$f":"DropDownList!$C$3&\" \"&DropDownList!C8","v":"Container 5,000 - 7,999 teu"},null,1,null,70500,0.25,0,0,25,5.0000000000000001E-3,0.02,0.01]
[{"$f":"DropDownList!$C$3&\" \"&DropDownList!C9","v":"Container 8,000 - 11,999 teu"},null,1,null,72850,0.25,0,0,25,5.0000000000000001E-3,0.02,0.01]
[{"$f":"DropDownList!$C$3&\" \"&DropDownList!C10","v":"Container 12,000 - 14,499 teu"},null,1,null,76375,0.25,0,0,25,5.0000000000000001E-3,0.02,0.01]
[{"$f":"DropDownList!$C$3&\" \"&DropDownList!C11","v":"Container 14,500 - 19,999 teu"},null,1,null,78725,0.25,0,0,25,5.0000000000000001E-3,0.02,0.01]
[{"$f":"DropDownList!$C$3&\" \"&DropDownList!C12","v":"Container 20,000-+ teu"},null,1,null,88125,0.25,0,0,25,5.0000000000000001E-3,0.02,0.01]
[{"$f":"DropDownList!$D$3&\" \"&DropDownList!D4","v":"General cargo 0 - 4,999 dwt"},null,1,null,58750,0.25,0,0,25,5.0000000000000001E-3,0.02,0.01]
[{"$f":"DropDownList!$D$3&\" \"&DropDownList!D5","v":"General cargo 5,000 - 9,999 dwt"},null,1,null,61100,0.25,0,0,25,5.0000000000000001E-3,0.02,0.01]
[{"$f":"DropDownList!$D$3&\" \"&DropDownList!D6","v":"General cargo 10,000 - 19,999 dwt"},null,1,null,64625,0.25,0,0,25,5.0000000000000001E-3,0.02,0.01]
[{"$f":"DropDownList!$D$3&\" \"&DropDownList!D7","v":"General cargo 20,000-+ dwt"},null,1,null,69325,0.25,0,0,25,5.0000000000000001E-3,0.02,0.01]
[{"$f":"DropDownList!$E$3&\" \"&DropDownList!E4","v":"Liquefied gas tanker 0 - 49,999 cbm"},null,1,null,58750,0.25,0,0,25,5.0000000000000001E-3,0.02,0.01]
[{"$f":"DropDownList!$E$3&\" \"&DropDownList!E5","v":"Liquefied gas tanker 40,000 - 99,999 cbm"},null,1,null,69325,0.25,0,0,25,5.0000000000000001E-3,0.02,0.01]
[{"$f":"DropDownList!$E$3&\" \"&DropDownList!E6","v":"Liquefied gas tanker 100,000 - 199,999 cbm"},null,1,null,76375,0.25,0,0,25,5.0000000000000001E-3,0.02,0.01]
[{"$f":"DropDownList!$E$3&\" \"&DropDownList!E7","v":"Liquefied gas tanker 200,000-+ cbm"},null,1,null,88125,0.25,0,0,25,5.0000000000000001E-3,0.02,0.01]
[{"$f":"DropDownList!$G$3&\" \"&DropDownList!G4","v":"Ferry-pax only 0 - 299 GT"},null,1,null,58750,0.25,0,0,25,5.0000000000000001E-3,0.02,0.01]
[{"$f":"DropDownList!$G$3&\" \"&DropDownList!G5","v":"Ferry-pax only 300 - 999 GT"},null,1,null,61100,0.25,0,0,25,5.0000000000000001E-3,0.02,0.01]
[{"$f":"DropDownList!$G$3&\" \"&DropDownList!G6","v":"Ferry-pax only 1,000 - 1,999 GT"},null,1,null,64625,0.25,0,0,25,5.0000000000000001E-3,0.02,0.01]
[{"$f":"DropDownList!$G$3&\" \"&DropDownList!G7","v":"Ferry-pax only 2,000-+ GT"},null,1,null,64625,0.25,0,0,25,5.0000000000000001E-3,0.02,0.01]
[{"$f":"DropDownList!$H$3&\" \"&DropDownList!H4","v":"Cruise 0 - 1,999 GT"},null,1,null,58750,0.25,0,0,25,5.0000000000000001E-3,0.02,0.01]
[{"$f":"DropDownList!$H$3&\" \"&DropDownList!H5","v":"Cruise 2,000 - 9,999 GT"},null,1,null,64625,0.25,0,0,25,5.0000000000000001E-3,0.02,0.01]
[{"$f":"DropDownList!$H$3&\" \"&DropDownList!H6","v":"Cruise 10,000 - 59,999 GT"},null,1,null,66975,0.25,0,0,25,5.0000000000000001E-3,0.02,0.01]
[{"$f":"DropDownList!$H$3&\" \"&DropDownList!H7","v":"Cruise 60,000 - 99,999 GT"},null,1,null,70500,0.25,0,0,25,5.0000000000000001E-3,0.02,0.01]
[{"$f":"DropDownList!$H$3&\" \"&DropDownList!H8","v":"Cruise 100,000 - 149,999 GT"},null,1,null,76375,0.25,0,0,25,5.0000000000000001E-3,0.02,0.01]
[{"$f":"DropDownList!$H$3&\" \"&DropDownList!H9","v":"Cruise 150,000-+ GT"},null,1,null,88125,0.25,0,0,25,5.0000000000000001E-3,0.02,0.01]
[{"$f":"DropDownList!$I$3&\" \"&DropDownList!I4","v":"Ferry-RoPax 0 - 1,999 GT"},null,1,null,58750,0.25,0,0,25,5.0000000000000001E-3,0.02,0.01]
[{"$f":"DropDownList!$I$3&\" \"&DropDownList!I5","v":"Ferry-RoPax 2,000 - 4,999 GT"},null,1,null,58750,0.25,0,0,25,5.0000000000000001E-3,0.02,0.01]
[{"$f":"DropDownList!$I$3&\" \"&DropDownList!I6","v":"Ferry-RoPax 5,000 - 9,999 GT"},null,1,null,64625,0.25,0,0,25,5.0000000000000001E-3,0.02,0.01]
[{"$f":"DropDownList!$I$3&\" \"&DropDownList!I7","v":"Ferry-RoPax 10,000 - 19,999 GT"},null,1,null,64625,0.25,0,0,25,5.0000000000000001E-3,0.02,0.01]
[{"$f":"DropDownList!$I$3&\" \"&DropDownList!I8","v":"Ferry-RoPax 20,000-+ GT"},null,1,null,66975,0.25,0,0,25,5.0000000000000001E-3,0.02,0.01]
[{"$f":"DropDownList!$J$3&\" \"&DropDownList!J4","v":"Refrigerated bulk 0 - 1,999 dwt"},null,1,null,58750,0.25,0,0,25,5.0000000000000001E-3,0.02,0.01]
[{"$f":"DropDownList!$J$3&\" \"&DropDownList!J5","v":"Refrigerated bulk 2,000 - 5,999 dwt"},null,1,null,58750,0.25,0,0,25,5.0000000000000001E-3,0.02,0.01]
[{"$f":"DropDownList!$J$3&\" \"&DropDownList!J6","v":"Refrigerated bulk 6,000 - 9,999 dwt"},null,1,null,62275,0.25,0,0,25,5.0000000000000001E-3,0.02,0.01]
[{"$f":"DropDownList!$J$3&\" \"&DropDownList!J7","v":"Refrigerated bulk 10,000-+ dwt"},null,1,null,65800,0.25,0,0,25,5.0000000000000001E-3,0.02,0.01]
[{"$f":"DropDownList!$K$3&\" \"&DropDownList!K4","v":"Ro-Ro 0 - 4,999 dwt"},null,1,null,58750,0.25,0,0,25,5.0000000000000001E-3,0.02,0.01]
[{"$f":"DropDownList!$K$3&\" \"&DropDownList!K5","v":"Ro-Ro 5,000 - 9,999 dwt"},null,1,null,61100,0.25,0,0,25,5.0000000000000001E-3,0.02,0.01]
[{"$f":"DropDownList!$K$3&\" \"&DropDownList!K6","v":"Ro-Ro 10,000 - 14,999 dwt"},null,1,null,61100,0.25,0,0,25,5.0000000000000001E-3,0.02,0.01]
[{"$f":"DropDownList!$K$3&\" \"&DropDownList!K7","v":"Ro-Ro 15,000-+ dwt"},null,1,null,64625,0.25,0,0,25,5.0000000000000001E-3,0.02,0.01]
[{"$f":"DropDownList!$L$3&\" \"&DropDownList!L4","v":"Vehicle 0 - 29,999 GT"},null,1,null,58750,0.25,0,0,25,5.0000000000000001E-3,0.02,0.01]
[{"$f":"DropDownList!$L$3&\" \"&DropDownList!L5","v":"Vehicle 30,000 - 49,999 GT"},null,1,null,64625,0.25,0,0,25,5.0000000000000001E-3,0.02,0.01]
[{"$f":"DropDownList!$L$3&\" \"&DropDownList!L6","v":"Vehicle 50,000-+ GT"},null,1,null,70500,0.25,0,0,25,5.0000000000000001E-3,0.02,0.01]
["Oil tanker 0 - 4,999 dwt",null,1,null,58750,0.25,0,0,25,5.0000000000000001E-3,0.02,1.4999999999999999E-2]
["Oil tanker 5,000 - 9,999 dwt",null,1,null,58750,0.25,0,0,25,5.0000000000000001E-3,0.02,1.4999999999999999E-2]
["Oil tanker 10,000 - 19,999 dwt",null,1,null,64625,0.25,0,0,25,5.0000000000000001E-3,0.02,1.4999999999999999E-2]
["Oil tanker 20,000 - 59,999 dwt",null,1,null,70500,0.25,0,0,25,5.0000000000000001E-3,0.02,1.4999999999999999E-2]
["Oil tanker 60,000 - 79,999 dwt",null,1,null,70500,0.25,0,0,25,5.0000000000000001E-3,0.02,1.4999999999999999E-2]
["Oil tanker 80,000 - 119,999 dwt",null,1,null,76375,0.25,0,0,25,5.0000000000000001E-3,0.02,1.4999999999999999E-2]
["Oil tanker 120,000 - 199,999 dwt",null,1,null,82250,0.25,0,0,25,5.0000000000000001E-3,0.02,1.4999999999999999E-2]
["Oil tanker 200,000-+ dwt",null,1,null,88125,0.25,0,0,25,5.0000000000000001E-3,0.02,1.4999999999999999E-2]
["Other liquids tankers 0-999 dwt",null,1,null,58750,0.25,0,0,25,5.0000000000000001E-3,0.02,0.01]
["Other liquids tankers 1,000-+ dwt",null,1,null,64625,0.25,0,0,25,5.0000000000000001E-3,0.02,0.01]

{"sheet":"Battery hyb.","index":25,"n_rows":66,"n_cols":13,"rows_kept":66,"cut":false,"hidden":false,"merged":[[0,0,1,0],[0,1,0,3],[0,6,0,7],[0,9,0,11]]}
["Ship type and size","Measure applicability to engines",null,null,"Installation","CAPEX Retrofit addition","Operational Cost",null,"Lifetime","Total fuel savings %",null,null,"EEXI / EEDI savings"]
[null,"Main","Aux","Boiler","$","%","$ per year","$ per 5 year","Years","Low","High","Typical","%"]
[{"$f":"DropDownList!$A$3&\" \"&DropDownList!A4","v":"Bulk carrier 0  - 9,999 dwt"}]
[{"$f":"DropDownList!$A$3&\" \"&DropDownList!A5","v":"Bulk carrier 10,000 - 34,999 dwt"}]
[{"$f":"DropDownList!$A$3&\" \"&DropDownList!A6","v":"Bulk carrier 35,000 - 59,999 dwt"}]
[{"$f":"DropDownList!$A$3&\" \"&DropDownList!A7","v":"Bulk carrier 60,000 - 99,999 dwt"}]
[{"$f":"DropDownList!$A$3&\" \"&DropDownList!A8","v":"Bulk carrier 100,000 - 199,999 dwt"}]
[{"$f":"DropDownList!$A$3&\" \"&DropDownList!A9","v":"Bulk carrier 200,000-+ dwt"}]
[{"$f":"DropDownList!$B$3&\" \"&DropDownList!B4","v":"Chemical tanker 0 - 4,999 dwt"}]
[{"$f":"DropDownList!$B$3&\" \"&DropDownList!B5","v":"Chemical tanker 5,000 - 9,999 dwt"}]
[{"$f":"DropDownList!$B$3&\" \"&DropDownList!B6","v":"Chemical tanker 10,000 - 19,999 dwt"}]
[{"$f":"DropDownList!$B$3&\" \"&DropDownList!B7","v":"Chemical tanker 20,000 - 39,999 dwt"}]
[{"$f":"DropDownList!$B$3&\" \"&DropDownList!B8","v":"Chemical tanker 40,000-+ dwt"}]
[{"$f":"DropDownList!$C$3&\" \"&DropDownList!C4","v":"Container 0-999 teu"}]
[{"$f":"DropDownList!$C$3&\" \"&DropDownList!C5","v":"Container 1,000 - 1,999 teu"}]
[{"$f":"DropDownList!$C$3&\" \"&DropDownList!C6","v":"Container 2,000 - 2,999 teu"}]
[{"$f":"DropDownList!$C$3&\" \"&DropDownList!C7","v":"Container 3,000 - 4,999 teu"}]
[{"$f":"DropDownList!$C$3&\" \"&DropDownList!C8","v":"Container 5,000 - 7,999 teu"}]
[{"$f":"DropDownList!$C$3&\" \"&DropDownList!C9","v":"Container 8,000 - 11,999 teu"}]
[{"$f":"DropDownList!$C$3&\" \"&DropDownList!C10","v":"Container 12,000 - 14,499 teu"}]
[{"$f":"DropDownList!$C$3&\" \"&DropDownList!C11","v":"Container 14,500 - 19,999 teu"}]
[{"$f":"DropDownList!$C$3&\" \"&DropDownList!C12","v":"Container 20,000-+ teu"}]
[{"$f":"DropDownList!$D$3&\" \"&DropDownList!D4","v":"General cargo 0 - 4,999 dwt"},1,null,null,646250,0.3,0,0,10,0.02,0.15,0.03,0.02]
[{"$f":"DropDownList!$D$3&\" \"&DropDownList!D5","v":"General cargo 5,000 - 9,999 dwt"}]
[{"$f":"DropDownList!$D$3&\" \"&DropDownList!D6","v":"General cargo 10,000 - 19,999 dwt"}]
[{"$f":"DropDownList!$D$3&\" \"&DropDownList!D7","v":"General cargo 20,000-+ dwt"}]
[{"$f":"DropDownList!$E$3&\" \"&DropDownList!E4","v":"Liquefied gas tanker 0 - 49,999 cbm"}]
[{"$f":"DropDownList!$E$3&\" \"&DropDownList!E5","v":"Liquefied gas tanker 40,000 - 99,999 cbm"}]
[{"$f":"DropDownList!$E$3&\" \"&DropDownList!E6","v":"Liquefied gas tanker 100,000 - 199,999 cbm"}]
[{"$f":"DropDownList!$E$3&\" \"&DropDownList!E7","v":"Liquefied gas tanker 200,000-+ cbm"}]
[{"$f":"DropDownList!$G$3&\" \"&DropDownList!G4","v":"Ferry-pax only 0 - 299 GT"},1,null,null,646250,0.3,0,0,10,0.02,0.15,0.1,0.02]
[{"$f":"DropDownList!$G$3&\" \"&DropDownList!G5","v":"Ferry-pax only 300 - 999 GT"},1,null,null,646250,0.3,0,0,10,0.02,0.15,0.1,0.02]
[{"$f":"DropDownList!$G$3&\" \"&DropDownList!G6","v":"Ferry-pax only 1,000 - 1,999 GT"},1,null,null,646250,0.3,0,0,10,0.02,0.15,0.1,0.02]
[{"$f":"DropDownList!$G$3&\" \"&DropDownList!G7","v":"Ferry-pax only 2,000-+ GT"},1,null,null,1175000,0.3,0,0,10,0.02,0.15,0.1,0.02]
[{"$f":"DropDownList!$H$3&\" \"&DropDownList!H4","v":"Cruise 0 - 1,999 GT"}]
[{"$f":"DropDownList!$H$3&\" \"&DropDownList!H5","v":"Cruise 2,000 - 9,999 GT"}]
[{"$f":"DropDownList!$H$3&\" \"&DropDownList!H6","v":"Cruise 10,000 - 59,999 GT"}]
[{"$f":"DropDownList!$H$3&\" \"&DropDownList!H7","v":"Cruise 60,000 - 99,999 GT"}]
[{"$f":"DropDownList!$H$3&\" \"&DropDownList!H8","v":"Cruise 100,000 - 149,999 GT"}]
[{"$f":"DropDownList!$H$3&\" \"&DropDownList!H9","v":"Cruise 150,000-+ GT"}]
[{"$f":"DropDownList!$I$3&\" \"&DropDownList!I4","v":"Ferry-RoPax 0 - 1,999 GT"},1,null,null,705000,0.3,0,0,10,0.02,0.15,0.1,0.02]
[{"$f":"DropDownList!$I$3&\" \"&DropDownList!I5","v":"Ferry-RoPax 2,000 - 4,999 GT"},1,null,null,940000,0.3,0,0,10,0.02,0.15,0.1,0.02]
[{"$f":"DropDownList!$I$3&\" \"&DropDownList!I6","v":"Ferry-RoPax 5,000 - 9,999 GT"},1,null,null,1175000,0.3,0,0,10,0.02,0.15,0.1,0.02]
[{"$f":"DropDownList!$I$3&\" \"&DropDownList!I7","v":"Ferry-RoPax 10,000 - 19,999 GT"},1,null,null,1762500,0.3,0,0,10,0.02,0.15,0.1,0.02]
[{"$f":"DropDownList!$I$3&\" \"&DropDownList!I8","v":"Ferry-RoPax 20,000-+ GT"},1,null,null,2937500,0.3,0,0,10,0.02,0.15,0.1,0.02]
[{"$f":"DropDownList!$J$3&\" \"&DropDownList!J4","v":"Refrigerated bulk 0 - 1,999 dwt"}]
[{"$f":"DropDownList!$J$3&\" \"&DropDownList!J5","v":"Refrigerated bulk 2,000 - 5,999 dwt"}]
[{"$f":"DropDownList!$J$3&\" \"&DropDownList!J6","v":"Refrigerated bulk 6,000 - 9,999 dwt"}]
[{"$f":"DropDownList!$J$3&\" \"&DropDownList!J7","v":"Refrigerated bulk 10,000-+ dwt"}]
[{"$f":"DropDownList!$K$3&\" \"&DropDownList!K4","v":"Ro-Ro 0 - 4,999 dwt"}]
[{"$f":"DropDownList!$K$3&\" \"&DropDownList!K5","v":"Ro-Ro 5,000 - 9,999 dwt"}]
[{"$f":"DropDownList!$K$3&\" \"&DropDownList!K6","v":"Ro-Ro 10,000 - 14,999 dwt"}]
[{"$f":"DropDownList!$K$3&\" \"&DropDownList!K7","v":"Ro-Ro 15,000-+ dwt"}]
[{"$f":"DropDownList!$L$3&\" \"&DropDownList!L4","v":"Vehicle 0 - 29,999 GT"}]
[{"$f":"DropDownList!$L$3&\" \"&DropDownList!L5","v":"Vehicle 30,000 - 49,999 GT"}]
[{"$f":"DropDownList!$L$3&\" \"&DropDownList!L6","v":"Vehicle 50,000-+ GT"}]
["Oil tanker 0 - 4,999 dwt"]
["Oil tanker 5,000 - 9,999 dwt"]
["Oil tanker 10,000 - 19,999 dwt"]
["Oil tanker 20,000 - 59,999 dwt"]
["Oil tanker 60,000 - 79,999 dwt"]
["Oil tanker 80,000 - 119,999 dwt"]
["Oil tanker 120,000 - 199,999 dwt"]
["Oil tanker 200,000-+ dwt"]
["Other liquids tankers 0-999 dwt"]
["Other liquids tankers 1,000-+ dwt"]

{"sheet":"Improved auxiliary engine load","index":26,"n_rows":66,"n_cols":13,"rows_kept":66,"cut":false,"hidden":false,"merged":[[0,0,1,0],[0,1,0,3],[0,6,0,7],[0,9,0,11]]}
["Ship type and size","Measure applicability to engines",null,null,"Installation","CAPEX Retrofit addition","Operational Cost",null,"Lifetime","Total fuel savings %",null,null,"EEXI / EEDI savings"]
[null,"Main","Aux","Boiler","$","%","$ per year","$ per 5 year","Years","Low","High","Typical","%"]
[{"$f":"DropDownList!$A$3&\" \"&DropDownList!A4","v":"Bulk carrier 0  - 9,999 dwt"},1,1,null,0,0,0,0,25,2E-3,0.04,1.0999999999999999E-2]
[{"$f":"DropDownList!$A$3&\" \"&DropDownList!A5","v":"Bulk carrier 10,000 - 34,999 dwt"},1,1,null,0,0,0,0,25,2E-3,0.04,1.0999999999999999E-2]
[{"$f":"DropDownList!$A$3&\" \"&DropDownList!A6","v":"Bulk carrier 35,000 - 59,999 dwt"},1,1,null,0,0,0,0,25,2E-3,0.04,1.0999999999999999E-2]
[{"$f":"DropDownList!$A$3&\" \"&DropDownList!A7","v":"Bulk carrier 60,000 - 99,999 dwt"},1,1,null,0,0,0,0,25,2E-3,0.04,1.0999999999999999E-2]
[{"$f":"DropDownList!$A$3&\" \"&DropDownList!A8","v":"Bulk carrier 100,000 - 199,999 dwt"},1,1,null,0,0,0,0,25,2E-3,0.04,1.0999999999999999E-2]
[{"$f":"DropDownList!$A$3&\" \"&DropDownList!A9","v":"Bulk carrier 200,000-+ dwt"},1,1,null,0,0,0,0,25,2E-3,0.04,1.0999999999999999E-2]
[{"$f":"DropDownList!$B$3&\" \"&DropDownList!B4","v":"Chemical tanker 0 - 4,999 dwt"},1,1,null,0,0,0,0,25,2E-3,0.04,1.0999999999999999E-2]
[{"$f":"DropDownList!$B$3&\" \"&DropDownList!B5","v":"Chemical tanker 5,000 - 9,999 dwt"},1,1,null,0,0,0,0,25,2E-3,0.04,1.0999999999999999E-2]
[{"$f":"DropDownList!$B$3&\" \"&DropDownList!B6","v":"Chemical tanker 10,000 - 19,999 dwt"},1,1,null,0,0,0,0,25,2E-3,0.04,1.0999999999999999E-2]
[{"$f":"DropDownList!$B$3&\" \"&DropDownList!B7","v":"Chemical tanker 20,000 - 39,999 dwt"},1,1,null,0,0,0,0,25,2E-3,0.04,1.0999999999999999E-2]
[{"$f":"DropDownList!$B$3&\" \"&DropDownList!B8","v":"Chemical tanker 40,000-+ dwt"},1,1,null,0,0,0,0,25,2E-3,0.04,1.0999999999999999E-2]
[{"$f":"DropDownList!$C$3&\" \"&DropDownList!C4","v":"Container 0-999 teu"},1,1,null,0,0,0,0,25,2E-3,0.04,1.0999999999999999E-2]
[{"$f":"DropDownList!$C$3&\" \"&DropDownList!C5","v":"Container 1,000 - 1,999 teu"},1,1,null,0,0,0,0,25,2E-3,0.04,1.0999999999999999E-2]
[{"$f":"DropDownList!$C$3&\" \"&DropDownList!C6","v":"Container 2,000 - 2,999 teu"},1,1,null,0,0,0,0,25,2E-3,0.04,1.0999999999999999E-2]
[{"$f":"DropDownList!$C$3&\" \"&DropDownList!C7","v":"Container 3,000 - 4,999 teu"},1,1,null,0,0,0,0,25,2E-3,0.04,1.0999999999999999E-2]
[{"$f":"DropDownList!$C$3&\" \"&DropDownList!C8","v":"Container 5,000 - 7,999 teu"},1,1,null,0,0,0,0,25,2E-3,0.04,1.0999999999999999E-2]
[{"$f":"DropDownList!$C$3&\" \"&DropDownList!C9","v":"Container 8,000 - 11,999 teu"},1,1,null,0,0,0,0,25,2E-3,0.04,1.0999999999999999E-2]
[{"$f":"DropDownList!$C$3&\" \"&DropDownList!C10","v":"Container 12,000 - 14,499 teu"},1,1,null,0,0,0,0,25,2E-3,0.04,1.0999999999999999E-2]
[{"$f":"DropDownList!$C$3&\" \"&DropDownList!C11","v":"Container 14,500 - 19,999 teu"},1,1,null,0,0,0,0,25,2E-3,0.04,1.0999999999999999E-2]
[{"$f":"DropDownList!$C$3&\" \"&DropDownList!C12","v":"Container 20,000-+ teu"},1,1,null,0,0,0,0,25,2E-3,0.04,1.0999999999999999E-2]
[{"$f":"DropDownList!$D$3&\" \"&DropDownList!D4","v":"General cargo 0 - 4,999 dwt"},1,1,null,0,0,0,0,25,2E-3,0.04,1.0999999999999999E-2]
[{"$f":"DropDownList!$D$3&\" \"&DropDownList!D5","v":"General cargo 5,000 - 9,999 dwt"},1,1,null,0,0,0,0,25,2E-3,0.04,1.0999999999999999E-2]
[{"$f":"DropDownList!$D$3&\" \"&DropDownList!D6","v":"General cargo 10,000 - 19,999 dwt"},1,1,null,0,0,0,0,25,2E-3,0.04,1.0999999999999999E-2]
[{"$f":"DropDownList!$D$3&\" \"&DropDownList!D7","v":"General cargo 20,000-+ dwt"},1,1,null,0,0,0,0,25,2E-3,0.04,1.0999999999999999E-2]
[{"$f":"DropDownList!$E$3&\" \"&DropDownList!E4","v":"Liquefied gas tanker 0 - 49,999 cbm"},1,1,null,0,0,0,0,25,2E-3,0.04,1.0999999999999999E-2]
[{"$f":"DropDownList!$E$3&\" \"&DropDownList!E5","v":"Liquefied gas tanker 40,000 - 99,999 cbm"},1,1,null,0,0,0,0,25,2E-3,0.04,1.0999999999999999E-2]
[{"$f":"DropDownList!$E$3&\" \"&DropDownList!E6","v":"Liquefied gas tanker 100,000 - 199,999 cbm"},1,1,null,0,0,0,0,25,2E-3,0.04,1.0999999999999999E-2]
[{"$f":"DropDownList!$E$3&\" \"&DropDownList!E7","v":"Liquefied gas tanker 200,000-+ cbm"},1,1,null,0,0,0,0,25,2E-3,0.04,1.0999999999999999E-2]
[{"$f":"DropDownList!$G$3&\" \"&DropDownList!G4","v":"Ferry-pax only 0 - 299 GT"},1,1,null,0,0,0,0,25,2E-3,0.04,2.5000000000000001E-2]
[{"$f":"DropDownList!$G$3&\" \"&DropDownList!G5","v":"Ferry-pax only 300 - 999 GT"},1,1,null,0,0,0,0,25,2E-3,0.04,2.5000000000000001E-2]
[{"$f":"DropDownList!$G$3&\" \"&DropDownList!G6","v":"Ferry-pax only 1,000 - 1,999 GT"},1,1,null,0,0,0,0,25,2E-3,0.04,2.5000000000000001E-2]
[{"$f":"DropDownList!$G$3&\" \"&DropDownList!G7","v":"Ferry-pax only 2,000-+ GT"},1,1,null,0,0,0,0,25,2E-3,0.04,2.5000000000000001E-2]
[{"$f":"DropDownList!$H$3&\" \"&DropDownList!H4","v":"Cruise 0 - 1,999 GT"},1,1,null,0,0,0,0,25,2E-3,0.04,1.0999999999999999E-2]
[{"$f":"DropDownList!$H$3&\" \"&DropDownList!H5","v":"Cruise 2,000 - 9,999 GT"},1,1,null,0,0,0,0,25,2E-3,0.04,1.0999999999999999E-2]
[{"$f":"DropDownList!$H$3&\" \"&DropDownList!H6","v":"Cruise 10,000 - 59,999 GT"},1,1,null,0,0,0,0,25,2E-3,0.04,1.0999999999999999E-2]
[{"$f":"DropDownList!$H$3&\" \"&DropDownList!H7","v":"Cruise 60,000 - 99,999 GT"},1,1,null,0,0,0,0,25,2E-3,0.04,1.0999999999999999E-2]
[{"$f":"DropDownList!$H$3&\" \"&DropDownList!H8","v":"Cruise 100,000 - 149,999 GT"},1,1,null,0,0,0,0,25,2E-3,0.04,1.0999999999999999E-2]
[{"$f":"DropDownList!$H$3&\" \"&DropDownList!H9","v":"Cruise 150,000-+ GT"},1,1,null,0,0,0,0,25,2E-3,0.04,1.0999999999999999E-2]
[{"$f":"DropDownList!$I$3&\" \"&DropDownList!I4","v":"Ferry-RoPax 0 - 1,999 GT"},1,1,null,0,0,0,0,25,2E-3,0.04,2.5000000000000001E-2]
[{"$f":"DropDownList!$I$3&\" \"&DropDownList!I5","v":"Ferry-RoPax 2,000 - 4,999 GT"},1,1,null,0,0,0,0,25,2E-3,0.04,2.5000000000000001E-2]
[{"$f":"DropDownList!$I$3&\" \"&DropDownList!I6","v":"Ferry-RoPax 5,000 - 9,999 GT"},1,1,null,0,0,0,0,25,2E-3,0.04,2.5000000000000001E-2]
[{"$f":"DropDownList!$I$3&\" \"&DropDownList!I7","v":"Ferry-RoPax 10,000 - 19,999 GT"},1,1,null,0,0,0,0,25,2E-3,0.04,2.5000000000000001E-2]
[{"$f":"DropDownList!$I$3&\" \"&DropDownList!I8","v":"Ferry-RoPax 20,000-+ GT"},1,1,null,0,0,0,0,25,2E-3,0.04,2.5000000000000001E-2]
[{"$f":"DropDownList!$J$3&\" \"&DropDownList!J4","v":"Refrigerated bulk 0 - 1,999 dwt"},1,1,null,0,0,0,0,25,2E-3,0.04,1.0999999999999999E-2]
[{"$f":"DropDownList!$J$3&\" \"&DropDownList!J5","v":"Refrigerated bulk 2,000 - 5,999 dwt"},1,1,null,0,0,0,0,25,2E-3,0.04,1.0999999999999999E-2]
[{"$f":"DropDownList!$J$3&\" \"&DropDownList!J6","v":"Refrigerated bulk 6,000 - 9,999 dwt"},1,1,null,0,0,0,0,25,2E-3,0.04,1.0999999999999999E-2]
[{"$f":"DropDownList!$J$3&\" \"&DropDownList!J7","v":"Refrigerated bulk 10,000-+ dwt"},1,1,null,0,0,0,0,25,2E-3,0.04,1.0999999999999999E-2]
[{"$f":"DropDownList!$K$3&\" \"&DropDownList!K4","v":"Ro-Ro 0 - 4,999 dwt"},1,1,null,0,0,0,0,25,2E-3,0.04,1.0999999999999999E-2]
[{"$f":"DropDownList!$K$3&\" \"&DropDownList!K5","v":"Ro-Ro 5,000 - 9,999 dwt"},1,1,null,0,0,0,0,25,2E-3,0.04,1.0999999999999999E-2]
[{"$f":"DropDownList!$K$3&\" \"&DropDownList!K6","v":"Ro-Ro 10,000 - 14,999 dwt"},1,1,null,0,0,0,0,25,2E-3,0.04,1.0999999999999999E-2]
[{"$f":"DropDownList!$K$3&\" \"&DropDownList!K7","v":"Ro-Ro 15,000-+ dwt"},1,1,null,0,0,0,0,25,2E-3,0.04,1.0999999999999999E-2]
[{"$f":"DropDownList!$L$3&\" \"&DropDownList!L4","v":"Vehicle 0 - 29,999 GT"},1,1,null,0,0,0,0,25,2E-3,0.04,1.0999999999999999E-2]
[{"$f":"DropDownList!$L$3&\" \"&DropDownList!L5","v":"Vehicle 30,000 - 49,999 GT"},1,1,null,0,0,0,0,25,2E-3,0.04,1.0999999999999999E-2]
[{"$f":"DropDownList!$L$3&\" \"&DropDownList!L6","v":"Vehicle 50,000-+ GT"},1,1,null,0,0,0,0,25,2E-3,0.04,1.0999999999999999E-2]
["Oil tanker 0 - 4,999 dwt",1,1,null,0,0,0,0,25,2E-3,0.04,1.0999999999999999E-2]
["Oil tanker 5,000 - 9,999 dwt",1,1,null,0,0,0,0,25,2E-3,0.04,1.0999999999999999E-2]
["Oil tanker 10,000 - 19,999 dwt",1,1,null,0,0,0,0,25,2E-3,0.04,1.0999999999999999E-2]
["Oil tanker 20,000 - 59,999 dwt",1,1,null,0,0,0,0,25,2E-3,0.04,1.0999999999999999E-2]
["Oil tanker 60,000 - 79,999 dwt",1,1,null,0,0,0,0,25,2E-3,0.04,1.0999999999999999E-2]
["Oil tanker 80,000 - 119,999 dwt",1,1,null,0,0,0,0,25,2E-3,0.04,1.0999999999999999E-2]
["Oil tanker 120,000 - 199,999 dwt",1,1,null,0,0,0,0,25,2E-3,0.04,1.0999999999999999E-2]
["Oil tanker 200,000-+ dwt",1,1,null,0,0,0,0,25,2E-3,0.04,1.0999999999999999E-2]
["Other liquids tankers 0-999 dwt",1,1,null,0,0,0,0,25,2E-3,0.04,1.0999999999999999E-2]
["Other liquids tankers 1,000-+ dwt",1,1,null,0,0,0,0,25,2E-3,0.04,1.0999999999999999E-2]

{"sheet":"Shaft gen. PTO","index":27,"n_rows":66,"n_cols":13,"rows_kept":66,"cut":false,"hidden":false,"merged":[[0,0,1,0],[0,1,0,3],[0,6,0,7],[0,9,0,11]]}
["Ship type and size","Measure applicability to engines",null,null,"Installation","CAPEX Retrofit addition","Operational Cost",null,"Lifetime","Total fuel savings %",null,null,"EEXI / EEDI savings"]
[null,"Main","Aux","Boiler","$","%","$ per year","$ per 5 year","Years","Low","High","Typical","%"]
[{"$f":"DropDownList!$A$3&\" \"&DropDownList!A4","v":"Bulk carrier 0  - 9,999 dwt"},null,1,null,587500,0.3,0,0,25,0.01,0.05,0.03,0.02]
[{"$f":"DropDownList!$A$3&\" \"&DropDownList!A5","v":"Bulk carrier 10,000 - 34,999 dwt"},null,1,null,822500,0.3,0,0,25,0.01,0.05,0.02,0.02]
[{"$f":"DropDownList!$A$3&\" \"&DropDownList!A6","v":"Bulk carrier 35,000 - 59,999 dwt"},null,1,null,1175000,0.3,0,0,25,0.01,0.05,0.02,0.02]
[{"$f":"DropDownList!$A$3&\" \"&DropDownList!A7","v":"Bulk carrier 60,000 - 99,999 dwt"},null,1,null,1645000,0.3,0,0,25,0.01,0.05,0.02,0.02]
[{"$f":"DropDownList!$A$3&\" \"&DropDownList!A8","v":"Bulk carrier 100,000 - 199,999 dwt"},null,1,null,1997500,0.3,0,0,25,0.01,0.05,0.02,0.02]
[{"$f":"DropDownList!$A$3&\" \"&DropDownList!A9","v":"Bulk carrier 200,000-+ dwt"},null,1,null,2937500,0.3,0,0,25,0.01,0.05,0.02,0.02]
[{"$f":"DropDownList!$B$3&\" \"&DropDownList!B4","v":"Chemical tanker 0 - 4,999 dwt"},null,1,null,587500,0.3,0,0,25,0.01,0.05,0.03,0.02]
[{"$f":"DropDownList!$B$3&\" \"&DropDownList!B5","v":"Chemical tanker 5,000 - 9,999 dwt"},null,1,null,1175000,0.3,0,0,25,0.01,0.05,0.03,0.02]
[{"$f":"DropDownList!$B$3&\" \"&DropDownList!B6","v":"Chemical tanker 10,000 - 19,999 dwt"},null,1,null,1762500,0.3,0,0,25,0.01,0.05,0.02,0.02]
[{"$f":"DropDownList!$B$3&\" \"&DropDownList!B7","v":"Chemical tanker 20,000 - 39,999 dwt"},null,1,null,1762500,0.3,0,0,25,0.01,0.05,0.02,0.02]
[{"$f":"DropDownList!$B$3&\" \"&DropDownList!B8","v":"Chemical tanker 40,000-+ dwt"},null,1,null,2350000,0.3,0,0,25,0.01,0.05,0.02,0.02]
[{"$f":"DropDownList!$C$3&\" \"&DropDownList!C4","v":"Container 0-999 teu"},null,1,null,587500,0.3,0,0,25,0.01,0.05,0.03,0.02]
[{"$f":"DropDownList!$C$3&\" \"&DropDownList!C5","v":"Container 1,000 - 1,999 teu"},null,1,null,705000,0.3,0,0,25,0.01,0.05,0.03,0.02]
[{"$f":"DropDownList!$C$3&\" \"&DropDownList!C6","v":"Container 2,000 - 2,999 teu"},null,1,null,822500,0.3,0,0,25,0.01,0.05,0.02,0.02]
[{"$f":"DropDownList!$C$3&\" \"&DropDownList!C7","v":"Container 3,000 - 4,999 teu"},null,1,null,1175000,0.3,0,0,25,0.01,0.05,0.02,0.02]
[{"$f":"DropDownList!$C$3&\" \"&DropDownList!C8","v":"Container 5,000 - 7,999 teu"},null,1,null,1762500,0.3,0,0,25,0.01,0.05,0.02,0.02]
[{"$f":"DropDownList!$C$3&\" \"&DropDownList!C9","v":"Container 8,000 - 11,999 teu"},null,1,null,1997500,0.3,0,0,25,0.01,0.05,0.02,0.02]
[{"$f":"DropDownList!$C$3&\" \"&DropDownList!C10","v":"Container 12,000 - 14,499 teu"},null,1,null,1997500,0.3,0,0,25,0.01,0.05,0.02,0.02]
[{"$f":"DropDownList!$C$3&\" \"&DropDownList!C11","v":"Container 14,500 - 19,999 teu"},null,1,null,2350000,0.3,0,0,25,0.01,0.05,0.02,0.02]
[{"$f":"DropDownList!$C$3&\" \"&DropDownList!C12","v":"Container 20,000-+ teu"},null,1,null,2937500,0.3,0,0,25,0.01,0.05,0.02,0.02]
[{"$f":"DropDownList!$D$3&\" \"&DropDownList!D4","v":"General cargo 0 - 4,999 dwt"},null,1,null,587500,0.3,0,0,25,0.01,0.05,0.03,0.02]
[{"$f":"DropDownList!$D$3&\" \"&DropDownList!D5","v":"General cargo 5,000 - 9,999 dwt"},null,1,null,1175000,0.3,0,0,25,0.01,0.05,0.03,0.02]
[{"$f":"DropDownList!$D$3&\" \"&DropDownList!D6","v":"General cargo 10,000 - 19,999 dwt"},null,1,null,1762500,0.3,0,0,25,0.01,0.05,0.02,0.02]
[{"$f":"DropDownList!$D$3&\" \"&DropDownList!D7","v":"General cargo 20,000-+ dwt"},null,1,null,2350000,0.3,0,0,25,0.01,0.05,0.02,0.02]
[{"$f":"DropDownList!$E$3&\" \"&DropDownList!E4","v":"Liquefied gas tanker 0 - 49,999 cbm"},null,1,null,587500,0.3,0,0,25,0.01,0.05,0.03,0.02]
[{"$f":"DropDownList!$E$3&\" \"&DropDownList!E5","v":"Liquefied gas tanker 40,000 - 99,999 cbm"},null,1,null,1175000,0.3,0,0,25,0.01,0.05,0.03,0.02]
[{"$f":"DropDownList!$E$3&\" \"&DropDownList!E6","v":"Liquefied gas tanker 100,000 - 199,999 cbm"},null,1,null,1762500,0.3,0,0,25,0.01,0.05,0.03,0.02]
[{"$f":"DropDownList!$E$3&\" \"&DropDownList!E7","v":"Liquefied gas tanker 200,000-+ cbm"},null,1,null,2350000,0.3,0,0,25,0.01,0.05,0.03,0.02]
[{"$f":"DropDownList!$G$3&\" \"&DropDownList!G4","v":"Ferry-pax only 0 - 299 GT"},null,1,null,587500,0.3,0,0,25,0.01,0.05,0.02,0.02]
[{"$f":"DropDownList!$G$3&\" \"&DropDownList!G5","v":"Ferry-pax only 300 - 999 GT"},null,1,null,822500,0.3,0,0,25,0.01,0.05,0.02,0.02]
[{"$f":"DropDownList!$G$3&\" \"&DropDownList!G6","v":"Ferry-pax only 1,000 - 1,999 GT"},null,1,null,1175000,0.3,0,0,25,0.01,0.05,0.02,0.02]
[{"$f":"DropDownList!$G$3&\" \"&DropDownList!G7","v":"Ferry-pax only 2,000-+ GT"},null,1,null,1762500,0.3,0,0,25,0.01,0.05,0.02,0.02]
[{"$f":"DropDownList!$H$3&\" \"&DropDownList!H4","v":"Cruise 0 - 1,999 GT"},null,1,null,587500,0.3,0,0,25,0.01,0.05,0.02,0.02]
[{"$f":"DropDownList!$H$3&\" \"&DropDownList!H5","v":"Cruise 2,000 - 9,999 GT"},null,1,null,822500,0.3,0,0,25,0.01,0.05,0.02,0.02]
[{"$f":"DropDownList!$H$3&\" \"&DropDownList!H6","v":"Cruise 10,000 - 59,999 GT"},null,1,null,1175000,0.3,0,0,25,0.01,0.05,0.02,0.02]
[{"$f":"DropDownList!$H$3&\" \"&DropDownList!H7","v":"Cruise 60,000 - 99,999 GT"},null,1,null,1762500,0.3,0,0,25,0.01,0.05,0.02,0.02]
[{"$f":"DropDownList!$H$3&\" \"&DropDownList!H8","v":"Cruise 100,000 - 149,999 GT"},null,1,null,1997500,0.3,0,0,25,0.01,0.05,0.02,0.02]
[{"$f":"DropDownList!$H$3&\" \"&DropDownList!H9","v":"Cruise 150,000-+ GT"},null,1,null,2350000,0.3,0,0,25,0.01,0.05,0.02,0.02]
[{"$f":"DropDownList!$I$3&\" \"&DropDownList!I4","v":"Ferry-RoPax 0 - 1,999 GT"},null,1,null,587500,0.3,0,0,25,0.01,0.05,0.02,0.02]
[{"$f":"DropDownList!$I$3&\" \"&DropDownList!I5","v":"Ferry-RoPax 2,000 - 4,999 GT"},null,1,null,705000,0.3,0,0,25,0.01,0.05,0.02,0.02]
[{"$f":"DropDownList!$I$3&\" \"&DropDownList!I6","v":"Ferry-RoPax 5,000 - 9,999 GT"},null,1,null,822500,0.3,0,0,25,0.01,0.05,0.02,0.02]
[{"$f":"DropDownList!$I$3&\" \"&DropDownList!I7","v":"Ferry-RoPax 10,000 - 19,999 GT"},null,1,null,940000,0.3,0,0,25,0.01,0.05,0.02,0.02]
[{"$f":"DropDownList!$I$3&\" \"&DropDownList!I8","v":"Ferry-RoPax 20,000-+ GT"},null,1,null,1057500,0.3,0,0,25,0.01,0.05,0.02,0.02]
[{"$f":"DropDownList!$J$3&\" \"&DropDownList!J4","v":"Refrigerated bulk 0 - 1,999 dwt"},null,1,null,587500,0.3,0,0,25,0.01,0.05,0.03,0.02]
[{"$f":"DropDownList!$J$3&\" \"&DropDownList!J5","v":"Refrigerated bulk 2,000 - 5,999 dwt"},null,1,null,587500,0.3,0,0,25,0.01,0.05,0.03,0.02]
[{"$f":"DropDownList!$J$3&\" \"&DropDownList!J6","v":"Refrigerated bulk 6,000 - 9,999 dwt"},null,1,null,822500,0.3,0,0,25,0.01,0.05,0.02,0.02]
[{"$f":"DropDownList!$J$3&\" \"&DropDownList!J7","v":"Refrigerated bulk 10,000-+ dwt"},null,1,null,822500,0.3,0,0,25,0.01,0.05,0.02,0.02]
[{"$f":"DropDownList!$K$3&\" \"&DropDownList!K4","v":"Ro-Ro 0 - 4,999 dwt"},null,1,null,587500,0.3,0,0,25,0.01,0.05,0.02,0.02]
[{"$f":"DropDownList!$K$3&\" \"&DropDownList!K5","v":"Ro-Ro 5,000 - 9,999 dwt"},null,1,null,1175000,0.3,0,0,25,0.01,0.05,0.02,0.02]
[{"$f":"DropDownList!$K$3&\" \"&DropDownList!K6","v":"Ro-Ro 10,000 - 14,999 dwt"},null,1,null,1762500,0.3,0,0,25,0.01,0.05,0.02,0.02]
[{"$f":"DropDownList!$K$3&\" \"&DropDownList!K7","v":"Ro-Ro 15,000-+ dwt"},null,1,null,2350000,0.3,0,0,25,0.01,0.05,0.02,0.02]
[{"$f":"DropDownList!$L$3&\" \"&DropDownList!L4","v":"Vehicle 0 - 29,999 GT"},null,1,null,1175000,0.3,0,0,25,0.01,0.05,0.02,0.02]
[{"$f":"DropDownList!$L$3&\" \"&DropDownList!L5","v":"Vehicle 30,000 - 49,999 GT"},null,1,null,1762500,0.3,0,0,25,0.01,0.05,0.02,0.02]
[{"$f":"DropDownList!$L$3&\" \"&DropDownList!L6","v":"Vehicle 50,000-+ GT"},null,1,null,1997500,0.3,0,0,25,0.01,0.05,0.02,0.02]
["Oil tanker 0 - 4,999 dwt",null,1,null,587500,0.3,0,0,25,0.01,0.05,0.03,0.02]
["Oil tanker 5,000 - 9,999 dwt",null,1,null,1175000,0.3,0,0,25,0.01,0.05,0.03,0.02]
["Oil tanker 10,000 - 19,999 dwt",null,1,null,1762500,0.3,0,0,25,0.01,0.05,0.02,0.02]
["Oil tanker 20,000 - 59,999 dwt",null,1,null,1762500,0.3,0,0,25,0.01,0.05,0.02,0.02]
["Oil tanker 60,000 - 79,999 dwt",null,1,null,2350000,0.3,0,0,25,0.01,0.05,0.02,0.02]
["Oil tanker 80,000 - 119,999 dwt",null,1,null,2350000,0.3,0,0,25,0.01,0.05,0.02,0.02]
["Oil tanker 120,000 - 199,999 dwt",null,1,null,2937500,0.3,0,0,25,0.01,0.05,0.02,0.02]
["Oil tanker 200,000-+ dwt",null,1,null,2937500,0.3,0,0,25,0.01,0.05,0.02,0.02]
["Other liquids tankers 0-999 dwt",null,1,null,587500,0.3,0,0,25,0.01,0.05,0.03,0.02]
["Other liquids tankers 1,000-+ dwt",null,1,null,881250,0.3,0,0,25,0.01,0.05,0.03,0.02]

{"sheet":"Shore power","index":28,"n_rows":66,"n_cols":13,"rows_kept":66,"cut":false,"hidden":false,"merged":[[0,0,1,0],[0,1,0,3],[0,6,0,7],[0,9,0,11]]}
["Ship type and size","Measure applicability to engines",null,null,"Installation","CAPEX Retrofit addition","Operational Cost",null,"Lifetime","Total fuel savings %",null,null,"EEXI / EEDI savings"]
[null,"Main","Aux","Boiler","$","%","$ per year","$ per 5 year","Years","Low","High","Typical","%"]
[{"$f":"DropDownList!$A$3&\" \"&DropDownList!A4","v":"Bulk carrier 0  - 9,999 dwt"},null,1,null,117500,0.3,0,0,25,5.0000000000000001E-3,0.03,1.4999999999999999E-2]
[{"$f":"DropDownList!$A$3&\" \"&DropDownList!A5","v":"Bulk carrier 10,000 - 34,999 dwt"},null,1,null,293750,0.3,0,0,25,5.0000000000000001E-3,0.03,1.4999999999999999E-2]
[{"$f":"DropDownList!$A$3&\" \"&DropDownList!A6","v":"Bulk carrier 35,000 - 59,999 dwt"},null,1,null,470000,0.3,0,0,25,5.0000000000000001E-3,0.03,1.4999999999999999E-2]
[{"$f":"DropDownList!$A$3&\" \"&DropDownList!A7","v":"Bulk carrier 60,000 - 99,999 dwt"},null,1,null,587500,0.3,0,0,25,5.0000000000000001E-3,0.03,1.4999999999999999E-2]
[{"$f":"DropDownList!$A$3&\" \"&DropDownList!A8","v":"Bulk carrier 100,000 - 199,999 dwt"},null,1,null,646250,0.3,0,0,25,5.0000000000000001E-3,0.03,1.4999999999999999E-2]
[{"$f":"DropDownList!$A$3&\" \"&DropDownList!A9","v":"Bulk carrier 200,000-+ dwt"},null,1,null,705000,0.3,0,0,25,5.0000000000000001E-3,0.03,1.4999999999999999E-2]
[{"$f":"DropDownList!$B$3&\" \"&DropDownList!B4","v":"Chemical tanker 0 - 4,999 dwt"},null,1,null,58750,0.3,0,0,25,5.0000000000000001E-3,0.03,0.02]
[{"$f":"DropDownList!$B$3&\" \"&DropDownList!B5","v":"Chemical tanker 5,000 - 9,999 dwt"},null,1,null,117500,0.3,0,0,25,5.0000000000000001E-3,0.03,0.02]
[{"$f":"DropDownList!$B$3&\" \"&DropDownList!B6","v":"Chemical tanker 10,000 - 19,999 dwt"},null,1,null,235000,0.3,0,0,25,5.0000000000000001E-3,0.03,0.02]
[{"$f":"DropDownList!$B$3&\" \"&DropDownList!B7","v":"Chemical tanker 20,000 - 39,999 dwt"},null,1,null,411250,0.3,0,0,25,5.0000000000000001E-3,0.03,0.02]
[{"$f":"DropDownList!$B$3&\" \"&DropDownList!B8","v":"Chemical tanker 40,000-+ dwt"},null,1,null,587500,0.3,0,0,25,5.0000000000000001E-3,0.03,0.02]
[{"$f":"DropDownList!$C$3&\" \"&DropDownList!C4","v":"Container 0-999 teu"},null,1,null,58750,0.3,0,0,25,0.01,0.05,0.03]
[{"$f":"DropDownList!$C$3&\" \"&DropDownList!C5","v":"Container 1,000 - 1,999 teu"},null,1,null,88125,0.3,0,0,25,0.01,0.05,0.03]
[{"$f":"DropDownList!$C$3&\" \"&DropDownList!C6","v":"Container 2,000 - 2,999 teu"},null,1,null,117500,0.3,0,0,25,0.01,0.05,0.03]
[{"$f":"DropDownList!$C$3&\" \"&DropDownList!C7","v":"Container 3,000 - 4,999 teu"},null,1,null,176250,0.3,0,0,25,0.01,0.05,0.03]
[{"$f":"DropDownList!$C$3&\" \"&DropDownList!C8","v":"Container 5,000 - 7,999 teu"},null,1,null,293750,0.3,0,0,25,0.01,0.05,0.03]
[{"$f":"DropDownList!$C$3&\" \"&DropDownList!C9","v":"Container 8,000 - 11,999 teu"},null,1,null,411250,0.3,0,0,25,0.01,0.05,0.03]
[{"$f":"DropDownList!$C$3&\" \"&DropDownList!C10","v":"Container 12,000 - 14,499 teu"},null,1,null,470000,0.3,0,0,25,0.01,0.05,0.03]
[{"$f":"DropDownList!$C$3&\" \"&DropDownList!C11","v":"Container 14,500 - 19,999 teu"},null,1,null,646250,0.3,0,0,25,0.01,0.05,0.03]
[{"$f":"DropDownList!$C$3&\" \"&DropDownList!C12","v":"Container 20,000-+ teu"},null,1,null,822500,0.3,0,0,25,0.01,0.05,0.03]
[{"$f":"DropDownList!$D$3&\" \"&DropDownList!D4","v":"General cargo 0 - 4,999 dwt"},null,1,null,58750,0.3,0,0,25,5.0000000000000001E-3,0.03,1.4999999999999999E-2]
[{"$f":"DropDownList!$D$3&\" \"&DropDownList!D5","v":"General cargo 5,000 - 9,999 dwt"},null,1,null,117500,0.3,0,0,25,5.0000000000000001E-3,0.03,1.4999999999999999E-2]
[{"$f":"DropDownList!$D$3&\" \"&DropDownList!D6","v":"General cargo 10,000 - 19,999 dwt"},null,1,null,235000,0.3,0,0,25,5.0000000000000001E-3,0.03,1.4999999999999999E-2]
[{"$f":"DropDownList!$D$3&\" \"&DropDownList!D7","v":"General cargo 20,000-+ dwt"},null,1,null,352500,0.3,0,0,25,5.0000000000000001E-3,0.03,1.4999999999999999E-2]
[{"$f":"DropDownList!$E$3&\" \"&DropDownList!E4","v":"Liquefied gas tanker 0 - 49,999 cbm"},null,1,null,58750,0.3,0,0,25,5.0000000000000001E-3,0.03,0.02]
[{"$f":"DropDownList!$E$3&\" \"&DropDownList!E5","v":"Liquefied gas tanker 40,000 - 99,999 cbm"},null,1,null,117500,0.3,0,0,25,5.0000000000000001E-3,0.03,0.02]
[{"$f":"DropDownList!$E$3&\" \"&DropDownList!E6","v":"Liquefied gas tanker 100,000 - 199,999 cbm"},null,1,null,235000,0.3,0,0,25,5.0000000000000001E-3,0.03,0.02]
[{"$f":"DropDownList!$E$3&\" \"&DropDownList!E7","v":"Liquefied gas tanker 200,000-+ cbm"},null,1,null,411250,0.3,0,0,25,5.0000000000000001E-3,0.03,0.02]
[{"$f":"DropDownList!$G$3&\" \"&DropDownList!G4","v":"Ferry-pax only 0 - 299 GT"},null,1,null,58750,0.3,0,0,25,5.0000000000000001E-3,0.03,1.4999999999999999E-2]
[{"$f":"DropDownList!$G$3&\" \"&DropDownList!G5","v":"Ferry-pax only 300 - 999 GT"},null,1,null,94000,0.3,0,0,25,5.0000000000000001E-3,0.03,1.4999999999999999E-2]
[{"$f":"DropDownList!$G$3&\" \"&DropDownList!G6","v":"Ferry-pax only 1,000 - 1,999 GT"},null,1,null,141000,0.3,0,0,25,5.0000000000000001E-3,0.03,1.4999999999999999E-2]
[{"$f":"DropDownList!$G$3&\" \"&DropDownList!G7","v":"Ferry-pax only 2,000-+ GT"},null,1,null,211500,0.3,0,0,25,5.0000000000000001E-3,0.03,1.4999999999999999E-2]
[{"$f":"DropDownList!$H$3&\" \"&DropDownList!H4","v":"Cruise 0 - 1,999 GT"},null,1,null,58750,0.3,0,0,25,0.05,0.15,7.0000000000000007E-2]
[{"$f":"DropDownList!$H$3&\" \"&DropDownList!H5","v":"Cruise 2,000 - 9,999 GT"},null,1,null,94000,0.3,0,0,25,0.05,0.15,7.0000000000000007E-2]
[{"$f":"DropDownList!$H$3&\" \"&DropDownList!H6","v":"Cruise 10,000 - 59,999 GT"},null,1,null,141000,0.3,0,0,25,0.05,0.15,7.0000000000000007E-2]
[{"$f":"DropDownList!$H$3&\" \"&DropDownList!H7","v":"Cruise 60,000 - 99,999 GT"},null,1,null,235000,0.3,0,0,25,0.05,0.15,7.0000000000000007E-2]
[{"$f":"DropDownList!$H$3&\" \"&DropDownList!H8","v":"Cruise 100,000 - 149,999 GT"},null,1,null,293750,0.3,0,0,25,0.05,0.15,7.0000000000000007E-2]
[{"$f":"DropDownList!$H$3&\" \"&DropDownList!H9","v":"Cruise 150,000-+ GT"},null,1,null,352500,0.3,0,0,25,0.05,0.15,7.0000000000000007E-2]
[{"$f":"DropDownList!$I$3&\" \"&DropDownList!I4","v":"Ferry-RoPax 0 - 1,999 GT"},null,1,null,58750,0.3,0,0,25,5.0000000000000001E-3,0.03,1.4999999999999999E-2]
[{"$f":"DropDownList!$I$3&\" \"&DropDownList!I5","v":"Ferry-RoPax 2,000 - 4,999 GT"},null,1,null,70500,0.3,0,0,25,5.0000000000000001E-3,0.03,1.4999999999999999E-2]
[{"$f":"DropDownList!$I$3&\" \"&DropDownList!I6","v":"Ferry-RoPax 5,000 - 9,999 GT"},null,1,null,82250,0.3,0,0,25,5.0000000000000001E-3,0.03,1.4999999999999999E-2]
[{"$f":"DropDownList!$I$3&\" \"&DropDownList!I7","v":"Ferry-RoPax 10,000 - 19,999 GT"},null,1,null,94000,0.3,0,0,25,5.0000000000000001E-3,0.03,1.4999999999999999E-2]
[{"$f":"DropDownList!$I$3&\" \"&DropDownList!I8","v":"Ferry-RoPax 20,000-+ GT"},null,1,null,105750,0.3,0,0,25,5.0000000000000001E-3,0.03,1.4999999999999999E-2]
[{"$f":"DropDownList!$J$3&\" \"&DropDownList!J4","v":"Refrigerated bulk 0 - 1,999 dwt"},null,1,null,58750,0.3,0,0,25,5.0000000000000001E-3,0.03,0.02]
[{"$f":"DropDownList!$J$3&\" \"&DropDownList!J5","v":"Refrigerated bulk 2,000 - 5,999 dwt"},null,1,null,58750,0.3,0,0,25,5.0000000000000001E-3,0.03,0.02]
[{"$f":"DropDownList!$J$3&\" \"&DropDownList!J6","v":"Refrigerated bulk 6,000 - 9,999 dwt"},null,1,null,70500,0.3,0,0,25,5.0000000000000001E-3,0.03,0.02]
[{"$f":"DropDownList!$J$3&\" \"&DropDownList!J7","v":"Refrigerated bulk 10,000-+ dwt"},null,1,null,70500,0.3,0,0,25,5.0000000000000001E-3,0.03,0.02]
[{"$f":"DropDownList!$K$3&\" \"&DropDownList!K4","v":"Ro-Ro 0 - 4,999 dwt"},null,1,null,58750,0.3,0,0,25,5.0000000000000001E-3,0.03,1.4999999999999999E-2]
[{"$f":"DropDownList!$K$3&\" \"&DropDownList!K5","v":"Ro-Ro 5,000 - 9,999 dwt"},null,1,null,94000,0.3,0,0,25,5.0000000000000001E-3,0.03,1.4999999999999999E-2]
[{"$f":"DropDownList!$K$3&\" \"&DropDownList!K6","v":"Ro-Ro 10,000 - 14,999 dwt"},null,1,null,117500,0.3,0,0,25,5.0000000000000001E-3,0.03,1.4999999999999999E-2]
[{"$f":"DropDownList!$K$3&\" \"&DropDownList!K7","v":"Ro-Ro 15,000-+ dwt"},null,1,null,176250,0.3,0,0,25,5.0000000000000001E-3,0.03,1.4999999999999999E-2]
[{"$f":"DropDownList!$L$3&\" \"&DropDownList!L4","v":"Vehicle 0 - 29,999 GT"},null,1,null,82250,0.3,0,0,25,5.0000000000000001E-3,0.03,1.4999999999999999E-2]
[{"$f":"DropDownList!$L$3&\" \"&DropDownList!L5","v":"Vehicle 30,000 - 49,999 GT"},null,1,null,176250,0.3,0,0,25,5.0000000000000001E-3,0.03,1.4999999999999999E-2]
[{"$f":"DropDownList!$L$3&\" \"&DropDownList!L6","v":"Vehicle 50,000-+ GT"},null,1,null,352500,0.3,0,0,25,5.0000000000000001E-3,0.03,1.4999999999999999E-2]
["Oil tanker 0 - 4,999 dwt",null,1,null,117500,0.3,0,0,25,5.0000000000000001E-3,0.03,1.4999999999999999E-2]
["Oil tanker 5,000 - 9,999 dwt",null,1,null,176250,0.3,0,0,25,5.0000000000000001E-3,0.03,1.4999999999999999E-2]
["Oil tanker 10,000 - 19,999 dwt",null,1,null,293750,0.3,0,0,25,5.0000000000000001E-3,0.03,1.4999999999999999E-2]
["Oil tanker 20,000 - 59,999 dwt",null,1,null,411250,0.3,0,0,25,5.0000000000000001E-3,0.03,1.4999999999999999E-2]
["Oil tanker 60,000 - 79,999 dwt",null,1,null,470000,0.3,0,0,25,5.0000000000000001E-3,0.03,1.4999999999999999E-2]
["Oil tanker 80,000 - 119,999 dwt",null,1,null,646250,0.3,0,0,25,5.0000000000000001E-3,0.03,1.4999999999999999E-2]
["Oil tanker 120,000 - 199,999 dwt",null,1,null,822500,0.3,0,0,25,5.0000000000000001E-3,0.03,1.4999999999999999E-2]
["Oil tanker 200,000-+ dwt",null,1,null,1175000,0.3,0,0,25,5.0000000000000001E-3,0.03,1.4999999999999999E-2]
["Other liquids tankers 0-999 dwt",null,1,null,58750,0.3,0,0,25,5.0000000000000001E-3,0.03,1.4999999999999999E-2]
["Other liquids tankers 1,000-+ dwt",null,1,null,88125,0.3,0,0,25,5.0000000000000001E-3,0.03,1.4999999999999999E-2]

{"sheet":"Steam plant operation imp.","index":29,"n_rows":66,"n_cols":13,"rows_kept":66,"cut":false,"hidden":false,"merged":[[0,0,1,0],[0,1,0,3],[0,6,0,7],[0,9,0,11]]}
["Ship type and size","Measure applicability to engines",null,null,"Installation","CAPEX Retrofit addition","Operational Cost",null,"Lifetime","Total fuel savings %",null,null,"EEXI / EEDI savings"]
[null,"Main","Aux","Boiler","$","%","$ per year","$ per 5 year","Years","Low","High","Typical","%"]
[{"$f":"DropDownList!$A$3&\" \"&DropDownList!A4","v":"Bulk carrier 0  - 9,999 dwt"},1,1,null,0,0,5000,0,25,2E-3,0.02,6.0000000000000001E-3]
[{"$f":"DropDownList!$A$3&\" \"&DropDownList!A5","v":"Bulk carrier 10,000 - 34,999 dwt"},1,1,null,0,0,5000,0,25,2E-3,0.02,6.0000000000000001E-3]
[{"$f":"DropDownList!$A$3&\" \"&DropDownList!A6","v":"Bulk carrier 35,000 - 59,999 dwt"},1,1,null,0,0,5000,0,25,2E-3,0.02,6.0000000000000001E-3]
[{"$f":"DropDownList!$A$3&\" \"&DropDownList!A7","v":"Bulk carrier 60,000 - 99,999 dwt"},1,1,null,0,0,5000,0,25,2E-3,0.02,6.0000000000000001E-3]
[{"$f":"DropDownList!$A$3&\" \"&DropDownList!A8","v":"Bulk carrier 100,000 - 199,999 dwt"},1,1,null,0,0,5000,0,25,2E-3,0.02,6.0000000000000001E-3]
[{"$f":"DropDownList!$A$3&\" \"&DropDownList!A9","v":"Bulk carrier 200,000-+ dwt"},1,1,null,0,0,5000,0,25,2E-3,0.02,6.0000000000000001E-3]
[{"$f":"DropDownList!$B$3&\" \"&DropDownList!B4","v":"Chemical tanker 0 - 4,999 dwt"},1,1,null,0,0,5000,0,25,2E-3,0.02,1.2999999999999999E-2]
[{"$f":"DropDownList!$B$3&\" \"&DropDownList!B5","v":"Chemical tanker 5,000 - 9,999 dwt"},1,1,null,0,0,5000,0,25,2E-3,0.02,1.2999999999999999E-2]
[{"$f":"DropDownList!$B$3&\" \"&DropDownList!B6","v":"Chemical tanker 10,000 - 19,999 dwt"},1,1,null,0,0,5000,0,25,2E-3,0.02,1.2999999999999999E-2]
[{"$f":"DropDownList!$B$3&\" \"&DropDownList!B7","v":"Chemical tanker 20,000 - 39,999 dwt"},1,1,null,0,0,5000,0,25,2E-3,0.02,1.2999999999999999E-2]
[{"$f":"DropDownList!$B$3&\" \"&DropDownList!B8","v":"Chemical tanker 40,000-+ dwt"},1,1,null,0,0,5000,0,25,2E-3,0.02,1.2999999999999999E-2]
[{"$f":"DropDownList!$C$3&\" \"&DropDownList!C4","v":"Container 0-999 teu"}]
[{"$f":"DropDownList!$C$3&\" \"&DropDownList!C5","v":"Container 1,000 - 1,999 teu"}]
[{"$f":"DropDownList!$C$3&\" \"&DropDownList!C6","v":"Container 2,000 - 2,999 teu"}]
[{"$f":"DropDownList!$C$3&\" \"&DropDownList!C7","v":"Container 3,000 - 4,999 teu"}]
[{"$f":"DropDownList!$C$3&\" \"&DropDownList!C8","v":"Container 5,000 - 7,999 teu"}]
[{"$f":"DropDownList!$C$3&\" \"&DropDownList!C9","v":"Container 8,000 - 11,999 teu"}]
[{"$f":"DropDownList!$C$3&\" \"&DropDownList!C10","v":"Container 12,000 - 14,499 teu"}]
[{"$f":"DropDownList!$C$3&\" \"&DropDownList!C11","v":"Container 14,500 - 19,999 teu"}]
[{"$f":"DropDownList!$C$3&\" \"&DropDownList!C12","v":"Container 20,000-+ teu"}]
[{"$f":"DropDownList!$D$3&\" \"&DropDownList!D4","v":"General cargo 0 - 4,999 dwt"}]
[{"$f":"DropDownList!$D$3&\" \"&DropDownList!D5","v":"General cargo 5,000 - 9,999 dwt"}]
[{"$f":"DropDownList!$D$3&\" \"&DropDownList!D6","v":"General cargo 10,000 - 19,999 dwt"}]
[{"$f":"DropDownList!$D$3&\" \"&DropDownList!D7","v":"General cargo 20,000-+ dwt"}]
[{"$f":"DropDownList!$E$3&\" \"&DropDownList!E4","v":"Liquefied gas tanker 0 - 49,999 cbm"},1,1,null,0,0,5000,0,25,2E-3,0.02,1.2999999999999999E-2]
[{"$f":"DropDownList!$E$3&\" \"&DropDownList!E5","v":"Liquefied gas tanker 40,000 - 99,999 cbm"},1,1,null,0,0,5000,0,25,2E-3,0.02,1.2999999999999999E-2]
[{"$f":"DropDownList!$E$3&\" \"&DropDownList!E6","v":"Liquefied gas tanker 100,000 - 199,999 cbm"},1,1,null,0,0,5000,0,25,2E-3,0.02,1.2999999999999999E-2]
[{"$f":"DropDownList!$E$3&\" \"&DropDownList!E7","v":"Liquefied gas tanker 200,000-+ cbm"},1,1,null,0,0,5000,0,25,2E-3,0.02,1.2999999999999999E-2]
[{"$f":"DropDownList!$G$3&\" \"&DropDownList!G4","v":"Ferry-pax only 0 - 299 GT"}]
[{"$f":"DropDownList!$G$3&\" \"&DropDownList!G5","v":"Ferry-pax only 300 - 999 GT"}]
[{"$f":"DropDownList!$G$3&\" \"&DropDownList!G6","v":"Ferry-pax only 1,000 - 1,999 GT"}]
[{"$f":"DropDownList!$G$3&\" \"&DropDownList!G7","v":"Ferry-pax only 2,000-+ GT"}]
[{"$f":"DropDownList!$H$3&\" \"&DropDownList!H4","v":"Cruise 0 - 1,999 GT"},1,1,null,0,0,5000,0,25,2E-3,0.02,6.0000000000000001E-3]
[{"$f":"DropDownList!$H$3&\" \"&DropDownList!H5","v":"Cruise 2,000 - 9,999 GT"},1,1,null,0,0,5000,0,25,2E-3,0.02,6.0000000000000001E-3]
[{"$f":"DropDownList!$H$3&\" \"&DropDownList!H6","v":"Cruise 10,000 - 59,999 GT"},1,1,null,0,0,5000,0,25,2E-3,0.02,6.0000000000000001E-3]
[{"$f":"DropDownList!$H$3&\" \"&DropDownList!H7","v":"Cruise 60,000 - 99,999 GT"},1,1,null,0,0,5000,0,25,2E-3,0.02,6.0000000000000001E-3]
[{"$f":"DropDownList!$H$3&\" \"&DropDownList!H8","v":"Cruise 100,000 - 149,999 GT"},1,1,null,0,0,5000,0,25,2E-3,0.02,6.0000000000000001E-3]
[{"$f":"DropDownList!$H$3&\" \"&DropDownList!H9","v":"Cruise 150,000-+ GT"},1,1,null,0,0,5000,0,25,2E-3,0.02,6.0000000000000001E-3]
[{"$f":"DropDownList!$I$3&\" \"&DropDownList!I4","v":"Ferry-RoPax 0 - 1,999 GT"}]
[{"$f":"DropDownList!$I$3&\" \"&DropDownList!I5","v":"Ferry-RoPax 2,000 - 4,999 GT"}]
[{"$f":"DropDownList!$I$3&\" \"&DropDownList!I6","v":"Ferry-RoPax 5,000 - 9,999 GT"}]
[{"$f":"DropDownList!$I$3&\" \"&DropDownList!I7","v":"Ferry-RoPax 10,000 - 19,999 GT"}]
[{"$f":"DropDownList!$I$3&\" \"&DropDownList!I8","v":"Ferry-RoPax 20,000-+ GT"}]
[{"$f":"DropDownList!$J$3&\" \"&DropDownList!J4","v":"Refrigerated bulk 0 - 1,999 dwt"}]
[{"$f":"DropDownList!$J$3&\" \"&DropDownList!J5","v":"Refrigerated bulk 2,000 - 5,999 dwt"}]
[{"$f":"DropDownList!$J$3&\" \"&DropDownList!J6","v":"Refrigerated bulk 6,000 - 9,999 dwt"}]
[{"$f":"DropDownList!$J$3&\" \"&DropDownList!J7","v":"Refrigerated bulk 10,000-+ dwt"}]
[{"$f":"DropDownList!$K$3&\" \"&DropDownList!K4","v":"Ro-Ro 0 - 4,999 dwt"}]
[{"$f":"DropDownList!$K$3&\" \"&DropDownList!K5","v":"Ro-Ro 5,000 - 9,999 dwt"}]
[{"$f":"DropDownList!$K$3&\" \"&DropDownList!K6","v":"Ro-Ro 10,000 - 14,999 dwt"}]
[{"$f":"DropDownList!$K$3&\" \"&DropDownList!K7","v":"Ro-Ro 15,000-+ dwt"}]
[{"$f":"DropDownList!$L$3&\" \"&DropDownList!L4","v":"Vehicle 0 - 29,999 GT"}]
[{"$f":"DropDownList!$L$3&\" \"&DropDownList!L5","v":"Vehicle 30,000 - 49,999 GT"}]
[{"$f":"DropDownList!$L$3&\" \"&DropDownList!L6","v":"Vehicle 50,000-+ GT"}]
["Oil tanker 0 - 4,999 dwt",1,1,null,0,0,5000,0,25,2E-3,0.02,1.2999999999999999E-2]
["Oil tanker 5,000 - 9,999 dwt",1,1,null,0,0,5000,0,25,2E-3,0.02,1.2999999999999999E-2]
["Oil tanker 10,000 - 19,999 dwt",1,1,null,0,0,5000,0,25,2E-3,0.02,1.2999999999999999E-2]
["Oil tanker 20,000 - 59,999 dwt",1,1,null,0,0,5000,0,25,2E-3,0.02,1.2999999999999999E-2]
["Oil tanker 60,000 - 79,999 dwt",1,1,null,0,0,5000,0,25,2E-3,0.02,1.2999999999999999E-2]
["Oil tanker 80,000 - 119,999 dwt",1,1,null,0,0,5000,0,25,2E-3,0.02,1.2999999999999999E-2]
["Oil tanker 120,000 - 199,999 dwt",1,1,null,0,0,5000,0,25,2E-3,0.02,1.2999999999999999E-2]
["Oil tanker 200,000-+ dwt",1,1,null,0,0,5000,0,25,2E-3,0.02,1.2999999999999999E-2]
["Other liquids tankers 0-999 dwt"]
["Other liquids tankers 1,000-+ dwt"]

{"sheet":"Waste heat recovery systems","index":30,"n_rows":66,"n_cols":13,"rows_kept":66,"cut":false,"hidden":false,"merged":[[0,0,1,0],[0,1,0,3],[0,6,0,7],[0,9,0,11]]}
["Ship type and size","Measure applicability to engines",null,null,"Installation","CAPEX Retrofit addition","Operational Cost",null,"Lifetime","Total fuel savings %",null,null,"EEXI / EEDI savings"]
[null,"Main","Aux","Boiler","$","%","$ per year","$ per 5 year","Years","Low","High","Typical","%"]
[{"$f":"DropDownList!$A$3&\" \"&DropDownList!A4","v":"Bulk carrier 0  - 9,999 dwt"},1,1,null,5875000,0.5,20000,null,25,0.02,0.06,0.04,0.02]
[{"$f":"DropDownList!$A$3&\" \"&DropDownList!A5","v":"Bulk carrier 10,000 - 34,999 dwt"},1,1,null,6462500,0.5,20000,null,25,0.02,0.06,0.04,0.02]
[{"$f":"DropDownList!$A$3&\" \"&DropDownList!A6","v":"Bulk carrier 35,000 - 59,999 dwt"},1,1,null,7050000,0.5,20000,null,25,0.02,0.06,0.04,0.02]
[{"$f":"DropDownList!$A$3&\" \"&DropDownList!A7","v":"Bulk carrier 60,000 - 99,999 dwt"},1,1,null,7637500,0.5,20000,null,25,0.02,0.06,0.04,0.02]
[{"$f":"DropDownList!$A$3&\" \"&DropDownList!A8","v":"Bulk carrier 100,000 - 199,999 dwt"},1,1,null,8225000,0.5,20000,null,25,0.02,0.06,0.04,0.02]
[{"$f":"DropDownList!$A$3&\" \"&DropDownList!A9","v":"Bulk carrier 200,000-+ dwt"},1,1,null,9400000,0.5,20000,null,25,0.02,0.06,0.04,0.02]
[{"$f":"DropDownList!$B$3&\" \"&DropDownList!B4","v":"Chemical tanker 0 - 4,999 dwt"},null,1,null,5875000,0.5,20000,null,25,0.02,0.06,0.04,0.02]
[{"$f":"DropDownList!$B$3&\" \"&DropDownList!B5","v":"Chemical tanker 5,000 - 9,999 dwt"},null,1,null,5875000,0.5,20000,null,25,0.02,0.06,0.04,0.02]
[{"$f":"DropDownList!$B$3&\" \"&DropDownList!B6","v":"Chemical tanker 10,000 - 19,999 dwt"},null,1,null,6462500,0.5,20000,null,25,0.02,0.06,0.04,0.02]
[{"$f":"DropDownList!$B$3&\" \"&DropDownList!B7","v":"Chemical tanker 20,000 - 39,999 dwt"},null,1,null,7050000,0.5,20000,null,25,0.02,0.06,0.04,0.02]
[{"$f":"DropDownList!$B$3&\" \"&DropDownList!B8","v":"Chemical tanker 40,000-+ dwt"},null,1,null,7637500,0.5,20000,null,25,0.02,0.06,0.04,0.02]
[{"$f":"DropDownList!$C$3&\" \"&DropDownList!C4","v":"Container 0-999 teu"},null,1,null,5875000,0.5,20000,null,25,0.02,0.06,4.4999999999999998E-2,0.02]
[{"$f":"DropDownList!$C$3&\" \"&DropDownList!C5","v":"Container 1,000 - 1,999 teu"},null,1,null,5875000,0.5,20000,null,25,0.02,0.06,4.4999999999999998E-2,0.02]
[{"$f":"DropDownList!$C$3&\" \"&DropDownList!C6","v":"Container 2,000 - 2,999 teu"},null,1,null,6462500,0.5,20000,null,25,0.02,0.06,4.4999999999999998E-2,0.02]
[{"$f":"DropDownList!$C$3&\" \"&DropDownList!C7","v":"Container 3,000 - 4,999 teu"},null,1,null,7050000,0.5,20000,null,25,0.02,0.06,4.4999999999999998E-2,0.02]
[{"$f":"DropDownList!$C$3&\" \"&DropDownList!C8","v":"Container 5,000 - 7,999 teu"},null,1,null,7637500,0.5,20000,null,25,0.02,0.06,4.4999999999999998E-2,0.02]
[{"$f":"DropDownList!$C$3&\" \"&DropDownList!C9","v":"Container 8,000 - 11,999 teu"},null,1,null,8225000,0.5,20000,null,25,0.02,0.06,4.4999999999999998E-2,0.02]
[{"$f":"DropDownList!$C$3&\" \"&DropDownList!C10","v":"Container 12,000 - 14,499 teu"},null,1,null,8812500,0.5,20000,null,25,0.02,0.06,4.4999999999999998E-2,0.02]
[{"$f":"DropDownList!$C$3&\" \"&DropDownList!C11","v":"Container 14,500 - 19,999 teu"},null,1,null,9400000,0.5,20000,null,25,0.02,0.06,4.4999999999999998E-2,0.02]
[{"$f":"DropDownList!$C$3&\" \"&DropDownList!C12","v":"Container 20,000-+ teu"},null,1,null,11162500,0.5,20000,null,25,0.02,0.06,4.4999999999999998E-2,0.02]
[{"$f":"DropDownList!$D$3&\" \"&DropDownList!D4","v":"General cargo 0 - 4,999 dwt"},null,1,null,5875000,0.5,20000,null,25,0.02,0.06,0.04,0.02]
[{"$f":"DropDownList!$D$3&\" \"&DropDownList!D5","v":"General cargo 5,000 - 9,999 dwt"},null,1,null,5875000,0.5,20000,null,25,0.02,0.06,0.04,0.02]
[{"$f":"DropDownList!$D$3&\" \"&DropDownList!D6","v":"General cargo 10,000 - 19,999 dwt"},null,1,null,6462500,0.5,20000,null,25,0.02,0.06,0.04,0.02]
[{"$f":"DropDownList!$D$3&\" \"&DropDownList!D7","v":"General cargo 20,000-+ dwt"},null,1,null,7050000,0.5,20000,null,25,0.02,0.06,0.04,0.02]
[{"$f":"DropDownList!$E$3&\" \"&DropDownList!E4","v":"Liquefied gas tanker 0 - 49,999 cbm"},null,1,null,5875000,0.5,20000,null,25,0.02,0.06,0.04,0.02]
[{"$f":"DropDownList!$E$3&\" \"&DropDownList!E5","v":"Liquefied gas tanker 40,000 - 99,999 cbm"},null,1,null,7050000,0.5,20000,null,25,0.02,0.06,0.04,0.02]
[{"$f":"DropDownList!$E$3&\" \"&DropDownList!E6","v":"Liquefied gas tanker 100,000 - 199,999 cbm"},null,1,null,8225000,0.5,20000,null,25,0.02,0.06,0.04,0.02]
[{"$f":"DropDownList!$E$3&\" \"&DropDownList!E7","v":"Liquefied gas tanker 200,000-+ cbm"},null,1,null,9400000,0.5,20000,null,25,0.02,0.06,0.04,0.02]
[{"$f":"DropDownList!$G$3&\" \"&DropDownList!G4","v":"Ferry-pax only 0 - 299 GT"},null,1,null,5875000,0.5,20000,null,25,0.02,0.06,0.04,0.02]
[{"$f":"DropDownList!$G$3&\" \"&DropDownList!G5","v":"Ferry-pax only 300 - 999 GT"},null,1,null,5875000,0.5,20000,null,25,0.02,0.06,0.04,0.02]
[{"$f":"DropDownList!$G$3&\" \"&DropDownList!G6","v":"Ferry-pax only 1,000 - 1,999 GT"},null,1,null,6462500,0.5,20000,null,25,0.02,0.06,0.04,0.02]
[{"$f":"DropDownList!$G$3&\" \"&DropDownList!G7","v":"Ferry-pax only 2,000-+ GT"},null,1,null,7050000,0.5,20000,null,25,0.02,0.06,0.04,0.02]
[{"$f":"DropDownList!$H$3&\" \"&DropDownList!H4","v":"Cruise 0 - 1,999 GT"},1,1,null,5875000,0.5,20000,null,25,0.02,0.06,0.04,0.02]
[{"$f":"DropDownList!$H$3&\" \"&DropDownList!H5","v":"Cruise 2,000 - 9,999 GT"},1,1,null,5875000,0.5,20000,null,25,0.02,0.06,0.04,0.02]
[{"$f":"DropDownList!$H$3&\" \"&DropDownList!H6","v":"Cruise 10,000 - 59,999 GT"},1,1,null,7050000,0.5,20000,null,25,0.02,0.06,0.04,0.02]
[{"$f":"DropDownList!$H$3&\" \"&DropDownList!H7","v":"Cruise 60,000 - 99,999 GT"},1,1,null,7637500,0.5,20000,null,25,0.02,0.06,0.04,0.02]
[{"$f":"DropDownList!$H$3&\" \"&DropDownList!H8","v":"Cruise 100,000 - 149,999 GT"},1,1,null,8225000,0.5,20000,null,25,0.02,0.06,0.04,0.02]
[{"$f":"DropDownList!$H$3&\" \"&DropDownList!H9","v":"Cruise 150,000-+ GT"},1,1,null,9400000,0.5,20000,null,25,0.02,0.06,0.04,0.02]
[{"$f":"DropDownList!$I$3&\" \"&DropDownList!I4","v":"Ferry-RoPax 0 - 1,999 GT"}]
[{"$f":"DropDownList!$I$3&\" \"&DropDownList!I5","v":"Ferry-RoPax 2,000 - 4,999 GT"}]
[{"$f":"DropDownList!$I$3&\" \"&DropDownList!I6","v":"Ferry-RoPax 5,000 - 9,999 GT"}]
[{"$f":"DropDownList!$I$3&\" \"&DropDownList!I7","v":"Ferry-RoPax 10,000 - 19,999 GT"}]
[{"$f":"DropDownList!$I$3&\" \"&DropDownList!I8","v":"Ferry-RoPax 20,000-+ GT"}]
[{"$f":"DropDownList!$J$3&\" \"&DropDownList!J4","v":"Refrigerated bulk 0 - 1,999 dwt"},1,1,null,5875000,0.5,20000,null,25,0.02,0.06,0.04,0.02]
[{"$f":"DropDownList!$J$3&\" \"&DropDownList!J5","v":"Refrigerated bulk 2,000 - 5,999 dwt"},1,1,null,5875000,0.5,20000,null,25,0.02,0.06,0.04,0.02]
[{"$f":"DropDownList!$J$3&\" \"&DropDownList!J6","v":"Refrigerated bulk 6,000 - 9,999 dwt"},1,1,null,6462500,0.5,20000,null,25,0.02,0.06,0.04,0.02]
[{"$f":"DropDownList!$J$3&\" \"&DropDownList!J7","v":"Refrigerated bulk 10,000-+ dwt"},1,1,null,7050000,0.5,20000,null,25,0.02,0.06,0.04,0.02]
[{"$f":"DropDownList!$K$3&\" \"&DropDownList!K4","v":"Ro-Ro 0 - 4,999 dwt"},null,1,null,5875000,0.5,20000,null,25,0.02,0.06,0.04,0.02]
[{"$f":"DropDownList!$K$3&\" \"&DropDownList!K5","v":"Ro-Ro 5,000 - 9,999 dwt"},null,1,null,5875000,0.5,20000,null,25,0.02,0.06,0.04,0.02]
[{"$f":"DropDownList!$K$3&\" \"&DropDownList!K6","v":"Ro-Ro 10,000 - 14,999 dwt"},null,1,null,6462500,0.5,20000,null,25,0.02,0.06,0.04,0.02]
[{"$f":"DropDownList!$K$3&\" \"&DropDownList!K7","v":"Ro-Ro 15,000-+ dwt"},null,1,null,7050000,0.5,20000,null,25,0.02,0.06,0.04,0.02]
[{"$f":"DropDownList!$L$3&\" \"&DropDownList!L4","v":"Vehicle 0 - 29,999 GT"}]
[{"$f":"DropDownList!$L$3&\" \"&DropDownList!L5","v":"Vehicle 30,000 - 49,999 GT"}]
[{"$f":"DropDownList!$L$3&\" \"&DropDownList!L6","v":"Vehicle 50,000-+ GT"}]
["Oil tanker 0 - 4,999 dwt",null,1,null,5875000,0.5,20000,null,25,0.02,0.06,0.04,0.02]
["Oil tanker 5,000 - 9,999 dwt",null,1,null,6462500,0.5,20000,null,25,0.02,0.06,0.04,0.02]
["Oil tanker 10,000 - 19,999 dwt",null,1,null,7050000,0.5,20000,null,25,0.02,0.06,0.04,0.02]
["Oil tanker 20,000 - 59,999 dwt",null,1,null,7637500,0.5,20000,null,25,0.02,0.06,0.04,0.02]
["Oil tanker 60,000 - 79,999 dwt",null,1,null,8225000,0.5,20000,null,25,0.02,0.06,0.04,0.02]
["Oil tanker 80,000 - 119,999 dwt",null,1,null,8812500,0.5,20000,null,25,0.02,0.06,0.04,0.02]
["Oil tanker 120,000 - 199,999 dwt",null,1,null,9400000,0.5,20000,null,25,0.02,0.06,0.04,0.02]
["Oil tanker 200,000-+ dwt",null,1,null,11162500,0.5,20000,null,25,0.02,0.06,0.04,0.02]
["Other liquids tankers 0-999 dwt",null,1,null,5875000,0.5,20000,null,25,0.02,0.06,0.04,0.02]
["Other liquids tankers 1,000-+ dwt",null,1,null,5875000,0.5,20000,null,25,0.02,0.06,0.04,0.02]

{"sheet":"Autopilot adjustment and use","index":31,"n_rows":66,"n_cols":13,"rows_kept":66,"cut":false,"hidden":false,"merged":[[0,0,1,0],[0,1,0,3],[0,6,0,7],[0,9,0,11]]}
["Ship type and size","Measure applicability to engines",null,null,"Installation","CAPEX Retrofit addition","Operational Cost",null,"Lifetime","Total fuel savings %",null,null,"EEXI / EEDI savings"]
[null,"Main","Aux","Boiler","$","%","$ per year","$ per 5 year","Years","Low","High","Typical","%"]
[{"$f":"DropDownList!$A$3&\" \"&DropDownList!A4","v":"Bulk carrier 0  - 9,999 dwt"},1,null,null,0,0,0,0,25,1E-3,0.01,3.0000000000000001E-3]
[{"$f":"DropDownList!$A$3&\" \"&DropDownList!A5","v":"Bulk carrier 10,000 - 34,999 dwt"},1,null,null,0,0,0,0,25,1E-3,0.01,3.0000000000000001E-3]
[{"$f":"DropDownList!$A$3&\" \"&DropDownList!A6","v":"Bulk carrier 35,000 - 59,999 dwt"},1,null,null,0,0,0,0,25,1E-3,0.01,3.0000000000000001E-3]
[{"$f":"DropDownList!$A$3&\" \"&DropDownList!A7","v":"Bulk carrier 60,000 - 99,999 dwt"},1,null,null,0,0,0,0,25,1E-3,0.01,3.0000000000000001E-3]
[{"$f":"DropDownList!$A$3&\" \"&DropDownList!A8","v":"Bulk carrier 100,000 - 199,999 dwt"},1,null,null,0,0,0,0,25,1E-3,0.01,3.0000000000000001E-3]
[{"$f":"DropDownList!$A$3&\" \"&DropDownList!A9","v":"Bulk carrier 200,000-+ dwt"},1,null,null,0,0,0,0,25,1E-3,0.01,3.0000000000000001E-3]
[{"$f":"DropDownList!$B$3&\" \"&DropDownList!B4","v":"Chemical tanker 0 - 4,999 dwt"},1,null,null,0,0,0,0,25,1E-3,0.01,3.0000000000000001E-3]
[{"$f":"DropDownList!$B$3&\" \"&DropDownList!B5","v":"Chemical tanker 5,000 - 9,999 dwt"},1,null,null,0,0,0,0,25,1E-3,0.01,3.0000000000000001E-3]
[{"$f":"DropDownList!$B$3&\" \"&DropDownList!B6","v":"Chemical tanker 10,000 - 19,999 dwt"},1,null,null,0,0,0,0,25,1E-3,0.01,3.0000000000000001E-3]
[{"$f":"DropDownList!$B$3&\" \"&DropDownList!B7","v":"Chemical tanker 20,000 - 39,999 dwt"},1,null,null,0,0,0,0,25,1E-3,0.01,3.0000000000000001E-3]
[{"$f":"DropDownList!$B$3&\" \"&DropDownList!B8","v":"Chemical tanker 40,000-+ dwt"},1,null,null,0,0,0,0,25,1E-3,0.01,3.0000000000000001E-3]
[{"$f":"DropDownList!$C$3&\" \"&DropDownList!C4","v":"Container 0-999 teu"},1,null,null,0,0,0,0,25,1E-3,0.01,3.0000000000000001E-3]
[{"$f":"DropDownList!$C$3&\" \"&DropDownList!C5","v":"Container 1,000 - 1,999 teu"},1,null,null,0,0,0,0,25,1E-3,0.01,3.0000000000000001E-3]
[{"$f":"DropDownList!$C$3&\" \"&DropDownList!C6","v":"Container 2,000 - 2,999 teu"},1,null,null,0,0,0,0,25,1E-3,0.01,3.0000000000000001E-3]
[{"$f":"DropDownList!$C$3&\" \"&DropDownList!C7","v":"Container 3,000 - 4,999 teu"},1,null,null,0,0,0,0,25,1E-3,0.01,3.0000000000000001E-3]
[{"$f":"DropDownList!$C$3&\" \"&DropDownList!C8","v":"Container 5,000 - 7,999 teu"},1,null,null,0,0,0,0,25,1E-3,0.01,3.0000000000000001E-3]
[{"$f":"DropDownList!$C$3&\" \"&DropDownList!C9","v":"Container 8,000 - 11,999 teu"},1,null,null,0,0,0,0,25,1E-3,0.01,3.0000000000000001E-3]
[{"$f":"DropDownList!$C$3&\" \"&DropDownList!C10","v":"Container 12,000 - 14,499 teu"},1,null,null,0,0,0,0,25,1E-3,0.01,3.0000000000000001E-3]
[{"$f":"DropDownList!$C$3&\" \"&DropDownList!C11","v":"Container 14,500 - 19,999 teu"},1,null,null,0,0,0,0,25,1E-3,0.01,3.0000000000000001E-3]
[{"$f":"DropDownList!$C$3&\" \"&DropDownList!C12","v":"Container 20,000-+ teu"},1,null,null,0,0,0,0,25,1E-3,0.01,3.0000000000000001E-3]
[{"$f":"DropDownList!$D$3&\" \"&DropDownList!D4","v":"General cargo 0 - 4,999 dwt"},1,null,null,0,0,0,0,25,1E-3,0.01,3.0000000000000001E-3]
[{"$f":"DropDownList!$D$3&\" \"&DropDownList!D5","v":"General cargo 5,000 - 9,999 dwt"},1,null,null,0,0,0,0,25,1E-3,0.01,3.0000000000000001E-3]
[{"$f":"DropDownList!$D$3&\" \"&DropDownList!D6","v":"General cargo 10,000 - 19,999 dwt"},1,null,null,0,0,0,0,25,1E-3,0.01,3.0000000000000001E-3]
[{"$f":"DropDownList!$D$3&\" \"&DropDownList!D7","v":"General cargo 20,000-+ dwt"},1,null,null,0,0,0,0,25,1E-3,0.01,3.0000000000000001E-3]
[{"$f":"DropDownList!$E$3&\" \"&DropDownList!E4","v":"Liquefied gas tanker 0 - 49,999 cbm"},1,null,null,0,0,0,0,25,1E-3,0.01,3.0000000000000001E-3]
[{"$f":"DropDownList!$E$3&\" \"&DropDownList!E5","v":"Liquefied gas tanker 40,000 - 99,999 cbm"},1,null,null,0,0,0,0,25,1E-3,0.01,3.0000000000000001E-3]
[{"$f":"DropDownList!$E$3&\" \"&DropDownList!E6","v":"Liquefied gas tanker 100,000 - 199,999 cbm"},1,null,null,0,0,0,0,25,1E-3,0.01,3.0000000000000001E-3]
[{"$f":"DropDownList!$E$3&\" \"&DropDownList!E7","v":"Liquefied gas tanker 200,000-+ cbm"},1,null,null,0,0,0,0,25,1E-3,0.01,3.0000000000000001E-3]
[{"$f":"DropDownList!$G$3&\" \"&DropDownList!G4","v":"Ferry-pax only 0 - 299 GT"},1,null,null,0,0,0,0,25,1E-3,0.01,3.0000000000000001E-3]
[{"$f":"DropDownList!$G$3&\" \"&DropDownList!G5","v":"Ferry-pax only 300 - 999 GT"},1,null,null,0,0,0,0,25,1E-3,0.01,3.0000000000000001E-3]
[{"$f":"DropDownList!$G$3&\" \"&DropDownList!G6","v":"Ferry-pax only 1,000 - 1,999 GT"},1,null,null,0,0,0,0,25,1E-3,0.01,3.0000000000000001E-3]
[{"$f":"DropDownList!$G$3&\" \"&DropDownList!G7","v":"Ferry-pax only 2,000-+ GT"},1,null,null,0,0,0,0,25,1E-3,0.01,3.0000000000000001E-3]
[{"$f":"DropDownList!$H$3&\" \"&DropDownList!H4","v":"Cruise 0 - 1,999 GT"},1,null,null,0,0,0,0,25,1E-3,0.01,3.0000000000000001E-3]
[{"$f":"DropDownList!$H$3&\" \"&DropDownList!H5","v":"Cruise 2,000 - 9,999 GT"},1,null,null,0,0,0,0,25,1E-3,0.01,3.0000000000000001E-3]
[{"$f":"DropDownList!$H$3&\" \"&DropDownList!H6","v":"Cruise 10,000 - 59,999 GT"},1,null,null,0,0,0,0,25,1E-3,0.01,3.0000000000000001E-3]
[{"$f":"DropDownList!$H$3&\" \"&DropDownList!H7","v":"Cruise 60,000 - 99,999 GT"},1,null,null,0,0,0,0,25,1E-3,0.01,3.0000000000000001E-3]
[{"$f":"DropDownList!$H$3&\" \"&DropDownList!H8","v":"Cruise 100,000 - 149,999 GT"},1,null,null,0,0,0,0,25,1E-3,0.01,3.0000000000000001E-3]
[{"$f":"DropDownList!$H$3&\" \"&DropDownList!H9","v":"Cruise 150,000-+ GT"},1,null,null,0,0,0,0,25,1E-3,0.01,3.0000000000000001E-3]
[{"$f":"DropDownList!$I$3&\" \"&DropDownList!I4","v":"Ferry-RoPax 0 - 1,999 GT"},1,null,null,0,0,0,0,25,1E-3,0.01,3.0000000000000001E-3]
[{"$f":"DropDownList!$I$3&\" \"&DropDownList!I5","v":"Ferry-RoPax 2,000 - 4,999 GT"},1,null,null,0,0,0,0,25,1E-3,0.01,3.0000000000000001E-3]
[{"$f":"DropDownList!$I$3&\" \"&DropDownList!I6","v":"Ferry-RoPax 5,000 - 9,999 GT"},1,null,null,0,0,0,0,25,1E-3,0.01,3.0000000000000001E-3]
[{"$f":"DropDownList!$I$3&\" \"&DropDownList!I7","v":"Ferry-RoPax 10,000 - 19,999 GT"},1,null,null,0,0,0,0,25,1E-3,0.01,3.0000000000000001E-3]
[{"$f":"DropDownList!$I$3&\" \"&DropDownList!I8","v":"Ferry-RoPax 20,000-+ GT"},1,null,null,0,0,0,0,25,1E-3,0.01,3.0000000000000001E-3]
[{"$f":"DropDownList!$J$3&\" \"&DropDownList!J4","v":"Refrigerated bulk 0 - 1,999 dwt"},1,null,null,0,0,0,0,25,1E-3,0.01,3.0000000000000001E-3]
[{"$f":"DropDownList!$J$3&\" \"&DropDownList!J5","v":"Refrigerated bulk 2,000 - 5,999 dwt"},1,null,null,0,0,0,0,25,1E-3,0.01,3.0000000000000001E-3]
[{"$f":"DropDownList!$J$3&\" \"&DropDownList!J6","v":"Refrigerated bulk 6,000 - 9,999 dwt"},1,null,null,0,0,0,0,25,1E-3,0.01,3.0000000000000001E-3]
[{"$f":"DropDownList!$J$3&\" \"&DropDownList!J7","v":"Refrigerated bulk 10,000-+ dwt"},1,null,null,0,0,0,0,25,1E-3,0.01,3.0000000000000001E-3]
[{"$f":"DropDownList!$K$3&\" \"&DropDownList!K4","v":"Ro-Ro 0 - 4,999 dwt"},1,null,null,0,0,0,0,25,1E-3,0.01,3.0000000000000001E-3]
[{"$f":"DropDownList!$K$3&\" \"&DropDownList!K5","v":"Ro-Ro 5,000 - 9,999 dwt"},1,null,null,0,0,0,0,25,1E-3,0.01,3.0000000000000001E-3]
[{"$f":"DropDownList!$K$3&\" \"&DropDownList!K6","v":"Ro-Ro 10,000 - 14,999 dwt"},1,null,null,0,0,0,0,25,1E-3,0.01,3.0000000000000001E-3]
[{"$f":"DropDownList!$K$3&\" \"&DropDownList!K7","v":"Ro-Ro 15,000-+ dwt"},1,null,null,0,0,0,0,25,1E-3,0.01,3.0000000000000001E-3]
[{"$f":"DropDownList!$L$3&\" \"&DropDownList!L4","v":"Vehicle 0 - 29,999 GT"},1,null,null,0,0,0,0,25,1E-3,0.01,3.0000000000000001E-3]
[{"$f":"DropDownList!$L$3&\" \"&DropDownList!L5","v":"Vehicle 30,000 - 49,999 GT"},1,null,null,0,0,0,0,25,1E-3,0.01,3.0000000000000001E-3]
[{"$f":"DropDownList!$L$3&\" \"&DropDownList!L6","v":"Vehicle 50,000-+ GT"},1,null,null,0,0,0,0,25,1E-3,0.01,3.0000000000000001E-3]
["Oil tanker 0 - 4,999 dwt",1,null,null,0,0,0,0,25,1E-3,0.01,3.0000000000000001E-3]
["Oil tanker 5,000 - 9,999 dwt",1,null,null,0,0,0,0,25,1E-3,0.01,3.0000000000000001E-3]
["Oil tanker 10,000 - 19,999 dwt",1,null,null,0,0,0,0,25,1E-3,0.01,3.0000000000000001E-3]
["Oil tanker 20,000 - 59,999 dwt",1,null,null,0,0,0,0,25,1E-3,0.01,3.0000000000000001E-3]
["Oil tanker 60,000 - 79,999 dwt",1,null,null,0,0,0,0,25,1E-3,0.01,3.0000000000000001E-3]
["Oil tanker 80,000 - 119,999 dwt",1,null,null,0,0,0,0,25,1E-3,0.01,3.0000000000000001E-3]
["Oil tanker 120,000 - 199,999 dwt",1,null,null,0,0,0,0,25,1E-3,0.01,3.0000000000000001E-3]
["Oil tanker 200,000-+ dwt",1,null,null,0,0,0,0,25,1E-3,0.01,3.0000000000000001E-3]
["Other liquids tankers 0-999 dwt",1,null,null,0,0,0,0,25,1E-3,0.01,3.0000000000000001E-3]
["Other liquids tankers 1,000-+ dwt",1,null,null,0,0,0,0,25,1E-3,0.01,3.0000000000000001E-3]

{"sheet":"Combinator optimizing","index":32,"n_rows":66,"n_cols":13,"rows_kept":66,"cut":false,"hidden":false,"merged":[[0,0,1,0],[0,1,0,3],[0,6,0,7],[0,9,0,11]]}
["Ship type and size","Measure applicability to engines",null,null,"Installation","CAPEX Retrofit addition","Operational Cost",null,"Lifetime","Total fuel savings %",null,null,"EEXI / EEDI savings"]
[null,"Main","Aux","Boiler","$","%","$ per year","$ per 5 year","Years","Low","High","Typical","%"]
[{"$f":"DropDownList!$A$3&\" \"&DropDownList!A4","v":"Bulk carrier 0  - 9,999 dwt"},1,null,null,1175,0,0,0,25,2E-3,0.03,0.01]
[{"$f":"DropDownList!$A$3&\" \"&DropDownList!A5","v":"Bulk carrier 10,000 - 34,999 dwt"},1,null,null,1175,0,0,0,25,2E-3,0.03,0.01]
[{"$f":"DropDownList!$A$3&\" \"&DropDownList!A6","v":"Bulk carrier 35,000 - 59,999 dwt"},1,null,null,1175,0,0,0,25,2E-3,0.03,0.01]
[{"$f":"DropDownList!$A$3&\" \"&DropDownList!A7","v":"Bulk carrier 60,000 - 99,999 dwt"},1,null,null,1175,0,0,0,25,2E-3,0.03,0.01]
[{"$f":"DropDownList!$A$3&\" \"&DropDownList!A8","v":"Bulk carrier 100,000 - 199,999 dwt"},1,null,null,1175,0,0,0,25,2E-3,0.03,0.01]
[{"$f":"DropDownList!$A$3&\" \"&DropDownList!A9","v":"Bulk carrier 200,000-+ dwt"},1,null,null,1175,0,0,0,25,2E-3,0.03,0.01]
[{"$f":"DropDownList!$B$3&\" \"&DropDownList!B4","v":"Chemical tanker 0 - 4,999 dwt"},1,null,null,1175,0,0,0,25,2E-3,0.03,0.01]
[{"$f":"DropDownList!$B$3&\" \"&DropDownList!B5","v":"Chemical tanker 5,000 - 9,999 dwt"},1,null,null,1175,0,0,0,25,2E-3,0.03,0.01]
[{"$f":"DropDownList!$B$3&\" \"&DropDownList!B6","v":"Chemical tanker 10,000 - 19,999 dwt"},1,null,null,1175,0,0,0,25,2E-3,0.03,0.01]
[{"$f":"DropDownList!$B$3&\" \"&DropDownList!B7","v":"Chemical tanker 20,000 - 39,999 dwt"},1,null,null,1175,0,0,0,25,2E-3,0.03,0.01]
[{"$f":"DropDownList!$B$3&\" \"&DropDownList!B8","v":"Chemical tanker 40,000-+ dwt"},1,null,null,1175,0,0,0,25,2E-3,0.03,0.01]
[{"$f":"DropDownList!$C$3&\" \"&DropDownList!C4","v":"Container 0-999 teu"},1,null,null,1175,0,0,0,25,2E-3,0.03,0.01]
[{"$f":"DropDownList!$C$3&\" \"&DropDownList!C5","v":"Container 1,000 - 1,999 teu"},1,null,null,1175,0,0,0,25,2E-3,0.03,0.01]
[{"$f":"DropDownList!$C$3&\" \"&DropDownList!C6","v":"Container 2,000 - 2,999 teu"},1,null,null,1175,0,0,0,25,2E-3,0.03,0.01]
[{"$f":"DropDownList!$C$3&\" \"&DropDownList!C7","v":"Container 3,000 - 4,999 teu"},1,null,null,1175,0,0,0,25,2E-3,0.03,0.01]
[{"$f":"DropDownList!$C$3&\" \"&DropDownList!C8","v":"Container 5,000 - 7,999 teu"},1,null,null,1175,0,0,0,25,2E-3,0.03,0.01]
[{"$f":"DropDownList!$C$3&\" \"&DropDownList!C9","v":"Container 8,000 - 11,999 teu"},1,null,null,1175,0,0,0,25,2E-3,0.03,0.01]
[{"$f":"DropDownList!$C$3&\" \"&DropDownList!C10","v":"Container 12,000 - 14,499 teu"},1,null,null,1175,0,0,0,25,2E-3,0.03,0.01]
[{"$f":"DropDownList!$C$3&\" \"&DropDownList!C11","v":"Container 14,500 - 19,999 teu"},1,null,null,1175,0,0,0,25,2E-3,0.03,0.01]
[{"$f":"DropDownList!$C$3&\" \"&DropDownList!C12","v":"Container 20,000-+ teu"},1,null,null,1175,0,0,0,25,2E-3,0.03,0.01]
[{"$f":"DropDownList!$D$3&\" \"&DropDownList!D4","v":"General cargo 0 - 4,999 dwt"},1,null,null,1175,0,0,0,25,2E-3,0.03,0.01]
[{"$f":"DropDownList!$D$3&\" \"&DropDownList!D5","v":"General cargo 5,000 - 9,999 dwt"},1,null,null,1175,0,0,0,25,2E-3,0.03,0.01]
[{"$f":"DropDownList!$D$3&\" \"&DropDownList!D6","v":"General cargo 10,000 - 19,999 dwt"},1,null,null,1175,0,0,0,25,2E-3,0.03,0.01]
[{"$f":"DropDownList!$D$3&\" \"&DropDownList!D7","v":"General cargo 20,000-+ dwt"},1,null,null,1175,0,0,0,25,2E-3,0.03,0.01]
[{"$f":"DropDownList!$E$3&\" \"&DropDownList!E4","v":"Liquefied gas tanker 0 - 49,999 cbm"},1,null,null,1175,0,0,0,25,2E-3,0.03,0.01]
[{"$f":"DropDownList!$E$3&\" \"&DropDownList!E5","v":"Liquefied gas tanker 40,000 - 99,999 cbm"},1,null,null,1175,0,0,0,25,2E-3,0.03,0.01]
[{"$f":"DropDownList!$E$3&\" \"&DropDownList!E6","v":"Liquefied gas tanker 100,000 - 199,999 cbm"},1,null,null,1175,0,0,0,25,2E-3,0.03,0.01]
[{"$f":"DropDownList!$E$3&\" \"&DropDownList!E7","v":"Liquefied gas tanker 200,000-+ cbm"},1,null,null,1175,0,0,0,25,2E-3,0.03,0.01]
[{"$f":"DropDownList!$G$3&\" \"&DropDownList!G4","v":"Ferry-pax only 0 - 299 GT"},1,null,null,1175,0,0,0,25,2E-3,0.03,0.01]
[{"$f":"DropDownList!$G$3&\" \"&DropDownList!G5","v":"Ferry-pax only 300 - 999 GT"},1,null,null,1175,0,0,0,25,2E-3,0.03,0.01]
[{"$f":"DropDownList!$G$3&\" \"&DropDownList!G6","v":"Ferry-pax only 1,000 - 1,999 GT"},1,null,null,1175,0,0,0,25,2E-3,0.03,0.01]
[{"$f":"DropDownList!$G$3&\" \"&DropDownList!G7","v":"Ferry-pax only 2,000-+ GT"},1,null,null,1175,0,0,0,25,2E-3,0.03,0.01]
[{"$f":"DropDownList!$H$3&\" \"&DropDownList!H4","v":"Cruise 0 - 1,999 GT"},1,null,null,1175,0,0,0,25,2E-3,0.03,0.01]
[{"$f":"DropDownList!$H$3&\" \"&DropDownList!H5","v":"Cruise 2,000 - 9,999 GT"},1,null,null,1175,0,0,0,25,2E-3,0.03,0.01]
[{"$f":"DropDownList!$H$3&\" \"&DropDownList!H6","v":"Cruise 10,000 - 59,999 GT"},1,null,null,1175,0,0,0,25,2E-3,0.03,0.01]
[{"$f":"DropDownList!$H$3&\" \"&DropDownList!H7","v":"Cruise 60,000 - 99,999 GT"},1,null,null,1175,0,0,0,25,2E-3,0.03,0.01]
[{"$f":"DropDownList!$H$3&\" \"&DropDownList!H8","v":"Cruise 100,000 - 149,999 GT"},1,null,null,1175,0,0,0,25,2E-3,0.03,0.01]
[{"$f":"DropDownList!$H$3&\" \"&DropDownList!H9","v":"Cruise 150,000-+ GT"},1,null,null,1175,0,0,0,25,2E-3,0.03,0.01]
[{"$f":"DropDownList!$I$3&\" \"&DropDownList!I4","v":"Ferry-RoPax 0 - 1,999 GT"},1,null,null,1175,0,0,0,25,2E-3,0.03,0.01]
[{"$f":"DropDownList!$I$3&\" \"&DropDownList!I5","v":"Ferry-RoPax 2,000 - 4,999 GT"},1,null,null,1175,0,0,0,25,2E-3,0.03,0.01]
[{"$f":"DropDownList!$I$3&\" \"&DropDownList!I6","v":"Ferry-RoPax 5,000 - 9,999 GT"},1,null,null,1175,0,0,0,25,2E-3,0.03,0.01]
[{"$f":"DropDownList!$I$3&\" \"&DropDownList!I7","v":"Ferry-RoPax 10,000 - 19,999 GT"},1,null,null,1175,0,0,0,25,2E-3,0.03,0.01]
[{"$f":"DropDownList!$I$3&\" \"&DropDownList!I8","v":"Ferry-RoPax 20,000-+ GT"},1,null,null,1175,0,0,0,25,2E-3,0.03,0.01]
[{"$f":"DropDownList!$J$3&\" \"&DropDownList!J4","v":"Refrigerated bulk 0 - 1,999 dwt"},1,null,null,1175,0,0,0,25,2E-3,0.03,0.01]
[{"$f":"DropDownList!$J$3&\" \"&DropDownList!J5","v":"Refrigerated bulk 2,000 - 5,999 dwt"},1,null,null,1175,0,0,0,25,2E-3,0.03,0.01]
[{"$f":"DropDownList!$J$3&\" \"&DropDownList!J6","v":"Refrigerated bulk 6,000 - 9,999 dwt"},1,null,null,1175,0,0,0,25,2E-3,0.03,0.01]
[{"$f":"DropDownList!$J$3&\" \"&DropDownList!J7","v":"Refrigerated bulk 10,000-+ dwt"},1,null,null,1175,0,0,0,25,2E-3,0.03,0.01]
[{"$f":"DropDownList!$K$3&\" \"&DropDownList!K4","v":"Ro-Ro 0 - 4,999 dwt"},1,null,null,1175,0,0,0,25,2E-3,0.03,0.01]
[{"$f":"DropDownList!$K$3&\" \"&DropDownList!K5","v":"Ro-Ro 5,000 - 9,999 dwt"},1,null,null,1175,0,0,0,25,2E-3,0.03,0.01]
[{"$f":"DropDownList!$K$3&\" \"&DropDownList!K6","v":"Ro-Ro 10,000 - 14,999 dwt"},1,null,null,1175,0,0,0,25,2E-3,0.03,0.01]
[{"$f":"DropDownList!$K$3&\" \"&DropDownList!K7","v":"Ro-Ro 15,000-+ dwt"},1,null,null,1175,0,0,0,25,2E-3,0.03,0.01]
[{"$f":"DropDownList!$L$3&\" \"&DropDownList!L4","v":"Vehicle 0 - 29,999 GT"},1,null,null,1175,0,0,0,25,2E-3,0.03,0.01]
[{"$f":"DropDownList!$L$3&\" \"&DropDownList!L5","v":"Vehicle 30,000 - 49,999 GT"},1,null,null,1175,0,0,0,25,2E-3,0.03,0.01]
[{"$f":"DropDownList!$L$3&\" \"&DropDownList!L6","v":"Vehicle 50,000-+ GT"},1,null,null,1175,0,0,0,25,2E-3,0.03,0.01]
["Oil tanker 0 - 4,999 dwt",1,null,null,1175,0,0,0,25,2E-3,0.03,0.01]
["Oil tanker 5,000 - 9,999 dwt",1,null,null,1175,0,0,0,25,2E-3,0.03,0.01]
["Oil tanker 10,000 - 19,999 dwt",1,null,null,1175,0,0,0,25,2E-3,0.03,0.01]
["Oil tanker 20,000 - 59,999 dwt",1,null,null,1175,0,0,0,25,2E-3,0.03,0.01]
["Oil tanker 60,000 - 79,999 dwt",1,null,null,1175,0,0,0,25,2E-3,0.03,0.01]
["Oil tanker 80,000 - 119,999 dwt",1,null,null,1175,0,0,0,25,2E-3,0.03,0.01]
["Oil tanker 120,000 - 199,999 dwt",1,null,null,1175,0,0,0,25,2E-3,0.03,0.01]
["Oil tanker 200,000-+ dwt",1,null,null,1175,0,0,0,25,2E-3,0.03,0.01]
["Other liquids tankers 0-999 dwt",1,null,null,1175,0,0,0,25,2E-3,0.03,0.01]
["Other liquids tankers 1,000-+ dwt",1,null,null,1175,0,0,0,25,2E-3,0.03,0.01]

{"sheet":"Efficient DP operation","index":33,"n_rows":66,"n_cols":12,"rows_kept":66,"cut":false,"hidden":true,"merged":[[0,0,1,0],[0,1,0,3],[0,5,0,6],[0,8,0,10]]}
["Ship type and size","Measure applicability to engines",null,null,"Installation","Operational Cost",null,"Liefe time","Total fuel savings",null,null,"EEXI / EEDI savings"]
[null,"Main","Aux","Boiler","$","$ per year","$ per 5 year","Years","Low","high","Typical","%"]
[{"$f":"DropDownList!$A$3&\" \"&DropDownList!A4","v":"Bulk carrier 0  - 9,999 dwt"}]
[{"$f":"DropDownList!$A$3&\" \"&DropDownList!A5","v":"Bulk carrier 10,000 - 34,999 dwt"}]
[{"$f":"DropDownList!$A$3&\" \"&DropDownList!A6","v":"Bulk carrier 35,000 - 59,999 dwt"}]
[{"$f":"DropDownList!$A$3&\" \"&DropDownList!A7","v":"Bulk carrier 60,000 - 99,999 dwt"}]
[{"$f":"DropDownList!$A$3&\" \"&DropDownList!A8","v":"Bulk carrier 100,000 - 199,999 dwt"}]
[{"$f":"DropDownList!$A$3&\" \"&DropDownList!A9","v":"Bulk carrier 200,000-+ dwt"}]
[{"$f":"DropDownList!$B$3&\" \"&DropDownList!B4","v":"Chemical tanker 0 - 4,999 dwt"}]
[{"$f":"DropDownList!$B$3&\" \"&DropDownList!B5","v":"Chemical tanker 5,000 - 9,999 dwt"}]
[{"$f":"DropDownList!$B$3&\" \"&DropDownList!B6","v":"Chemical tanker 10,000 - 19,999 dwt"}]
[{"$f":"DropDownList!$B$3&\" \"&DropDownList!B7","v":"Chemical tanker 20,000 - 39,999 dwt"}]
[{"$f":"DropDownList!$B$3&\" \"&DropDownList!B8","v":"Chemical tanker 40,000-+ dwt"}]
[{"$f":"DropDownList!$C$3&\" \"&DropDownList!C4","v":"Container 0-999 teu"}]
[{"$f":"DropDownList!$C$3&\" \"&DropDownList!C5","v":"Container 1,000 - 1,999 teu"}]
[{"$f":"DropDownList!$C$3&\" \"&DropDownList!C6","v":"Container 2,000 - 2,999 teu"}]
[{"$f":"DropDownList!$C$3&\" \"&DropDownList!C7","v":"Container 3,000 - 4,999 teu"}]
[{"$f":"DropDownList!$C$3&\" \"&DropDownList!C8","v":"Container 5,000 - 7,999 teu"}]
[{"$f":"DropDownList!$C$3&\" \"&DropDownList!C9","v":"Container 8,000 - 11,999 teu"}]
[{"$f":"DropDownList!$C$3&\" \"&DropDownList!C10","v":"Container 12,000 - 14,499 teu"}]
[{"$f":"DropDownList!$C$3&\" \"&DropDownList!C11","v":"Container 14,500 - 19,999 teu"}]
[{"$f":"DropDownList!$C$3&\" \"&DropDownList!C12","v":"Container 20,000-+ teu"}]
[{"$f":"DropDownList!$D$3&\" \"&DropDownList!D4","v":"General cargo 0 - 4,999 dwt"}]
[{"$f":"DropDownList!$D$3&\" \"&DropDownList!D5","v":"General cargo 5,000 - 9,999 dwt"}]
[{"$f":"DropDownList!$D$3&\" \"&DropDownList!D6","v":"General cargo 10,000 - 19,999 dwt"}]
[{"$f":"DropDownList!$D$3&\" \"&DropDownList!D7","v":"General cargo 20,000-+ dwt"}]
[{"$f":"DropDownList!$E$3&\" \"&DropDownList!E4","v":"Liquefied gas tanker 0 - 49,999 cbm"}]
[{"$f":"DropDownList!$E$3&\" \"&DropDownList!E5","v":"Liquefied gas tanker 40,000 - 99,999 cbm"}]
[{"$f":"DropDownList!$E$3&\" \"&DropDownList!E6","v":"Liquefied gas tanker 100,000 - 199,999 cbm"}]
[{"$f":"DropDownList!$E$3&\" \"&DropDownList!E7","v":"Liquefied gas tanker 200,000-+ cbm"}]
[{"$f":"DropDownList!$G$3&\" \"&DropDownList!G4","v":"Ferry-pax only 0 - 299 GT"}]
[{"$f":"DropDownList!$G$3&\" \"&DropDownList!G5","v":"Ferry-pax only 300 - 999 GT"}]
[{"$f":"DropDownList!$G$3&\" \"&DropDownList!G6","v":"Ferry-pax only 1,000 - 1,999 GT"}]
[{"$f":"DropDownList!$G$3&\" \"&DropDownList!G7","v":"Ferry-pax only 2,000-+ GT"}]
[{"$f":"DropDownList!$H$3&\" \"&DropDownList!H4","v":"Cruise 0 - 1,999 GT"}]
[{"$f":"DropDownList!$H$3&\" \"&DropDownList!H5","v":"Cruise 2,000 - 9,999 GT"}]
[{"$f":"DropDownList!$H$3&\" \"&DropDownList!H6","v":"Cruise 10,000 - 59,999 GT"}]
[{"$f":"DropDownList!$H$3&\" \"&DropDownList!H7","v":"Cruise 60,000 - 99,999 GT"}]
[{"$f":"DropDownList!$H$3&\" \"&DropDownList!H8","v":"Cruise 100,000 - 149,999 GT"}]
[{"$f":"DropDownList!$H$3&\" \"&DropDownList!H9","v":"Cruise 150,000-+ GT"}]
[{"$f":"DropDownList!$I$3&\" \"&DropDownList!I4","v":"Ferry-RoPax 0 - 1,999 GT"}]
[{"$f":"DropDownList!$I$3&\" \"&DropDownList!I5","v":"Ferry-RoPax 2,000 - 4,999 GT"}]
[{"$f":"DropDownList!$I$3&\" \"&DropDownList!I6","v":"Ferry-RoPax 5,000 - 9,999 GT"}]
[{"$f":"DropDownList!$I$3&\" \"&DropDownList!I7","v":"Ferry-RoPax 10,000 - 19,999 GT"}]
[{"$f":"DropDownList!$I$3&\" \"&DropDownList!I8","v":"Ferry-RoPax 20,000-+ GT"}]
[{"$f":"DropDownList!$J$3&\" \"&DropDownList!J4","v":"Refrigerated bulk 0 - 1,999 dwt"}]
[{"$f":"DropDownList!$J$3&\" \"&DropDownList!J5","v":"Refrigerated bulk 2,000 - 5,999 dwt"}]
[{"$f":"DropDownList!$J$3&\" \"&DropDownList!J6","v":"Refrigerated bulk 6,000 - 9,999 dwt"}]
[{"$f":"DropDownList!$J$3&\" \"&DropDownList!J7","v":"Refrigerated bulk 10,000-+ dwt"}]
[{"$f":"DropDownList!$K$3&\" \"&DropDownList!K4","v":"Ro-Ro 0 - 4,999 dwt"}]
[{"$f":"DropDownList!$K$3&\" \"&DropDownList!K5","v":"Ro-Ro 5,000 - 9,999 dwt"}]
[{"$f":"DropDownList!$K$3&\" \"&DropDownList!K6","v":"Ro-Ro 10,000 - 14,999 dwt"}]
[{"$f":"DropDownList!$K$3&\" \"&DropDownList!K7","v":"Ro-Ro 15,000-+ dwt"}]
[{"$f":"DropDownList!$L$3&\" \"&DropDownList!L4","v":"Vehicle 0 - 29,999 GT"}]
[{"$f":"DropDownList!$L$3&\" \"&DropDownList!L5","v":"Vehicle 30,000 - 49,999 GT"}]
[{"$f":"DropDownList!$L$3&\" \"&DropDownList!L6","v":"Vehicle 50,000-+ GT"}]
["Oil tanker 0 - 4,999 dwt"]
["Oil tanker 5,000 - 9,999 dwt"]
["Oil tanker 10,000 - 19,999 dwt"]
["Oil tanker 20,000 - 59,999 dwt"]
["Oil tanker 60,000 - 79,999 dwt"]
["Oil tanker 80,000 - 119,999 dwt"]
["Oil tanker 120,000 - 199,999 dwt"]
["Oil tanker 200,000-+ dwt"]
["Other liquids tankers 0-999 dwt"]
["Other liquids tankers 1,000-+ dwt"]

{"sheet":"Speed management","index":34,"n_rows":66,"n_cols":13,"rows_kept":66,"cut":false,"hidden":false,"merged":[[0,0,1,0],[0,1,0,3],[0,6,0,7],[0,9,0,11]]}
["Ship type and size","Measure applicability to engines",null,null,"Installation","CAPEX Retrofit addition","Operational Cost",null,"Lifetime","Total fuel savings %",null,null,"EEXI / EEDI savings"]
[null,"Main","Aux","Boiler","$","%","$ per year","$ per 5 year","Years","Low","High","Typical","%"]
[{"$f":"DropDownList!$A$3&\" \"&DropDownList!A4","v":"Bulk carrier 0  - 9,999 dwt"},1,null,null,0,0,0,0,25,0.03,0.12,0.04]
[{"$f":"DropDownList!$A$3&\" \"&DropDownList!A5","v":"Bulk carrier 10,000 - 34,999 dwt"},1,null,null,0,0,0,0,25,0.03,0.12,0.04]
[{"$f":"DropDownList!$A$3&\" \"&DropDownList!A6","v":"Bulk carrier 35,000 - 59,999 dwt"},1,null,null,0,0,0,0,25,0.03,0.12,0.04]
[{"$f":"DropDownList!$A$3&\" \"&DropDownList!A7","v":"Bulk carrier 60,000 - 99,999 dwt"},1,null,null,0,0,0,0,25,0.03,0.12,0.04]
[{"$f":"DropDownList!$A$3&\" \"&DropDownList!A8","v":"Bulk carrier 100,000 - 199,999 dwt"},1,null,null,0,0,0,0,25,0.03,0.12,0.04]
[{"$f":"DropDownList!$A$3&\" \"&DropDownList!A9","v":"Bulk carrier 200,000-+ dwt"},1,null,null,0,0,0,0,25,0.03,0.12,0.04]
[{"$f":"DropDownList!$B$3&\" \"&DropDownList!B4","v":"Chemical tanker 0 - 4,999 dwt"},1,null,null,0,0,0,0,25,0.03,0.12,0.04]
[{"$f":"DropDownList!$B$3&\" \"&DropDownList!B5","v":"Chemical tanker 5,000 - 9,999 dwt"},1,null,null,0,0,0,0,25,0.03,0.12,0.04]
[{"$f":"DropDownList!$B$3&\" \"&DropDownList!B6","v":"Chemical tanker 10,000 - 19,999 dwt"},1,null,null,0,0,0,0,25,0.03,0.12,0.04]
[{"$f":"DropDownList!$B$3&\" \"&DropDownList!B7","v":"Chemical tanker 20,000 - 39,999 dwt"},1,null,null,0,0,0,0,25,0.03,0.12,0.04]
[{"$f":"DropDownList!$B$3&\" \"&DropDownList!B8","v":"Chemical tanker 40,000-+ dwt"},1,null,null,0,0,0,0,25,0.03,0.12,0.04]
[{"$f":"DropDownList!$C$3&\" \"&DropDownList!C4","v":"Container 0-999 teu"},1,null,null,0,0,0,0,25,0.03,0.12,0.04]
[{"$f":"DropDownList!$C$3&\" \"&DropDownList!C5","v":"Container 1,000 - 1,999 teu"},1,null,null,0,0,0,0,25,0.03,0.12,0.04]
[{"$f":"DropDownList!$C$3&\" \"&DropDownList!C6","v":"Container 2,000 - 2,999 teu"},1,null,null,0,0,0,0,25,0.03,0.12,0.04]
[{"$f":"DropDownList!$C$3&\" \"&DropDownList!C7","v":"Container 3,000 - 4,999 teu"},1,null,null,0,0,0,0,25,0.03,0.12,0.04]
[{"$f":"DropDownList!$C$3&\" \"&DropDownList!C8","v":"Container 5,000 - 7,999 teu"},1,null,null,0,0,0,0,25,0.03,0.12,0.04]
[{"$f":"DropDownList!$C$3&\" \"&DropDownList!C9","v":"Container 8,000 - 11,999 teu"},1,null,null,0,0,0,0,25,0.03,0.12,0.04]
[{"$f":"DropDownList!$C$3&\" \"&DropDownList!C10","v":"Container 12,000 - 14,499 teu"},1,null,null,0,0,0,0,25,0.03,0.12,0.04]
[{"$f":"DropDownList!$C$3&\" \"&DropDownList!C11","v":"Container 14,500 - 19,999 teu"},1,null,null,0,0,0,0,25,0.03,0.12,0.04]
[{"$f":"DropDownList!$C$3&\" \"&DropDownList!C12","v":"Container 20,000-+ teu"},1,null,null,0,0,0,0,25,0.03,0.12,0.04]
[{"$f":"DropDownList!$D$3&\" \"&DropDownList!D4","v":"General cargo 0 - 4,999 dwt"},1,null,null,0,0,0,0,25,0.03,0.12,0.04]
[{"$f":"DropDownList!$D$3&\" \"&DropDownList!D5","v":"General cargo 5,000 - 9,999 dwt"},1,null,null,0,0,0,0,25,0.03,0.12,0.04]
[{"$f":"DropDownList!$D$3&\" \"&DropDownList!D6","v":"General cargo 10,000 - 19,999 dwt"},1,null,null,0,0,0,0,25,0.03,0.12,0.04]
[{"$f":"DropDownList!$D$3&\" \"&DropDownList!D7","v":"General cargo 20,000-+ dwt"},1,null,null,0,0,0,0,25,0.03,0.12,0.04]
[{"$f":"DropDownList!$E$3&\" \"&DropDownList!E4","v":"Liquefied gas tanker 0 - 49,999 cbm"},1,null,null,0,0,0,0,25,0.03,0.12,0.04]
[{"$f":"DropDownList!$E$3&\" \"&DropDownList!E5","v":"Liquefied gas tanker 40,000 - 99,999 cbm"},1,null,null,0,0,0,0,25,0.03,0.12,0.04]
[{"$f":"DropDownList!$E$3&\" \"&DropDownList!E6","v":"Liquefied gas tanker 100,000 - 199,999 cbm"},1,null,null,0,0,0,0,25,0.03,0.12,0.04]
[{"$f":"DropDownList!$E$3&\" \"&DropDownList!E7","v":"Liquefied gas tanker 200,000-+ cbm"},1,null,null,0,0,0,0,25,0.03,0.12,0.04]
[{"$f":"DropDownList!$G$3&\" \"&DropDownList!G4","v":"Ferry-pax only 0 - 299 GT"},1,null,null,0,0,0,0,25,0.03,0.12,0.04]
[{"$f":"DropDownList!$G$3&\" \"&DropDownList!G5","v":"Ferry-pax only 300 - 999 GT"},1,null,null,0,0,0,0,25,0.03,0.12,0.04]
[{"$f":"DropDownList!$G$3&\" \"&DropDownList!G6","v":"Ferry-pax only 1,000 - 1,999 GT"},1,null,null,0,0,0,0,25,0.03,0.12,0.04]
[{"$f":"DropDownList!$G$3&\" \"&DropDownList!G7","v":"Ferry-pax only 2,000-+ GT"},1,null,null,0,0,0,0,25,0.03,0.12,0.04]
[{"$f":"DropDownList!$H$3&\" \"&DropDownList!H4","v":"Cruise 0 - 1,999 GT"},1,null,null,0,0,0,0,25,0.03,0.12,0.04]
[{"$f":"DropDownList!$H$3&\" \"&DropDownList!H5","v":"Cruise 2,000 - 9,999 GT"},1,null,null,0,0,0,0,25,0.03,0.12,0.04]
[{"$f":"DropDownList!$H$3&\" \"&DropDownList!H6","v":"Cruise 10,000 - 59,999 GT"},1,null,null,0,0,0,0,25,0.03,0.12,0.04]
[{"$f":"DropDownList!$H$3&\" \"&DropDownList!H7","v":"Cruise 60,000 - 99,999 GT"},1,null,null,0,0,0,0,25,0.03,0.12,0.04]
[{"$f":"DropDownList!$H$3&\" \"&DropDownList!H8","v":"Cruise 100,000 - 149,999 GT"},1,null,null,0,0,0,0,25,0.03,0.12,0.04]
[{"$f":"DropDownList!$H$3&\" \"&DropDownList!H9","v":"Cruise 150,000-+ GT"},1,null,null,0,0,0,0,25,0.03,0.12,0.04]
[{"$f":"DropDownList!$I$3&\" \"&DropDownList!I4","v":"Ferry-RoPax 0 - 1,999 GT"},1,null,null,0,0,0,0,25,0.03,0.12,0.04]
[{"$f":"DropDownList!$I$3&\" \"&DropDownList!I5","v":"Ferry-RoPax 2,000 - 4,999 GT"},1,null,null,0,0,0,0,25,0.03,0.12,0.04]
[{"$f":"DropDownList!$I$3&\" \"&DropDownList!I6","v":"Ferry-RoPax 5,000 - 9,999 GT"},1,null,null,0,0,0,0,25,0.03,0.12,0.04]
[{"$f":"DropDownList!$I$3&\" \"&DropDownList!I7","v":"Ferry-RoPax 10,000 - 19,999 GT"},1,null,null,0,0,0,0,25,0.03,0.12,0.04]
[{"$f":"DropDownList!$I$3&\" \"&DropDownList!I8","v":"Ferry-RoPax 20,000-+ GT"},1,null,null,0,0,0,0,25,0.03,0.12,0.04]
[{"$f":"DropDownList!$J$3&\" \"&DropDownList!J4","v":"Refrigerated bulk 0 - 1,999 dwt"},1,null,null,0,0,0,0,25,0.03,0.12,0.04]
[{"$f":"DropDownList!$J$3&\" \"&DropDownList!J5","v":"Refrigerated bulk 2,000 - 5,999 dwt"},1,null,null,0,0,0,0,25,0.03,0.12,0.04]
[{"$f":"DropDownList!$J$3&\" \"&DropDownList!J6","v":"Refrigerated bulk 6,000 - 9,999 dwt"},1,null,null,0,0,0,0,25,0.03,0.12,0.04]
[{"$f":"DropDownList!$J$3&\" \"&DropDownList!J7","v":"Refrigerated bulk 10,000-+ dwt"},1,null,null,0,0,0,0,25,0.03,0.12,0.04]
[{"$f":"DropDownList!$K$3&\" \"&DropDownList!K4","v":"Ro-Ro 0 - 4,999 dwt"},1,null,null,0,0,0,0,25,0.03,0.12,0.04]
[{"$f":"DropDownList!$K$3&\" \"&DropDownList!K5","v":"Ro-Ro 5,000 - 9,999 dwt"},1,null,null,0,0,0,0,25,0.03,0.12,0.04]
[{"$f":"DropDownList!$K$3&\" \"&DropDownList!K6","v":"Ro-Ro 10,000 - 14,999 dwt"},1,null,null,0,0,0,0,25,0.03,0.12,0.04]
[{"$f":"DropDownList!$K$3&\" \"&DropDownList!K7","v":"Ro-Ro 15,000-+ dwt"},1,null,null,0,0,0,0,25,0.03,0.12,0.04]
[{"$f":"DropDownList!$L$3&\" \"&DropDownList!L4","v":"Vehicle 0 - 29,999 GT"},1,null,null,0,0,0,0,25,0.03,0.12,0.04]
[{"$f":"DropDownList!$L$3&\" \"&DropDownList!L5","v":"Vehicle 30,000 - 49,999 GT"},1,null,null,0,0,0,0,25,0.03,0.12,0.04]
[{"$f":"DropDownList!$L$3&\" \"&DropDownList!L6","v":"Vehicle 50,000-+ GT"},1,null,null,0,0,0,0,25,0.03,0.12,0.04]
["Oil tanker 0 - 4,999 dwt",1,null,null,0,0,0,0,25,0.03,0.12,0.04]
["Oil tanker 5,000 - 9,999 dwt",1,null,null,0,0,0,0,25,0.03,0.12,0.04]
["Oil tanker 10,000 - 19,999 dwt",1,null,null,0,0,0,0,25,0.03,0.12,0.04]
["Oil tanker 20,000 - 59,999 dwt",1,null,null,0,0,0,0,25,0.03,0.12,0.04]
["Oil tanker 60,000 - 79,999 dwt",1,null,null,0,0,0,0,25,0.03,0.12,0.04]
["Oil tanker 80,000 - 119,999 dwt",1,null,null,0,0,0,0,25,0.03,0.12,0.04]
["Oil tanker 120,000 - 199,999 dwt",1,null,null,0,0,0,0,25,0.03,0.12,0.04]
["Oil tanker 200,000-+ dwt",1,null,null,0,0,0,0,25,0.03,0.12,0.04]
["Other liquids tankers 0-999 dwt",1,null,null,0,0,0,0,25,0.03,0.12,0.04]
["Other liquids tankers 1,000-+ dwt",1,null,null,0,0,0,0,25,0.03,0.12,0.04]

{"sheet":"Trim and draft optimization","index":35,"n_rows":66,"n_cols":13,"rows_kept":66,"cut":false,"hidden":false,"merged":[[0,0,1,0],[0,1,0,3],[0,6,0,7],[0,9,0,11]]}
["Ship type and size","Measure applicability to engines",null,null,"Installation","CAPEX Retrofit addition","Operational Cost",null,"Lifetime","Total fuel savings %",null,null,"EEXI / EEDI savings"]
[null,"Main","Aux","Boiler","$","%","$ per year","$ per 5 year","Years","Low","High","Typical","%"]
[{"$f":"DropDownList!$A$3&\" \"&DropDownList!A4","v":"Bulk carrier 0  - 9,999 dwt"},1,null,null,35250,0,0,0,25,5.0000000000000001E-3,0.05,0.02]
[{"$f":"DropDownList!$A$3&\" \"&DropDownList!A5","v":"Bulk carrier 10,000 - 34,999 dwt"},1,null,null,35250,0,0,0,25,5.0000000000000001E-3,0.05,0.02]
[{"$f":"DropDownList!$A$3&\" \"&DropDownList!A6","v":"Bulk carrier 35,000 - 59,999 dwt"},1,null,null,35250,0,0,0,25,5.0000000000000001E-3,0.05,0.02]
[{"$f":"DropDownList!$A$3&\" \"&DropDownList!A7","v":"Bulk carrier 60,000 - 99,999 dwt"},1,null,null,35250,0,0,0,25,5.0000000000000001E-3,0.05,0.02]
[{"$f":"DropDownList!$A$3&\" \"&DropDownList!A8","v":"Bulk carrier 100,000 - 199,999 dwt"},1,null,null,35250,0,0,0,25,5.0000000000000001E-3,0.05,0.02]
[{"$f":"DropDownList!$A$3&\" \"&DropDownList!A9","v":"Bulk carrier 200,000-+ dwt"},1,null,null,35250,0,0,0,25,5.0000000000000001E-3,0.05,0.02]
[{"$f":"DropDownList!$B$3&\" \"&DropDownList!B4","v":"Chemical tanker 0 - 4,999 dwt"},1,null,null,35250,0,0,0,25,5.0000000000000001E-3,0.05,0.02]
[{"$f":"DropDownList!$B$3&\" \"&DropDownList!B5","v":"Chemical tanker 5,000 - 9,999 dwt"},1,null,null,35250,0,0,0,25,5.0000000000000001E-3,0.05,0.02]
[{"$f":"DropDownList!$B$3&\" \"&DropDownList!B6","v":"Chemical tanker 10,000 - 19,999 dwt"},1,null,null,35250,0,0,0,25,5.0000000000000001E-3,0.05,0.02]
[{"$f":"DropDownList!$B$3&\" \"&DropDownList!B7","v":"Chemical tanker 20,000 - 39,999 dwt"},1,null,null,35250,0,0,0,25,5.0000000000000001E-3,0.05,0.02]
[{"$f":"DropDownList!$B$3&\" \"&DropDownList!B8","v":"Chemical tanker 40,000-+ dwt"},1,null,null,35250,0,0,0,25,5.0000000000000001E-3,0.05,0.02]
[{"$f":"DropDownList!$C$3&\" \"&DropDownList!C4","v":"Container 0-999 teu"},1,null,null,35250,0,0,0,25,5.0000000000000001E-3,0.05,0.03]
[{"$f":"DropDownList!$C$3&\" \"&DropDownList!C5","v":"Container 1,000 - 1,999 teu"},1,null,null,35250,0,0,0,25,5.0000000000000001E-3,0.05,0.03]
[{"$f":"DropDownList!$C$3&\" \"&DropDownList!C6","v":"Container 2,000 - 2,999 teu"},1,null,null,35250,0,0,0,25,5.0000000000000001E-3,0.05,0.03]
[{"$f":"DropDownList!$C$3&\" \"&DropDownList!C7","v":"Container 3,000 - 4,999 teu"},1,null,null,35250,0,0,0,25,5.0000000000000001E-3,0.05,0.03]
[{"$f":"DropDownList!$C$3&\" \"&DropDownList!C8","v":"Container 5,000 - 7,999 teu"},1,null,null,35250,0,0,0,25,5.0000000000000001E-3,0.05,0.03]
[{"$f":"DropDownList!$C$3&\" \"&DropDownList!C9","v":"Container 8,000 - 11,999 teu"},1,null,null,35250,0,0,0,25,5.0000000000000001E-3,0.05,0.03]
[{"$f":"DropDownList!$C$3&\" \"&DropDownList!C10","v":"Container 12,000 - 14,499 teu"},1,null,null,35250,0,0,0,25,5.0000000000000001E-3,0.05,0.03]
[{"$f":"DropDownList!$C$3&\" \"&DropDownList!C11","v":"Container 14,500 - 19,999 teu"},1,null,null,35250,0,0,0,25,5.0000000000000001E-3,0.05,0.03]
[{"$f":"DropDownList!$C$3&\" \"&DropDownList!C12","v":"Container 20,000-+ teu"},1,null,null,35250,0,0,0,25,5.0000000000000001E-3,0.05,0.03]
[{"$f":"DropDownList!$D$3&\" \"&DropDownList!D4","v":"General cargo 0 - 4,999 dwt"},1,null,null,35250,0,0,0,25,5.0000000000000001E-3,0.05,0.02]
[{"$f":"DropDownList!$D$3&\" \"&DropDownList!D5","v":"General cargo 5,000 - 9,999 dwt"},1,null,null,35250,0,0,0,25,5.0000000000000001E-3,0.05,0.02]
[{"$f":"DropDownList!$D$3&\" \"&DropDownList!D6","v":"General cargo 10,000 - 19,999 dwt"},1,null,null,35250,0,0,0,25,5.0000000000000001E-3,0.05,0.02]
[{"$f":"DropDownList!$D$3&\" \"&DropDownList!D7","v":"General cargo 20,000-+ dwt"},1,null,null,35250,0,0,0,25,5.0000000000000001E-3,0.05,0.02]
[{"$f":"DropDownList!$E$3&\" \"&DropDownList!E4","v":"Liquefied gas tanker 0 - 49,999 cbm"},1,null,null,35250,0,0,0,25,5.0000000000000001E-3,0.05,0.02]
[{"$f":"DropDownList!$E$3&\" \"&DropDownList!E5","v":"Liquefied gas tanker 40,000 - 99,999 cbm"},1,null,null,35250,0,0,0,25,5.0000000000000001E-3,0.05,0.02]
[{"$f":"DropDownList!$E$3&\" \"&DropDownList!E6","v":"Liquefied gas tanker 100,000 - 199,999 cbm"},1,null,null,35250,0,0,0,25,5.0000000000000001E-3,0.05,0.02]
[{"$f":"DropDownList!$E$3&\" \"&DropDownList!E7","v":"Liquefied gas tanker 200,000-+ cbm"},1,null,null,35250,0,0,0,25,5.0000000000000001E-3,0.05,0.02]
[{"$f":"DropDownList!$G$3&\" \"&DropDownList!G4","v":"Ferry-pax only 0 - 299 GT"},1,null,null,35250,0,0,0,25,5.0000000000000001E-3,0.05,0.02]
[{"$f":"DropDownList!$G$3&\" \"&DropDownList!G5","v":"Ferry-pax only 300 - 999 GT"},1,null,null,35250,0,0,0,25,5.0000000000000001E-3,0.05,0.02]
[{"$f":"DropDownList!$G$3&\" \"&DropDownList!G6","v":"Ferry-pax only 1,000 - 1,999 GT"},1,null,null,35250,0,0,0,25,5.0000000000000001E-3,0.05,0.02]
[{"$f":"DropDownList!$G$3&\" \"&DropDownList!G7","v":"Ferry-pax only 2,000-+ GT"},1,null,null,35250,0,0,0,25,5.0000000000000001E-3,0.05,0.02]
[{"$f":"DropDownList!$H$3&\" \"&DropDownList!H4","v":"Cruise 0 - 1,999 GT"},1,null,null,35250,0,0,0,25,5.0000000000000001E-3,0.05,0.02]
[{"$f":"DropDownList!$H$3&\" \"&DropDownList!H5","v":"Cruise 2,000 - 9,999 GT"},1,null,null,35250,0,0,0,25,5.0000000000000001E-3,0.05,0.02]
[{"$f":"DropDownList!$H$3&\" \"&DropDownList!H6","v":"Cruise 10,000 - 59,999 GT"},1,null,null,35250,0,0,0,25,5.0000000000000001E-3,0.05,0.02]
[{"$f":"DropDownList!$H$3&\" \"&DropDownList!H7","v":"Cruise 60,000 - 99,999 GT"},1,null,null,35250,0,0,0,25,5.0000000000000001E-3,0.05,0.02]
[{"$f":"DropDownList!$H$3&\" \"&DropDownList!H8","v":"Cruise 100,000 - 149,999 GT"},1,null,null,35250,0,0,0,25,5.0000000000000001E-3,0.05,0.02]
[{"$f":"DropDownList!$H$3&\" \"&DropDownList!H9","v":"Cruise 150,000-+ GT"},1,null,null,35250,0,0,0,25,5.0000000000000001E-3,0.05,0.02]
[{"$f":"DropDownList!$I$3&\" \"&DropDownList!I4","v":"Ferry-RoPax 0 - 1,999 GT"},1,null,null,35250,0,0,0,25,5.0000000000000001E-3,0.05,0.02]
[{"$f":"DropDownList!$I$3&\" \"&DropDownList!I5","v":"Ferry-RoPax 2,000 - 4,999 GT"},1,null,null,35250,0,0,0,25,5.0000000000000001E-3,0.05,0.02]
[{"$f":"DropDownList!$I$3&\" \"&DropDownList!I6","v":"Ferry-RoPax 5,000 - 9,999 GT"},1,null,null,35250,0,0,0,25,5.0000000000000001E-3,0.05,0.02]
[{"$f":"DropDownList!$I$3&\" \"&DropDownList!I7","v":"Ferry-RoPax 10,000 - 19,999 GT"},1,null,null,35250,0,0,0,25,5.0000000000000001E-3,0.05,0.02]
[{"$f":"DropDownList!$I$3&\" \"&DropDownList!I8","v":"Ferry-RoPax 20,000-+ GT"},1,null,null,35250,0,0,0,25,5.0000000000000001E-3,0.05,0.02]
[{"$f":"DropDownList!$J$3&\" \"&DropDownList!J4","v":"Refrigerated bulk 0 - 1,999 dwt"},1,null,null,35250,0,0,0,25,5.0000000000000001E-3,0.05,0.02]
[{"$f":"DropDownList!$J$3&\" \"&DropDownList!J5","v":"Refrigerated bulk 2,000 - 5,999 dwt"},1,null,null,35250,0,0,0,25,5.0000000000000001E-3,0.05,0.02]
[{"$f":"DropDownList!$J$3&\" \"&DropDownList!J6","v":"Refrigerated bulk 6,000 - 9,999 dwt"},1,null,null,35250,0,0,0,25,5.0000000000000001E-3,0.05,0.02]
[{"$f":"DropDownList!$J$3&\" \"&DropDownList!J7","v":"Refrigerated bulk 10,000-+ dwt"},1,null,null,35250,0,0,0,25,5.0000000000000001E-3,0.05,0.02]
[{"$f":"DropDownList!$K$3&\" \"&DropDownList!K4","v":"Ro-Ro 0 - 4,999 dwt"},1,null,null,35250,0,0,0,25,5.0000000000000001E-3,0.05,0.03]
[{"$f":"DropDownList!$K$3&\" \"&DropDownList!K5","v":"Ro-Ro 5,000 - 9,999 dwt"},1,null,null,35250,0,0,0,25,5.0000000000000001E-3,0.05,0.03]
[{"$f":"DropDownList!$K$3&\" \"&DropDownList!K6","v":"Ro-Ro 10,000 - 14,999 dwt"},1,null,null,35250,0,0,0,25,5.0000000000000001E-3,0.05,0.03]
[{"$f":"DropDownList!$K$3&\" \"&DropDownList!K7","v":"Ro-Ro 15,000-+ dwt"},1,null,null,35250,0,0,0,25,5.0000000000000001E-3,0.05,0.03]
[{"$f":"DropDownList!$L$3&\" \"&DropDownList!L4","v":"Vehicle 0 - 29,999 GT"},1,null,null,35250,0,0,0,25,5.0000000000000001E-3,0.05,0.02]
[{"$f":"DropDownList!$L$3&\" \"&DropDownList!L5","v":"Vehicle 30,000 - 49,999 GT"},1,null,null,35250,0,0,0,25,5.0000000000000001E-3,0.05,0.02]
[{"$f":"DropDownList!$L$3&\" \"&DropDownList!L6","v":"Vehicle 50,000-+ GT"},1,null,null,35250,0,0,0,25,5.0000000000000001E-3,0.05,0.02]
["Oil tanker 0 - 4,999 dwt",1,null,null,35250,0,0,0,25,5.0000000000000001E-3,0.05,0.02]
["Oil tanker 5,000 - 9,999 dwt",1,null,null,35250,0,0,0,25,5.0000000000000001E-3,0.05,0.02]
["Oil tanker 10,000 - 19,999 dwt",1,null,null,35250,0,0,0,25,5.0000000000000001E-3,0.05,0.02]
["Oil tanker 20,000 - 59,999 dwt",1,null,null,35250,0,0,0,25,5.0000000000000001E-3,0.05,0.02]
["Oil tanker 60,000 - 79,999 dwt",1,null,null,35250,0,0,0,25,5.0000000000000001E-3,0.05,0.02]
["Oil tanker 80,000 - 119,999 dwt",1,null,null,35250,0,0,0,25,5.0000000000000001E-3,0.05,0.02]
["Oil tanker 120,000 - 199,999 dwt",1,null,null,35250,0,0,0,25,5.0000000000000001E-3,0.05,0.02]
["Oil tanker 200,000-+ dwt",1,null,null,35250,0,0,0,25,5.0000000000000001E-3,0.05,0.02]
["Other liquids tankers 0-999 dwt",1,null,null,35250,0,0,0,25,5.0000000000000001E-3,0.05,0.02]
["Other liquids tankers 1,000-+ dwt",1,null,null,35250,0,0,0,25,5.0000000000000001E-3,0.05,0.02]

{"sheet":"Weather routing","index":36,"n_rows":66,"n_cols":13,"rows_kept":66,"cut":false,"hidden":false,"merged":[[0,0,1,0],[0,1,0,3],[0,6,0,7],[0,9,0,11]]}
["Ship type and size","Measure applicability to engines",null,null,"Installation","CAPEX Retrofit addition","Operational Cost",null,"Lifetime","Total fuel savings %",null,null,"EEXI / EEDI savings"]
[null,"Main","Aux","Boiler","$","%","$ per year","$ per 5 year","Years","Low","High","Typical","%"]
[{"$f":"DropDownList!$A$3&\" \"&DropDownList!A4","v":"Bulk carrier 0  - 9,999 dwt"},1,null,null,23500,0.05,3000,0,25,5.0000000000000001E-3,0.05,0.02]
[{"$f":"DropDownList!$A$3&\" \"&DropDownList!A5","v":"Bulk carrier 10,000 - 34,999 dwt"},1,null,null,23500,0.05,3000,0,25,5.0000000000000001E-3,0.05,0.02]
[{"$f":"DropDownList!$A$3&\" \"&DropDownList!A6","v":"Bulk carrier 35,000 - 59,999 dwt"},1,null,null,23500,0.05,3000,0,25,5.0000000000000001E-3,0.05,0.03]
[{"$f":"DropDownList!$A$3&\" \"&DropDownList!A7","v":"Bulk carrier 60,000 - 99,999 dwt"},1,null,null,23500,0.05,3000,0,25,5.0000000000000001E-3,0.05,0.03]
[{"$f":"DropDownList!$A$3&\" \"&DropDownList!A8","v":"Bulk carrier 100,000 - 199,999 dwt"},1,null,null,23500,0.05,3000,0,25,5.0000000000000001E-3,0.05,0.03]
[{"$f":"DropDownList!$A$3&\" \"&DropDownList!A9","v":"Bulk carrier 200,000-+ dwt"},1,null,null,23500,0.05,3000,0,25,5.0000000000000001E-3,0.05,0.03]
[{"$f":"DropDownList!$B$3&\" \"&DropDownList!B4","v":"Chemical tanker 0 - 4,999 dwt"},1,null,null,23500,0.05,3000,0,25,5.0000000000000001E-3,0.05,0.02]
[{"$f":"DropDownList!$B$3&\" \"&DropDownList!B5","v":"Chemical tanker 5,000 - 9,999 dwt"},1,null,null,23500,0.05,3000,0,25,5.0000000000000001E-3,0.05,0.02]
[{"$f":"DropDownList!$B$3&\" \"&DropDownList!B6","v":"Chemical tanker 10,000 - 19,999 dwt"},1,null,null,23500,0.05,3000,0,25,5.0000000000000001E-3,0.05,0.03]
[{"$f":"DropDownList!$B$3&\" \"&DropDownList!B7","v":"Chemical tanker 20,000 - 39,999 dwt"},1,null,null,23500,0.05,3000,0,25,5.0000000000000001E-3,0.05,0.03]
[{"$f":"DropDownList!$B$3&\" \"&DropDownList!B8","v":"Chemical tanker 40,000-+ dwt"},1,null,null,23500,0.05,3000,0,25,5.0000000000000001E-3,0.05,0.03]
[{"$f":"DropDownList!$C$3&\" \"&DropDownList!C4","v":"Container 0-999 teu"},1,null,null,23500,0.05,3000,0,25,5.0000000000000001E-3,0.05,0.02]
[{"$f":"DropDownList!$C$3&\" \"&DropDownList!C5","v":"Container 1,000 - 1,999 teu"},1,null,null,23500,0.05,3000,0,25,5.0000000000000001E-3,0.05,0.02]
[{"$f":"DropDownList!$C$3&\" \"&DropDownList!C6","v":"Container 2,000 - 2,999 teu"},1,null,null,23500,0.05,3000,0,25,5.0000000000000001E-3,0.05,0.03]
[{"$f":"DropDownList!$C$3&\" \"&DropDownList!C7","v":"Container 3,000 - 4,999 teu"},1,null,null,23500,0.05,3000,0,25,5.0000000000000001E-3,0.05,0.03]
[{"$f":"DropDownList!$C$3&\" \"&DropDownList!C8","v":"Container 5,000 - 7,999 teu"},1,null,null,23500,0.05,3000,0,25,5.0000000000000001E-3,0.05,0.03]
[{"$f":"DropDownList!$C$3&\" \"&DropDownList!C9","v":"Container 8,000 - 11,999 teu"},1,null,null,23500,0.05,3000,0,25,5.0000000000000001E-3,0.05,0.03]
[{"$f":"DropDownList!$C$3&\" \"&DropDownList!C10","v":"Container 12,000 - 14,499 teu"},1,null,null,23500,0.05,3000,0,25,5.0000000000000001E-3,0.05,0.03]
[{"$f":"DropDownList!$C$3&\" \"&DropDownList!C11","v":"Container 14,500 - 19,999 teu"},1,null,null,23500,0.05,3000,0,25,5.0000000000000001E-3,0.05,0.03]
[{"$f":"DropDownList!$C$3&\" \"&DropDownList!C12","v":"Container 20,000-+ teu"},1,null,null,23500,0.05,3000,0,25,5.0000000000000001E-3,0.05,0.03]
[{"$f":"DropDownList!$D$3&\" \"&DropDownList!D4","v":"General cargo 0 - 4,999 dwt"},1,null,null,23500,0.05,3000,0,25,5.0000000000000001E-3,0.05,0.02]
[{"$f":"DropDownList!$D$3&\" \"&DropDownList!D5","v":"General cargo 5,000 - 9,999 dwt"},1,null,null,23500,0.05,3000,0,25,5.0000000000000001E-3,0.05,0.02]
[{"$f":"DropDownList!$D$3&\" \"&DropDownList!D6","v":"General cargo 10,000 - 19,999 dwt"},1,null,null,23500,0.05,3000,0,25,5.0000000000000001E-3,0.05,0.03]
[{"$f":"DropDownList!$D$3&\" \"&DropDownList!D7","v":"General cargo 20,000-+ dwt"},1,null,null,23500,0.05,3000,0,25,5.0000000000000001E-3,0.05,0.03]
[{"$f":"DropDownList!$E$3&\" \"&DropDownList!E4","v":"Liquefied gas tanker 0 - 49,999 cbm"},1,null,null,23500,0.05,3000,0,25,5.0000000000000001E-3,0.05,0.02]
[{"$f":"DropDownList!$E$3&\" \"&DropDownList!E5","v":"Liquefied gas tanker 40,000 - 99,999 cbm"},1,null,null,23500,0.05,3000,0,25,5.0000000000000001E-3,0.05,0.03]
[{"$f":"DropDownList!$E$3&\" \"&DropDownList!E6","v":"Liquefied gas tanker 100,000 - 199,999 cbm"},1,null,null,23500,0.05,3000,0,25,5.0000000000000001E-3,0.05,0.03]
[{"$f":"DropDownList!$E$3&\" \"&DropDownList!E7","v":"Liquefied gas tanker 200,000-+ cbm"},1,null,null,23500,0.05,3000,0,25,5.0000000000000001E-3,0.05,0.03]
[{"$f":"DropDownList!$G$3&\" \"&DropDownList!G4","v":"Ferry-pax only 0 - 299 GT"},1,null,null,23500,0.05,3000,0,25,5.0000000000000001E-3,0.05,0.02]
[{"$f":"DropDownList!$G$3&\" \"&DropDownList!G5","v":"Ferry-pax only 300 - 999 GT"},1,null,null,23500,0.05,3000,0,25,5.0000000000000001E-3,0.05,0.02]
[{"$f":"DropDownList!$G$3&\" \"&DropDownList!G6","v":"Ferry-pax only 1,000 - 1,999 GT"},1,null,null,23500,0.05,3000,0,25,5.0000000000000001E-3,0.05,0.02]
[{"$f":"DropDownList!$G$3&\" \"&DropDownList!G7","v":"Ferry-pax only 2,000-+ GT"},1,null,null,23500,0.05,3000,0,25,5.0000000000000001E-3,0.05,0.02]
[{"$f":"DropDownList!$H$3&\" \"&DropDownList!H4","v":"Cruise 0 - 1,999 GT"},1,null,null,23500,0.05,3000,0,25,5.0000000000000001E-3,0.05,0.02]
[{"$f":"DropDownList!$H$3&\" \"&DropDownList!H5","v":"Cruise 2,000 - 9,999 GT"},1,null,null,23500,0.05,3000,0,25,5.0000000000000001E-3,0.05,0.02]
[{"$f":"DropDownList!$H$3&\" \"&DropDownList!H6","v":"Cruise 10,000 - 59,999 GT"},1,null,null,23500,0.05,3000,0,25,5.0000000000000001E-3,0.05,0.02]
[{"$f":"DropDownList!$H$3&\" \"&DropDownList!H7","v":"Cruise 60,000 - 99,999 GT"},1,null,null,23500,0.05,3000,0,25,5.0000000000000001E-3,0.05,0.02]
[{"$f":"DropDownList!$H$3&\" \"&DropDownList!H8","v":"Cruise 100,000 - 149,999 GT"},1,null,null,23500,0.05,3000,0,25,5.0000000000000001E-3,0.05,0.02]
[{"$f":"DropDownList!$H$3&\" \"&DropDownList!H9","v":"Cruise 150,000-+ GT"},1,null,null,23500,0.05,3000,0,25,5.0000000000000001E-3,0.05,0.02]
[{"$f":"DropDownList!$I$3&\" \"&DropDownList!I4","v":"Ferry-RoPax 0 - 1,999 GT"},1,null,null,23500,0.05,3000,0,25,5.0000000000000001E-3,0.05,0.02]
[{"$f":"DropDownList!$I$3&\" \"&DropDownList!I5","v":"Ferry-RoPax 2,000 - 4,999 GT"},1,null,null,23500,0.05,3000,0,25,5.0000000000000001E-3,0.05,0.02]
[{"$f":"DropDownList!$I$3&\" \"&DropDownList!I6","v":"Ferry-RoPax 5,000 - 9,999 GT"},1,null,null,23500,0.05,3000,0,25,5.0000000000000001E-3,0.05,0.02]
[{"$f":"DropDownList!$I$3&\" \"&DropDownList!I7","v":"Ferry-RoPax 10,000 - 19,999 GT"},1,null,null,23500,0.05,3000,0,25,5.0000000000000001E-3,0.05,0.02]
[{"$f":"DropDownList!$I$3&\" \"&DropDownList!I8","v":"Ferry-RoPax 20,000-+ GT"},1,null,null,23500,0.05,3000,0,25,5.0000000000000001E-3,0.05,0.02]
[{"$f":"DropDownList!$J$3&\" \"&DropDownList!J4","v":"Refrigerated bulk 0 - 1,999 dwt"},1,null,null,23500,0.05,3000,0,25,5.0000000000000001E-3,0.05,0.02]
[{"$f":"DropDownList!$J$3&\" \"&DropDownList!J5","v":"Refrigerated bulk 2,000 - 5,999 dwt"},1,null,null,23500,0.05,3000,0,25,5.0000000000000001E-3,0.05,0.02]
[{"$f":"DropDownList!$J$3&\" \"&DropDownList!J6","v":"Refrigerated bulk 6,000 - 9,999 dwt"},1,null,null,23500,0.05,3000,0,25,5.0000000000000001E-3,0.05,0.02]
[{"$f":"DropDownList!$J$3&\" \"&DropDownList!J7","v":"Refrigerated bulk 10,000-+ dwt"},1,null,null,23500,0.05,3000,0,25,5.0000000000000001E-3,0.05,0.02]
[{"$f":"DropDownList!$K$3&\" \"&DropDownList!K4","v":"Ro-Ro 0 - 4,999 dwt"},1,null,null,23500,0.05,3000,0,25,5.0000000000000001E-3,0.05,0.02]
[{"$f":"DropDownList!$K$3&\" \"&DropDownList!K5","v":"Ro-Ro 5,000 - 9,999 dwt"},1,null,null,23500,0.05,3000,0,25,5.0000000000000001E-3,0.05,0.02]
[{"$f":"DropDownList!$K$3&\" \"&DropDownList!K6","v":"Ro-Ro 10,000 - 14,999 dwt"},1,null,null,23500,0.05,3000,0,25,5.0000000000000001E-3,0.05,0.03]
[{"$f":"DropDownList!$K$3&\" \"&DropDownList!K7","v":"Ro-Ro 15,000-+ dwt"},1,null,null,23500,0.05,3000,0,25,5.0000000000000001E-3,0.05,0.03]
[{"$f":"DropDownList!$L$3&\" \"&DropDownList!L4","v":"Vehicle 0 - 29,999 GT"},1,null,null,23500,0.05,3000,0,25,5.0000000000000001E-3,0.05,0.03]
[{"$f":"DropDownList!$L$3&\" \"&DropDownList!L5","v":"Vehicle 30,000 - 49,999 GT"},1,null,null,23500,0.05,3000,0,25,5.0000000000000001E-3,0.05,0.03]
[{"$f":"DropDownList!$L$3&\" \"&DropDownList!L6","v":"Vehicle 50,000-+ GT"},1,null,null,23500,0.05,3000,0,25,5.0000000000000001E-3,0.05,0.03]
["Oil tanker 0 - 4,999 dwt",1,null,null,23500,0.05,3000,0,25,5.0000000000000001E-3,0.05,0.02]
["Oil tanker 5,000 - 9,999 dwt",1,null,null,23500,0.05,3000,0,25,5.0000000000000001E-3,0.05,0.02]
["Oil tanker 10,000 - 19,999 dwt",1,null,null,23500,0.05,3000,0,25,5.0000000000000001E-3,0.05,0.03]
["Oil tanker 20,000 - 59,999 dwt",1,null,null,23500,0.05,3000,0,25,5.0000000000000001E-3,0.05,0.03]
["Oil tanker 60,000 - 79,999 dwt",1,null,null,23500,0.05,3000,0,25,5.0000000000000001E-3,0.05,0.03]
["Oil tanker 80,000 - 119,999 dwt",1,null,null,23500,0.05,3000,0,25,5.0000000000000001E-3,0.05,0.03]
["Oil tanker 120,000 - 199,999 dwt",1,null,null,23500,0.05,3000,0,25,5.0000000000000001E-3,0.05,0.03]
["Oil tanker 200,000-+ dwt",1,null,null,23500,0.05,3000,0,25,5.0000000000000001E-3,0.05,0.03]
["Other liquids tankers 0-999 dwt",1,null,null,23500,0.05,3000,0,25,5.0000000000000001E-3,0.05,0.02]
["Other liquids tankers 1,000-+ dwt",1,null,null,23500,0.05,3000,0,25,5.0000000000000001E-3,0.05,0.02]

{"sheet":"Air lubrication","index":37,"n_rows":66,"n_cols":13,"rows_kept":66,"cut":false,"hidden":false,"merged":[[0,0,1,0],[0,1,0,3],[0,6,0,7],[0,9,0,11]]}
["Ship type and size","Measure applicability to engines",null,null,"Installation","CAPEX Retrofit addition","Operational Cost",null,"Lifetime","Total fuel savings %",null,null,"EEXI / EEDI savings"]
[null,"Main","Aux","Boiler","$","%","$ per year","$ per 5 year","Years","Low","High","Typical","%"]
[{"$f":"DropDownList!$A$3&\" \"&DropDownList!A4","v":"Bulk carrier 0  - 9,999 dwt"},1,null,null,587500,0.5,20000,null,25,0.02,0.08,0.04,0.02]
[{"$f":"DropDownList!$A$3&\" \"&DropDownList!A5","v":"Bulk carrier 10,000 - 34,999 dwt"},1,null,null,881250,0.5,20000,null,25,0.02,0.08,0.04,0.02]
[{"$f":"DropDownList!$A$3&\" \"&DropDownList!A6","v":"Bulk carrier 35,000 - 59,999 dwt"},1,null,null,1175000,0.5,20000,null,25,0.02,0.08,0.03,0.02]
[{"$f":"DropDownList!$A$3&\" \"&DropDownList!A7","v":"Bulk carrier 60,000 - 99,999 dwt"},1,null,null,2056250,0.5,20000,null,25,0.02,0.08,0.03,0.02]
[{"$f":"DropDownList!$A$3&\" \"&DropDownList!A8","v":"Bulk carrier 100,000 - 199,999 dwt"},1,null,null,2643750,0.5,20000,null,25,0.02,0.08,0.03,0.02]
[{"$f":"DropDownList!$A$3&\" \"&DropDownList!A9","v":"Bulk carrier 200,000-+ dwt"},1,null,null,4112500,0.5,20000,null,25,0.02,0.08,0.03,0.02]
[{"$f":"DropDownList!$B$3&\" \"&DropDownList!B4","v":"Chemical tanker 0 - 4,999 dwt"},1,null,null,587500,0.5,20000,null,25,0.02,0.08,0.04,0.02]
[{"$f":"DropDownList!$B$3&\" \"&DropDownList!B5","v":"Chemical tanker 5,000 - 9,999 dwt"},1,null,null,881250,0.5,20000,null,25,0.02,0.08,0.03,0.02]
[{"$f":"DropDownList!$B$3&\" \"&DropDownList!B6","v":"Chemical tanker 10,000 - 19,999 dwt"},1,null,null,1175000,0.5,20000,null,25,0.02,0.08,0.03,0.02]
[{"$f":"DropDownList!$B$3&\" \"&DropDownList!B7","v":"Chemical tanker 20,000 - 39,999 dwt"},1,null,null,1762500,0.5,20000,null,25,0.02,0.08,0.03,0.02]
[{"$f":"DropDownList!$B$3&\" \"&DropDownList!B8","v":"Chemical tanker 40,000-+ dwt"},1,null,null,2350000,0.5,20000,null,25,0.02,0.08,0.03,0.02]
[{"$f":"DropDownList!$C$3&\" \"&DropDownList!C4","v":"Container 0-999 teu"},1,null,null,352500,0.5,20000,null,25,0.02,0.08,0.04,0.02]
[{"$f":"DropDownList!$C$3&\" \"&DropDownList!C5","v":"Container 1,000 - 1,999 teu"},1,null,null,587500,0.5,20000,null,25,0.02,0.08,0.04,0.02]
[{"$f":"DropDownList!$C$3&\" \"&DropDownList!C6","v":"Container 2,000 - 2,999 teu"},1,null,null,822500,0.5,20000,null,25,0.02,0.08,0.03,0.02]
[{"$f":"DropDownList!$C$3&\" \"&DropDownList!C7","v":"Container 3,000 - 4,999 teu"},1,null,null,998750,0.5,20000,null,25,0.02,0.08,0.03,0.02]
[{"$f":"DropDownList!$C$3&\" \"&DropDownList!C8","v":"Container 5,000 - 7,999 teu"},1,null,null,1175000,0.5,20000,null,25,0.02,0.08,0.03,0.02]
[{"$f":"DropDownList!$C$3&\" \"&DropDownList!C9","v":"Container 8,000 - 11,999 teu"},1,null,null,1762500,0.5,20000,null,25,0.02,0.08,0.03,0.02]
[{"$f":"DropDownList!$C$3&\" \"&DropDownList!C10","v":"Container 12,000 - 14,499 teu"},1,null,null,2350000,0.5,20000,null,25,0.02,0.08,0.03,0.02]
[{"$f":"DropDownList!$C$3&\" \"&DropDownList!C11","v":"Container 14,500 - 19,999 teu"},1,null,null,2937500,0.5,20000,null,25,0.02,0.08,0.03,0.02]
[{"$f":"DropDownList!$C$3&\" \"&DropDownList!C12","v":"Container 20,000-+ teu"},1,null,null,3525000,0.5,20000,null,25,0.02,0.08,0.03,0.02]
[{"$f":"DropDownList!$D$3&\" \"&DropDownList!D4","v":"General cargo 0 - 4,999 dwt"},1,null,null,587500,0.5,20000,null,25,0.02,0.08,0.04,0.02]
[{"$f":"DropDownList!$D$3&\" \"&DropDownList!D5","v":"General cargo 5,000 - 9,999 dwt"},1,null,null,587500,0.5,20000,null,25,0.02,0.08,0.03,0.02]
[{"$f":"DropDownList!$D$3&\" \"&DropDownList!D6","v":"General cargo 10,000 - 19,999 dwt"},1,null,null,881250,0.5,20000,null,25,0.02,0.08,0.03,0.02]
[{"$f":"DropDownList!$D$3&\" \"&DropDownList!D7","v":"General cargo 20,000-+ dwt"},1,null,null,1762500,0.5,20000,null,25,0.02,0.08,0.03,0.02]
[{"$f":"DropDownList!$E$3&\" \"&DropDownList!E4","v":"Liquefied gas tanker 0 - 49,999 cbm"},1,null,null,587500,0.5,20000,null,25,0.02,0.08,0.04,0.02]
[{"$f":"DropDownList!$E$3&\" \"&DropDownList!E5","v":"Liquefied gas tanker 40,000 - 99,999 cbm"},1,null,null,1468750,0.5,20000,null,25,0.02,0.08,0.04,0.02]
[{"$f":"DropDownList!$E$3&\" \"&DropDownList!E6","v":"Liquefied gas tanker 100,000 - 199,999 cbm"},1,null,null,3231250,0.5,20000,null,25,0.02,0.08,0.04,0.02]
[{"$f":"DropDownList!$E$3&\" \"&DropDownList!E7","v":"Liquefied gas tanker 200,000-+ cbm"},1,null,null,4112500,0.5,20000,null,25,0.02,0.08,0.04,0.02]
[{"$f":"DropDownList!$G$3&\" \"&DropDownList!G4","v":"Ferry-pax only 0 - 299 GT"},1,null,null,293750,0.5,20000,null,25,0.02,0.08,0.04,0.02]
[{"$f":"DropDownList!$G$3&\" \"&DropDownList!G5","v":"Ferry-pax only 300 - 999 GT"},1,null,null,293750,0.5,20000,null,25,0.02,0.08,0.04,0.02]
[{"$f":"DropDownList!$G$3&\" \"&DropDownList!G6","v":"Ferry-pax only 1,000 - 1,999 GT"},1,null,null,587500,0.5,20000,null,25,0.02,0.08,0.04,0.02]
[{"$f":"DropDownList!$G$3&\" \"&DropDownList!G7","v":"Ferry-pax only 2,000-+ GT"},1,null,null,587500,0.5,20000,null,25,0.02,0.08,0.04,0.02]
[{"$f":"DropDownList!$H$3&\" \"&DropDownList!H4","v":"Cruise 0 - 1,999 GT"},1,null,null,587500,0.5,20000,null,25,0.02,0.08,0.04,0.02]
[{"$f":"DropDownList!$H$3&\" \"&DropDownList!H5","v":"Cruise 2,000 - 9,999 GT"},1,null,null,587500,0.5,20000,null,25,0.02,0.08,0.04,0.02]
[{"$f":"DropDownList!$H$3&\" \"&DropDownList!H6","v":"Cruise 10,000 - 59,999 GT"},1,null,null,881250,0.5,20000,null,25,0.02,0.08,0.04,0.02]
[{"$f":"DropDownList!$H$3&\" \"&DropDownList!H7","v":"Cruise 60,000 - 99,999 GT"},1,null,null,1175000,0.5,20000,null,25,0.02,0.08,0.04,0.02]
[{"$f":"DropDownList!$H$3&\" \"&DropDownList!H8","v":"Cruise 100,000 - 149,999 GT"},1,null,null,1762500,0.5,20000,null,25,0.02,0.08,0.04,0.02]
[{"$f":"DropDownList!$H$3&\" \"&DropDownList!H9","v":"Cruise 150,000-+ GT"},1,null,null,2585000,0.5,20000,null,25,0.02,0.08,0.04,0.02]
[{"$f":"DropDownList!$I$3&\" \"&DropDownList!I4","v":"Ferry-RoPax 0 - 1,999 GT"},1,null,null,587500,0.5,20000,null,25,0.02,0.08,0.04,0.02]
[{"$f":"DropDownList!$I$3&\" \"&DropDownList!I5","v":"Ferry-RoPax 2,000 - 4,999 GT"},1,null,null,881250,0.5,20000,null,25,0.02,0.08,0.04,0.02]
[{"$f":"DropDownList!$I$3&\" \"&DropDownList!I6","v":"Ferry-RoPax 5,000 - 9,999 GT"},1,null,null,881250,0.5,20000,null,25,0.02,0.08,0.04,0.02]
[{"$f":"DropDownList!$I$3&\" \"&DropDownList!I7","v":"Ferry-RoPax 10,000 - 19,999 GT"},1,null,null,1175000,0.5,20000,null,25,0.02,0.08,0.04,0.02]
[{"$f":"DropDownList!$I$3&\" \"&DropDownList!I8","v":"Ferry-RoPax 20,000-+ GT"},1,null,null,1468750,0.5,20000,null,25,0.02,0.08,0.04,0.02]
[{"$f":"DropDownList!$J$3&\" \"&DropDownList!J4","v":"Refrigerated bulk 0 - 1,999 dwt"},1,null,null,587500,0.5,20000,null,25,0.02,0.08,0.03,0.02]
[{"$f":"DropDownList!$J$3&\" \"&DropDownList!J5","v":"Refrigerated bulk 2,000 - 5,999 dwt"},1,null,null,587500,0.5,20000,null,25,0.02,0.08,0.03,0.02]
[{"$f":"DropDownList!$J$3&\" \"&DropDownList!J6","v":"Refrigerated bulk 6,000 - 9,999 dwt"},1,null,null,881250,0.5,20000,null,25,0.02,0.08,0.03,0.02]
[{"$f":"DropDownList!$J$3&\" \"&DropDownList!J7","v":"Refrigerated bulk 10,000-+ dwt"},1,null,null,881250,0.5,20000,null,25,0.02,0.08,0.03,0.02]
[{"$f":"DropDownList!$K$3&\" \"&DropDownList!K4","v":"Ro-Ro 0 - 4,999 dwt"},1,null,null,587500,0.5,20000,null,25,0.02,0.08,0.03,0.02]
[{"$f":"DropDownList!$K$3&\" \"&DropDownList!K5","v":"Ro-Ro 5,000 - 9,999 dwt"},1,null,null,881250,0.5,20000,null,25,0.02,0.08,0.03,0.02]
[{"$f":"DropDownList!$K$3&\" \"&DropDownList!K6","v":"Ro-Ro 10,000 - 14,999 dwt"},1,null,null,1175000,0.5,20000,null,25,0.02,0.08,0.03,0.02]
[{"$f":"DropDownList!$K$3&\" \"&DropDownList!K7","v":"Ro-Ro 15,000-+ dwt"},1,null,null,1468750,0.5,20000,null,25,0.02,0.08,0.03,0.02]
[{"$f":"DropDownList!$L$3&\" \"&DropDownList!L4","v":"Vehicle 0 - 29,999 GT"},1,null,null,587500,0.5,20000,null,25,0.02,0.08,0.03,0.02]
[{"$f":"DropDownList!$L$3&\" \"&DropDownList!L5","v":"Vehicle 30,000 - 49,999 GT"},1,null,null,1175000,0.5,20000,null,25,0.02,0.08,0.03,0.02]
[{"$f":"DropDownList!$L$3&\" \"&DropDownList!L6","v":"Vehicle 50,000-+ GT"},1,null,null,1762500,0.5,20000,null,25,0.02,0.08,0.03,0.02]
["Oil tanker 0 - 4,999 dwt",1,null,null,352500,0.5,20000,null,25,0.02,0.08,0.04,0.02]
["Oil tanker 5,000 - 9,999 dwt",1,null,null,587500,0.5,20000,null,25,0.02,0.08,0.04,0.02]
["Oil tanker 10,000 - 19,999 dwt",1,null,null,822500,0.5,20000,null,25,0.02,0.08,0.04,0.02]
["Oil tanker 20,000 - 59,999 dwt",1,null,null,998750,0.5,20000,null,25,0.02,0.08,0.04,0.02]
["Oil tanker 60,000 - 79,999 dwt",1,null,null,1175000,0.5,20000,null,25,0.02,0.08,0.03,0.02]
["Oil tanker 80,000 - 119,999 dwt",1,null,null,1762500,0.5,20000,null,25,0.02,0.08,0.03,0.02]
["Oil tanker 120,000 - 199,999 dwt",1,null,null,2350000,0.5,20000,null,25,0.02,0.08,0.03,0.02]
["Oil tanker 200,000-+ dwt",1,null,null,3525000,0.5,20000,null,25,0.02,0.08,0.03,0.02]
["Other liquids tankers 0-999 dwt",1,null,null,587500,0.5,20000,null,25,0.02,0.08,0.03,0.02]
["Other liquids tankers 1,000-+ dwt",1,null,null,881250,0.5,20000,null,25,0.02,0.08,0.03,0.02]

{"sheet":"Hull performance coating","index":38,"n_rows":66,"n_cols":13,"rows_kept":66,"cut":false,"hidden":false,"merged":[[0,0,1,0],[0,1,0,3],[0,6,0,7],[0,9,0,11]]}
["Ship type and size","Measure applicability to engines",null,null,"Installation","CAPEX Retrofit addition","Operational Cost",null,"Lifetime","Total fuel savings %",null,null,"EEXI / EEDI savings"]
[null,"Main","Aux","Boiler","$","%","$ per year","$ per 5 year","Years","Low","High","Typical","%"]
[{"$f":"DropDownList!$A$3&\" \"&DropDownList!A4","v":"Bulk carrier 0  - 9,999 dwt"},1,null,null,35250,0,0,null,5,0.01,0.05,0.03,1.4999999999999999E-2]
[{"$f":"DropDownList!$A$3&\" \"&DropDownList!A5","v":"Bulk carrier 10,000 - 34,999 dwt"},1,null,null,88125,0,0,null,5,0.01,0.05,0.03,1.4999999999999999E-2]
[{"$f":"DropDownList!$A$3&\" \"&DropDownList!A6","v":"Bulk carrier 35,000 - 59,999 dwt"},1,null,null,117500,0,0,null,5,0.01,0.05,0.03,1.4999999999999999E-2]
[{"$f":"DropDownList!$A$3&\" \"&DropDownList!A7","v":"Bulk carrier 60,000 - 99,999 dwt"},1,null,null,293750,0,0,null,5,0.01,0.05,0.03,1.4999999999999999E-2]
[{"$f":"DropDownList!$A$3&\" \"&DropDownList!A8","v":"Bulk carrier 100,000 - 199,999 dwt"},1,null,null,411250,0,0,null,5,0.01,0.05,0.03,1.4999999999999999E-2]
[{"$f":"DropDownList!$A$3&\" \"&DropDownList!A9","v":"Bulk carrier 200,000-+ dwt"},1,null,null,528750,0,0,null,5,0.01,0.05,0.03,1.4999999999999999E-2]
[{"$f":"DropDownList!$B$3&\" \"&DropDownList!B4","v":"Chemical tanker 0 - 4,999 dwt"},1,null,null,35250,0,0,null,5,0.01,0.05,0.03,1.4999999999999999E-2]
[{"$f":"DropDownList!$B$3&\" \"&DropDownList!B5","v":"Chemical tanker 5,000 - 9,999 dwt"},1,null,null,58750,0,0,null,5,0.01,0.05,0.03,1.4999999999999999E-2]
[{"$f":"DropDownList!$B$3&\" \"&DropDownList!B6","v":"Chemical tanker 10,000 - 19,999 dwt"},1,null,null,82250,0,0,null,5,0.01,0.05,0.03,1.4999999999999999E-2]
[{"$f":"DropDownList!$B$3&\" \"&DropDownList!B7","v":"Chemical tanker 20,000 - 39,999 dwt"},1,null,null,117500,0,0,null,5,0.01,0.05,0.03,1.4999999999999999E-2]
[{"$f":"DropDownList!$B$3&\" \"&DropDownList!B8","v":"Chemical tanker 40,000-+ dwt"},1,null,null,176250,0,0,null,5,0.01,0.05,0.03,1.4999999999999999E-2]
[{"$f":"DropDownList!$C$3&\" \"&DropDownList!C4","v":"Container 0-999 teu"},1,null,null,35250,0,0,null,5,0.01,0.05,0.03,1.4999999999999999E-2]
[{"$f":"DropDownList!$C$3&\" \"&DropDownList!C5","v":"Container 1,000 - 1,999 teu"},1,null,null,82250,0,0,null,5,0.01,0.05,0.03,1.4999999999999999E-2]
[{"$f":"DropDownList!$C$3&\" \"&DropDownList!C6","v":"Container 2,000 - 2,999 teu"},1,null,null,111625,0,0,null,5,0.01,0.05,0.03,1.4999999999999999E-2]
[{"$f":"DropDownList!$C$3&\" \"&DropDownList!C7","v":"Container 3,000 - 4,999 teu"},1,null,null,129250,0,0,null,5,0.01,0.05,0.03,1.4999999999999999E-2]
[{"$f":"DropDownList!$C$3&\" \"&DropDownList!C8","v":"Container 5,000 - 7,999 teu"},1,null,null,152750,0,0,null,5,0.01,0.05,0.03,1.4999999999999999E-2]
[{"$f":"DropDownList!$C$3&\" \"&DropDownList!C9","v":"Container 8,000 - 11,999 teu"},1,null,null,176250,0,0,null,5,0.01,0.05,0.03,1.4999999999999999E-2]
[{"$f":"DropDownList!$C$3&\" \"&DropDownList!C10","v":"Container 12,000 - 14,499 teu"},1,null,null,293750,0,0,null,5,0.01,0.05,0.03,1.4999999999999999E-2]
[{"$f":"DropDownList!$C$3&\" \"&DropDownList!C11","v":"Container 14,500 - 19,999 teu"},1,null,null,411250,0,0,null,5,0.01,0.05,0.03,1.4999999999999999E-2]
[{"$f":"DropDownList!$C$3&\" \"&DropDownList!C12","v":"Container 20,000-+ teu"},1,null,null,528750,0,0,null,5,0.01,0.05,0.03,1.4999999999999999E-2]
[{"$f":"DropDownList!$D$3&\" \"&DropDownList!D4","v":"General cargo 0 - 4,999 dwt"},1,null,null,35250,0,0,null,5,0.01,0.05,0.03,1.4999999999999999E-2]
[{"$f":"DropDownList!$D$3&\" \"&DropDownList!D5","v":"General cargo 5,000 - 9,999 dwt"},1,null,null,52875,0,0,null,5,0.01,0.05,0.03,1.4999999999999999E-2]
[{"$f":"DropDownList!$D$3&\" \"&DropDownList!D6","v":"General cargo 10,000 - 19,999 dwt"},1,null,null,70500,0,0,null,5,0.01,0.05,0.03,1.4999999999999999E-2]
[{"$f":"DropDownList!$D$3&\" \"&DropDownList!D7","v":"General cargo 20,000-+ dwt"},1,null,null,94000,0,0,null,5,0.01,0.05,0.03,1.4999999999999999E-2]
[{"$f":"DropDownList!$E$3&\" \"&DropDownList!E4","v":"Liquefied gas tanker 0 - 49,999 cbm"},1,null,null,117500,0,0,null,5,0.01,0.05,0.03,1.4999999999999999E-2]
[{"$f":"DropDownList!$E$3&\" \"&DropDownList!E5","v":"Liquefied gas tanker 40,000 - 99,999 cbm"},1,null,null,235000,0,0,null,5,0.01,0.05,0.03,1.4999999999999999E-2]
[{"$f":"DropDownList!$E$3&\" \"&DropDownList!E6","v":"Liquefied gas tanker 100,000 - 199,999 cbm"},1,null,null,352500,0,0,null,5,0.01,0.05,0.03,1.4999999999999999E-2]
[{"$f":"DropDownList!$E$3&\" \"&DropDownList!E7","v":"Liquefied gas tanker 200,000-+ cbm"},1,null,null,470000,0,0,null,5,0.01,0.05,0.03,1.4999999999999999E-2]
[{"$f":"DropDownList!$G$3&\" \"&DropDownList!G4","v":"Ferry-pax only 0 - 299 GT"},1,null,null,35250,0,0,null,5,0.01,0.05,0.03,1.4999999999999999E-2]
[{"$f":"DropDownList!$G$3&\" \"&DropDownList!G5","v":"Ferry-pax only 300 - 999 GT"},1,null,null,52875,0,0,null,5,0.01,0.05,0.03,1.4999999999999999E-2]
[{"$f":"DropDownList!$G$3&\" \"&DropDownList!G6","v":"Ferry-pax only 1,000 - 1,999 GT"},1,null,null,70500,0,0,null,5,0.01,0.05,0.03,1.4999999999999999E-2]
[{"$f":"DropDownList!$G$3&\" \"&DropDownList!G7","v":"Ferry-pax only 2,000-+ GT"},1,null,null,82250,0,0,null,5,0.01,0.05,0.03,1.4999999999999999E-2]
[{"$f":"DropDownList!$H$3&\" \"&DropDownList!H4","v":"Cruise 0 - 1,999 GT"},1,null,null,35250,0,0,null,5,0.01,0.05,0.03,1.4999999999999999E-2]
[{"$f":"DropDownList!$H$3&\" \"&DropDownList!H5","v":"Cruise 2,000 - 9,999 GT"},1,null,null,82250,0,0,null,5,0.01,0.05,0.03,1.4999999999999999E-2]
[{"$f":"DropDownList!$H$3&\" \"&DropDownList!H6","v":"Cruise 10,000 - 59,999 GT"},1,null,null,176250,0,0,null,5,0.01,0.05,0.03,1.4999999999999999E-2]
[{"$f":"DropDownList!$H$3&\" \"&DropDownList!H7","v":"Cruise 60,000 - 99,999 GT"},1,null,null,293750,0,0,null,5,0.01,0.05,0.03,1.4999999999999999E-2]
[{"$f":"DropDownList!$H$3&\" \"&DropDownList!H8","v":"Cruise 100,000 - 149,999 GT"},1,null,null,411250,0,0,null,5,0.01,0.05,0.03,1.4999999999999999E-2]
[{"$f":"DropDownList!$H$3&\" \"&DropDownList!H9","v":"Cruise 150,000-+ GT"},1,null,null,528750,0,0,null,5,0.01,0.05,0.03,1.4999999999999999E-2]
[{"$f":"DropDownList!$I$3&\" \"&DropDownList!I4","v":"Ferry-RoPax 0 - 1,999 GT"},1,null,null,35250,0,0,null,5,0.01,0.05,0.03,1.4999999999999999E-2]
[{"$f":"DropDownList!$I$3&\" \"&DropDownList!I5","v":"Ferry-RoPax 2,000 - 4,999 GT"},1,null,null,58750,0,0,null,5,0.01,0.05,0.03,1.4999999999999999E-2]
[{"$f":"DropDownList!$I$3&\" \"&DropDownList!I6","v":"Ferry-RoPax 5,000 - 9,999 GT"},1,null,null,82250,0,0,null,5,0.01,0.05,0.03,1.4999999999999999E-2]
[{"$f":"DropDownList!$I$3&\" \"&DropDownList!I7","v":"Ferry-RoPax 10,000 - 19,999 GT"},1,null,null,94000,0,0,null,5,0.01,0.05,0.03,1.4999999999999999E-2]
[{"$f":"DropDownList!$I$3&\" \"&DropDownList!I8","v":"Ferry-RoPax 20,000-+ GT"},1,null,null,117500,0,0,null,5,0.01,0.05,0.03,1.4999999999999999E-2]
[{"$f":"DropDownList!$J$3&\" \"&DropDownList!J4","v":"Refrigerated bulk 0 - 1,999 dwt"},1,null,null,35250,0,0,null,5,0.01,0.05,0.03,1.4999999999999999E-2]
[{"$f":"DropDownList!$J$3&\" \"&DropDownList!J5","v":"Refrigerated bulk 2,000 - 5,999 dwt"},1,null,null,58750,0,0,null,5,0.01,0.05,0.03,1.4999999999999999E-2]
[{"$f":"DropDownList!$J$3&\" \"&DropDownList!J6","v":"Refrigerated bulk 6,000 - 9,999 dwt"},1,null,null,82250,0,0,null,5,0.01,0.05,0.03,1.4999999999999999E-2]
[{"$f":"DropDownList!$J$3&\" \"&DropDownList!J7","v":"Refrigerated bulk 10,000-+ dwt"},1,null,null,117500,0,0,null,5,0.01,0.05,0.03,1.4999999999999999E-2]
[{"$f":"DropDownList!$K$3&\" \"&DropDownList!K4","v":"Ro-Ro 0 - 4,999 dwt"},1,null,null,35250,0,0,null,5,0.01,0.05,0.03,1.4999999999999999E-2]
[{"$f":"DropDownList!$K$3&\" \"&DropDownList!K5","v":"Ro-Ro 5,000 - 9,999 dwt"},1,null,null,82250,0,0,null,5,0.01,0.05,0.03,1.4999999999999999E-2]
[{"$f":"DropDownList!$K$3&\" \"&DropDownList!K6","v":"Ro-Ro 10,000 - 14,999 dwt"},1,null,null,117500,0,0,null,5,0.01,0.05,0.03,1.4999999999999999E-2]
[{"$f":"DropDownList!$K$3&\" \"&DropDownList!K7","v":"Ro-Ro 15,000-+ dwt"},1,null,null,176250,0,0,null,5,0.01,0.05,0.03,1.4999999999999999E-2]
[{"$f":"DropDownList!$L$3&\" \"&DropDownList!L4","v":"Vehicle 0 - 29,999 GT"},1,null,null,82250,0,0,null,5,0.01,0.05,0.03,1.4999999999999999E-2]
[{"$f":"DropDownList!$L$3&\" \"&DropDownList!L5","v":"Vehicle 30,000 - 49,999 GT"},1,null,null,117500,0,0,null,5,0.01,0.05,0.03,1.4999999999999999E-2]
[{"$f":"DropDownList!$L$3&\" \"&DropDownList!L6","v":"Vehicle 50,000-+ GT"},1,null,null,235000,0,0,null,5,0.01,0.05,0.03,1.4999999999999999E-2]
["Oil tanker 0 - 4,999 dwt",1,null,null,35250,0,0,null,5,0.01,0.05,0.03,1.4999999999999999E-2]
["Oil tanker 5,000 - 9,999 dwt",1,null,null,88125,0,0,null,5,0.01,0.05,0.03,1.4999999999999999E-2]
["Oil tanker 10,000 - 19,999 dwt",1,null,null,117500,0,0,null,5,0.01,0.05,0.03,1.4999999999999999E-2]
["Oil tanker 20,000 - 59,999 dwt",1,null,null,176250,0,0,null,5,0.01,0.05,0.03,1.4999999999999999E-2]
["Oil tanker 60,000 - 79,999 dwt",1,null,null,293750,0,0,null,5,0.01,0.05,0.03,1.4999999999999999E-2]
["Oil tanker 80,000 - 119,999 dwt",1,null,null,411250,0,0,null,5,0.01,0.05,0.03,1.4999999999999999E-2]
["Oil tanker 120,000 - 199,999 dwt",1,null,null,470000,0,0,null,5,0.01,0.05,0.03,1.4999999999999999E-2]
["Oil tanker 200,000-+ dwt",1,null,null,528750,0,0,null,5,0.01,0.05,0.03,1.4999999999999999E-2]
["Other liquids tankers 0-999 dwt",1,null,null,35250,0,0,null,5,0.01,0.05,0.03,1.4999999999999999E-2]
["Other liquids tankers 1,000-+ dwt",1,null,null,82250,0,0,null,5,0.01,0.05,0.03,1.4999999999999999E-2]

{"sheet":"Hull cleaning","index":39,"n_rows":66,"n_cols":13,"rows_kept":66,"cut":false,"hidden":false,"merged":[[0,0,1,0],[0,1,0,3],[0,6,0,7],[0,9,0,11]]}
["Ship type and size","Measure applicability to engines",null,null,"Installation","CAPEX Retrofit addition","Operational Cost",null,"Lifetime","Total fuel savings %",null,null,"EEXI / EEDI savings"]
[null,"Main","Aux","Boiler","$","%","$ per year","$ per 5 year","Years","Low","High","Typical","%"]
[{"$f":"DropDownList!$A$3&\" \"&DropDownList!A4","v":"Bulk carrier 0  - 9,999 dwt"},1,null,null,0,0,5000,null,1.5,0.01,0.05,3.5000000000000003E-2]
[{"$f":"DropDownList!$A$3&\" \"&DropDownList!A5","v":"Bulk carrier 10,000 - 34,999 dwt"},1,null,null,0,0,5000,null,1.5,0.01,0.05,3.5000000000000003E-2]
[{"$f":"DropDownList!$A$3&\" \"&DropDownList!A6","v":"Bulk carrier 35,000 - 59,999 dwt"},1,null,null,0,0,15000,null,1.5,0.01,0.05,3.5000000000000003E-2]
[{"$f":"DropDownList!$A$3&\" \"&DropDownList!A7","v":"Bulk carrier 60,000 - 99,999 dwt"},1,null,null,0,0,30000,null,1.5,0.01,0.05,3.5000000000000003E-2]
[{"$f":"DropDownList!$A$3&\" \"&DropDownList!A8","v":"Bulk carrier 100,000 - 199,999 dwt"},1,null,null,0,0,40000,null,1.5,0.01,0.05,3.5000000000000003E-2]
[{"$f":"DropDownList!$A$3&\" \"&DropDownList!A9","v":"Bulk carrier 200,000-+ dwt"},1,null,null,0,0,50000,null,1.5,0.01,0.05,3.5000000000000003E-2]
[{"$f":"DropDownList!$B$3&\" \"&DropDownList!B4","v":"Chemical tanker 0 - 4,999 dwt"},1,null,null,0,0,5000,null,1.5,0.01,0.05,3.5000000000000003E-2]
[{"$f":"DropDownList!$B$3&\" \"&DropDownList!B5","v":"Chemical tanker 5,000 - 9,999 dwt"},1,null,null,0,0,5000,null,1.5,0.01,0.05,3.5000000000000003E-2]
[{"$f":"DropDownList!$B$3&\" \"&DropDownList!B6","v":"Chemical tanker 10,000 - 19,999 dwt"},1,null,null,0,0,10000,null,1.5,0.01,0.05,3.5000000000000003E-2]
[{"$f":"DropDownList!$B$3&\" \"&DropDownList!B7","v":"Chemical tanker 20,000 - 39,999 dwt"},1,null,null,0,0,20000,null,1.5,0.01,0.05,3.5000000000000003E-2]
[{"$f":"DropDownList!$B$3&\" \"&DropDownList!B8","v":"Chemical tanker 40,000-+ dwt"},1,null,null,0,0,30000,null,1.5,0.01,0.05,3.5000000000000003E-2]
[{"$f":"DropDownList!$C$3&\" \"&DropDownList!C4","v":"Container 0-999 teu"},1,null,null,0,0,5000,null,1.5,0.01,0.05,3.5000000000000003E-2]
[{"$f":"DropDownList!$C$3&\" \"&DropDownList!C5","v":"Container 1,000 - 1,999 teu"},1,null,null,0,0,5000,null,1.5,0.01,0.05,3.5000000000000003E-2]
[{"$f":"DropDownList!$C$3&\" \"&DropDownList!C6","v":"Container 2,000 - 2,999 teu"},1,null,null,0,0,5000,null,1.5,0.01,0.05,3.5000000000000003E-2]
[{"$f":"DropDownList!$C$3&\" \"&DropDownList!C7","v":"Container 3,000 - 4,999 teu"},1,null,null,0,0,10000,null,1.5,0.01,0.05,3.5000000000000003E-2]
[{"$f":"DropDownList!$C$3&\" \"&DropDownList!C8","v":"Container 5,000 - 7,999 teu"},1,null,null,0,0,20000,null,1.5,0.01,0.05,3.5000000000000003E-2]
[{"$f":"DropDownList!$C$3&\" \"&DropDownList!C9","v":"Container 8,000 - 11,999 teu"},1,null,null,0,0,30000,null,1.5,0.01,0.05,3.5000000000000003E-2]
[{"$f":"DropDownList!$C$3&\" \"&DropDownList!C10","v":"Container 12,000 - 14,499 teu"},1,null,null,0,0,40000,null,1.5,0.01,0.05,3.5000000000000003E-2]
[{"$f":"DropDownList!$C$3&\" \"&DropDownList!C11","v":"Container 14,500 - 19,999 teu"},1,null,null,0,0,40000,null,1.5,0.01,0.05,3.5000000000000003E-2]
[{"$f":"DropDownList!$C$3&\" \"&DropDownList!C12","v":"Container 20,000-+ teu"},1,null,null,0,0,50000,null,1.5,0.01,0.05,3.5000000000000003E-2]
[{"$f":"DropDownList!$D$3&\" \"&DropDownList!D4","v":"General cargo 0 - 4,999 dwt"},1,null,null,0,0,5000,null,1.5,0.01,0.05,3.5000000000000003E-2]
[{"$f":"DropDownList!$D$3&\" \"&DropDownList!D5","v":"General cargo 5,000 - 9,999 dwt"},1,null,null,0,0,5000,null,1.5,0.01,0.05,3.5000000000000003E-2]
[{"$f":"DropDownList!$D$3&\" \"&DropDownList!D6","v":"General cargo 10,000 - 19,999 dwt"},1,null,null,0,0,10000,null,1.5,0.01,0.05,3.5000000000000003E-2]
[{"$f":"DropDownList!$D$3&\" \"&DropDownList!D7","v":"General cargo 20,000-+ dwt"},1,null,null,0,0,10000,null,1.5,0.01,0.05,3.5000000000000003E-2]
[{"$f":"DropDownList!$E$3&\" \"&DropDownList!E4","v":"Liquefied gas tanker 0 - 49,999 cbm"},1,null,null,0,0,5000,null,1.5,0.01,0.05,3.5000000000000003E-2]
[{"$f":"DropDownList!$E$3&\" \"&DropDownList!E5","v":"Liquefied gas tanker 40,000 - 99,999 cbm"},1,null,null,0,0,15000,null,1.5,0.01,0.05,3.5000000000000003E-2]
[{"$f":"DropDownList!$E$3&\" \"&DropDownList!E6","v":"Liquefied gas tanker 100,000 - 199,999 cbm"},1,null,null,0,0,25000,null,1.5,0.01,0.05,3.5000000000000003E-2]
[{"$f":"DropDownList!$E$3&\" \"&DropDownList!E7","v":"Liquefied gas tanker 200,000-+ cbm"},1,null,null,0,0,40000,null,1.5,0.01,0.05,3.5000000000000003E-2]
[{"$f":"DropDownList!$G$3&\" \"&DropDownList!G4","v":"Ferry-pax only 0 - 299 GT"},1,null,null,0,0,5000,null,1.5,0.01,0.05,3.5000000000000003E-2]
[{"$f":"DropDownList!$G$3&\" \"&DropDownList!G5","v":"Ferry-pax only 300 - 999 GT"},1,null,null,0,0,5000,null,1.5,0.01,0.05,3.5000000000000003E-2]
[{"$f":"DropDownList!$G$3&\" \"&DropDownList!G6","v":"Ferry-pax only 1,000 - 1,999 GT"},1,null,null,0,0,7500,null,1.5,0.01,0.05,3.5000000000000003E-2]
[{"$f":"DropDownList!$G$3&\" \"&DropDownList!G7","v":"Ferry-pax only 2,000-+ GT"},1,null,null,0,0,7500,null,1.5,0.01,0.05,3.5000000000000003E-2]
[{"$f":"DropDownList!$H$3&\" \"&DropDownList!H4","v":"Cruise 0 - 1,999 GT"},1,null,null,0,0,5000,null,1.5,0.01,0.05,3.5000000000000003E-2]
[{"$f":"DropDownList!$H$3&\" \"&DropDownList!H5","v":"Cruise 2,000 - 9,999 GT"},1,null,null,0,0,7500,null,1.5,0.01,0.05,3.5000000000000003E-2]
[{"$f":"DropDownList!$H$3&\" \"&DropDownList!H6","v":"Cruise 10,000 - 59,999 GT"},1,null,null,0,0,10000,null,1.5,0.01,0.05,3.5000000000000003E-2]
[{"$f":"DropDownList!$H$3&\" \"&DropDownList!H7","v":"Cruise 60,000 - 99,999 GT"},1,null,null,0,0,25000,null,1.5,0.01,0.05,3.5000000000000003E-2]
[{"$f":"DropDownList!$H$3&\" \"&DropDownList!H8","v":"Cruise 100,000 - 149,999 GT"},1,null,null,0,0,30000,null,1.5,0.01,0.05,3.5000000000000003E-2]
[{"$f":"DropDownList!$H$3&\" \"&DropDownList!H9","v":"Cruise 150,000-+ GT"},1,null,null,0,0,50000,null,1.5,0.01,0.05,3.5000000000000003E-2]
[{"$f":"DropDownList!$I$3&\" \"&DropDownList!I4","v":"Ferry-RoPax 0 - 1,999 GT"},1,null,null,0,0,5000,null,1.5,0.01,0.05,3.5000000000000003E-2]
[{"$f":"DropDownList!$I$3&\" \"&DropDownList!I5","v":"Ferry-RoPax 2,000 - 4,999 GT"},1,null,null,0,0,7500,null,1.5,0.01,0.05,3.5000000000000003E-2]
[{"$f":"DropDownList!$I$3&\" \"&DropDownList!I6","v":"Ferry-RoPax 5,000 - 9,999 GT"},1,null,null,0,0,10000,null,1.5,0.01,0.05,3.5000000000000003E-2]
[{"$f":"DropDownList!$I$3&\" \"&DropDownList!I7","v":"Ferry-RoPax 10,000 - 19,999 GT"},1,null,null,0,0,15000,null,1.5,0.01,0.05,3.5000000000000003E-2]
[{"$f":"DropDownList!$I$3&\" \"&DropDownList!I8","v":"Ferry-RoPax 20,000-+ GT"},1,null,null,0,0,20000,null,1.5,0.01,0.05,3.5000000000000003E-2]
[{"$f":"DropDownList!$J$3&\" \"&DropDownList!J4","v":"Refrigerated bulk 0 - 1,999 dwt"},1,null,null,0,0,5000,null,1.5,0.01,0.05,3.5000000000000003E-2]
[{"$f":"DropDownList!$J$3&\" \"&DropDownList!J5","v":"Refrigerated bulk 2,000 - 5,999 dwt"},1,null,null,0,0,5000,null,1.5,0.01,0.05,3.5000000000000003E-2]
[{"$f":"DropDownList!$J$3&\" \"&DropDownList!J6","v":"Refrigerated bulk 6,000 - 9,999 dwt"},1,null,null,0,0,7500,null,1.5,0.01,0.05,3.5000000000000003E-2]
[{"$f":"DropDownList!$J$3&\" \"&DropDownList!J7","v":"Refrigerated bulk 10,000-+ dwt"},1,null,null,0,0,10000,null,1.5,0.01,0.05,3.5000000000000003E-2]
[{"$f":"DropDownList!$K$3&\" \"&DropDownList!K4","v":"Ro-Ro 0 - 4,999 dwt"},1,null,null,0,0,5000,null,1.5,0.01,0.05,3.5000000000000003E-2]
[{"$f":"DropDownList!$K$3&\" \"&DropDownList!K5","v":"Ro-Ro 5,000 - 9,999 dwt"},1,null,null,0,0,7500,null,1.5,0.01,0.05,3.5000000000000003E-2]
[{"$f":"DropDownList!$K$3&\" \"&DropDownList!K6","v":"Ro-Ro 10,000 - 14,999 dwt"},1,null,null,0,0,10000,null,1.5,0.01,0.05,3.5000000000000003E-2]
[{"$f":"DropDownList!$K$3&\" \"&DropDownList!K7","v":"Ro-Ro 15,000-+ dwt"},1,null,null,0,0,12000,null,1.5,0.01,0.05,3.5000000000000003E-2]
[{"$f":"DropDownList!$L$3&\" \"&DropDownList!L4","v":"Vehicle 0 - 29,999 GT"},1,null,null,0,0,5000,null,1.5,0.01,0.05,3.5000000000000003E-2]
[{"$f":"DropDownList!$L$3&\" \"&DropDownList!L5","v":"Vehicle 30,000 - 49,999 GT"},1,null,null,0,0,20000,null,1.5,0.01,0.05,3.5000000000000003E-2]
[{"$f":"DropDownList!$L$3&\" \"&DropDownList!L6","v":"Vehicle 50,000-+ GT"},1,null,null,0,0,30000,null,1.5,0.01,0.05,3.5000000000000003E-2]
["Oil tanker 0 - 4,999 dwt",1,null,null,0,0,5000,null,1.5,0.01,0.05,3.5000000000000003E-2]
["Oil tanker 5,000 - 9,999 dwt",1,null,null,0,0,10000,null,1.5,0.01,0.05,3.5000000000000003E-2]
["Oil tanker 10,000 - 19,999 dwt",1,null,null,0,0,15000,null,1.5,0.01,0.05,3.5000000000000003E-2]
["Oil tanker 20,000 - 59,999 dwt",1,null,null,0,0,20000,null,1.5,0.01,0.05,3.5000000000000003E-2]
["Oil tanker 60,000 - 79,999 dwt",1,null,null,0,0,30000,null,1.5,0.01,0.05,3.5000000000000003E-2]
["Oil tanker 80,000 - 119,999 dwt",1,null,null,0,0,35000,null,1.5,0.01,0.05,3.5000000000000003E-2]
["Oil tanker 120,000 - 199,999 dwt",1,null,null,0,0,40000,null,1.5,0.01,0.05,3.5000000000000003E-2]
["Oil tanker 200,000-+ dwt",1,null,null,0,0,50000,null,1.5,0.01,0.05,3.5000000000000003E-2]
["Other liquids tankers 0-999 dwt",1,null,null,0,0,5000,null,1.5,0.01,0.05,3.5000000000000003E-2]
["Other liquids tankers 1,000-+ dwt",1,null,null,0,0,5000,null,1.5,0.01,0.05,3.5000000000000003E-2]

{"sheet":"Hull form optimization","index":40,"n_rows":66,"n_cols":13,"rows_kept":66,"cut":false,"hidden":false,"merged":[[0,0,1,0],[0,1,0,3],[0,6,0,7],[0,9,0,11]]}
["Ship type and size","Measure applicability to engines",null,null,"Installation","CAPEX Retrofit addition","Operational Cost",null,"Lifetime","Total fuel savings %",null,null,"EEXI / EEDI savings"]
[null,"Main","Aux","Boiler","$","%","$ per year","$ per 5 year","Years","Low","High","Typical","%"]
[{"$f":"DropDownList!$A$3&\" \"&DropDownList!A4","v":"Bulk carrier 0  - 9,999 dwt"},1,null,null,235000,0,0,null,25,1E-3,0.04,0.02]
[{"$f":"DropDownList!$A$3&\" \"&DropDownList!A5","v":"Bulk carrier 10,000 - 34,999 dwt"},1,null,null,235000,0,0,null,25,1E-3,0.04,0.02]
[{"$f":"DropDownList!$A$3&\" \"&DropDownList!A6","v":"Bulk carrier 35,000 - 59,999 dwt"},1,null,null,235000,0,0,null,25,1E-3,0.04,0.02]
[{"$f":"DropDownList!$A$3&\" \"&DropDownList!A7","v":"Bulk carrier 60,000 - 99,999 dwt"},1,null,null,352500,0,0,null,25,1E-3,0.04,0.02]
[{"$f":"DropDownList!$A$3&\" \"&DropDownList!A8","v":"Bulk carrier 100,000 - 199,999 dwt"},1,null,null,352500,0,0,null,25,1E-3,0.04,0.02]
[{"$f":"DropDownList!$A$3&\" \"&DropDownList!A9","v":"Bulk carrier 200,000-+ dwt"},1,null,null,352500,0,0,null,25,1E-3,0.04,0.02]
[{"$f":"DropDownList!$B$3&\" \"&DropDownList!B4","v":"Chemical tanker 0 - 4,999 dwt"},1,null,null,235000,0,0,null,25,1E-3,0.04,0.02]
[{"$f":"DropDownList!$B$3&\" \"&DropDownList!B5","v":"Chemical tanker 5,000 - 9,999 dwt"},1,null,null,235000,0,0,null,25,1E-3,0.04,0.02]
[{"$f":"DropDownList!$B$3&\" \"&DropDownList!B6","v":"Chemical tanker 10,000 - 19,999 dwt"},1,null,null,235000,0,0,null,25,1E-3,0.04,0.02]
[{"$f":"DropDownList!$B$3&\" \"&DropDownList!B7","v":"Chemical tanker 20,000 - 39,999 dwt"},1,null,null,352500,0,0,null,25,1E-3,0.04,0.02]
[{"$f":"DropDownList!$B$3&\" \"&DropDownList!B8","v":"Chemical tanker 40,000-+ dwt"},1,null,null,352500,0,0,null,25,1E-3,0.04,0.02]
[{"$f":"DropDownList!$C$3&\" \"&DropDownList!C4","v":"Container 0-999 teu"},1,null,null,235000,0,0,null,25,1E-3,0.04,0.02]
[{"$f":"DropDownList!$C$3&\" \"&DropDownList!C5","v":"Container 1,000 - 1,999 teu"},1,null,null,235000,0,0,null,25,1E-3,0.04,0.02]
[{"$f":"DropDownList!$C$3&\" \"&DropDownList!C6","v":"Container 2,000 - 2,999 teu"},1,null,null,235000,0,0,null,25,1E-3,0.04,0.02]
[{"$f":"DropDownList!$C$3&\" \"&DropDownList!C7","v":"Container 3,000 - 4,999 teu"},1,null,null,235000,0,0,null,25,1E-3,0.04,0.02]
[{"$f":"DropDownList!$C$3&\" \"&DropDownList!C8","v":"Container 5,000 - 7,999 teu"},1,null,null,235000,0,0,null,25,1E-3,0.04,0.02]
[{"$f":"DropDownList!$C$3&\" \"&DropDownList!C9","v":"Container 8,000 - 11,999 teu"},1,null,null,352500,0,0,null,25,1E-3,0.04,0.02]
[{"$f":"DropDownList!$C$3&\" \"&DropDownList!C10","v":"Container 12,000 - 14,499 teu"},1,null,null,352500,0,0,null,25,1E-3,0.04,0.02]
[{"$f":"DropDownList!$C$3&\" \"&DropDownList!C11","v":"Container 14,500 - 19,999 teu"},1,null,null,352500,0,0,null,25,1E-3,0.04,0.02]
[{"$f":"DropDownList!$C$3&\" \"&DropDownList!C12","v":"Container 20,000-+ teu"},1,null,null,470000,0,0,null,25,1E-3,0.04,0.02]
[{"$f":"DropDownList!$D$3&\" \"&DropDownList!D4","v":"General cargo 0 - 4,999 dwt"},1,null,null,235000,0,0,null,25,1E-3,0.04,0.02]
[{"$f":"DropDownList!$D$3&\" \"&DropDownList!D5","v":"General cargo 5,000 - 9,999 dwt"},1,null,null,235000,0,0,null,25,1E-3,0.04,0.02]
[{"$f":"DropDownList!$D$3&\" \"&DropDownList!D6","v":"General cargo 10,000 - 19,999 dwt"},1,null,null,235000,0,0,null,25,1E-3,0.04,0.02]
[{"$f":"DropDownList!$D$3&\" \"&DropDownList!D7","v":"General cargo 20,000-+ dwt"},1,null,null,352500,0,0,null,25,1E-3,0.04,0.02]
[{"$f":"DropDownList!$E$3&\" \"&DropDownList!E4","v":"Liquefied gas tanker 0 - 49,999 cbm"},1,null,null,235000,0,0,null,25,1E-3,0.04,0.02]
[{"$f":"DropDownList!$E$3&\" \"&DropDownList!E5","v":"Liquefied gas tanker 40,000 - 99,999 cbm"},1,null,null,235000,0,0,null,25,1E-3,0.04,0.02]
[{"$f":"DropDownList!$E$3&\" \"&DropDownList!E6","v":"Liquefied gas tanker 100,000 - 199,999 cbm"},1,null,null,352500,0,0,null,25,1E-3,0.04,0.02]
[{"$f":"DropDownList!$E$3&\" \"&DropDownList!E7","v":"Liquefied gas tanker 200,000-+ cbm"},1,null,null,352500,0,0,null,25,1E-3,0.04,0.02]
[{"$f":"DropDownList!$G$3&\" \"&DropDownList!G4","v":"Ferry-pax only 0 - 299 GT"},1,null,null,235000,0,0,null,25,1E-3,0.04,0.02]
[{"$f":"DropDownList!$G$3&\" \"&DropDownList!G5","v":"Ferry-pax only 300 - 999 GT"},1,null,null,235000,0,0,null,25,1E-3,0.04,0.02]
[{"$f":"DropDownList!$G$3&\" \"&DropDownList!G6","v":"Ferry-pax only 1,000 - 1,999 GT"},1,null,null,235000,0,0,null,25,1E-3,0.04,0.02]
[{"$f":"DropDownList!$G$3&\" \"&DropDownList!G7","v":"Ferry-pax only 2,000-+ GT"},1,null,null,235000,0,0,null,25,1E-3,0.04,0.02]
[{"$f":"DropDownList!$H$3&\" \"&DropDownList!H4","v":"Cruise 0 - 1,999 GT"},1,null,null,235000,0,0,null,25,1E-3,0.04,0.02]
[{"$f":"DropDownList!$H$3&\" \"&DropDownList!H5","v":"Cruise 2,000 - 9,999 GT"},1,null,null,235000,0,0,null,25,1E-3,0.04,0.02]
[{"$f":"DropDownList!$H$3&\" \"&DropDownList!H6","v":"Cruise 10,000 - 59,999 GT"},1,null,null,235000,0,0,null,25,1E-3,0.04,0.02]
[{"$f":"DropDownList!$H$3&\" \"&DropDownList!H7","v":"Cruise 60,000 - 99,999 GT"},1,null,null,352500,0,0,null,25,1E-3,0.04,0.02]
[{"$f":"DropDownList!$H$3&\" \"&DropDownList!H8","v":"Cruise 100,000 - 149,999 GT"},1,null,null,352500,0,0,null,25,1E-3,0.04,0.02]
[{"$f":"DropDownList!$H$3&\" \"&DropDownList!H9","v":"Cruise 150,000-+ GT"},1,null,null,352500,0,0,null,25,1E-3,0.04,0.02]
[{"$f":"DropDownList!$I$3&\" \"&DropDownList!I4","v":"Ferry-RoPax 0 - 1,999 GT"},1,null,null,235000,0,0,null,25,1E-3,0.04,0.02]
[{"$f":"DropDownList!$I$3&\" \"&DropDownList!I5","v":"Ferry-RoPax 2,000 - 4,999 GT"},1,null,null,235000,0,0,null,25,1E-3,0.04,0.02]
[{"$f":"DropDownList!$I$3&\" \"&DropDownList!I6","v":"Ferry-RoPax 5,000 - 9,999 GT"},1,null,null,235000,0,0,null,25,1E-3,0.04,0.02]
[{"$f":"DropDownList!$I$3&\" \"&DropDownList!I7","v":"Ferry-RoPax 10,000 - 19,999 GT"},1,null,null,235000,0,0,null,25,1E-3,0.04,0.02]
[{"$f":"DropDownList!$I$3&\" \"&DropDownList!I8","v":"Ferry-RoPax 20,000-+ GT"},1,null,null,352500,0,0,null,25,1E-3,0.04,0.02]
[{"$f":"DropDownList!$J$3&\" \"&DropDownList!J4","v":"Refrigerated bulk 0 - 1,999 dwt"},1,null,null,235000,0,0,null,25,1E-3,0.04,0.02]
[{"$f":"DropDownList!$J$3&\" \"&DropDownList!J5","v":"Refrigerated bulk 2,000 - 5,999 dwt"},1,null,null,235000,0,0,null,25,1E-3,0.04,0.02]
[{"$f":"DropDownList!$J$3&\" \"&DropDownList!J6","v":"Refrigerated bulk 6,000 - 9,999 dwt"},1,null,null,235000,0,0,null,25,1E-3,0.04,0.02]
[{"$f":"DropDownList!$J$3&\" \"&DropDownList!J7","v":"Refrigerated bulk 10,000-+ dwt"},1,null,null,235000,0,0,null,25,1E-3,0.04,0.02]
[{"$f":"DropDownList!$K$3&\" \"&DropDownList!K4","v":"Ro-Ro 0 - 4,999 dwt"},1,null,null,235000,0,0,null,25,1E-3,0.04,0.02]
[{"$f":"DropDownList!$K$3&\" \"&DropDownList!K5","v":"Ro-Ro 5,000 - 9,999 dwt"},1,null,null,235000,0,0,null,25,1E-3,0.04,0.02]
[{"$f":"DropDownList!$K$3&\" \"&DropDownList!K6","v":"Ro-Ro 10,000 - 14,999 dwt"},1,null,null,235000,0,0,null,25,1E-3,0.04,0.02]
[{"$f":"DropDownList!$K$3&\" \"&DropDownList!K7","v":"Ro-Ro 15,000-+ dwt"},1,null,null,235000,0,0,null,25,1E-3,0.04,0.02]
[{"$f":"DropDownList!$L$3&\" \"&DropDownList!L4","v":"Vehicle 0 - 29,999 GT"},1,null,null,235000,0,0,null,25,1E-3,0.04,0.02]
[{"$f":"DropDownList!$L$3&\" \"&DropDownList!L5","v":"Vehicle 30,000 - 49,999 GT"},1,null,null,470000,0,0,null,25,1E-3,0.04,0.02]
[{"$f":"DropDownList!$L$3&\" \"&DropDownList!L6","v":"Vehicle 50,000-+ GT"},1,null,null,646250,0,0,null,25,1E-3,0.04,0.02]
["Oil tanker 0 - 4,999 dwt",1,null,null,235000,0,0,null,25,1E-3,0.04,0.02]
["Oil tanker 5,000 - 9,999 dwt",1,null,null,235000,0,0,null,25,1E-3,0.04,0.02]
["Oil tanker 10,000 - 19,999 dwt",1,null,null,235000,0,0,null,25,1E-3,0.04,0.02]
["Oil tanker 20,000 - 59,999 dwt",1,null,null,411250,0,0,null,25,1E-3,0.04,0.02]
["Oil tanker 60,000 - 79,999 dwt",1,null,null,352500,0,0,null,25,1E-3,0.04,0.02]
["Oil tanker 80,000 - 119,999 dwt",1,null,null,352500,0,0,null,25,1E-3,0.04,0.02]
["Oil tanker 120,000 - 199,999 dwt",1,null,null,352500,0,0,null,25,1E-3,0.04,0.02]
["Oil tanker 200,000-+ dwt",1,null,null,352500,0,0,null,25,1E-3,0.04,0.02]
["Other liquids tankers 0-999 dwt",1,null,null,235000,0,0,null,25,1E-3,0.04,0.02]
["Other liquids tankers 1,000-+ dwt",1,null,null,235000,0,0,null,25,1E-3,0.04,0.02]

{"sheet":"Propeller retrofitting","index":41,"n_rows":66,"n_cols":13,"rows_kept":66,"cut":false,"hidden":false,"merged":[[0,0,1,0],[0,1,0,3],[0,6,0,7],[0,9,0,11]]}
["Ship type and size","Measure applicability to engines",null,null,"Installation","CAPEX Retrofit addition","Operational Cost",null,"Lifetime","Total fuel savings %",null,null,"EEXI / EEDI savings"]
[null,"Main","Aux","Boiler","$","%","$ per year","$ per 5 year","Years","Low","High","Typical","%"]
[{"$f":"DropDownList!$A$3&\" \"&DropDownList!A4","v":"Bulk carrier 0  - 9,999 dwt"},1,null,null,470000,0,0,null,15,5.0000000000000001E-3,0.04,2.5000000000000001E-2,5.0000000000000001E-3]
[{"$f":"DropDownList!$A$3&\" \"&DropDownList!A5","v":"Bulk carrier 10,000 - 34,999 dwt"},1,null,null,470000,0,0,null,15,5.0000000000000001E-3,0.04,2.5000000000000001E-2,5.0000000000000001E-3]
[{"$f":"DropDownList!$A$3&\" \"&DropDownList!A6","v":"Bulk carrier 35,000 - 59,999 dwt"},1,null,null,587500,0,0,null,15,5.0000000000000001E-3,0.04,2.5000000000000001E-2,5.0000000000000001E-3]
[{"$f":"DropDownList!$A$3&\" \"&DropDownList!A7","v":"Bulk carrier 60,000 - 99,999 dwt"},1,null,null,705000,0,0,null,15,5.0000000000000001E-3,0.04,2.5000000000000001E-2,5.0000000000000001E-3]
[{"$f":"DropDownList!$A$3&\" \"&DropDownList!A8","v":"Bulk carrier 100,000 - 199,999 dwt"},1,null,null,822500,0,0,null,15,5.0000000000000001E-3,0.04,2.5000000000000001E-2,5.0000000000000001E-3]
[{"$f":"DropDownList!$A$3&\" \"&DropDownList!A9","v":"Bulk carrier 200,000-+ dwt"},1,null,null,822500,0,0,null,15,5.0000000000000001E-3,0.04,2.5000000000000001E-2,5.0000000000000001E-3]
[{"$f":"DropDownList!$B$3&\" \"&DropDownList!B4","v":"Chemical tanker 0 - 4,999 dwt"},1,null,null,470000,0,0,null,15,5.0000000000000001E-3,0.04,2.5000000000000001E-2,5.0000000000000001E-3]
[{"$f":"DropDownList!$B$3&\" \"&DropDownList!B5","v":"Chemical tanker 5,000 - 9,999 dwt"},1,null,null,470000,0,0,null,15,5.0000000000000001E-3,0.04,2.5000000000000001E-2,5.0000000000000001E-3]
[{"$f":"DropDownList!$B$3&\" \"&DropDownList!B6","v":"Chemical tanker 10,000 - 19,999 dwt"},1,null,null,470000,0,0,null,15,5.0000000000000001E-3,0.04,2.5000000000000001E-2,5.0000000000000001E-3]
[{"$f":"DropDownList!$B$3&\" \"&DropDownList!B7","v":"Chemical tanker 20,000 - 39,999 dwt"},1,null,null,822500,0,0,null,15,5.0000000000000001E-3,0.04,2.5000000000000001E-2,5.0000000000000001E-3]
[{"$f":"DropDownList!$B$3&\" \"&DropDownList!B8","v":"Chemical tanker 40,000-+ dwt"},1,null,null,822500,0,0,null,15,5.0000000000000001E-3,0.04,2.5000000000000001E-2,5.0000000000000001E-3]
[{"$f":"DropDownList!$C$3&\" \"&DropDownList!C4","v":"Container 0-999 teu"},1,null,null,470000,0,0,null,15,5.0000000000000001E-3,0.04,2.5000000000000001E-2,5.0000000000000001E-3]
[{"$f":"DropDownList!$C$3&\" \"&DropDownList!C5","v":"Container 1,000 - 1,999 teu"},1,null,null,470000,0,0,null,15,5.0000000000000001E-3,0.04,2.5000000000000001E-2,5.0000000000000001E-3]
[{"$f":"DropDownList!$C$3&\" \"&DropDownList!C6","v":"Container 2,000 - 2,999 teu"},1,null,null,587500,0,0,null,15,5.0000000000000001E-3,0.04,2.5000000000000001E-2,5.0000000000000001E-3]
[{"$f":"DropDownList!$C$3&\" \"&DropDownList!C7","v":"Container 3,000 - 4,999 teu"},1,null,null,587500,0,0,null,15,5.0000000000000001E-3,0.04,2.5000000000000001E-2,5.0000000000000001E-3]
[{"$f":"DropDownList!$C$3&\" \"&DropDownList!C8","v":"Container 5,000 - 7,999 teu"},1,null,null,705000,0,0,null,15,5.0000000000000001E-3,0.04,2.5000000000000001E-2,5.0000000000000001E-3]
[{"$f":"DropDownList!$C$3&\" \"&DropDownList!C9","v":"Container 8,000 - 11,999 teu"},1,null,null,705000,0,0,null,15,5.0000000000000001E-3,0.04,2.5000000000000001E-2,5.0000000000000001E-3]
[{"$f":"DropDownList!$C$3&\" \"&DropDownList!C10","v":"Container 12,000 - 14,499 teu"},1,null,null,822500,0,0,null,15,5.0000000000000001E-3,0.04,2.5000000000000001E-2,5.0000000000000001E-3]
[{"$f":"DropDownList!$C$3&\" \"&DropDownList!C11","v":"Container 14,500 - 19,999 teu"},1,null,null,822500,0,0,null,15,5.0000000000000001E-3,0.04,2.5000000000000001E-2,5.0000000000000001E-3]
[{"$f":"DropDownList!$C$3&\" \"&DropDownList!C12","v":"Container 20,000-+ teu"},1,null,null,822500,0,0,null,15,5.0000000000000001E-3,0.04,2.5000000000000001E-2,5.0000000000000001E-3]
[{"$f":"DropDownList!$D$3&\" \"&DropDownList!D4","v":"General cargo 0 - 4,999 dwt"},1,null,null,470000,0,0,null,15,5.0000000000000001E-3,0.04,2.5000000000000001E-2,5.0000000000000001E-3]
[{"$f":"DropDownList!$D$3&\" \"&DropDownList!D5","v":"General cargo 5,000 - 9,999 dwt"},1,null,null,470000,0,0,null,15,5.0000000000000001E-3,0.04,2.5000000000000001E-2,5.0000000000000001E-3]
[{"$f":"DropDownList!$D$3&\" \"&DropDownList!D6","v":"General cargo 10,000 - 19,999 dwt"},1,null,null,470000,0,0,null,15,5.0000000000000001E-3,0.04,2.5000000000000001E-2,5.0000000000000001E-3]
[{"$f":"DropDownList!$D$3&\" \"&DropDownList!D7","v":"General cargo 20,000-+ dwt"},1,null,null,646250,0,0,null,15,5.0000000000000001E-3,0.04,2.5000000000000001E-2,5.0000000000000001E-3]
[{"$f":"DropDownList!$E$3&\" \"&DropDownList!E4","v":"Liquefied gas tanker 0 - 49,999 cbm"},1,null,null,470000,0,0,null,15,5.0000000000000001E-3,0.04,2.5000000000000001E-2,5.0000000000000001E-3]
[{"$f":"DropDownList!$E$3&\" \"&DropDownList!E5","v":"Liquefied gas tanker 40,000 - 99,999 cbm"},1,null,null,646250,0,0,null,15,5.0000000000000001E-3,0.04,2.5000000000000001E-2,5.0000000000000001E-3]
[{"$f":"DropDownList!$E$3&\" \"&DropDownList!E6","v":"Liquefied gas tanker 100,000 - 199,999 cbm"},1,null,null,705000,0,0,null,15,5.0000000000000001E-3,0.04,2.5000000000000001E-2,5.0000000000000001E-3]
[{"$f":"DropDownList!$E$3&\" \"&DropDownList!E7","v":"Liquefied gas tanker 200,000-+ cbm"},1,null,null,822500,0,0,null,15,5.0000000000000001E-3,0.04,2.5000000000000001E-2,5.0000000000000001E-3]
[{"$f":"DropDownList!$G$3&\" \"&DropDownList!G4","v":"Ferry-pax only 0 - 299 GT"},1,null,null,470000,0,0,null,15,5.0000000000000001E-3,0.04,2.5000000000000001E-2,5.0000000000000001E-3]
[{"$f":"DropDownList!$G$3&\" \"&DropDownList!G5","v":"Ferry-pax only 300 - 999 GT"},1,null,null,470000,0,0,null,15,5.0000000000000001E-3,0.04,2.5000000000000001E-2,5.0000000000000001E-3]
[{"$f":"DropDownList!$G$3&\" \"&DropDownList!G6","v":"Ferry-pax only 1,000 - 1,999 GT"},1,null,null,587500,0,0,null,15,5.0000000000000001E-3,0.04,2.5000000000000001E-2,5.0000000000000001E-3]
[{"$f":"DropDownList!$G$3&\" \"&DropDownList!G7","v":"Ferry-pax only 2,000-+ GT"},1,null,null,587500,0,0,null,15,5.0000000000000001E-3,0.04,2.5000000000000001E-2,5.0000000000000001E-3]
[{"$f":"DropDownList!$H$3&\" \"&DropDownList!H4","v":"Cruise 0 - 1,999 GT"},1,null,null,470000,0,0,null,15,5.0000000000000001E-3,0.04,2.5000000000000001E-2,5.0000000000000001E-3]
[{"$f":"DropDownList!$H$3&\" \"&DropDownList!H5","v":"Cruise 2,000 - 9,999 GT"},1,null,null,470000,0,0,null,15,5.0000000000000001E-3,0.04,2.5000000000000001E-2,5.0000000000000001E-3]
[{"$f":"DropDownList!$H$3&\" \"&DropDownList!H6","v":"Cruise 10,000 - 59,999 GT"},1,null,null,646250,0,0,null,15,5.0000000000000001E-3,0.04,2.5000000000000001E-2,5.0000000000000001E-3]
[{"$f":"DropDownList!$H$3&\" \"&DropDownList!H7","v":"Cruise 60,000 - 99,999 GT"},1,null,null,705000,0,0,null,15,5.0000000000000001E-3,0.04,2.5000000000000001E-2,5.0000000000000001E-3]
[{"$f":"DropDownList!$H$3&\" \"&DropDownList!H8","v":"Cruise 100,000 - 149,999 GT"},1,null,null,822500,0,0,null,15,5.0000000000000001E-3,0.04,2.5000000000000001E-2,5.0000000000000001E-3]
[{"$f":"DropDownList!$H$3&\" \"&DropDownList!H9","v":"Cruise 150,000-+ GT"},1,null,null,822500,0,0,null,15,5.0000000000000001E-3,0.04,2.5000000000000001E-2,5.0000000000000001E-3]
[{"$f":"DropDownList!$I$3&\" \"&DropDownList!I4","v":"Ferry-RoPax 0 - 1,999 GT"},1,null,null,470000,0,0,null,15,5.0000000000000001E-3,0.04,2.5000000000000001E-2,5.0000000000000001E-3]
[{"$f":"DropDownList!$I$3&\" \"&DropDownList!I5","v":"Ferry-RoPax 2,000 - 4,999 GT"},1,null,null,470000,0,0,null,15,5.0000000000000001E-3,0.04,2.5000000000000001E-2,5.0000000000000001E-3]
[{"$f":"DropDownList!$I$3&\" \"&DropDownList!I6","v":"Ferry-RoPax 5,000 - 9,999 GT"},1,null,null,470000,0,0,null,15,5.0000000000000001E-3,0.04,2.5000000000000001E-2,5.0000000000000001E-3]
[{"$f":"DropDownList!$I$3&\" \"&DropDownList!I7","v":"Ferry-RoPax 10,000 - 19,999 GT"},1,null,null,587500,0,0,null,15,5.0000000000000001E-3,0.04,2.5000000000000001E-2,5.0000000000000001E-3]
[{"$f":"DropDownList!$I$3&\" \"&DropDownList!I8","v":"Ferry-RoPax 20,000-+ GT"},1,null,null,646250,0,0,null,15,5.0000000000000001E-3,0.04,2.5000000000000001E-2,5.0000000000000001E-3]
[{"$f":"DropDownList!$J$3&\" \"&DropDownList!J4","v":"Refrigerated bulk 0 - 1,999 dwt"},1,null,null,470000,0,0,null,15,5.0000000000000001E-3,0.04,2.5000000000000001E-2,5.0000000000000001E-3]
[{"$f":"DropDownList!$J$3&\" \"&DropDownList!J5","v":"Refrigerated bulk 2,000 - 5,999 dwt"},1,null,null,470000,0,0,null,15,5.0000000000000001E-3,0.04,2.5000000000000001E-2,5.0000000000000001E-3]
[{"$f":"DropDownList!$J$3&\" \"&DropDownList!J6","v":"Refrigerated bulk 6,000 - 9,999 dwt"},1,null,null,470000,0,0,null,15,5.0000000000000001E-3,0.04,2.5000000000000001E-2,5.0000000000000001E-3]
[{"$f":"DropDownList!$J$3&\" \"&DropDownList!J7","v":"Refrigerated bulk 10,000-+ dwt"},1,null,null,587500,0,0,null,15,5.0000000000000001E-3,0.04,2.5000000000000001E-2,5.0000000000000001E-3]
[{"$f":"DropDownList!$K$3&\" \"&DropDownList!K4","v":"Ro-Ro 0 - 4,999 dwt"},1,null,null,470000,0,0,null,15,5.0000000000000001E-3,0.04,2.5000000000000001E-2,5.0000000000000001E-3]
[{"$f":"DropDownList!$K$3&\" \"&DropDownList!K5","v":"Ro-Ro 5,000 - 9,999 dwt"},1,null,null,470000,0,0,null,15,5.0000000000000001E-3,0.04,2.5000000000000001E-2,5.0000000000000001E-3]
[{"$f":"DropDownList!$K$3&\" \"&DropDownList!K6","v":"Ro-Ro 10,000 - 14,999 dwt"},1,null,null,470000,0,0,null,15,5.0000000000000001E-3,0.04,2.5000000000000001E-2,5.0000000000000001E-3]
[{"$f":"DropDownList!$K$3&\" \"&DropDownList!K7","v":"Ro-Ro 15,000-+ dwt"},1,null,null,587500,0,0,null,15,5.0000000000000001E-3,0.04,2.5000000000000001E-2,5.0000000000000001E-3]
[{"$f":"DropDownList!$L$3&\" \"&DropDownList!L4","v":"Vehicle 0 - 29,999 GT"},1,null,null,587500,0,0,null,15,5.0000000000000001E-3,0.04,2.5000000000000001E-2,5.0000000000000001E-3]
[{"$f":"DropDownList!$L$3&\" \"&DropDownList!L5","v":"Vehicle 30,000 - 49,999 GT"},1,null,null,705000,0,0,null,15,5.0000000000000001E-3,0.04,2.5000000000000001E-2,5.0000000000000001E-3]
[{"$f":"DropDownList!$L$3&\" \"&DropDownList!L6","v":"Vehicle 50,000-+ GT"},1,null,null,822500,0,0,null,15,5.0000000000000001E-3,0.04,2.5000000000000001E-2,5.0000000000000001E-3]
["Oil tanker 0 - 4,999 dwt",1,null,null,470000,0,0,null,15,5.0000000000000001E-3,0.04,2.5000000000000001E-2,5.0000000000000001E-3]
["Oil tanker 5,000 - 9,999 dwt",1,null,null,470000,0,0,null,15,5.0000000000000001E-3,0.04,2.5000000000000001E-2,5.0000000000000001E-3]
["Oil tanker 10,000 - 19,999 dwt",1,null,null,587500,0,0,null,15,5.0000000000000001E-3,0.04,2.5000000000000001E-2,5.0000000000000001E-3]
["Oil tanker 20,000 - 59,999 dwt",1,null,null,646250,0,0,null,15,5.0000000000000001E-3,0.04,2.5000000000000001E-2,5.0000000000000001E-3]
["Oil tanker 60,000 - 79,999 dwt",1,null,null,705000,0,0,null,15,5.0000000000000001E-3,0.04,2.5000000000000001E-2,5.0000000000000001E-3]
["Oil tanker 80,000 - 119,999 dwt",1,null,null,763750,0,0,null,15,5.0000000000000001E-3,0.04,2.5000000000000001E-2,5.0000000000000001E-3]
["Oil tanker 120,000 - 199,999 dwt",1,null,null,822500,0,0,null,15,5.0000000000000001E-3,0.04,2.5000000000000001E-2,5.0000000000000001E-3]
["Oil tanker 200,000-+ dwt",1,null,null,822500,0,0,null,15,5.0000000000000001E-3,0.04,2.5000000000000001E-2,5.0000000000000001E-3]
["Other liquids tankers 0-999 dwt",1,null,null,470000,0,0,null,15,5.0000000000000001E-3,0.04,2.5000000000000001E-2,5.0000000000000001E-3]
["Other liquids tankers 1,000-+ dwt",1,null,null,470000,0,0,null,15,5.0000000000000001E-3,0.04,2.5000000000000001E-2,5.0000000000000001E-3]

{"sheet":"Propulsion imp. devices (PIDs)","index":42,"n_rows":66,"n_cols":13,"rows_kept":66,"cut":false,"hidden":false,"merged":[[0,0,1,0],[0,1,0,3],[0,6,0,7],[0,9,0,11]]}
["Ship type and size","Measure applicability to engines",null,null,"Installation","CAPEX Retrofit addition","Operational Cost",null,"Lifetime","Total fuel savings %",null,null,"EEXI / EEDI savings"]
[null,"Main","Aux","Boiler","$","%","$ per year","$ per 5 year","Years","Low","High","Typical","%"]
[{"$f":"DropDownList!$A$3&\" \"&DropDownList!A4","v":"Bulk carrier 0  - 9,999 dwt"},1,null,null,117500,0.25,0,null,25,5.0000000000000001E-3,0.04,2.5000000000000001E-2,0.02]
[{"$f":"DropDownList!$A$3&\" \"&DropDownList!A5","v":"Bulk carrier 10,000 - 34,999 dwt"},1,null,null,293750,0.25,0,null,25,5.0000000000000001E-3,0.04,2.5000000000000001E-2,0.02]
[{"$f":"DropDownList!$A$3&\" \"&DropDownList!A6","v":"Bulk carrier 35,000 - 59,999 dwt"},1,null,null,352500,0.25,0,null,25,5.0000000000000001E-3,0.04,2.5000000000000001E-2,0.02]
[{"$f":"DropDownList!$A$3&\" \"&DropDownList!A7","v":"Bulk carrier 60,000 - 99,999 dwt"},1,null,null,470000,0.25,0,null,25,5.0000000000000001E-3,0.04,2.5000000000000001E-2,0.02]
[{"$f":"DropDownList!$A$3&\" \"&DropDownList!A8","v":"Bulk carrier 100,000 - 199,999 dwt"},1,null,null,558125,0.25,0,null,25,5.0000000000000001E-3,0.04,2.5000000000000001E-2,0.02]
[{"$f":"DropDownList!$A$3&\" \"&DropDownList!A9","v":"Bulk carrier 200,000-+ dwt"},1,null,null,646250,0.25,0,null,25,5.0000000000000001E-3,0.04,2.5000000000000001E-2,0.02]
[{"$f":"DropDownList!$B$3&\" \"&DropDownList!B4","v":"Chemical tanker 0 - 4,999 dwt"},1,null,null,117500,0.25,0,null,25,5.0000000000000001E-3,0.04,2.5000000000000001E-2,0.02]
[{"$f":"DropDownList!$B$3&\" \"&DropDownList!B5","v":"Chemical tanker 5,000 - 9,999 dwt"},1,null,null,235000,0.25,0,null,25,5.0000000000000001E-3,0.04,2.5000000000000001E-2,0.02]
[{"$f":"DropDownList!$B$3&\" \"&DropDownList!B6","v":"Chemical tanker 10,000 - 19,999 dwt"},1,null,null,293750,0.25,0,null,25,5.0000000000000001E-3,0.04,2.5000000000000001E-2,0.02]
[{"$f":"DropDownList!$B$3&\" \"&DropDownList!B7","v":"Chemical tanker 20,000 - 39,999 dwt"},1,null,null,352500,0.25,0,null,25,5.0000000000000001E-3,0.04,2.5000000000000001E-2,0.02]
[{"$f":"DropDownList!$B$3&\" \"&DropDownList!B8","v":"Chemical tanker 40,000-+ dwt"},1,null,null,411250,0.25,0,null,25,5.0000000000000001E-3,0.04,2.5000000000000001E-2,0.02]
[{"$f":"DropDownList!$C$3&\" \"&DropDownList!C4","v":"Container 0-999 teu"},1,null,null,117500,0.25,0,null,25,5.0000000000000001E-3,0.04,2.5000000000000001E-2,0.02]
[{"$f":"DropDownList!$C$3&\" \"&DropDownList!C5","v":"Container 1,000 - 1,999 teu"},1,null,null,117500,0.25,0,null,25,5.0000000000000001E-3,0.04,2.5000000000000001E-2,0.02]
[{"$f":"DropDownList!$C$3&\" \"&DropDownList!C6","v":"Container 2,000 - 2,999 teu"},1,null,null,176250,0.25,0,null,25,5.0000000000000001E-3,0.04,2.5000000000000001E-2,0.02]
[{"$f":"DropDownList!$C$3&\" \"&DropDownList!C7","v":"Container 3,000 - 4,999 teu"},1,null,null,176250,0.25,0,null,25,5.0000000000000001E-3,0.04,2.5000000000000001E-2,0.02]
[{"$f":"DropDownList!$C$3&\" \"&DropDownList!C8","v":"Container 5,000 - 7,999 teu"},1,null,null,235000,0.25,0,null,25,5.0000000000000001E-3,0.04,2.5000000000000001E-2,0.02]
[{"$f":"DropDownList!$C$3&\" \"&DropDownList!C9","v":"Container 8,000 - 11,999 teu"},1,null,null,235000,0.25,0,null,25,5.0000000000000001E-3,0.04,2.5000000000000001E-2,0.02]
[{"$f":"DropDownList!$C$3&\" \"&DropDownList!C10","v":"Container 12,000 - 14,499 teu"},1,null,null,352500,0.25,0,null,25,5.0000000000000001E-3,0.04,2.5000000000000001E-2,0.02]
[{"$f":"DropDownList!$C$3&\" \"&DropDownList!C11","v":"Container 14,500 - 19,999 teu"},1,null,null,646250,0.25,0,null,25,5.0000000000000001E-3,0.04,2.5000000000000001E-2,0.02]
[{"$f":"DropDownList!$C$3&\" \"&DropDownList!C12","v":"Container 20,000-+ teu"},1,null,null,881250,0.25,0,null,25,5.0000000000000001E-3,0.04,2.5000000000000001E-2,0.02]
[{"$f":"DropDownList!$D$3&\" \"&DropDownList!D4","v":"General cargo 0 - 4,999 dwt"},1,null,null,117500,0.25,0,null,25,5.0000000000000001E-3,0.04,2.5000000000000001E-2,0.02]
[{"$f":"DropDownList!$D$3&\" \"&DropDownList!D5","v":"General cargo 5,000 - 9,999 dwt"},1,null,null,176250,0.25,0,null,25,5.0000000000000001E-3,0.04,2.5000000000000001E-2,0.02]
[{"$f":"DropDownList!$D$3&\" \"&DropDownList!D6","v":"General cargo 10,000 - 19,999 dwt"},1,null,null,235000,0.25,0,null,25,5.0000000000000001E-3,0.04,2.5000000000000001E-2,0.02]
[{"$f":"DropDownList!$D$3&\" \"&DropDownList!D7","v":"General cargo 20,000-+ dwt"},1,null,null,293750,0.25,0,null,25,5.0000000000000001E-3,0.04,2.5000000000000001E-2,0.02]
[{"$f":"DropDownList!$E$3&\" \"&DropDownList!E4","v":"Liquefied gas tanker 0 - 49,999 cbm"},1,null,null,176250,0.25,0,null,25,5.0000000000000001E-3,0.04,2.5000000000000001E-2,0.02]
[{"$f":"DropDownList!$E$3&\" \"&DropDownList!E5","v":"Liquefied gas tanker 40,000 - 99,999 cbm"},1,null,null,293750,0.25,0,null,25,5.0000000000000001E-3,0.04,2.5000000000000001E-2,0.02]
[{"$f":"DropDownList!$E$3&\" \"&DropDownList!E6","v":"Liquefied gas tanker 100,000 - 199,999 cbm"},1,null,null,470000,0.25,0,null,25,5.0000000000000001E-3,0.04,2.5000000000000001E-2,0.02]
[{"$f":"DropDownList!$E$3&\" \"&DropDownList!E7","v":"Liquefied gas tanker 200,000-+ cbm"},1,null,null,646250,0.25,0,null,25,5.0000000000000001E-3,0.04,2.5000000000000001E-2,0.02]
[{"$f":"DropDownList!$G$3&\" \"&DropDownList!G4","v":"Ferry-pax only 0 - 299 GT"},1,null,null,117500,0.25,0,null,25,5.0000000000000001E-3,0.04,2.5000000000000001E-2,0.02]
[{"$f":"DropDownList!$G$3&\" \"&DropDownList!G5","v":"Ferry-pax only 300 - 999 GT"},1,null,null,176250,0.25,0,null,25,5.0000000000000001E-3,0.04,2.5000000000000001E-2,0.02]
[{"$f":"DropDownList!$G$3&\" \"&DropDownList!G6","v":"Ferry-pax only 1,000 - 1,999 GT"},1,null,null,235000,0.25,0,null,25,5.0000000000000001E-3,0.04,2.5000000000000001E-2,0.02]
[{"$f":"DropDownList!$G$3&\" \"&DropDownList!G7","v":"Ferry-pax only 2,000-+ GT"},1,null,null,235000,0.25,0,null,25,5.0000000000000001E-3,0.04,2.5000000000000001E-2,0.02]
[{"$f":"DropDownList!$H$3&\" \"&DropDownList!H4","v":"Cruise 0 - 1,999 GT"},1,null,null,117500,0.25,0,null,25,5.0000000000000001E-3,0.04,2.5000000000000001E-2,0.02]
[{"$f":"DropDownList!$H$3&\" \"&DropDownList!H5","v":"Cruise 2,000 - 9,999 GT"},1,null,null,235000,0.25,0,null,25,5.0000000000000001E-3,0.04,2.5000000000000001E-2,0.02]
[{"$f":"DropDownList!$H$3&\" \"&DropDownList!H6","v":"Cruise 10,000 - 59,999 GT"},1,null,null,352500,0.25,0,null,25,5.0000000000000001E-3,0.04,2.5000000000000001E-2,0.02]
[{"$f":"DropDownList!$H$3&\" \"&DropDownList!H7","v":"Cruise 60,000 - 99,999 GT"},1,null,null,470000,0.25,0,null,25,5.0000000000000001E-3,0.04,2.5000000000000001E-2,0.02]
[{"$f":"DropDownList!$H$3&\" \"&DropDownList!H8","v":"Cruise 100,000 - 149,999 GT"},1,null,null,528750,0.25,0,null,25,5.0000000000000001E-3,0.04,2.5000000000000001E-2,0.02]
[{"$f":"DropDownList!$H$3&\" \"&DropDownList!H9","v":"Cruise 150,000-+ GT"},1,null,null,587500,0.25,0,null,25,5.0000000000000001E-3,0.04,2.5000000000000001E-2,0.02]
[{"$f":"DropDownList!$I$3&\" \"&DropDownList!I4","v":"Ferry-RoPax 0 - 1,999 GT"},1,null,null,117500,0.25,0,null,25,5.0000000000000001E-3,0.04,2.5000000000000001E-2,0.02]
[{"$f":"DropDownList!$I$3&\" \"&DropDownList!I5","v":"Ferry-RoPax 2,000 - 4,999 GT"},1,null,null,117500,0.25,0,null,25,5.0000000000000001E-3,0.04,2.5000000000000001E-2,0.02]
[{"$f":"DropDownList!$I$3&\" \"&DropDownList!I6","v":"Ferry-RoPax 5,000 - 9,999 GT"},1,null,null,176250,0.25,0,null,25,5.0000000000000001E-3,0.04,2.5000000000000001E-2,0.02]
[{"$f":"DropDownList!$I$3&\" \"&DropDownList!I7","v":"Ferry-RoPax 10,000 - 19,999 GT"},1,null,null,235000,0.25,0,null,25,5.0000000000000001E-3,0.04,2.5000000000000001E-2,0.02]
[{"$f":"DropDownList!$I$3&\" \"&DropDownList!I8","v":"Ferry-RoPax 20,000-+ GT"},1,null,null,352500,0.25,0,null,25,5.0000000000000001E-3,0.04,2.5000000000000001E-2,0.02]
[{"$f":"DropDownList!$J$3&\" \"&DropDownList!J4","v":"Refrigerated bulk 0 - 1,999 dwt"},1,null,null,117500,0.25,0,null,25,5.0000000000000001E-3,0.04,2.5000000000000001E-2,0.02]
[{"$f":"DropDownList!$J$3&\" \"&DropDownList!J5","v":"Refrigerated bulk 2,000 - 5,999 dwt"},1,null,null,117500,0.25,0,null,25,5.0000000000000001E-3,0.04,2.5000000000000001E-2,0.02]
[{"$f":"DropDownList!$J$3&\" \"&DropDownList!J6","v":"Refrigerated bulk 6,000 - 9,999 dwt"},1,null,null,235000,0.25,0,null,25,5.0000000000000001E-3,0.04,2.5000000000000001E-2,0.02]
[{"$f":"DropDownList!$J$3&\" \"&DropDownList!J7","v":"Refrigerated bulk 10,000-+ dwt"},1,null,null,293750,0.25,0,null,25,5.0000000000000001E-3,0.04,2.5000000000000001E-2,0.02]
[{"$f":"DropDownList!$K$3&\" \"&DropDownList!K4","v":"Ro-Ro 0 - 4,999 dwt"},1,null,null,117500,0.25,0,null,25,5.0000000000000001E-3,0.04,2.5000000000000001E-2,0.02]
[{"$f":"DropDownList!$K$3&\" \"&DropDownList!K5","v":"Ro-Ro 5,000 - 9,999 dwt"},1,null,null,176250,0.25,0,null,25,5.0000000000000001E-3,0.04,2.5000000000000001E-2,0.02]
[{"$f":"DropDownList!$K$3&\" \"&DropDownList!K6","v":"Ro-Ro 10,000 - 14,999 dwt"},1,null,null,235000,0.25,0,null,25,5.0000000000000001E-3,0.04,2.5000000000000001E-2,0.02]
[{"$f":"DropDownList!$K$3&\" \"&DropDownList!K7","v":"Ro-Ro 15,000-+ dwt"},1,null,null,293750,0.25,0,null,25,5.0000000000000001E-3,0.04,2.5000000000000001E-2,0.02]
[{"$f":"DropDownList!$L$3&\" \"&DropDownList!L4","v":"Vehicle 0 - 29,999 GT"},1,null,null,293750,0.25,0,null,25,5.0000000000000001E-3,0.04,2.5000000000000001E-2,0.02]
[{"$f":"DropDownList!$L$3&\" \"&DropDownList!L5","v":"Vehicle 30,000 - 49,999 GT"},1,null,null,352500,0.25,0,null,25,5.0000000000000001E-3,0.04,2.5000000000000001E-2,0.02]
[{"$f":"DropDownList!$L$3&\" \"&DropDownList!L6","v":"Vehicle 50,000-+ GT"},1,null,null,646250,0.25,0,null,25,5.0000000000000001E-3,0.04,2.5000000000000001E-2,0.02]
["Oil tanker 0 - 4,999 dwt",1,null,null,176250,0.25,0,null,25,5.0000000000000001E-3,0.04,2.5000000000000001E-2,0.02]
["Oil tanker 5,000 - 9,999 dwt",1,null,null,176250,0.25,0,null,25,5.0000000000000001E-3,0.04,2.5000000000000001E-2,0.02]
["Oil tanker 10,000 - 19,999 dwt",1,null,null,235000,0.25,0,null,25,5.0000000000000001E-3,0.04,2.5000000000000001E-2,0.02]
["Oil tanker 20,000 - 59,999 dwt",1,null,null,352500,0.25,0,null,25,5.0000000000000001E-3,0.04,2.5000000000000001E-2,0.02]
["Oil tanker 60,000 - 79,999 dwt",1,null,null,470000,0.25,0,null,25,5.0000000000000001E-3,0.04,2.5000000000000001E-2,0.02]
["Oil tanker 80,000 - 119,999 dwt",1,null,null,587500,0.25,0,null,25,5.0000000000000001E-3,0.04,2.5000000000000001E-2,0.02]
["Oil tanker 120,000 - 199,999 dwt",1,null,null,705000,0.25,0,null,25,5.0000000000000001E-3,0.04,2.5000000000000001E-2,0.02]
["Oil tanker 200,000-+ dwt",1,null,null,881250,0.25,0,null,25,5.0000000000000001E-3,0.04,2.5000000000000001E-2,0.02]
["Other liquids tankers 0-999 dwt",1,null,null,117500,0.25,0,null,25,5.0000000000000001E-3,0.04,2.5000000000000001E-2,0.02]
["Other liquids tankers 1,000-+ dwt",1,null,null,235000,0.25,0,null,25,5.0000000000000001E-3,0.04,2.5000000000000001E-2,0.02]

{"sheet":"Propeller polishing","index":43,"n_rows":66,"n_cols":13,"rows_kept":66,"cut":false,"hidden":false,"merged":[[0,0,1,0],[0,1,0,3],[0,6,0,7],[0,9,0,11]]}
["Ship type and size","Measure applicability to engines",null,null,"Installation","CAPEX Retrofit addition","Operational Cost",null,"Lifetime","Total fuel savings %",null,null,"EEXI / EEDI savings"]
[null,"Main","Aux","Boiler","$","%","$ per year","$ per 5 year","Years","Low","High","Typical","%"]
[{"$f":"DropDownList!$A$3&\" \"&DropDownList!A4","v":"Bulk carrier 0  - 9,999 dwt"},1,null,null,0,0,4000,null,1,5.0000000000000001E-3,0.03,1.4999999999999999E-2]
[{"$f":"DropDownList!$A$3&\" \"&DropDownList!A5","v":"Bulk carrier 10,000 - 34,999 dwt"},1,null,null,0,0,4000,null,1,5.0000000000000001E-3,0.03,1.4999999999999999E-2]
[{"$f":"DropDownList!$A$3&\" \"&DropDownList!A6","v":"Bulk carrier 35,000 - 59,999 dwt"},1,null,null,0,0,4000,null,1,5.0000000000000001E-3,0.03,1.4999999999999999E-2]
[{"$f":"DropDownList!$A$3&\" \"&DropDownList!A7","v":"Bulk carrier 60,000 - 99,999 dwt"},1,null,null,0,0,8000,null,1,5.0000000000000001E-3,0.03,1.4999999999999999E-2]
[{"$f":"DropDownList!$A$3&\" \"&DropDownList!A8","v":"Bulk carrier 100,000 - 199,999 dwt"},1,null,null,0,0,8000,null,1,5.0000000000000001E-3,0.03,1.4999999999999999E-2]
[{"$f":"DropDownList!$A$3&\" \"&DropDownList!A9","v":"Bulk carrier 200,000-+ dwt"},1,null,null,0,0,8000,null,1,5.0000000000000001E-3,0.03,1.4999999999999999E-2]
[{"$f":"DropDownList!$B$3&\" \"&DropDownList!B4","v":"Chemical tanker 0 - 4,999 dwt"},1,null,null,0,0,4000,null,1,5.0000000000000001E-3,0.03,1.4999999999999999E-2]
[{"$f":"DropDownList!$B$3&\" \"&DropDownList!B5","v":"Chemical tanker 5,000 - 9,999 dwt"},1,null,null,0,0,4000,null,1,5.0000000000000001E-3,0.03,1.4999999999999999E-2]
[{"$f":"DropDownList!$B$3&\" \"&DropDownList!B6","v":"Chemical tanker 10,000 - 19,999 dwt"},1,null,null,0,0,8000,null,1,5.0000000000000001E-3,0.03,1.4999999999999999E-2]
[{"$f":"DropDownList!$B$3&\" \"&DropDownList!B7","v":"Chemical tanker 20,000 - 39,999 dwt"},1,null,null,0,0,8000,null,1,5.0000000000000001E-3,0.03,1.4999999999999999E-2]
[{"$f":"DropDownList!$B$3&\" \"&DropDownList!B8","v":"Chemical tanker 40,000-+ dwt"},1,null,null,0,0,8000,null,1,5.0000000000000001E-3,0.03,1.4999999999999999E-2]
[{"$f":"DropDownList!$C$3&\" \"&DropDownList!C4","v":"Container 0-999 teu"},1,null,null,0,0,4000,null,1,5.0000000000000001E-3,0.03,1.4999999999999999E-2]
[{"$f":"DropDownList!$C$3&\" \"&DropDownList!C5","v":"Container 1,000 - 1,999 teu"},1,null,null,0,0,4000,null,1,5.0000000000000001E-3,0.03,1.4999999999999999E-2]
[{"$f":"DropDownList!$C$3&\" \"&DropDownList!C6","v":"Container 2,000 - 2,999 teu"},1,null,null,0,0,4000,null,1,5.0000000000000001E-3,0.03,1.4999999999999999E-2]
[{"$f":"DropDownList!$C$3&\" \"&DropDownList!C7","v":"Container 3,000 - 4,999 teu"},1,null,null,0,0,4000,null,1,5.0000000000000001E-3,0.03,1.4999999999999999E-2]
[{"$f":"DropDownList!$C$3&\" \"&DropDownList!C8","v":"Container 5,000 - 7,999 teu"},1,null,null,0,0,4000,null,1,5.0000000000000001E-3,0.03,1.4999999999999999E-2]
[{"$f":"DropDownList!$C$3&\" \"&DropDownList!C9","v":"Container 8,000 - 11,999 teu"},1,null,null,0,0,8000,null,1,5.0000000000000001E-3,0.03,1.4999999999999999E-2]
[{"$f":"DropDownList!$C$3&\" \"&DropDownList!C10","v":"Container 12,000 - 14,499 teu"},1,null,null,0,0,8000,null,1,5.0000000000000001E-3,0.03,1.4999999999999999E-2]
[{"$f":"DropDownList!$C$3&\" \"&DropDownList!C11","v":"Container 14,500 - 19,999 teu"},1,null,null,0,0,8000,null,1,5.0000000000000001E-3,0.03,1.4999999999999999E-2]
[{"$f":"DropDownList!$C$3&\" \"&DropDownList!C12","v":"Container 20,000-+ teu"},1,null,null,0,0,8000,null,1,5.0000000000000001E-3,0.03,1.4999999999999999E-2]
[{"$f":"DropDownList!$D$3&\" \"&DropDownList!D4","v":"General cargo 0 - 4,999 dwt"},1,null,null,0,0,4000,null,1,5.0000000000000001E-3,0.03,1.4999999999999999E-2]
[{"$f":"DropDownList!$D$3&\" \"&DropDownList!D5","v":"General cargo 5,000 - 9,999 dwt"},1,null,null,0,0,4000,null,1,5.0000000000000001E-3,0.03,1.4999999999999999E-2]
[{"$f":"DropDownList!$D$3&\" \"&DropDownList!D6","v":"General cargo 10,000 - 19,999 dwt"},1,null,null,0,0,4000,null,1,5.0000000000000001E-3,0.03,1.4999999999999999E-2]
[{"$f":"DropDownList!$D$3&\" \"&DropDownList!D7","v":"General cargo 20,000-+ dwt"},1,null,null,0,0,8000,null,1,5.0000000000000001E-3,0.03,1.4999999999999999E-2]
[{"$f":"DropDownList!$E$3&\" \"&DropDownList!E4","v":"Liquefied gas tanker 0 - 49,999 cbm"},1,null,null,0,0,4000,null,1,5.0000000000000001E-3,0.03,1.4999999999999999E-2]
[{"$f":"DropDownList!$E$3&\" \"&DropDownList!E5","v":"Liquefied gas tanker 40,000 - 99,999 cbm"},1,null,null,0,0,8000,null,1,5.0000000000000001E-3,0.03,1.4999999999999999E-2]
[{"$f":"DropDownList!$E$3&\" \"&DropDownList!E6","v":"Liquefied gas tanker 100,000 - 199,999 cbm"},1,null,null,0,0,8000,null,1,5.0000000000000001E-3,0.03,1.4999999999999999E-2]
[{"$f":"DropDownList!$E$3&\" \"&DropDownList!E7","v":"Liquefied gas tanker 200,000-+ cbm"},1,null,null,0,0,8000,null,1,5.0000000000000001E-3,0.03,1.4999999999999999E-2]
[{"$f":"DropDownList!$G$3&\" \"&DropDownList!G4","v":"Ferry-pax only 0 - 299 GT"},1,null,null,0,0,4000,null,1,5.0000000000000001E-3,0.03,1.4999999999999999E-2]
[{"$f":"DropDownList!$G$3&\" \"&DropDownList!G5","v":"Ferry-pax only 300 - 999 GT"},1,null,null,0,0,4000,null,1,5.0000000000000001E-3,0.03,1.4999999999999999E-2]
[{"$f":"DropDownList!$G$3&\" \"&DropDownList!G6","v":"Ferry-pax only 1,000 - 1,999 GT"},1,null,null,0,0,4000,null,1,5.0000000000000001E-3,0.03,1.4999999999999999E-2]
[{"$f":"DropDownList!$G$3&\" \"&DropDownList!G7","v":"Ferry-pax only 2,000-+ GT"},1,null,null,0,0,4000,null,1,5.0000000000000001E-3,0.03,1.4999999999999999E-2]
[{"$f":"DropDownList!$H$3&\" \"&DropDownList!H4","v":"Cruise 0 - 1,999 GT"},1,null,null,0,0,4000,null,1,5.0000000000000001E-3,0.03,1.4999999999999999E-2]
[{"$f":"DropDownList!$H$3&\" \"&DropDownList!H5","v":"Cruise 2,000 - 9,999 GT"},1,null,null,0,0,4000,null,1,5.0000000000000001E-3,0.03,1.4999999999999999E-2]
[{"$f":"DropDownList!$H$3&\" \"&DropDownList!H6","v":"Cruise 10,000 - 59,999 GT"},1,null,null,0,0,8000,null,1,5.0000000000000001E-3,0.03,1.4999999999999999E-2]
[{"$f":"DropDownList!$H$3&\" \"&DropDownList!H7","v":"Cruise 60,000 - 99,999 GT"},1,null,null,0,0,8000,null,1,5.0000000000000001E-3,0.03,1.4999999999999999E-2]
[{"$f":"DropDownList!$H$3&\" \"&DropDownList!H8","v":"Cruise 100,000 - 149,999 GT"},1,null,null,0,0,8000,null,1,5.0000000000000001E-3,0.03,1.4999999999999999E-2]
[{"$f":"DropDownList!$H$3&\" \"&DropDownList!H9","v":"Cruise 150,000-+ GT"},1,null,null,0,0,8000,null,1,5.0000000000000001E-3,0.03,1.4999999999999999E-2]
[{"$f":"DropDownList!$I$3&\" \"&DropDownList!I4","v":"Ferry-RoPax 0 - 1,999 GT"},1,null,null,0,0,4000,null,1,5.0000000000000001E-3,0.03,1.4999999999999999E-2]
[{"$f":"DropDownList!$I$3&\" \"&DropDownList!I5","v":"Ferry-RoPax 2,000 - 4,999 GT"},1,null,null,0,0,4000,null,1,5.0000000000000001E-3,0.03,1.4999999999999999E-2]
[{"$f":"DropDownList!$I$3&\" \"&DropDownList!I6","v":"Ferry-RoPax 5,000 - 9,999 GT"},1,null,null,0,0,4000,null,1,5.0000000000000001E-3,0.03,1.4999999999999999E-2]
[{"$f":"DropDownList!$I$3&\" \"&DropDownList!I7","v":"Ferry-RoPax 10,000 - 19,999 GT"},1,null,null,0,0,8000,null,1,5.0000000000000001E-3,0.03,1.4999999999999999E-2]
[{"$f":"DropDownList!$I$3&\" \"&DropDownList!I8","v":"Ferry-RoPax 20,000-+ GT"},1,null,null,0,0,8000,null,1,5.0000000000000001E-3,0.03,1.4999999999999999E-2]
[{"$f":"DropDownList!$J$3&\" \"&DropDownList!J4","v":"Refrigerated bulk 0 - 1,999 dwt"},1,null,null,0,0,4000,null,1,5.0000000000000001E-3,0.03,1.4999999999999999E-2]
[{"$f":"DropDownList!$J$3&\" \"&DropDownList!J5","v":"Refrigerated bulk 2,000 - 5,999 dwt"},1,null,null,0,0,4000,null,1,5.0000000000000001E-3,0.03,1.4999999999999999E-2]
[{"$f":"DropDownList!$J$3&\" \"&DropDownList!J6","v":"Refrigerated bulk 6,000 - 9,999 dwt"},1,null,null,0,0,4000,null,1,5.0000000000000001E-3,0.03,1.4999999999999999E-2]
[{"$f":"DropDownList!$J$3&\" \"&DropDownList!J7","v":"Refrigerated bulk 10,000-+ dwt"},1,null,null,0,0,4000,null,1,5.0000000000000001E-3,0.03,1.4999999999999999E-2]
[{"$f":"DropDownList!$K$3&\" \"&DropDownList!K4","v":"Ro-Ro 0 - 4,999 dwt"},1,null,null,0,0,4000,null,1,5.0000000000000001E-3,0.03,1.4999999999999999E-2]
[{"$f":"DropDownList!$K$3&\" \"&DropDownList!K5","v":"Ro-Ro 5,000 - 9,999 dwt"},1,null,null,0,0,4000,null,1,5.0000000000000001E-3,0.03,1.4999999999999999E-2]
[{"$f":"DropDownList!$K$3&\" \"&DropDownList!K6","v":"Ro-Ro 10,000 - 14,999 dwt"},1,null,null,0,0,8000,null,1,5.0000000000000001E-3,0.03,1.4999999999999999E-2]
[{"$f":"DropDownList!$K$3&\" \"&DropDownList!K7","v":"Ro-Ro 15,000-+ dwt"},1,null,null,0,0,8000,null,1,5.0000000000000001E-3,0.03,1.4999999999999999E-2]
[{"$f":"DropDownList!$L$3&\" \"&DropDownList!L4","v":"Vehicle 0 - 29,999 GT"},1,null,null,0,0,4000,null,1,5.0000000000000001E-3,0.03,1.4999999999999999E-2]
[{"$f":"DropDownList!$L$3&\" \"&DropDownList!L5","v":"Vehicle 30,000 - 49,999 GT"},1,null,null,0,0,8000,null,1,5.0000000000000001E-3,0.03,1.4999999999999999E-2]
[{"$f":"DropDownList!$L$3&\" \"&DropDownList!L6","v":"Vehicle 50,000-+ GT"},1,null,null,0,0,8000,null,1,5.0000000000000001E-3,0.03,1.4999999999999999E-2]
["Oil tanker 0 - 4,999 dwt",1,null,null,0,0,4000,null,1,5.0000000000000001E-3,0.03,1.4999999999999999E-2]
["Oil tanker 5,000 - 9,999 dwt",1,null,null,0,0,4000,null,1,5.0000000000000001E-3,0.03,1.4999999999999999E-2]
["Oil tanker 10,000 - 19,999 dwt",1,null,null,0,0,4000,null,1,5.0000000000000001E-3,0.03,1.4999999999999999E-2]
["Oil tanker 20,000 - 59,999 dwt",1,null,null,0,0,4000,null,1,5.0000000000000001E-3,0.03,1.4999999999999999E-2]
["Oil tanker 60,000 - 79,999 dwt",1,null,null,0,0,8000,null,1,5.0000000000000001E-3,0.03,1.4999999999999999E-2]
["Oil tanker 80,000 - 119,999 dwt",1,null,null,0,0,8000,null,1,5.0000000000000001E-3,0.03,1.4999999999999999E-2]
["Oil tanker 120,000 - 199,999 dwt",1,null,null,0,0,8000,null,1,5.0000000000000001E-3,0.03,1.4999999999999999E-2]
["Oil tanker 200,000-+ dwt",1,null,null,0,0,8000,null,1,5.0000000000000001E-3,0.03,1.4999999999999999E-2]
["Other liquids tankers 0-999 dwt",1,null,null,0,0,4000,null,1,5.0000000000000001E-3,0.03,1.4999999999999999E-2]
["Other liquids tankers 1,000-+ dwt",1,null,null,0,0,4000,null,1,5.0000000000000001E-3,0.03,1.4999999999999999E-2]